Workbook

Sheet Т1За
A1: № | B1: команда | C1: участник | D1: сумма баллов | E1: место | F1: окунь | M1: щука
F2: размер, см
A3: 1 | B3: Против Течения | C3: Ананич Геннадий | D3: =D47 -> 0 | E3: =E47 -> 42
A4: =A3+1 -> 2 | B4: ASpinnteam | C4: Нугуманов Артём | D4: =D48 -> 590.49 | E4: =E48 -> 3 | F4: 24.3
A5: =A4+1 -> 3 | B5: Трудовые резервы | C5: Пожарский Константин | D5: =D49 -> 0 | E5: =E49 -> 42
A6: =A5+1 -> 4 | B6: Perch Legends | C6: Лабанок Александр | D6: =D50 -> 2134.44 | E6: =E50 -> 1 | M6: 46.2
A7: =A6+1 -> 5 | B7: ROCKFISH | C7: Лазарчик Евгений | D7: =D51 -> 0 | E7: =E51 -> 42
A8: =A7+1 -> 6 | B8: UL Hooligans | C8: Уютов Кирилл | D8: =D52 -> 0 | E8: =E52 -> 42
A9: =A8+1 -> 7 | B9: ЕК | C9: Казанцев Евгений | D9: =D53 -> 0 | E9: =E53 -> 42
A10: =A9+1 -> 8 | B10: WFT Minsk | C10: Каморников Евгений | D10: =D54 -> 0 | E10: =E54 -> 42
A11: =A10+1 -> 9 | B11: XULi-ULi | C11: Воробьёв Андрей | D11: =D55 -> 0 | E11: =E55 -> 42
A12: =A11+1 -> 10 | B12: Peacock Bass | C12: Дроздов Виталий | D12: =D56 -> 0 | E12: =E56 -> 42
A13: =A12+1 -> 11 | B13: Bait Breath Team | C13: Зубко Сергей | D13: =D57 -> 262.44 | E13: =E57 -> 10 | F13: 16.2
A14: =A13+1 -> 12 | B14: Perch Power | C14: Иокша Дмитрий | D14: =D58 -> 0 | E14: =E58 -> 42
A15: =A14+1 -> 13 | B15: BASS HUNTER | C15: Кириевский Андрей | D15: =D59 -> 0 | E15: =E59 -> 42
A16: =A15+1 -> 14 | B16: West Fishing | C16: Непомнящий Виктор | D16: =D60 -> 585.64 | E16: =E60 -> 4 | F16: 24.2
A17: =A16+1 -> 15 | B17: Amateurs | C17: Соколов Кирилл | D17: =D61 -> 0 | E17: =E61 -> 42
A18: =A17+1 -> 16 | B18: TEAM WFT BELARUS | C18: Черный Сергей | D18: =D62 -> 0 | E18: =E62 -> 42
A19: =A18+1 -> 17 | B19: LEGION | C19: Бойко Сергей | D19: =D63 -> 0 | E19: =E63 -> 42
A20: =A19+1 -> 18 | B20: КОРЧ | C20: Титенков Алексей | D20: =D64 -> 449.44 | E20: =E64 -> 5 | F20: 21.2
A21: =A20+1 -> 19 | B21: Регион 5 | C21: Сохончук Андрей | D21: =D65 -> 723.9025 | E21: =E65 -> 2 | M21: 38.1 | N21: 38
A22: =A21+1 -> 20 | B22: Фарватер | C22: Попельский Максим | D22: =D66 -> 0 | E22: =E66 -> 42
A23: =A22+1 -> 21 | B23: K&M | C23: Казаченко Владимир | D23: =D67 -> 0 | E23: =E67 -> 42
A24: =A23+1 -> 22 | B24: ПВ | C24: Пластун Вячеслав | D24: =D68 -> 0 | E24: =E68 -> 42
A25: =A24+1 -> 23 | B25: Undercurrent | C25: Ешман Сергей | D25: =D69 -> 370.5625 | E25: =E69 -> 7 | M25: 38.5
A26: =A25+1 -> 24 | B26: nanobass | C26: Бычик Роман | D26: =D70 -> 0 | E26: =E70 -> 42
A27: =A26+1 -> 25 | B27: Poseidon | C27: Чижонок Сергей | D27: =D71 -> 0 | E27: =E71 -> 42
A28: =A27+1 -> 26 | B28: Крутой берег | C28: Желтов Игорь | D28: =D72 -> 412.09 | E28: =E72 -> 6 | F28: 20.3
A29: =A28+1 -> 27 | B29: MicroKilleR | C29: Бобриков Алексей | D29: =D73 -> 0 | E29: =E73 -> 42
A30: =A29+1 -> 28 | B30: FishUp Team | C30: Крук Денис | D30: =D74 -> 0 | E30: =E74 -> 42
A31: =A30+1 -> 29 | B31: Dream Team | C31: Тысевич Сергей | D31: =D75 -> 338.56 | E31: =E75 -> 8 | F31: 18.4
A32: =A31+1 -> 30 | B32: S&D TEAM | C32: Шевчук Дмитрий | D32: =D76 -> 311.5225 | E32: =E76 -> 9 | M32: 35.3
A33: =A32+1 -> 31 | B33: Happy Pike | C33: Пунинский Антон | D33: =D77 -> 0 | E33: =E77 -> 42
A34: =A33+1 -> 32 | B34: Lexass PRO | C34: Булойчик Илья | D34: =D78 -> 0 | E34: =E78 -> 42
A35: =A34+1 -> 33 | B35: Жабинка | C35: Воробей Евгений | D35: =D79 -> 0 | E35: =E79 -> 42
A36: =A35+1 -> 34 | B36: Pike death TEAM | C36: Чайковский Александр | D36: =D80 -> 0 | E36: =E80 -> 42
A37: =A36+1 -> 35 | B37: Black River Team | C37: Ворон Павел | D37: =D81 -> 0 | E37: =E81 -> 42
A38: =A37+1 -> 36 | B38: ФишТоп | C38: Радчук Юрий | D38: =D82 -> 0 | E38: =E82 -> 42
A39: =A38+1 -> 37 | B39: Jerkbait.by | C39: Антонович Антон | D39: =D83 -> 0 | E39: =E83 -> 42
A40: =A39+1 -> 38 | B40: Пятнистый кукан | C40: Анпилов Андрей | D40: =D84 -> 0 | E40: =E84 -> 42
...

Sheet Т1Зб
A1: № | B1: команда | C1: участник | D1: сумма баллов | E1: место | F1: окунь | M1: щука
F2: размер, см
A3: 1 | B3: Против Течения | C3: Кириенко Кирилл | D3: =D47 -> 0 | E3: =E47 -> 42
A4: =A3+1 -> 2 | B4: ASpinnteam | C4: Вашкевич Александр | D4: =D48 -> 0 | E4: =E48 -> 42
A5: =A4+1 -> 3 | B5: Трудовые резервы | C5: Баранок Артём | D5: =D49 -> 0 | E5: =E49 -> 42
A6: =A5+1 -> 4 | B6: Perch Legends | C6: Каменец Алексей | D6: =D50 -> 0 | E6: =E50 -> 42
A7: =A6+1 -> 5 | B7: ROCKFISH | C7: Силивончик Павел | D7: =D51 -> 264.0625 | E7: =E51 -> 2 | M7: 32.5
A8: =A7+1 -> 6 | B8: UL Hooligans | C8: Дешкевич Виталий | D8: =D52 -> 0 | E8: =E52 -> 42
A9: =A8+1 -> 7 | B9: ЕК | C9: Ковалёв Евгений | D9: =D53 -> 0 | E9: =E53 -> 42
A10: =A9+1 -> 8 | B10: WFT Minsk | C10: Тулупов Александр | D10: =D54 -> 0 | E10: =E54 -> 42
A11: =A10+1 -> 9 | B11: XULi-ULi | C11: Лавренчук Станислав | D11: =D55 -> 0 | E11: =E55 -> 42
A12: =A11+1 -> 10 | B12: Peacock Bass | C12: Сенчуров Иван | D12: =D56 -> 0 | E12: =E56 -> 42
A13: =A12+1 -> 11 | B13: Bait Breath Team | C13: Бахур Александр | D13: =D57 -> 0 | E13: =E57 -> 42
A14: =A13+1 -> 12 | B14: Perch Power | C14: Кохно Антон | D14: =D58 -> 400 | E14: =E58 -> 1 | M14: 40
A15: =A14+1 -> 13 | B15: BASS HUNTER | C15: Шевко Виталий | D15: =D59 -> 0 | E15: =E59 -> 42
A16: =A15+1 -> 14 | B16: West Fishing | C16: Золотарь Андрей | D16: =D60 -> 0 | E16: =E60 -> 42
A17: =A16+1 -> 15 | B17: Amateurs | C17: Куликовский Виталий | D17: =D61 -> 0 | E17: =E61 -> 42
A18: =A17+1 -> 16 | B18: TEAM WFT BELARUS | C18: Зеновко Дмитрий | D18: =D62 -> 0 | E18: =E62 -> 42
A19: =A18+1 -> 17 | B19: LEGION | C19: Дмитрий Благуш | D19: =D63 -> 0 | E19: =E63 -> 42
A20: =A19+1 -> 18 | B20: КОРЧ | C20: Лашков Юрий | D20: =D64 -> 0 | E20: =E64 -> 42
A21: =A20+1 -> 19 | B21: Регион 5 | C21: Аверин Дмитрий | D21: =D65 -> 0 | E21: =E65 -> 42
A22: =A21+1 -> 20 | B22: Фарватер | C22: Цыганок Михаил | D22: =D66 -> 0 | E22: =E66 -> 42
A23: =A22+1 -> 21 | B23: K&M | C23: Мельников Юрий | D23: =D67 -> 0 | E23: =E67 -> 42
A24: =A23+1 -> 22 | B24: ПВ | C24: Воробьев Павел | D24: =D68 -> 0 | E24: =E68 -> 42
A25: =A24+1 -> 23 | B25: Undercurrent | C25: Хоухлянцев Дмитрий | D25: =D69 -> 0 | E25: =E69 -> 42
A26: =A25+1 -> 24 | B26: nanobass | C26: Мартынчук Михаил | D26: =D70 -> 0 | E26: =E70 -> 42
... A43: =A42+1 -> 41 | B43: U1 | C43: Масюк Павел | D43: =D87 -> 0 | E43: =E87 -> 42
C44: средняя длина рыб по виду: | F44: 0 | M44: =AVERAGE(M3:O43) -> 36.25
A45: № | B45: команда | C45: участник | D45: сумма баллов | E45: место | F45: баллы
A47: 1 | B47: Против Течения | C47: Кириенко Кирилл | D47: =SUM(F47:O47) -> 0 | E47: =IF(D47>0,RANK(D47,$D$47:$D$87),42) -> 42 | F47: =POWER(F3,2) -> 0 | G47: =POWER(G3,2) -> 0 | H47: =POWER(H3,2) -> 0 | I47: =POWER(I3,2) -> 0 | J47: =POWER(J3,2) -> 0 | K47: =POWER(K3,2) -> 0 | L47: =POWER(L3,2) -> 0 | M47: =POWER(M3,2) -> 0 | ... O47: =POWER(O3,2) -> 0
A48: =A47+1 -> 2 | B48: ASpinnteam | C48: Вашкевич Александр | D48: =SUM(F48:O48) -> 0 | E48: =IF(D48>0,RANK(D48,$D$47:$D$87),42) -> 42 | F48: =POWER(F4,2) -> 0 | G48: =POWER(G4,2) -> 0 | H48: =POWER(H4,2) -> 0 | I48: =POWER(I4,2) -> 0 | J48: =POWER(J4,2) -> 0 | K48: =POWER(K4,2) -> 0 | L48: =POWER(L4,2) -> 0 | M48: =POWER(M4,2) -> 0 | ... O48: =POWER(O4,2) -> 0
A49: =A48+1 -> 3 | B49: Трудовые резервы | C49: Баранок Артём | D49: =SUM(F49:O49) -> 0 | E49: =IF(D49>0,RANK(D49,$D$47:$D$87),42) -> 42 | F49: =POWER(F5,2) -> 0 | G49: =POWER(G5,2) -> 0 | H49: =POWER(H5,2) -> 0 | I49: =POWER(I5,2) -> 0 | J49: =POWER(J5,2) -> 0 | K49: =POWER(K5,2) -> 0 | L49: =POWER(L5,2) -> 0 | M49: =POWER(M5,2) -> 0 | ... O49: =POWER(O5,2) -> 0
A50: =A49+1 -> 4 | B50: Perch Legends | C50: Каменец Алексей | D50: =SUM(F50:O50) -> 0 | E50: =IF(D50>0,RANK(D50,$D$47:$D$87),42) -> 42 | F50: =POWER(F6,2) -> 0 | G50: =POWER(G6,2) -> 0 | H50: =POWER(H6,2) -> 0 | I50: =POWER(I6,2) -> 0 | J50: =POWER(J6,2) -> 0 | K50: =POWER(K6,2) -> 0 | L50: =POWER(L6,2) -> 0 | M50: =POWER(M6,2) -> 0 | ... O50: =POWER(O6,2) -> 0
A51: =A50+1 -> 5 | B51: ROCKFISH | C51: Силивончик Павел | D51: =SUM(F51:O51) -> 264.0625 | E51: =IF(D51>0,RANK(D51,$D$47:$D$87),42) -> 2 | F51: =POWER(F7,2) -> 0 | G51: =POWER(G7,2) -> 0 | H51: =POWER(H7,2) -> 0 | I51: =POWER(I7,2) -> 0 | J51: =POWER(J7,2) -> 0 | K51: =POWER(K7,2) -> 0 | L51: =POWER(L7,2) -> 0 | M51: =POWER(M7/2,2) -> 264.0625 | N51: =POWER(N7,2) -> 0 | O51: =POWER(O7,2) -> 0
A52: =A51+1 -> 6 | B52: UL Hooligans | C52: Дешкевич Виталий | D52: =SUM(F52:O52) -> 0 | E52: =IF(D52>0,RANK(D52,$D$47:$D$87),42) -> 42 | F52: =POWER(F8,2) -> 0 | G52: =POWER(G8,2) -> 0 | H52: =POWER(H8,2) -> 0 | I52: =POWER(I8,2) -> 0 | J52: =POWER(J8,2) -> 0 | K52: =POWER(K8,2) -> 0 | L52: =POWER(L8,2) -> 0 | M52: =POWER(M8,2) -> 0 | ... O52: =POWER(O8,2) -> 0
A53: =A52+1 -> 7 | B53: ЕК | C53: Ковалёв Евгений | D53: =SUM(F53:O53) -> 0 | E53: =IF(D53>0,RANK(D53,$D$47:$D$87),42) -> 42 | F53: =POWER(F9,2) -> 0 | G53: =POWER(G9,2) -> 0 | H53: =POWER(H9,2) -> 0 | I53: =POWER(I9,2) -> 0 | J53: =POWER(J9,2) -> 0 | K53: =POWER(K9,2) -> 0 | L53: =POWER(L9,2) -> 0 | M53: =POWER(M9,2) -> 0 | ... O53: =POWER(O9,2) -> 0
A54: =A53+1 -> 8 | B54: WFT Minsk | C54: Тулупов Александр | D54: =SUM(F54:O54) -> 0 | E54: =IF(D54>0,RANK(D54,$D$47:$D$87),42) -> 42 | F54: =POWER(F10,2) -> 0 | G54: =POWER(G10,2) -> 0 | H54: =POWER(H10,2) -> 0 | I54: =POWER(I10,2) -> 0 | J54: =POWER(J10,2) -> 0 | K54: =POWER(K10,2) -> 0 | L54: =POWER(L10,2) -> 0 | M54: =POWER(M10,2) -> 0 | ... O54: =POWER(O10,2) -> 0
A55: =A54+1 -> 9 | B55: XULi-ULi | C55: Лавренчук Станислав | D55: =SUM(F55:O55) -> 0 | E55: =IF(D55>0,RANK(D55,$D$47:$D$87),42) -> 42 | F55: =POWER(F11,2) -> 0 | G55: =POWER(G11,2) -> 0 | H55: =POWER(H11,2) -> 0 | I55: =POWER(I11,2) -> 0 | J55: =POWER(J11,2) -> 0 | K55: =POWER(K11,2) -> 0 | L55: =POWER(L11,2) -> 0 | M55: =POWER(M11,2) -> 0 | ... O55: =POWER(O11,2) -> 0
A56: =A55+1 -> 10 | B56: Peacock Bass | C56: Сенчуров Иван | D56: =SUM(F56:O56) -> 0 | E56: =IF(D56>0,RANK(D56,$D$47:$D$87),42) -> 42 | F56: =POWER(F12,2) -> 0 | G56: =POWER(G12,2) -> 0 | H56: =POWER(H12,2) -> 0 | I56: =POWER(I12,2) -> 0 | J56: =POWER(J12,2) -> 0 | K56: =POWER(K12,2) -> 0 | L56: =POWER(L12,2) -> 0 | M56: =POWER(M12,2) -> 0 | ... O56: =POWER(O12,2) -> 0
A57: =A56+1 -> 11 | B57: Bait Breath Team | C57: Бахур Александр | D57: =SUM(F57:O57) -> 0 | E57: =IF(D57>0,RANK(D57,$D$47:$D$87),42) -> 42 | F57: =POWER(F13,2) -> 0 | G57: =POWER(G13,2) -> 0 | H57: =POWER(H13,2) -> 0 | I57: =POWER(I13,2) -> 0 | J57: =POWER(J13,2) -> 0 | K57: =POWER(K13,2) -> 0 | L57: =POWER(L13,2) -> 0 | M57: =POWER(M13,2) -> 0 | ... O57: =POWER(O13,2) -> 0
...

Sheet Т2За
A1: № | B1: команда | C1: участник | D1: сумма баллов | E1: место | F1: окунь | M1: щука
F2: размер, см
A3: 1 | B3: Против Течения | C3: Кириенко Кирилл | D3: =D47 -> 0 | E3: =E47 -> 42
A4: =A3+1 -> 2 | B4: ASpinnteam | C4: Вашкевич Александр | D4: =D48 -> 0 | E4: =E48 -> 42
A5: =A4+1 -> 3 | B5: Трудовые резервы | C5: Баранок Артём | D5: =D49 -> 0 | E5: =E49 -> 42
A6: =A5+1 -> 4 | B6: Perch Legends | C6: Каменец Алексей | D6: =D50 -> 0 | E6: =E50 -> 42
A7: =A6+1 -> 5 | B7: ROCKFISH | C7: Силивончик Павел | D7: =D51 -> 0 | E7: =E51 -> 42
A8: =A7+1 -> 6 | B8: UL Hooligans | C8: Дешкевич Виталий | D8: =D52 -> 0 | E8: =E52 -> 42
A9: =A8+1 -> 7 | B9: ЕК | C9: Ковалёв Евгений | D9: =D53 -> 0 | E9: =E53 -> 42
A10: =A9+1 -> 8 | B10: WFT Minsk | C10: Тулупов Александр | D10: =D54 -> 0 | E10: =E54 -> 42
A11: =A10+1 -> 9 | B11: XULi-ULi | C11: Лавренчук Станислав | D11: =D55 -> 496.37 | E11: =E55 -> 1 | F11: 15.4 | G11: 16.1
A12: =A11+1 -> 10 | B12: Peacock Bass | C12: Сенчуров Иван | D12: =D56 -> 0 | E12: =E56 -> 42
A13: =A12+1 -> 11 | B13: Bait Breath Team | C13: Бахур Александр | D13: =D57 -> 0 | E13: =E57 -> 42
A14: =A13+1 -> 12 | B14: Perch Power | C14: Кохно Антон | D14: =D58 -> 0 | E14: =E58 -> 42
A15: =A14+1 -> 13 | B15: BASS HUNTER | C15: Шевко Виталий | D15: =D59 -> 0 | E15: =E59 -> 42
A16: =A15+1 -> 14 | B16: West Fishing | C16: Золотарь Андрей | D16: =D60 -> 0 | E16: =E60 -> 42
A17: =A16+1 -> 15 | B17: Amateurs | C17: Куликовский Виталий | D17: =D61 -> 0 | E17: =E61 -> 42
A18: =A17+1 -> 16 | B18: TEAM WFT BELARUS | C18: Зеновко Дмитрий | D18: =D62 -> 0 | E18: =E62 -> 42
A19: =A18+1 -> 17 | B19: LEGION | C19: Дмитрий Благуш | D19: =D63 -> 0 | E19: =E63 -> 42
A20: =A19+1 -> 18 | B20: КОРЧ | C20: Лашков Юрий | D20: =D64 -> 0 | E20: =E64 -> 42
A21: =A20+1 -> 19 | B21: Регион 5 | C21: Аверин Дмитрий | D21: =D65 -> 0 | E21: =E65 -> 42
A22: =A21+1 -> 20 | B22: Фарватер | C22: Цыганок Михаил | D22: =D66 -> 213.16 | E22: =E66 -> 3 | F22: 14.6
A23: =A22+1 -> 21 | B23: K&M | C23: Мельников Юрий | D23: =D67 -> 0 | E23: =E67 -> 42
A24: =A23+1 -> 22 | B24: ПВ | C24: Воробьев Павел | D24: =D68 -> 0 | E24: =E68 -> 42
A25: =A24+1 -> 23 | B25: Undercurrent | C25: Хоухлянцев Дмитрий | D25: =D69 -> 0 | E25: =E69 -> 42
A26: =A25+1 -> 24 | B26: nanobass | C26: Мартынчук Михаил | D26: =D70 -> 340.4025 | E26: =E70 -> 2 | M26: 36.9
A27: =A26+1 -> 25 | B27: Poseidon | C27: Строк Павел | D27: =D71 -> 0 | E27: =E71 -> 42
A28: =A27+1 -> 26 | B28: Крутой берег | C28: Желтов Евгений | D28: =D72 -> 0 | E28: =E72 -> 42
A29: =A28+1 -> 27 | B29: MicroKilleR | C29: Купрейчик Сергей | D29: =D73 -> 0 | E29: =E73 -> 42
A30: =A29+1 -> 28 | B30: FishUp Team | C30: Волосевич Виталий | D30: =D74 -> 0 | E30: =E74 -> 42
A31: =A30+1 -> 29 | B31: Dream Team | C31: Золотухин Александр | D31: =D75 -> 0 | E31: =E75 -> 42
A32: =A31+1 -> 30 | B32: S&D TEAM | C32: Рулинский Александр | D32: =D76 -> 0 | E32: =E76 -> 42
A33: =A32+1 -> 31 | B33: Happy Pike | C33: Ашарчук Сегрей | D33: =D77 -> 0 | E33: =E77 -> 42
A34: =A33+1 -> 32 | B34: Lexass PRO | C34: Санюк Алексей | D34: =D78 -> 0 | E34: =E78 -> 42
A35: =A34+1 -> 33 | B35: Жабинка | C35: Глебик Денис | D35: =D79 -> 0 | E35: =E79 -> 42
A36: =A35+1 -> 34 | B36: Pike death TEAM | C36: Круглянин Сергей | D36: =D80 -> 0 | E36: =E80 -> 42
A37: =A36+1 -> 35 | B37: Black River Team | C37: Рабушко Василий | D37: =D81 -> 0 | E37: =E81 -> 42
A38: =A37+1 -> 36 | B38: ФишТоп | C38: Гуркин Максим | D38: =D82 -> 0 | E38: =E82 -> 42
... A43: =A42+1 -> 41 | B43: U1 | C43: Масюк Павел | D43: =D87 -> 0 | E43: =E87 -> 42
C44: средняя длина рыб по виду: | F44: =AVERAGE(F3:L43) -> 15.366667 | M44: =AVERAGE(M3:O43) -> 36.9
...

Sheet Т2Зб
A1: № | B1: команда | C1: участник | D1: сумма баллов | E1: место | F1: окунь | M1: щука
F2: размер, см
A3: 1 | B3: Против Течения | C3: Ананич Геннадий | D3: =D47 -> 510.76 | E3: =E47 -> 6 | F3: 22.6
A4: =A3+1 -> 2 | B4: ASpinnteam | C4: Нугуманов Артём | D4: =D48 -> 3025 | E4: =E48 -> 1 | M4: 55
A5: =A4+1 -> 3 | B5: Трудовые резервы | C5: Пожарский Константин | D5: =D49 -> 0 | E5: =E49 -> 42
A6: =A5+1 -> 4 | B6: Perch Legends | C6: Лабанок Александр | D6: =D50 -> 0 | E6: =E50 -> 42
A7: =A6+1 -> 5 | B7: ROCKFISH | C7: Лазарчик Евгений | D7: =D51 -> 0 | E7: =E51 -> 42
A8: =A7+1 -> 6 | B8: UL Hooligans | C8: Уютов Кирилл | D8: =D52 -> 0 | E8: =E52 -> 42
A9: =A8+1 -> 7 | B9: ЕК | C9: Казанцев Евгений | D9: =D53 -> 0 | E9: =E53 -> 42
A10: =A9+1 -> 8 | B10: WFT Minsk | C10: Каморников Евгений | D10: =D54 -> 0 | E10: =E54 -> 42
A11: =A10+1 -> 9 | B11: XULi-ULi | C11: Воробьёв Андрей | D11: =D55 -> 0 | E11: =E55 -> 42
A12: =A11+1 -> 10 | B12: Peacock Bass | C12: Дроздов Виталий | D12: =D56 -> 0 | E12: =E56 -> 42
A13: =A12+1 -> 11 | B13: Bait Breath Team | C13: Зубко Сергей | D13: =D57 -> 0 | E13: =E57 -> 42
A14: =A13+1 -> 12 | B14: Perch Power | C14: Иокша Дмитрий | D14: =D58 -> 0 | E14: =E58 -> 42
A15: =A14+1 -> 13 | B15: BASS HUNTER | C15: Кириевский Андрей | D15: =D59 -> 519.84 | E15: =E59 -> 5 | F15: 22.8
A16: =A15+1 -> 14 | B16: West Fishing | C16: Непомнящий Виктор | D16: =D60 -> 400 | E16: =E60 -> 7 | F16: 20
A17: =A16+1 -> 15 | B17: Amateurs | C17: Соколов Кирилл | D17: =D61 -> 0 | E17: =E61 -> 42
A18: =A17+1 -> 16 | B18: TEAM WFT BELARUS | C18: Черный Сергей | D18: =D62 -> 0 | E18: =E62 -> 42
A19: =A18+1 -> 17 | B19: LEGION | C19: Бойко Сергей | D19: =D63 -> 0 | E19: =E63 -> 42
A20: =A19+1 -> 18 | B20: КОРЧ | C20: Титенков Алексей | D20: =D64 -> 0 | E20: =E64 -> 42
A21: =A20+1 -> 19 | B21: Регион 5 | C21: Сохончук Андрей | D21: =D65 -> 0 | E21: =E65 -> 42
A22: =A21+1 -> 20 | B22: Фарватер | C22: Попельский Максим | D22: =D66 -> 0 | E22: =E66 -> 42
A23: =A22+1 -> 21 | B23: K&M | C23: Казаченко Владимир | D23: =D67 -> 0 | E23: =E67 -> 42
A24: =A23+1 -> 22 | B24: ПВ | C24: Пластун Вячеслав | D24: =D68 -> 0 | E24: =E68 -> 42
A25: =A24+1 -> 23 | B25: Undercurrent | C25: Ешман Сергей | D25: =D69 -> 0 | E25: =E69 -> 42
A26: =A25+1 -> 24 | B26: nanobass | C26: Бычик Роман | D26: =D70 -> 0 | E26: =E70 -> 42
A27: =A26+1 -> 25 | B27: Poseidon | C27: Чижонок Сергей | D27: =D71 -> 0 | E27: =E71 -> 42
A28: =A27+1 -> 26 | B28: Крутой берег | C28: Желтов Игорь | D28: =D72 -> 0 | E28: =E72 -> 42
A29: =A28+1 -> 27 | B29: MicroKilleR | C29: Бобриков Алексей | D29: =D73 -> 0 | E29: =E73 -> 42
A30: =A29+1 -> 28 | B30: FishUp Team | C30: Крук Денис | D30: =D74 -> 2599.34 | E30: =E74 -> 2 | F30: 17.6 | G30: 28.2 | H30: 16.5 | I30: 26.5 | J30: 22.8
A31: =A30+1 -> 29 | B31: Dream Team | C31: Тысевич Сергей | D31: =D75 -> 0 | E31: =E75 -> 42
A32: =A31+1 -> 30 | B32: S&D TEAM | C32: Шевчук Дмитрий | D32: =D76 -> 2092.68 | E32: =E76 -> 3 | F32: 25 | G32: 20.8 | H32: 25.2 | M32: 40
A33: =A32+1 -> 31 | B33: Happy Pike | C33: Пунинский Антон | D33: =D77 -> 0 | E33: =E77 -> 42
A34: =A33+1 -> 32 | B34: Lexass PRO | C34: Булойчик Илья | D34: =D78 -> 0 | E34: =E78 -> 42
A35: =A34+1 -> 33 | B35: Жабинка | C35: Воробей Евгений | D35: =D79 -> 0 | E35: =E79 -> 42
A36: =A35+1 -> 34 | B36: Pike death TEAM | C36: Чайковский Александр | D36: =D80 -> 0 | E36: =E80 -> 42
A37: =A36+1 -> 35 | B37: Black River Team | C37: Ворон Павел | D37: =D81 -> 0 | E37: =E81 -> 42
A38: =A37+1 -> 36 | B38: ФишТоп | C38: Радчук Юрий | D38: =D82 -> 0 | E38: =E82 -> 42
A39: =A38+1 -> 37 | B39: Jerkbait.by | C39: Антонович Антон | D39: =D83 -> 0 | E39: =E83 -> 42
A40: =A39+1 -> 38 | B40: Пятнистый кукан | C40: Анпилов Андрей | D40: =D84 -> 1397.84 | E40: =E84 -> 4 | F40: 27.8 | G40: 25
...

Sheet FuzzyLookup_AddIn_Undo_Sheet
A1: № | B1: Команды | C1: Участники | D1: Тур 1 | H1: Тур 2 | L1: Личный зачет | O1: Командный зачет
D2: Зона А | F2: Зона Б | H2: Зона А | J2: Зона Б
D3: баллы | E3: место | F3: баллы | G3: место | H3: баллы | I3: место | J3: баллы | K3: место | L3: баллы | M3: сумма мест | N3: место | O3: баллы | P3: сумма мест | Q3: место
A4: 1 | B4: Cast-Fishing | C4: Лихачев Максим | L4: =D4+F4+H4+J4 -> 0 | M4: =E4+G4+I4+K4 -> 0 | O4: =L4+L5 -> 0 | P4: =M4+M5 -> 0
C5: Ковальчук Дмитрий | L5: =D5+F5+H5+J5 -> 0 | M5: =E5+G5+I5+K5 -> 0
A6: 2 | B6: Peacock Bass | C6: Сенчуров Иван | L6: =D6+F6+H6+J6 -> 0 | M6: =E6+G6+I6+K6 -> 0 | O6: =L6+L7 -> 0 | P6: =M6+M7 -> 0
C7: Дроздов Виталий | L7: =D7+F7+H7+J7 -> 0 | M7: =E7+G7+I7+K7 -> 0
A8: 3 | B8: Adventurers | C8: Бахур Александр | D8: 196 | L8: =D8+F8+H8+J8 -> 196 | M8: =E8+G8+I8+K8 -> 0 | O8: =L8+L9 -> 196 | P8: =M8+M9 -> 0
C9: Зубко Сергей | L9: =D9+F9+H9+J9 -> 0 | M9: =E9+G9+I9+K9 -> 0
A10: 4 | B10: MicroKiller | C10: Купрейчик Сергей | L10: =D10+F10+H10+J10 -> 0 | M10: =E10+G10+I10+K10 -> 0 | O10: =L10+L11 -> 81 | P10: =M10+M11 -> 0
C11: Янкович Сергей | D11: 81 | L11: =D11+F11+H11+J11 -> 81 | M11: =E11+G11+I11+K11 -> 0
A12: 5 | B12: Per4 | C12: Лунякин Олег | L12: =D12+F12+H12+J12 -> 0 | M12: =E12+G12+I12+K12 -> 0 | O12: =L12+L13 -> 36 | P12: =M12+M13 -> 0
C13: Каменец Алексей | D13: 36 | L13: =D13+F13+H13+J13 -> 36 | M13: =E13+G13+I13+K13 -> 0
A14: 6 | B14: Poseidon | C14: Чижонок Сергей | D14: 121 | L14: =D14+F14+H14+J14 -> 121 | M14: =E14+G14+I14+K14 -> 0 | O14: =L14+L15 -> 121 | P14: =M14+M15 -> 0
C15: Строк Павел | L15: =D15+F15+H15+J15 -> 0 | M15: =E15+G15+I15+K15 -> 0
A16: 7 | B16: West Fishing | C16: Непомнящий Виктор | L16: =D16+F16+H16+J16 -> 0 | M16: =E16+G16+I16+K16 -> 0 | O16: =L16+L17 -> 0 | P16: =M16+M17 -> 0
C17: Золотарь Андрей | L17: =D17+F17+H17+J17 -> 0 | M17: =E17+G17+I17+K17 -> 0
A18: 8 | B18: nanobass | C18: Бычик Роман | D18: 100 | L18: =D18+F18+H18+J18 -> 100 | M18: =E18+G18+I18+K18 -> 0 | O18: =L18+L19 -> 100 | P18: =M18+M19 -> 0
C19: Шевко Виталий | L19: =D19+F19+H19+J19 -> 0 | M19: =E19+G19+I19+K19 -> 0
A20: 9 | B20: Трудовые резервы | C20: Пожарский Константин | L20: =D20+F20+H20+J20 -> 0 | M20: =E20+G20+I20+K20 -> 0 | O20: =L20+L21 -> 49 | P20: =M20+M21 -> 0
C21: Бобриков Алексей | D21: 49 | L21: =D21+F21+H21+J21 -> 49 | M21: =E21+G21+I21+K21 -> 0
A22: 10 | B22: Lunker Tail | C22: Козел Вячеслав | L22: =D22+F22+H22+J22 -> 0 | M22: =E22+G22+I22+K22 -> 0 | O22: =L22+L23 -> 64 | P22: =M22+M23 -> 0
C23: Кириевский Андрей | D23: 64 | L23: =D23+F23+H23+J23 -> 64 | M23: =E23+G23+I23+K23 -> 0
A24: 11 | B24: Против Течения | C24: Ананич Геннадий | L24: =D24+F24+H24+J24 -> 0 | M24: =E24+G24+I24+K24 -> 0 | O24: =L24+L25 -> 0 | P24: =M24+M25 -> 0
C25: Кириенко Кирилл | L25: =D25+F25+H25+J25 -> 0 | M25: =E25+G25+I25+K25 -> 0
A26: 12 | B26: ЕК | C26: Ковалев Евгений | D26: 169 | L26: =D26+F26+H26+J26 -> 169 | M26: =E26+G26+I26+K26 -> 0 | O26: =L26+L27 -> 169 | P26: =M26+M27 -> 0
C27: Казанцев Евгений | L27: =D27+F27+H27+J27 -> 0 | M27: =E27+G27+I27+K27 -> 0
A28: 13 | B28: Legion | C28: Бойко Сергей | L28: =D28+F28+H28+J28 -> 0 | M28: =E28+G28+I28+K28 -> 0 | O28: =L28+L29 -> 225 | P28: =M28+M29 -> 0
C29: Микулов Владимир | D29: 225 | L29: =D29+F29+H29+J29 -> 225 | M29: =E29+G29+I29+K29 -> 0
A30: 14 | B30: Степ Гарант | C30: Мельников Ю. В. | D30: 144 | L30: =D30+F30+H30+J30 -> 144 | M30: =E30+G30+I30+K30 -> 0 | O30: =L30+L31 -> 144 | P30: =M30+M31 -> 0
C31: Кравченко И. П. | L31: =D31+F31+H31+J31 -> 0 | M31: =E31+G31+I31+K31 -> 0

Sheet Итоги
A1: № | B1: Команды | C1: Участники | D1: Тур 1 | H1: Тур 2 | L1: Личный зачет | O1: Командный зачет
D2: Зона А | F2: Зона Б | H2: Зона А | J2: Зона Б
D3: баллы | E3: меcто | F3: баллы | G3: место | H3: баллы | I3: место | J3: баллы | K3: место | L3: баллы | M3: сумма мест | N3: место | O3: баллы | P3: сумма мест | Q3: место
A4: 1 | B4: Против Течения | C4: Ананич Геннадий | D4: =IFERROR(VLOOKUP(C4,Т1За!$C$47:$D$87,2,0),0) -> 0 | E4: =IFERROR(VLOOKUP(C4,Т1За!$C$47:$E$87,3,0),0) -> 42 | F4: =IFERROR(VLOOKUP(C4,Т1Зб!$C$47:$D$87,2,0),0) -> 0 | G4: =IFERROR(VLOOKUP(C4,Т1Зб!$C$47:$E$87,3,0),0) -> 0 | H4: =IFERROR(VLOOKUP(C4,Т2За!$C$47:$D$87,2,0),0) -> 0 | I4: =IFERROR(VLOOKUP(C4,Т2За!$C$47:$E$87,3,0),0) -> 0 | J4: =IFERROR(VLOOKUP(C4,Т2Зб!$C$47:$D$87,2,0),0) -> 510.76 | K4: =IFERROR(VLOOKUP(C4,Т2Зб!$C$47:$E$87,3,0),0) -> 6 | L4: =D4+F4+H4+J4 -> 510.76 | M4: =E4+G4+I4+K4 -> 48 | N4: =RANK(M4,$M$4:$M$85,1) -> 15 | O4: =L4+L5 -> 510.76 | P4: =M4+M5 -> 132 | Q4: =RANK(P4,$P$4:$P$85,1) -> 15
A5: =A4+1 -> 2 | B5: Против Течения | C5: Кириенко Кирилл | D5: =IFERROR(VLOOKUP(C5,Т1За!$C$47:$D$87,2,0),0) -> 0 | E5: =IFERROR(VLOOKUP(C5,Т1За!$C$47:$E$87,3,0),0) -> 0 | F5: =IFERROR(VLOOKUP(C5,Т1Зб!$C$47:$D$87,2,0),0) -> 0 | G5: =IFERROR(VLOOKUP(C5,Т1Зб!$C$47:$E$87,3,0),0) -> 42 | H5: =IFERROR(VLOOKUP(C5,Т2За!$C$47:$D$87,2,0),0) -> 0 | I5: =IFERROR(VLOOKUP(C5,Т2За!$C$47:$E$87,3,0),0) -> 42 | J5: =IFERROR(VLOOKUP(C5,Т2Зб!$C$47:$D$87,2,0),0) -> 0 | K5: =IFERROR(VLOOKUP(C5,Т2Зб!$C$47:$E$87,3,0),0) -> 0 | L5: =D5+F5+H5+J5 -> 0 | M5: =E5+G5+I5+K5 -> 84 | N5: 42
A6: =A5+1 -> 3 | B6: ASpinnteam | C6: Нугуманов Артём | D6: =IFERROR(VLOOKUP(C6,Т1За!$C$47:$D$87,2,0),0) -> 590.49 | E6: =IFERROR(VLOOKUP(C6,Т1За!$C$47:$E$87,3,0),0) -> 3 | F6: =IFERROR(VLOOKUP(C6,Т1Зб!$C$47:$D$87,2,0),0) -> 0 | G6: =IFERROR(VLOOKUP(C6,Т1Зб!$C$47:$E$87,3,0),0) -> 0 | H6: =IFERROR(VLOOKUP(C6,Т2За!$C$47:$D$87,2,0),0) -> 0 | I6: =IFERROR(VLOOKUP(C6,Т2За!$C$47:$E$87,3,0),0) -> 0 | J6: =IFERROR(VLOOKUP(C6,Т2Зб!$C$47:$D$87,2,0),0) -> 3025 | K6: =IFERROR(VLOOKUP(C6,Т2Зб!$C$47:$E$87,3,0),0) -> 1 | L6: =D6+F6+H6+J6 -> 3615.49 | M6: =E6+G6+I6+K6 -> 4 | N6: =RANK(M6,$M$4:$M$85,1) -> 1 | O6: =L6+L7 -> 3615.49 | P6: =M6+M7 -> 88 | Q6: =RANK(P6,$P$4:$P$85,1) -> 1
A7: =A6+1 -> 4 | B7: ASpinnteam | C7: Вашкевич Александр | D7: =IFERROR(VLOOKUP(C7,Т1За!$C$47:$D$87,2,0),0) -> 0 | E7: =IFERROR(VLOOKUP(C7,Т1За!$C$47:$E$87,3,0),0) -> 0 | F7: =IFERROR(VLOOKUP(C7,Т1Зб!$C$47:$D$87,2,0),0) -> 0 | G7: =IFERROR(VLOOKUP(C7,Т1Зб!$C$47:$E$87,3,0),0) -> 42 | H7: =IFERROR(VLOOKUP(C7,Т2За!$C$47:$D$87,2,0),0) -> 0 | I7: =IFERROR(VLOOKUP(C7,Т2За!$C$47:$E$87,3,0),0) -> 42 | J7: =IFERROR(VLOOKUP(C7,Т2Зб!$C$47:$D$87,2,0),0) -> 0 | K7: =IFERROR(VLOOKUP(C7,Т2Зб!$C$47:$E$87,3,0),0) -> 0 | L7: =D7+F7+H7+J7 -> 0 | M7: =E7+G7+I7+K7 -> 84 | N7: 42
A8: =A7+1 -> 5 | B8: Трудовые резервы | C8: Баранок Артём | D8: =IFERROR(VLOOKUP(C8,Т1За!$C$47:$D$87,2,0),0) -> 0 | E8: =IFERROR(VLOOKUP(C8,Т1За!$C$47:$E$87,3,0),0) -> 0 | F8: =IFERROR(VLOOKUP(C8,Т1Зб!$C$47:$D$87,2,0),0) -> 0 | G8: =IFERROR(VLOOKUP(C8,Т1Зб!$C$47:$E$87,3,0),0) -> 42 | H8: =IFERROR(VLOOKUP(C8,Т2За!$C$47:$D$87,2,0),0) -> 0 | I8: =IFERROR(VLOOKUP(C8,Т2За!$C$47:$E$87,3,0),0) -> 42 | J8: =IFERROR(VLOOKUP(C8,Т2Зб!$C$47:$D$87,2,0),0) -> 0 | K8: =IFERROR(VLOOKUP(C8,Т2Зб!$C$47:$E$87,3,0),0) -> 0 | L8: =D8+F8+H8+J8 -> 0 | M8: =E8+G8+I8+K8 -> 84 | N8: 42 | O8: =L8+L9 -> 0 | P8: =M8+M9 -> 168 | Q8: 42
A9: =A8+1 -> 6 | B9: Трудовые резервы | C9: Пожарский Константин | D9: =IFERROR(VLOOKUP(C9,Т1За!$C$47:$D$87,2,0),0) -> 0 | E9: =IFERROR(VLOOKUP(C9,Т1За!$C$47:$E$87,3,0),0) -> 42 | F9: =IFERROR(VLOOKUP(C9,Т1Зб!$C$47:$D$87,2,0),0) -> 0 | G9: =IFERROR(VLOOKUP(C9,Т1Зб!$C$47:$E$87,3,0),0) -> 0 | H9: =IFERROR(VLOOKUP(C9,Т2За!$C$47:$D$87,2,0),0) -> 0 | I9: =IFERROR(VLOOKUP(C9,Т2За!$C$47:$E$87,3,0),0) -> 0 | J9: =IFERROR(VLOOKUP(C9,Т2Зб!$C$47:$D$87,2,0),0) -> 0 | K9: =IFERROR(VLOOKUP(C9,Т2Зб!$C$47:$E$87,3,0),0) -> 42 | L9: =D9+F9+H9+J9 -> 0 | M9: =E9+G9+I9+K9 -> 84 | N9: 42
A10: =A9+1 -> 7 | B10: Perch Legends | C10: Лабанок Александр | D10: =IFERROR(VLOOKUP(C10,Т1За!$C$47:$D$87,2,0),0) -> 2134.44 | E10: =IFERROR(VLOOKUP(C10,Т1За!$C$47:$E$87,3,0),0) -> 1 | F10: =IFERROR(VLOOKUP(C10,Т1Зб!$C$47:$D$87,2,0),0) -> 0 | G10: =IFERROR(VLOOKUP(C10,Т1Зб!$C$47:$E$87,3,0),0) -> 0 | H10: =IFERROR(VLOOKUP(C10,Т2За!$C$47:$D$87,2,0),0) -> 0 | I10: =IFERROR(VLOOKUP(C10,Т2За!$C$47:$E$87,3,0),0) -> 0 | J10: =IFERROR(VLOOKUP(C10,Т2Зб!$C$47:$D$87,2,0),0) -> 0 | K10: =IFERROR(VLOOKUP(C10,Т2Зб!$C$47:$E$87,3,0),0) -> 42 | L10: =D10+F10+H10+J10 -> 2134.44 | M10: =E10+G10+I10+K10 -> 43 | N10: =RANK(M10,$M$4:$M$85,1) -> 4 | O10: =L10+L11 -> 2134.44 | P10: =M10+M11 -> 127 | Q10: =RANK(P10,$P$4:$P$85,1) -> 4
A11: =A10+1 -> 8 | B11: Perch Legends | C11: Каменец Алексей | D11: =IFERROR(VLOOKUP(C11,Т1За!$C$47:$D$87,2,0),0) -> 0 | E11: =IFERROR(VLOOKUP(C11,Т1За!$C$47:$E$87,3,0),0) -> 0 | F11: =IFERROR(VLOOKUP(C11,Т1Зб!$C$47:$D$87,2,0),0) -> 0 | G11: =IFERROR(VLOOKUP(C11,Т1Зб!$C$47:$E$87,3,0),0) -> 42 | H11: =IFERROR(VLOOKUP(C11,Т2За!$C$47:$D$87,2,0),0) -> 0 | I11: =IFERROR(VLOOKUP(C11,Т2За!$C$47:$E$87,3,0),0) -> 42 | J11: =IFERROR(VLOOKUP(C11,Т2Зб!$C$47:$D$87,2,0),0) -> 0 | K11: =IFERROR(VLOOKUP(C11,Т2Зб!$C$47:$E$87,3,0),0) -> 0 | L11: =D11+F11+H11+J11 -> 0 | M11: =E11+G11+I11+K11 -> 84 | N11: 42
A12: =A11+1 -> 9 | B12: ROCKFISH | C12: Лазарчик Евгений | D12: =IFERROR(VLOOKUP(C12,Т1За!$C$47:$D$87,2,0),0) -> 0 | E12: =IFERROR(VLOOKUP(C12,Т1За!$C$47:$E$87,3,0),0) -> 42 | F12: =IFERROR(VLOOKUP(C12,Т1Зб!$C$47:$D$87,2,0),0) -> 0 | G12: =IFERROR(VLOOKUP(C12,Т1Зб!$C$47:$E$87,3,0),0) -> 0 | H12: =IFERROR(VLOOKUP(C12,Т2За!$C$47:$D$87,2,0),0) -> 0 | I12: =IFERROR(VLOOKUP(C12,Т2За!$C$47:$E$87,3,0),0) -> 0 | J12: =IFERROR(VLOOKUP(C12,Т2Зб!$C$47:$D$87,2,0),0) -> 0 | K12: =IFERROR(VLOOKUP(C12,Т2Зб!$C$47:$E$87,3,0),0) -> 42 | L12: =D12+F12+H12+J12 -> 0 | M12: =E12+G12+I12+K12 -> 84 | N12: 42 | O12: =L12+L13 -> 264.0625 | P12: =M12+M13 -> 128 | Q12: 10
A13: =A12+1 -> 10 | B13: ROCKFISH | C13: Силивончик Павел | D13: =IFERROR(VLOOKUP(C13,Т1За!$C$47:$D$87,2,0),0) -> 0 | E13: =IFERROR(VLOOKUP(C13,Т1За!$C$47:$E$87,3,0),0) -> 0 | F13: =IFERROR(VLOOKUP(C13,Т1Зб!$C$47:$D$87,2,0),0) -> 264.0625 | G13: =IFERROR(VLOOKUP(C13,Т1Зб!$C$47:$E$87,3,0),0) -> 2 | H13: =IFERROR(VLOOKUP(C13,Т2За!$C$47:$D$87,2,0),0) -> 0 | I13: =IFERROR(VLOOKUP(C13,Т2За!$C$47:$E$87,3,0),0) -> 42 | J13: =IFERROR(VLOOKUP(C13,Т2Зб!$C$47:$D$87,2,0),0) -> 0 | K13: =IFERROR(VLOOKUP(C13,Т2Зб!$C$47:$E$87,3,0),0) -> 0 | L13: =D13+F13+H13+J13 -> 264.0625 | M13: =E13+G13+I13+K13 -> 44 | N13: 10
A14: =A13+1 -> 11 | B14: UL Hooligans | C14: Дешкевич Виталий | D14: =IFERROR(VLOOKUP(C14,Т1За!$C$47:$D$87,2,0),0) -> 0 | E14: =IFERROR(VLOOKUP(C14,Т1За!$C$47:$E$87,3,0),0) -> 0 | F14: =IFERROR(VLOOKUP(C14,Т1Зб!$C$47:$D$87,2,0),0) -> 0 | G14: =IFERROR(VLOOKUP(C14,Т1Зб!$C$47:$E$87,3,0),0) -> 42 | H14: =IFERROR(VLOOKUP(C14,Т2За!$C$47:$D$87,2,0),0) -> 0 | I14: =IFERROR(VLOOKUP(C14,Т2За!$C$47:$E$87,3,0),0) -> 42 | J14: =IFERROR(VLOOKUP(C14,Т2Зб!$C$47:$D$87,2,0),0) -> 0 | K14: =IFERROR(VLOOKUP(C14,Т2Зб!$C$47:$E$87,3,0),0) -> 0 | L14: =D14+F14+H14+J14 -> 0 | M14: =E14+G14+I14+K14 -> 84 | N14: 42 | O14: =L14+L15 -> 0 | P14: =M14+M15 -> 168 | Q14: 42
A15: =A14+1 -> 12 | B15: UL Hooligans | C15: Уютов Кирилл | D15: =IFERROR(VLOOKUP(C15,Т1За!$C$47:$D$87,2,0),0) -> 0 | E15: =IFERROR(VLOOKUP(C15,Т1За!$C$47:$E$87,3,0),0) -> 42 | F15: =IFERROR(VLOOKUP(C15,Т1Зб!$C$47:$D$87,2,0),0) -> 0 | G15: =IFERROR(VLOOKUP(C15,Т1Зб!$C$47:$E$87,3,0),0) -> 0 | H15: =IFERROR(VLOOKUP(C15,Т2За!$C$47:$D$87,2,0),0) -> 0 | I15: =IFERROR(VLOOKUP(C15,Т2За!$C$47:$E$87,3,0),0) -> 0 | J15: =IFERROR(VLOOKUP(C15,Т2Зб!$C$47:$D$87,2,0),0) -> 0 | K15: =IFERROR(VLOOKUP(C15,Т2Зб!$C$47:$E$87,3,0),0) -> 42 | L15: =D15+F15+H15+J15 -> 0 | M15: =E15+G15+I15+K15 -> 84 | N15: 42
A16: =A15+1 -> 13 | B16: ЕК | C16: Казанцев Евгений | D16: =IFERROR(VLOOKUP(C16,Т1За!$C$47:$D$87,2,0),0) -> 0 | E16: =IFERROR(VLOOKUP(C16,Т1За!$C$47:$E$87,3,0),0) -> 42 | F16: =IFERROR(VLOOKUP(C16,Т1Зб!$C$47:$D$87,2,0),0) -> 0 | G16: =IFERROR(VLOOKUP(C16,Т1Зб!$C$47:$E$87,3,0),0) -> 0 | H16: =IFERROR(VLOOKUP(C16,Т2За!$C$47:$D$87,2,0),0) -> 0 | I16: =IFERROR(VLOOKUP(C16,Т2За!$C$47:$E$87,3,0),0) -> 0 | J16: =IFERROR(VLOOKUP(C16,Т2Зб!$C$47:$D$87,2,0),0) -> 0 | K16: =IFERROR(VLOOKUP(C16,Т2Зб!$C$47:$E$87,3,0),0) -> 42 | L16: =D16+F16+H16+J16 -> 0 | M16: =E16+G16+I16+K16 -> 84 | N16: 42 | O16: =L16+L17 -> 0 | P16: =M16+M17 -> 168 | Q16: 42
A17: =A16+1 -> 14 | B17: ЕК | C17: Ковалёв Евгений | D17: =IFERROR(VLOOKUP(C17,Т1За!$C$47:$D$87,2,0),0) -> 0 | E17: =IFERROR(VLOOKUP(C17,Т1За!$C$47:$E$87,3,0),0) -> 0 | F17: =IFERROR(VLOOKUP(C17,Т1Зб!$C$47:$D$87,2,0),0) -> 0 | G17: =IFERROR(VLOOKUP(C17,Т1Зб!$C$47:$E$87,3,0),0) -> 42 | H17: =IFERROR(VLOOKUP(C17,Т2За!$C$47:$D$87,2,0),0) -> 0 | I17: =IFERROR(VLOOKUP(C17,Т2За!$C$47:$E$87,3,0),0) -> 42 | J17: =IFERROR(VLOOKUP(C17,Т2Зб!$C$47:$D$87,2,0),0) -> 0 | K17: =IFERROR(VLOOKUP(C17,Т2Зб!$C$47:$E$87,3,0),0) -> 0 | L17: =D17+F17+H17+J17 -> 0 | M17: =E17+G17+I17+K17 -> 84 | N17: 42
A18: =A17+1 -> 15 | B18: WFT Minsk | C18: Каморников Евгений | D18: =IFERROR(VLOOKUP(C18,Т1За!$C$47:$D$87,2,0),0) -> 0 | E18: =IFERROR(VLOOKUP(C18,Т1За!$C$47:$E$87,3,0),0) -> 42 | F18: =IFERROR(VLOOKUP(C18,Т1Зб!$C$47:$D$87,2,0),0) -> 0 | G18: =IFERROR(VLOOKUP(C18,Т1Зб!$C$47:$E$87,3,0),0) -> 0 | H18: =IFERROR(VLOOKUP(C18,Т2За!$C$47:$D$87,2,0),0) -> 0 | I18: =IFERROR(VLOOKUP(C18,Т2За!$C$47:$E$87,3,0),0) -> 0 | J18: =IFERROR(VLOOKUP(C18,Т2Зб!$C$47:$D$87,2,0),0) -> 0 | K18: =IFERROR(VLOOKUP(C18,Т2Зб!$C$47:$E$87,3,0),0) -> 42 | L18: =D18+F18+H18+J18 -> 0 | M18: =E18+G18+I18+K18 -> 84 | N18: 42 | O18: =L18+L19 -> 0 | P18: =M18+M19 -> 168 | Q18: 42
A19: =A18+1 -> 16 | B19: WFT Minsk | C19: Тулупов Александр | D19: =IFERROR(VLOOKUP(C19,Т1За!$C$47:$D$87,2,0),0) -> 0 | E19: =IFERROR(VLOOKUP(C19,Т1За!$C$47:$E$87,3,0),0) -> 0 | F19: =IFERROR(VLOOKUP(C19,Т1Зб!$C$47:$D$87,2,0),0) -> 0 | G19: =IFERROR(VLOOKUP(C19,Т1Зб!$C$47:$E$87,3,0),0) -> 42 | H19: =IFERROR(VLOOKUP(C19,Т2За!$C$47:$D$87,2,0),0) -> 0 | I19: =IFERROR(VLOOKUP(C19,Т2За!$C$47:$E$87,3,0),0) -> 42 | J19: =IFERROR(VLOOKUP(C19,Т2Зб!$C$47:$D$87,2,0),0) -> 0 | K19: =IFERROR(VLOOKUP(C19,Т2Зб!$C$47:$E$87,3,0),0) -> 0 | L19: =D19+F19+H19+J19 -> 0 | M19: =E19+G19+I19+K19 -> 84 | N19: 42
A20: =A19+1 -> 17 | B20: XULi-ULi | C20: Воробьёв Андрей | D20: =IFERROR(VLOOKUP(C20,Т1За!$C$47:$D$87,2,0),0) -> 0 | E20: =IFERROR(VLOOKUP(C20,Т1За!$C$47:$E$87,3,0),0) -> 42 | F20: =IFERROR(VLOOKUP(C20,Т1Зб!$C$47:$D$87,2,0),0) -> 0 | G20: =IFERROR(VLOOKUP(C20,Т1Зб!$C$47:$E$87,3,0),0) -> 0 | H20: =IFERROR(VLOOKUP(C20,Т2За!$C$47:$D$87,2,0),0) -> 0 | I20: =IFERROR(VLOOKUP(C20,Т2За!$C$47:$E$87,3,0),0) -> 0 | J20: =IFERROR(VLOOKUP(C20,Т2Зб!$C$47:$D$87,2,0),0) -> 0 | K20: =IFERROR(VLOOKUP(C20,Т2Зб!$C$47:$E$87,3,0),0) -> 42 | L20: =D20+F20+H20+J20 -> 0 | M20: =E20+G20+I20+K20 -> 84 | N20: 42 | O20: =L20+L21 -> 496.37 | P20: =M20+M21 -> 127 | Q20: 5
A21: =A20+1 -> 18 | B21: XULi-ULi | C21: Лавренчук Станислав | D21: =IFERROR(VLOOKUP(C21,Т1За!$C$47:$D$87,2,0),0) -> 0 | E21: =IFERROR(VLOOKUP(C21,Т1За!$C$47:$E$87,3,0),0) -> 0 | F21: =IFERROR(VLOOKUP(C21,Т1Зб!$C$47:$D$87,2,0),0) -> 0 | G21: =IFERROR(VLOOKUP(C21,Т1Зб!$C$47:$E$87,3,0),0) -> 42 | H21: =IFERROR(VLOOKUP(C21,Т2За!$C$47:$D$87,2,0),0) -> 496.37 | I21: =IFERROR(VLOOKUP(C21,Т2За!$C$47:$E$87,3,0),0) -> 1 | J21: =IFERROR(VLOOKUP(C21,Т2Зб!$C$47:$D$87,2,0),0) -> 0 | K21: =IFERROR(VLOOKUP(C21,Т2Зб!$C$47:$E$87,3,0),0) -> 0 | L21: =D21+F21+H21+J21 -> 496.37 | M21: =E21+G21+I21+K21 -> 43 | N21: 5
A22: =A21+1 -> 19 | B22: Peacock Bass | C22: Сенчуров Иван | D22: =IFERROR(VLOOKUP(C22,Т1За!$C$47:$D$87,2,0),0) -> 0 | E22: =IFERROR(VLOOKUP(C22,Т1За!$C$47:$E$87,3,0),0) -> 0 | F22: =IFERROR(VLOOKUP(C22,Т1Зб!$C$47:$D$87,2,0),0) -> 0 | G22: =IFERROR(VLOOKUP(C22,Т1Зб!$C$47:$E$87,3,0),0) -> 42 | H22: =IFERROR(VLOOKUP(C22,Т2За!$C$47:$D$87,2,0),0) -> 0 | I22: =IFERROR(VLOOKUP(C22,Т2За!$C$47:$E$87,3,0),0) -> 42 | J22: =IFERROR(VLOOKUP(C22,Т2Зб!$C$47:$D$87,2,0),0) -> 0 | K22: =IFERROR(VLOOKUP(C22,Т2Зб!$C$47:$E$87,3,0),0) -> 0 | L22: =D22+F22+H22+J22 -> 0 | M22: =E22+G22+I22+K22 -> 84 | N22: 42 | O22: =L22+L23 -> 0 | P22: =M22+M23 -> 168 | Q22: 42
A23: =A22+1 -> 20 | B23: Peacock Bass | C23: Дроздов Виталий | D23: =IFERROR(VLOOKUP(C23,Т1За!$C$47:$D$87,2,0),0) -> 0 | E23: =IFERROR(VLOOKUP(C23,Т1За!$C$47:$E$87,3,0),0) -> 42 | F23: =IFERROR(VLOOKUP(C23,Т1Зб!$C$47:$D$87,2,0),0) -> 0 | G23: =IFERROR(VLOOKUP(C23,Т1Зб!$C$47:$E$87,3,0),0) -> 0 | H23: =IFERROR(VLOOKUP(C23,Т2За!$C$47:$D$87,2,0),0) -> 0 | I23: =IFERROR(VLOOKUP(C23,Т2За!$C$47:$E$87,3,0),0) -> 0 | J23: =IFERROR(VLOOKUP(C23,Т2Зб!$C$47:$D$87,2,0),0) -> 0 | K23: =IFERROR(VLOOKUP(C23,Т2Зб!$C$47:$E$87,3,0),0) -> 42 | L23: =D23+F23+H23+J23 -> 0 | M23: =E23+G23+I23+K23 -> 84 | N23: 42
A24: =A23+1 -> 21 | B24: Bait Breath Team | C24: Бахур Александр | D24: =IFERROR(VLOOKUP(C24,Т1За!$C$47:$D$87,2,0),0) -> 0 | E24: =IFERROR(VLOOKUP(C24,Т1За!$C$47:$E$87,3,0),0) -> 0 | F24: =IFERROR(VLOOKUP(C24,Т1Зб!$C$47:$D$87,2,0),0) -> 0 | G24: =IFERROR(VLOOKUP(C24,Т1Зб!$C$47:$E$87,3,0),0) -> 42 | H24: =IFERROR(VLOOKUP(C24,Т2За!$C$47:$D$87,2,0),0) -> 0 | I24: =IFERROR(VLOOKUP(C24,Т2За!$C$47:$E$87,3,0),0) -> 42 | J24: =IFERROR(VLOOKUP(C24,Т2Зб!$C$47:$D$87,2,0),0) -> 0 | K24: =IFERROR(VLOOKUP(C24,Т2Зб!$C$47:$E$87,3,0),0) -> 0 | L24: =D24+F24+H24+J24 -> 0 | M24: =E24+G24+I24+K24 -> 84 | N24: 42 | O24: =L24+L25 -> 262.44 | P24: =M24+M25 -> 136 | Q24: =RANK(P24,$P$4:$P$85,1) -> 21
A25: =A24+1 -> 22 | B25: Bait Breath Team | C25: Зубко Сергей | D25: =IFERROR(VLOOKUP(C25,Т1За!$C$47:$D$87,2,0),0) -> 262.44 | E25: =IFERROR(VLOOKUP(C25,Т1За!$C$47:$E$87,3,0),0) -> 10 | F25: =IFERROR(VLOOKUP(C25,Т1Зб!$C$47:$D$87,2,0),0) -> 0 | G25: =IFERROR(VLOOKUP(C25,Т1Зб!$C$47:$E$87,3,0),0) -> 0 | H25: =IFERROR(VLOOKUP(C25,Т2За!$C$47:$D$87,2,0),0) -> 0 | I25: =IFERROR(VLOOKUP(C25,Т2За!$C$47:$E$87,3,0),0) -> 0 | J25: =IFERROR(VLOOKUP(C25,Т2Зб!$C$47:$D$87,2,0),0) -> 0 | K25: =IFERROR(VLOOKUP(C25,Т2Зб!$C$47:$E$87,3,0),0) -> 42 | L25: =D25+F25+H25+J25 -> 262.44 | M25: =E25+G25+I25+K25 -> 52 | N25: =RANK(M25,$M$4:$M$85,1) -> 21
A26: =A25+1 -> 23 | B26: Perch Power | C26: Иокша Дмитрий | D26: =IFERROR(VLOOKUP(C26,Т1За!$C$47:$D$87,2,0),0) -> 0 | E26: =IFERROR(VLOOKUP(C26,Т1За!$C$47:$E$87,3,0),0) -> 42 | F26: =IFERROR(VLOOKUP(C26,Т1Зб!$C$47:$D$87,2,0),0) -> 0 | G26: =IFERROR(VLOOKUP(C26,Т1Зб!$C$47:$E$87,3,0),0) -> 0 | H26: =IFERROR(VLOOKUP(C26,Т2За!$C$47:$D$87,2,0),0) -> 0 | I26: =IFERROR(VLOOKUP(C26,Т2За!$C$47:$E$87,3,0),0) -> 0 | J26: =IFERROR(VLOOKUP(C26,Т2Зб!$C$47:$D$87,2,0),0) -> 0 | K26: =IFERROR(VLOOKUP(C26,Т2Зб!$C$47:$E$87,3,0),0) -> 42 | L26: =D26+F26+H26+J26 -> 0 | M26: =E26+G26+I26+K26 -> 84 | N26: 42 | O26: =L26+L27 -> 400 | P26: =M26+M27 -> 127 | Q26: 6
A27: =A26+1 -> 24 | B27: Perch Power | C27: Кохно Антон | D27: =IFERROR(VLOOKUP(C27,Т1За!$C$47:$D$87,2,0),0) -> 0 | E27: =IFERROR(VLOOKUP(C27,Т1За!$C$47:$E$87,3,0),0) -> 0 | F27: =IFERROR(VLOOKUP(C27,Т1Зб!$C$47:$D$87,2,0),0) -> 400 | G27: =IFERROR(VLOOKUP(C27,Т1Зб!$C$47:$E$87,3,0),0) -> 1 | H27: =IFERROR(VLOOKUP(C27,Т2За!$C$47:$D$87,2,0),0) -> 0 | I27: =IFERROR(VLOOKUP(C27,Т2За!$C$47:$E$87,3,0),0) -> 42 | J27: =IFERROR(VLOOKUP(C27,Т2Зб!$C$47:$D$87,2,0),0) -> 0 | K27: =IFERROR(VLOOKUP(C27,Т2Зб!$C$47:$E$87,3,0),0) -> 0 | L27: =D27+F27+H27+J27 -> 400 | M27: =E27+G27+I27+K27 -> 43 | N27: 6
A28: =A27+1 -> 25 | B28: BASS HUNTER | C28: Шевко Виталий | D28: =IFERROR(VLOOKUP(C28,Т1За!$C$47:$D$87,2,0),0) -> 0 | E28: =IFERROR(VLOOKUP(C28,Т1За!$C$47:$E$87,3,0),0) -> 0 | F28: =IFERROR(VLOOKUP(C28,Т1Зб!$C$47:$D$87,2,0),0) -> 0 | G28: =IFERROR(VLOOKUP(C28,Т1Зб!$C$47:$E$87,3,0),0) -> 42 | H28: =IFERROR(VLOOKUP(C28,Т2За!$C$47:$D$87,2,0),0) -> 0 | I28: =IFERROR(VLOOKUP(C28,Т2За!$C$47:$E$87,3,0),0) -> 42 | J28: =IFERROR(VLOOKUP(C28,Т2Зб!$C$47:$D$87,2,0),0) -> 0 | K28: =IFERROR(VLOOKUP(C28,Т2Зб!$C$47:$E$87,3,0),0) -> 0 | L28: =D28+F28+H28+J28 -> 0 | M28: =E28+G28+I28+K28 -> 84 | N28: 42 | O28: =L28+L29 -> 519.84 | P28: =M28+M29 -> 131 | Q28: =RANK(P28,$P$4:$P$85,1) -> 13
A29: =A28+1 -> 26 | B29: BASS HUNTER | C29: Кириевский Андрей | D29: =IFERROR(VLOOKUP(C29,Т1За!$C$47:$D$87,2,0),0) -> 0 | E29: =IFERROR(VLOOKUP(C29,Т1За!$C$47:$E$87,3,0),0) -> 42 | F29: =IFERROR(VLOOKUP(C29,Т1Зб!$C$47:$D$87,2,0),0) -> 0 | G29: =IFERROR(VLOOKUP(C29,Т1Зб!$C$47:$E$87,3,0),0) -> 0 | H29: =IFERROR(VLOOKUP(C29,Т2За!$C$47:$D$87,2,0),0) -> 0 | I29: =IFERROR(VLOOKUP(C29,Т2За!$C$47:$E$87,3,0),0) -> 0 | J29: =IFERROR(VLOOKUP(C29,Т2Зб!$C$47:$D$87,2,0),0) -> 519.84 | K29: =IFERROR(VLOOKUP(C29,Т2Зб!$C$47:$E$87,3,0),0) -> 5 | L29: =D29+F29+H29+J29 -> 519.84 | M29: =E29+G29+I29+K29 -> 47 | N29: =RANK(M29,$M$4:$M$85,1) -> 13
A30: =A29+1 -> 27 | B30: West Fishing | C30: Непомнящий Виктор | D30: =IFERROR(VLOOKUP(C30,Т1За!$C$47:$D$87,2,0),0) -> 585.64 | E30: =IFERROR(VLOOKUP(C30,Т1За!$C$47:$E$87,3,0),0) -> 4 | F30: =IFERROR(VLOOKUP(C30,Т1Зб!$C$47:$D$87,2,0),0) -> 0 | G30: =IFERROR(VLOOKUP(C30,Т1Зб!$C$47:$E$87,3,0),0) -> 0 | H30: =IFERROR(VLOOKUP(C30,Т2За!$C$47:$D$87,2,0),0) -> 0 | I30: =IFERROR(VLOOKUP(C30,Т2За!$C$47:$E$87,3,0),0) -> 0 | J30: =IFERROR(VLOOKUP(C30,Т2Зб!$C$47:$D$87,2,0),0) -> 400 | K30: =IFERROR(VLOOKUP(C30,Т2Зб!$C$47:$E$87,3,0),0) -> 7 | L30: =D30+F30+H30+J30 -> 985.64 | M30: =E30+G30+I30+K30 -> 11 | N30: =RANK(M30,$M$4:$M$85,1) -> 2 | O30: =L30+L31 -> 985.64 | P30: =M30+M31 -> 95 | Q30: =RANK(P30,$P$4:$P$85,1) -> 2
A31: =A30+1 -> 28 | B31: West Fishing | C31: Золотарь Андрей | D31: =IFERROR(VLOOKUP(C31,Т1За!$C$47:$D$87,2,0),0) -> 0 | E31: =IFERROR(VLOOKUP(C31,Т1За!$C$47:$E$87,3,0),0) -> 0 | F31: =IFERROR(VLOOKUP(C31,Т1Зб!$C$47:$D$87,2,0),0) -> 0 | G31: =IFERROR(VLOOKUP(C31,Т1Зб!$C$47:$E$87,3,0),0) -> 42 | H31: =IFERROR(VLOOKUP(C31,Т2За!$C$47:$D$87,2,0),0) -> 0 | I31: =IFERROR(VLOOKUP(C31,Т2За!$C$47:$E$87,3,0),0) -> 42 | J31: =IFERROR(VLOOKUP(C31,Т2Зб!$C$47:$D$87,2,0),0) -> 0 | K31: =IFERROR(VLOOKUP(C31,Т2Зб!$C$47:$E$87,3,0),0) -> 0 | L31: =D31+F31+H31+J31 -> 0 | M31: =E31+G31+I31+K31 -> 84 | N31: 42
A32: =A31+1 -> 29 | B32: Amateurs | C32: Куликовский Виталий | D32: =IFERROR(VLOOKUP(C32,Т1За!$C$47:$D$87,2,0),0) -> 0 | E32: =IFERROR(VLOOKUP(C32,Т1За!$C$47:$E$87,3,0),0) -> 0 | F32: =IFERROR(VLOOKUP(C32,Т1Зб!$C$47:$D$87,2,0),0) -> 0 | G32: =IFERROR(VLOOKUP(C32,Т1Зб!$C$47:$E$87,3,0),0) -> 42 | H32: =IFERROR(VLOOKUP(C32,Т2За!$C$47:$D$87,2,0),0) -> 0 | I32: =IFERROR(VLOOKUP(C32,Т2За!$C$47:$E$87,3,0),0) -> 42 | J32: =IFERROR(VLOOKUP(C32,Т2Зб!$C$47:$D$87,2,0),0) -> 0 | K32: =IFERROR(VLOOKUP(C32,Т2Зб!$C$47:$E$87,3,0),0) -> 0 | L32: =D32+F32+H32+J32 -> 0 | M32: =E32+G32+I32+K32 -> 84 | N32: 42 | O32: =L32+L33 -> 0 | P32: =M32+M33 -> 168 | Q32: 42
A33: =A32+1 -> 30 | B33: Amateurs | C33: Соколов Кирилл | D33: =IFERROR(VLOOKUP(C33,Т1За!$C$47:$D$87,2,0),0) -> 0 | E33: =IFERROR(VLOOKUP(C33,Т1За!$C$47:$E$87,3,0),0) -> 42 | F33: =IFERROR(VLOOKUP(C33,Т1Зб!$C$47:$D$87,2,0),0) -> 0 | G33: =IFERROR(VLOOKUP(C33,Т1Зб!$C$47:$E$87,3,0),0) -> 0 | H33: =IFERROR(VLOOKUP(C33,Т2За!$C$47:$D$87,2,0),0) -> 0 | I33: =IFERROR(VLOOKUP(C33,Т2За!$C$47:$E$87,3,0),0) -> 0 | J33: =IFERROR(VLOOKUP(C33,Т2Зб!$C$47:$D$87,2,0),0) -> 0 | K33: =IFERROR(VLOOKUP(C33,Т2Зб!$C$47:$E$87,3,0),0) -> 42 | L33: =D33+F33+H33+J33 -> 0 | M33: =E33+G33+I33+K33 -> 84 | N33: 42
A34: =A33+1 -> 31 | B34: TEAM WFT BELARUS | C34: Зеновко Дмитрий | D34: =IFERROR(VLOOKUP(C34,Т1За!$C$47:$D$87,2,0),0) -> 0 | E34: =IFERROR(VLOOKUP(C34,Т1За!$C$47:$E$87,3,0),0) -> 0 | F34: =IFERROR(VLOOKUP(C34,Т1Зб!$C$47:$D$87,2,0),0) -> 0 | G34: =IFERROR(VLOOKUP(C34,Т1Зб!$C$47:$E$87,3,0),0) -> 42 | H34: =IFERROR(VLOOKUP(C34,Т2За!$C$47:$D$87,2,0),0) -> 0 | I34: =IFERROR(VLOOKUP(C34,Т2За!$C$47:$E$87,3,0),0) -> 42 | J34: =IFERROR(VLOOKUP(C34,Т2Зб!$C$47:$D$87,2,0),0) -> 0 | K34: =IFERROR(VLOOKUP(C34,Т2Зб!$C$47:$E$87,3,0),0) -> 0 | L34: =D34+F34+H34+J34 -> 0 | M34: =E34+G34+I34+K34 -> 84 | N34: 42 | O34: =L34+L35 -> 0 | P34: =M34+M35 -> 168 | Q34: 42
A35: =A34+1 -> 32 | B35: TEAM WFT BELARUS | C35: Черный Сергей | D35: =IFERROR(VLOOKUP(C35,Т1За!$C$47:$D$87,2,0),0) -> 0 | E35: =IFERROR(VLOOKUP(C35,Т1За!$C$47:$E$87,3,0),0) -> 42 | F35: =IFERROR(VLOOKUP(C35,Т1Зб!$C$47:$D$87,2,0),0) -> 0 | G35: =IFERROR(VLOOKUP(C35,Т1Зб!$C$47:$E$87,3,0),0) -> 0 | H35: =IFERROR(VLOOKUP(C35,Т2За!$C$47:$D$87,2,0),0) -> 0 | I35: =IFERROR(VLOOKUP(C35,Т2За!$C$47:$E$87,3,0),0) -> 0 | J35: =IFERROR(VLOOKUP(C35,Т2Зб!$C$47:$D$87,2,0),0) -> 0 | K35: =IFERROR(VLOOKUP(C35,Т2Зб!$C$47:$E$87,3,0),0) -> 42 | L35: =D35+F35+H35+J35 -> 0 | M35: =E35+G35+I35+K35 -> 84 | N35: 42
A36: =A35+1 -> 33 | B36: LEGION | C36: Бойко Сергей | D36: =IFERROR(VLOOKUP(C36,Т1За!$C$47:$D$87,2,0),0) -> 0 | E36: =IFERROR(VLOOKUP(C36,Т1За!$C$47:$E$87,3,0),0) -> 42 | F36: =IFERROR(VLOOKUP(C36,Т1Зб!$C$47:$D$87,2,0),0) -> 0 | G36: =IFERROR(VLOOKUP(C36,Т1Зб!$C$47:$E$87,3,0),0) -> 0 | H36: =IFERROR(VLOOKUP(C36,Т2За!$C$47:$D$87,2,0),0) -> 0 | I36: =IFERROR(VLOOKUP(C36,Т2За!$C$47:$E$87,3,0),0) -> 0 | J36: =IFERROR(VLOOKUP(C36,Т2Зб!$C$47:$D$87,2,0),0) -> 0 | K36: =IFERROR(VLOOKUP(C36,Т2Зб!$C$47:$E$87,3,0),0) -> 42 | L36: =D36+F36+H36+J36 -> 0 | M36: =E36+G36+I36+K36 -> 84 | N36: 42 | O36: =L36+L37 -> 0 | P36: =M36+M37 -> 168 | Q36: 42
A37: =A36+1 -> 34 | B37: LEGION | C37: Дмитрий Благуш | D37: =IFERROR(VLOOKUP(C37,Т1За!$C$47:$D$87,2,0),0) -> 0 | E37: =IFERROR(VLOOKUP(C37,Т1За!$C$47:$E$87,3,0),0) -> 0 | F37: =IFERROR(VLOOKUP(C37,Т1Зб!$C$47:$D$87,2,0),0) -> 0 | G37: =IFERROR(VLOOKUP(C37,Т1Зб!$C$47:$E$87,3,0),0) -> 42 | H37: =IFERROR(VLOOKUP(C37,Т2За!$C$47:$D$87,2,0),0) -> 0 | I37: =IFERROR(VLOOKUP(C37,Т2За!$C$47:$E$87,3,0),0) -> 42 | J37: =IFERROR(VLOOKUP(C37,Т2Зб!$C$47:$D$87,2,0),0) -> 0 | K37: =IFERROR(VLOOKUP(C37,Т2Зб!$C$47:$E$87,3,0),0) -> 0 | L37: =D37+F37+H37+J37 -> 0 | M37: =E37+G37+I37+K37 -> 84 | N37: 42
A38: =A37+1 -> 35 | B38: КОРЧ | C38: Лашков Юрий | D38: =IFERROR(VLOOKUP(C38,Т1За!$C$47:$D$87,2,0),0) -> 0 | E38: =IFERROR(VLOOKUP(C38,Т1За!$C$47:$E$87,3,0),0) -> 0 | F38: =IFERROR(VLOOKUP(C38,Т1Зб!$C$47:$D$87,2,0),0) -> 0 | G38: =IFERROR(VLOOKUP(C38,Т1Зб!$C$47:$E$87,3,0),0) -> 42 | H38: =IFERROR(VLOOKUP(C38,Т2За!$C$47:$D$87,2,0),0) -> 0 | I38: =IFERROR(VLOOKUP(C38,Т2За!$C$47:$E$87,3,0),0) -> 42 | J38: =IFERROR(VLOOKUP(C38,Т2Зб!$C$47:$D$87,2,0),0) -> 0 | K38: =IFERROR(VLOOKUP(C38,Т2Зб!$C$47:$E$87,3,0),0) -> 0 | L38: =D38+F38+H38+J38 -> 0 | M38: =E38+G38+I38+K38 -> 84 | N38: 42 | O38: =L38+L39 -> 449.44 | P38: =M38+M39 -> 131 | Q38: 14
A39: =A38+1 -> 36 | B39: КОРЧ | C39: Титенков Алексей | D39: =IFERROR(VLOOKUP(C39,Т1За!$C$47:$D$87,2,0),0) -> 449.44 | E39: =IFERROR(VLOOKUP(C39,Т1За!$C$47:$E$87,3,0),0) -> 5 | F39: =IFERROR(VLOOKUP(C39,Т1Зб!$C$47:$D$87,2,0),0) -> 0 | G39: =IFERROR(VLOOKUP(C39,Т1Зб!$C$47:$E$87,3,0),0) -> 0 | H39: =IFERROR(VLOOKUP(C39,Т2За!$C$47:$D$87,2,0),0) -> 0 | I39: =IFERROR(VLOOKUP(C39,Т2За!$C$47:$E$87,3,0),0) -> 0 | J39: =IFERROR(VLOOKUP(C39,Т2Зб!$C$47:$D$87,2,0),0) -> 0 | K39: =IFERROR(VLOOKUP(C39,Т2Зб!$C$47:$E$87,3,0),0) -> 42 | L39: =D39+F39+H39+J39 -> 449.44 | M39: =E39+G39+I39+K39 -> 47 | N39: 14
A40: =A39+1 -> 37 | B40: Регион 5 | C40: Сохончук Андрей | D40: =IFERROR(VLOOKUP(C40,Т1За!$C$47:$D$87,2,0),0) -> 723.9025 | E40: =IFERROR(VLOOKUP(C40,Т1За!$C$47:$E$87,3,0),0) -> 2 | F40: =IFERROR(VLOOKUP(C40,Т1Зб!$C$47:$D$87,2,0),0) -> 0 | G40: =IFERROR(VLOOKUP(C40,Т1Зб!$C$47:$E$87,3,0),0) -> 0 | H40: =IFERROR(VLOOKUP(C40,Т2За!$C$47:$D$87,2,0),0) -> 0 | I40: =IFERROR(VLOOKUP(C40,Т2За!$C$47:$E$87,3,0),0) -> 0 | J40: =IFERROR(VLOOKUP(C40,Т2Зб!$C$47:$D$87,2,0),0) -> 0 | K40: =IFERROR(VLOOKUP(C40,Т2Зб!$C$47:$E$87,3,0),0) -> 42 | L40: =D40+F40+H40+J40 -> 723.9025 | M40: =E40+G40+I40+K40 -> 44 | N40: 8 | O40: =L40+L41 -> 723.9025 | P40: =M40+M41 -> 128 | Q40: 8
...
