Workbook

Sheet Т1За
A1: № | B1: команда | C1: участник | D1: сумма баллов | E1: место | F1: окунь | M1: щука
F2: размер, см
A3: 1 | B3: Против Течения | C3: Ананич Геннадий | D3: =D47 -> 0 | E3: =E47 -> 42
A4: =A3+1 -> 2 | B4: ASpinnteam | C4: Нугуманов Артём | D4: =D48 -> 590.49 | E4: =E48 -> 3 | F4: 24.3
A5: =A4+1 -> 3 | B5: Трудовые резервы | C5: Пожарский Константин | D5: =D49 -> 0 | E5: =E49 -> 42
A6: =A5+1 -> 4 | B6: Perch Legends | C6: Лабанок Александр | D6: =D50 -> 2134.44 | E6: =E50 -> 1 | M6: 46.2
A7: =A6+1 -> 5 | B7: ROCKFISH | C7: Лазарчик Евгений | D7: =D51 -> 0 | E7: =E51 -> 42
A8: =A7+1 -> 6 | B8: UL Hooligans | C8: Уютов Кирилл | D8: =D52 -> 0 | E8: =E52 -> 42
A9: =A8+1 -> 7 | B9: ЕК | C9: Казанцев Евгений | D9: =D53 -> 0 | E9: =E53 -> 42
A10: =A9+1 -> 8 | B10: WFT Minsk | C10: Каморников Евгений | D10: =D54 -> 0 | E10: =E54 -> 42
A11: =A10+1 -> 9 | B11: XULi-ULi | C11: Воробьёв Андрей | D11: =D55 -> 0 | E11: =E55 -> 42
A12: =A11+1 -> 10 | B12: Peacock Bass | C12: Дроздов Виталий | D12: =D56 -> 0 | E12: =E56 -> 42
A13: =A12+1 -> 11 | B13: Bait Breath Team | C13: Зубко Сергей | D13: =D57 -> 262.44 | E13: =E57 -> 10 | F13: 16.2
A14: =A13+1 -> 12 | B14: Perch Power | C14: Иокша Дмитрий | D14: =D58 -> 0 | E14: =E58 -> 42
A15: =A14+1 -> 13 | B15: BASS HUNTER | C15: Кириевский Андрей | D15: =D59 -> 0 | E15: =E59 -> 42
A16: =A15+1 -> 14 | B16: West Fishing | C16: Непомнящий Виктор | D16: =D60 -> 585.64 | E16: =E60 -> 4 | F16: 24.2
A17: =A16+1 -> 15 | B17: Amateurs | C17: Соколов Кирилл | D17: =D61 -> 0 | E17: =E61 -> 42
A18: =A17+1 -> 16 | B18: TEAM WFT BELARUS | C18: Черный Сергей | D18: =D62 -> 0 | E18: =E62 -> 42
A19: =A18+1 -> 17 | B19: LEGION | C19: Бойко Сергей | D19: =D63 -> 0 | E19: =E63 -> 42
A20: =A19+1 -> 18 | B20: КОРЧ | C20: Титенков Алексей | D20: =D64 -> 449.44 | E20: =E64 -> 5 | F20: 21.2
A21: =A20+1 -> 19 | B21: Регион 5 | C21: Сохончук Андрей | D21: =D65 -> 723.9025 | E21: =E65 -> 2 | M21: 38.1 | N21: 38
A22: =A21+1 -> 20 | B22: Фарватер | C22: Попельский Максим | D22: =D66 -> 0 | E22: =E66 -> 42
A23: =A22+1 -> 21 | B23: K&M | C23: Казаченко Владимир | D23: =D67 -> 0 | E23: =E67 -> 42
A24: =A23+1 -> 22 | B24: ПВ | C24: Пластун Вячеслав | D24: =D68 -> 0 | E24: =E68 -> 42
A25: =A24+1 -> 23 | B25: Undercurrent | C25: Ешман Сергей | D25: =D69 -> 370.5625 | E25: =E69 -> 7 | M25: 38.5
A26: =A25+1 -> 24 | B26: nanobass | C26: Бычик Роман | D26: =D70 -> 0 | E26: =E70 -> 42
A27: =A26+1 -> 25 | B27: Poseidon | C27: Чижонок Сергей | D27: =D71 -> 0 | E27: =E71 -> 42
A28: =A27+1 -> 26 | B28: Крутой берег | C28: Желтов Игорь | D28: =D72 -> 412.09 | E28: =E72 -> 6 | F28: 20.3
A29: =A28+1 -> 27 | B29: MicroKilleR | C29: Бобриков Алексей | D29: =D73 -> 0 | E29: =E73 -> 42
A30: =A29+1 -> 28 | B30: FishUp Team | C30: Крук Денис | D30: =D74 -> 0 | E30: =E74 -> 42
A31: =A30+1 -> 29 | B31: Dream Team | C31: Тысевич Сергей | D31: =D75 -> 338.56 | E31: =E75 -> 8 | F31: 18.4
A32: =A31+1 -> 30 | B32: S&D TEAM | C32: Шевчук Дмитрий | D32: =D76 -> 311.5225 | E32: =E76 -> 9 | M32: 35.3
A33: =A32+1 -> 31 | B33: Happy Pike | C33: Пунинский Антон | D33: =D77 -> 0 | E33: =E77 -> 42
A34: =A33+1 -> 32 | B34: Lexass PRO | C34: Булойчик Илья | D34: =D78 -> 0 | E34: =E78 -> 42
A35: =A34+1 -> 33 | B35: Жабинка | C35: Воробей Евгений | D35: =D79 -> 0 | E35: =E79 -> 42
A36: =A35+1 -> 34 | B36: Pike death TEAM | C36: Чайковский Александр | D36: =D80 -> 0 | E36: =E80 -> 42
A37: =A36+1 -> 35 | B37: Black River Team | C37: Ворон Павел | D37: =D81 -> 0 | E37: =E81 -> 42
A38: =A37+1 -> 36 | B38: ФишТоп | C38: Радчук Юрий | D38: =D82 -> 0 | E38: =E82 -> 42
A39: =A38+1 -> 37 | B39: Jerkbait.by | C39: Антонович Антон | D39: =D83 -> 0 | E39: =E83 -> 42
A40: =A39+1 -> 38 | B40: Пятнистый кукан | C40: Анпилов Андрей | D40: =D84 -> 0 | E40: =E84 -> 42
A41: =A40+1 -> 39 | B41: РГОО "БООР | C41: Козловский Владимир | D41: =D85 -> 0 | E41: =E85 -> 42
A42: =A41+1 -> 40 | B42: U2 | C42: Плевский Алексей | D42: =D86 -> 0 | E42: =E86 -> 42
A43: =A42+1 -> 41 | B43: U1 | C43: Савич Сергей | D43: =D87 -> 0 | E43: =E87 -> 42
C44: средняя длина рыб по виду: | F44: =AVERAGE(F3:L43) -> 20.766667 | M44: =AVERAGE(M3:O43) -> 39.22
A45: № | B45: команда | C45: участник | D45: сумма баллов | E45: место | F45: баллы
A47: 1 | B47: Против Течения | C47: Ананич Геннадий | D47: =SUM(F47:O47) -> 0 | E47: =IF(D47>0,RANK(D47,$D$47:$D$87),42) -> 42 | F47: =POWER(F3,2) -> 0 | G47: =POWER(G3,2) -> 0 | H47: =POWER(H3,2) -> 0 | I47: =POWER(I3,2) -> 0 | J47: =POWER(J3,2) -> 0 | K47: =POWER(K3,2) -> 0 | L47: =POWER(L3,2) -> 0 | M47: =POWER(M3,2) -> 0 | ... O47: =POWER(O3,2) -> 0
A48: =A47+1 -> 2 | B48: ASpinnteam | C48: Нугуманов Артём | D48: =SUM(F48:O48) -> 590.49 | E48: =IF(D48>0,RANK(D48,$D$47:$D$87),42) -> 3 | F48: =POWER(F4,2) -> 590.49 | G48: =POWER(G4,2) -> 0 | H48: =POWER(H4,2) -> 0 | I48: =POWER(I4,2) -> 0 | J48: =POWER(J4,2) -> 0 | K48: =POWER(K4,2) -> 0 | L48: =POWER(L4,2) -> 0 | M48: =POWER(M4,2) -> 0 | ... O48: =POWER(O4,2) -> 0
A49: =A48+1 -> 3 | B49: Трудовые резервы | C49: Пожарский Константин | D49: =SUM(F49:O49) -> 0 | E49: =IF(D49>0,RANK(D49,$D$47:$D$87),42) -> 42 | F49: =POWER(F5,2) -> 0 | G49: =POWER(G5,2) -> 0 | H49: =POWER(H5,2) -> 0 | I49: =POWER(I5,2) -> 0 | J49: =POWER(J5,2) -> 0 | K49: =POWER(K5,2) -> 0 | L49: =POWER(L5,2) -> 0 | M49: =POWER(M5,2) -> 0 | ... O49: =POWER(O5,2) -> 0
A50: =A49+1 -> 4 | B50: Perch Legends | C50: Лабанок Александр | D50: =SUM(F50:O50) -> 2134.44 | E50: =IF(D50>0,RANK(D50,$D$47:$D$87),42) -> 1 | F50: =POWER(F6,2) -> 0 | G50: =POWER(G6,2) -> 0 | H50: =POWER(H6,2) -> 0 | I50: =POWER(I6,2) -> 0 | J50: =POWER(J6,2) -> 0 | K50: =POWER(K6,2) -> 0 | L50: =POWER(L6,2) -> 0 | M50: =POWER(M6,2) -> 2134.44 | ... O50: =POWER(O6,2) -> 0
A51: =A50+1 -> 5 | B51: ROCKFISH | C51: Лазарчик Евгений | D51: =SUM(F51:O51) -> 0 | E51: =IF(D51>0,RANK(D51,$D$47:$D$87),42) -> 42 | F51: =POWER(F7,2) -> 0 | G51: =POWER(G7,2) -> 0 | H51: =POWER(H7,2) -> 0 | I51: =POWER(I7,2) -> 0 | J51: =POWER(J7,2) -> 0 | K51: =POWER(K7,2) -> 0 | L51: =POWER(L7,2) -> 0 | M51: =POWER(M7,2) -> 0 | ... O51: =POWER(O7,2) -> 0
A52: =A51+1 -> 6 | B52: UL Hooligans | C52: Уютов Кирилл | D52: =SUM(F52:O52) -> 0 | E52: =IF(D52>0,RANK(D52,$D$47:$D$87),42) -> 42 | F52: =POWER(F8,2) -> 0 | G52: =POWER(G8,2) -> 0 | H52: =POWER(H8,2) -> 0 | I52: =POWER(I8,2) -> 0 | J52: =POWER(J8,2) -> 0 | K52: =POWER(K8,2) -> 0 | L52: =POWER(L8,2) -> 0 | M52: =POWER(M8,2) -> 0 | ... O52: =POWER(O8,2) -> 0
A53: =A52+1 -> 7 | B53: ЕК | C53: Казанцев Евгений | D53: =SUM(F53:O53) -> 0 | E53: =IF(D53>0,RANK(D53,$D$47:$D$87),42) -> 42 | F53: =POWER(F9,2) -> 0 | G53: =POWER(G9,2) -> 0 | H53: =POWER(H9,2) -> 0 | I53: =POWER(I9,2) -> 0 | J53: =POWER(J9,2) -> 0 | K53: =POWER(K9,2) -> 0 | L53: =POWER(L9,2) -> 0 | M53: =POWER(M9,2) -> 0 | ... O53: =POWER(O9,2) -> 0
A54: =A53+1 -> 8 | B54: WFT Minsk | C54: Каморников Евгений | D54: =SUM(F54:O54) -> 0 | E54: =IF(D54>0,RANK(D54,$D$47:$D$87),42) -> 42 | F54: =POWER(F10,2) -> 0 | G54: =POWER(G10,2) -> 0 | H54: =POWER(H10,2) -> 0 | I54: =POWER(I10,2) -> 0 | J54: =POWER(J10,2) -> 0 | K54: =POWER(K10,2) -> 0 | L54: =POWER(L10,2) -> 0 | M54: =POWER(M10,2) -> 0 | ... O54: =POWER(O10,2) -> 0
A55: =A54+1 -> 9 | B55: XULi-ULi | C55: Воробьёв Андрей | D55: =SUM(F55:O55) -> 0 | E55: =IF(D55>0,RANK(D55,$D$47:$D$87),42) -> 42 | F55: =POWER(F11,2) -> 0 | G55: =POWER(G11,2) -> 0 | H55: =POWER(H11,2) -> 0 | I55: =POWER(I11,2) -> 0 | J55: =POWER(J11,2) -> 0 | K55: =POWER(K11,2) -> 0 | L55: =POWER(L11,2) -> 0 | M55: =POWER(M11,2) -> 0 | ... O55: =POWER(O11,2) -> 0
A56: =A55+1 -> 10 | B56: Peacock Bass | C56: Дроздов Виталий | D56: =SUM(F56:O56) -> 0 | E56: =IF(D56>0,RANK(D56,$D$47:$D$87),42) -> 42 | F56: =POWER(F12,2) -> 0 | G56: =POWER(G12,2) -> 0 | H56: =POWER(H12,2) -> 0 | I56: =POWER(I12,2) -> 0 | J56: =POWER(J12,2) -> 0 | K56: =POWER(K12,2) -> 0 | L56: =POWER(L12,2) -> 0 | M56: =POWER(M12,2) -> 0 | ... O56: =POWER(O12,2) -> 0
A57: =A56+1 -> 11 | B57: Bait Breath Team | C57: Зубко Сергей | D57: =SUM(F57:O57) -> 262.44 | E57: =IF(D57>0,RANK(D57,$D$47:$D$87),42) -> 10 | F57: =POWER(F13,2) -> 262.44 | G57: =POWER(G13,2) -> 0 | H57: =POWER(H13,2) -> 0 | I57: =POWER(I13,2) -> 0 | J57: =POWER(J13,2) -> 0 | K57: =POWER(K13,2) -> 0 | L57: =POWER(L13,2) -> 0 | M57: =POWER(M13,2) -> 0 | ... O57: =POWER(O13,2) -> 0
A58: =A57+1 -> 12 | B58: Perch Power | C58: Иокша Дмитрий | D58: =SUM(F58:O58) -> 0 | E58: =IF(D58>0,RANK(D58,$D$47:$D$87),42) -> 42 | F58: =POWER(F14,2) -> 0 | G58: =POWER(G14,2) -> 0 | H58: =POWER(H14,2) -> 0 | I58: =POWER(I14,2) -> 0 | J58: =POWER(J14,2) -> 0 | K58: =POWER(K14,2) -> 0 | L58: =POWER(L14,2) -> 0 | M58: =POWER(M14,2) -> 0 | ... O58: =POWER(O14,2) -> 0
A59: =A58+1 -> 13 | B59: BASS HUNTER | C59: Кириевский Андрей | D59: =SUM(F59:O59) -> 0 | E59: =IF(D59>0,RANK(D59,$D$47:$D$87),42) -> 42 | F59: =POWER(F15,2) -> 0 | G59: =POWER(G15,2) -> 0 | H59: =POWER(H15,2) -> 0 | I59: =POWER(I15,2) -> 0 | J59: =POWER(J15,2) -> 0 | K59: =POWER(K15,2) -> 0 | L59: =POWER(L15,2) -> 0 | M59: =POWER(M15,2) -> 0 | ... O59: =POWER(O15,2) -> 0
... A64: =A63+1 -> 18 | B64: КОРЧ | C64: Титенков Алексей | D64: =SUM(F64:O64) -> 449.44 | E64: =IF(D64>0,RANK(D64,$D$47:$D$87),42) -> 5 | F64: =POWER(F20,2) -> 449.44 | G64: =POWER(G20,2) -> 0 | H64: =POWER(H20,2) -> 0 | I64: =POWER(I20,2) -> 0 | J64: =POWER(J20,2) -> 0 | K64: =POWER(K20,2) -> 0 | L64: =POWER(L20,2) -> 0 | M64: =POWER(M20,2) -> 0 | ... O64: =POWER(O20,2) -> 0
A65: =A64+1 -> 19 | B65: Регион 5 | C65: Сохончук Андрей | D65: =SUM(F65:O65) -> 723.9025 | E65: =IF(D65>0,RANK(D65,$D$47:$D$87),42) -> 2 | F65: =POWER(F21,2) -> 0 | G65: =POWER(G21,2) -> 0 | H65: =POWER(H21,2) -> 0 | I65: =POWER(I21,2) -> 0 | J65: =POWER(J21,2) -> 0 | K65: =POWER(K21,2) -> 0 | L65: =POWER(L21,2) -> 0 | M65: =POWER(M21/2,2) -> 362.9025 | N65: =POWER(N21/2,2) -> 361 | O65: =POWER(O21,2) -> 0
A66: =A65+1 -> 20 | B66: Фарватер | C66: Попельский Максим | D66: =SUM(F66:O66) -> 0 | E66: =IF(D66>0,RANK(D66,$D$47:$D$87),42) -> 42 | F66: =POWER(F22,2) -> 0 | G66: =POWER(G22,2) -> 0 | H66: =POWER(H22,2) -> 0 | I66: =POWER(I22,2) -> 0 | J66: =POWER(J22,2) -> 0 | K66: =POWER(K22,2) -> 0 | L66: =POWER(L22,2) -> 0 | M66: =POWER(M22,2) -> 0 | ... O66: =POWER(O22,2) -> 0
A67: =A66+1 -> 21 | B67: K&M | C67: Казаченко Владимир | D67: =SUM(F67:O67) -> 0 | E67: =IF(D67>0,RANK(D67,$D$47:$D$87),42) -> 42 | F67: =POWER(F23,2) -> 0 | G67: =POWER(G23,2) -> 0 | H67: =POWER(H23,2) -> 0 | I67: =POWER(I23,2) -> 0 | J67: =POWER(J23,2) -> 0 | K67: =POWER(K23,2) -> 0 | L67: =POWER(L23,2) -> 0 | M67: =POWER(M23,2) -> 0 | ... O67: =POWER(O23,2) -> 0
A68: =A67+1 -> 22 | B68: ПВ | C68: Пластун Вячеслав | D68: =SUM(F68:O68) -> 0 | E68: =IF(D68>0,RANK(D68,$D$47:$D$87),42) -> 42 | F68: =POWER(F24,2) -> 0 | G68: =POWER(G24,2) -> 0 | H68: =POWER(H24,2) -> 0 | I68: =POWER(I24,2) -> 0 | J68: =POWER(J24,2) -> 0 | K68: =POWER(K24,2) -> 0 | L68: =POWER(L24,2) -> 0 | M68: =POWER(M24,2) -> 0 | ... O68: =POWER(O24,2) -> 0
A69: =A68+1 -> 23 | B69: Undercurrent | C69: Ешман Сергей | D69: =SUM(F69:O69) -> 370.5625 | E69: =IF(D69>0,RANK(D69,$D$47:$D$87),42) -> 7 | F69: =POWER(F25,2) -> 0 | G69: =POWER(G25,2) -> 0 | H69: =POWER(H25,2) -> 0 | I69: =POWER(I25,2) -> 0 | J69: =POWER(J25,2) -> 0 | K69: =POWER(K25,2) -> 0 | L69: =POWER(L25,2) -> 0 | M69: =POWER(M25/2,2) -> 370.5625 | N69: =POWER(N25,2) -> 0 | O69: =POWER(O25,2) -> 0
A70: =A69+1 -> 24 | B70: nanobass | C70: Бычик Роман | D70: =SUM(F70:O70) -> 0 | E70: =IF(D70>0,RANK(D70,$D$47:$D$87),42) -> 42 | F70: =POWER(F26,2) -> 0 | G70: =POWER(G26,2) -> 0 | H70: =POWER(H26,2) -> 0 | I70: =POWER(I26,2) -> 0 | J70: =POWER(J26,2) -> 0 | K70: =POWER(K26,2) -> 0 | L70: =POWER(L26,2) -> 0 | M70: =POWER(M26,2) -> 0 | ... O70: =POWER(O26,2) -> 0
A71: =A70+1 -> 25 | B71: Poseidon | C71: Чижонок Сергей | D71: =SUM(F71:O71) -> 0 | E71: =IF(D71>0,RANK(D71,$D$47:$D$87),42) -> 42 | F71: =POWER(F27,2) -> 0 | G71: =POWER(G27,2) -> 0 | H71: =POWER(H27,2) -> 0 | I71: =POWER(I27,2) -> 0 | J71: =POWER(J27,2) -> 0 | K71: =POWER(K27,2) -> 0 | L71: =POWER(L27,2) -> 0 | M71: =POWER(M27,2) -> 0 | ... O71: =POWER(O27,2) -> 0
A72: =A71+1 -> 26 | B72: Крутой берег | C72: Желтов Игорь | D72: =SUM(F72:O72) -> 412.09 | E72: =IF(D72>0,RANK(D72,$D$47:$D$87),42) -> 6 | F72: =POWER(F28,2) -> 412.09 | G72: =POWER(G28,2) -> 0 | H72: =POWER(H28,2) -> 0 | I72: =POWER(I28,2) -> 0 | J72: =POWER(J28,2) -> 0 | K72: =POWER(K28,2) -> 0 | L72: =POWER(L28,2) -> 0 | M72: =POWER(M28,2) -> 0 | ... O72: =POWER(O28,2) -> 0
A73: =A72+1 -> 27 | B73: MicroKilleR | C73: Бобриков Алексей | D73: =SUM(F73:O73) -> 0 | E73: =IF(D73>0,RANK(D73,$D$47:$D$87),42) -> 42 | F73: =POWER(F29,2) -> 0 | G73: =POWER(G29,2) -> 0 | H73: =POWER(H29,2) -> 0 | I73: =POWER(I29,2) -> 0 | J73: =POWER(J29,2) -> 0 | K73: =POWER(K29,2) -> 0 | L73: =POWER(L29,2) -> 0 | M73: =POWER(M29,2) -> 0 | ... O73: =POWER(O29,2) -> 0
A74: =A73+1 -> 28 | B74: FishUp Team | C74: Крук Денис | D74: =SUM(F74:O74) -> 0 | E74: =IF(D74>0,RANK(D74,$D$47:$D$87),42) -> 42 | F74: =POWER(F30,2) -> 0 | G74: =POWER(G30,2) -> 0 | H74: =POWER(H30,2) -> 0 | I74: =POWER(I30,2) -> 0 | J74: =POWER(J30,2) -> 0 | K74: =POWER(K30,2) -> 0 | L74: =POWER(L30,2) -> 0 | M74: =POWER(M30,2) -> 0 | ... O74: =POWER(O30,2) -> 0
A75: =A74+1 -> 29 | B75: Dream Team | C75: Тысевич Сергей | D75: =SUM(F75:O75) -> 338.56 | E75: =IF(D75>0,RANK(D75,$D$47:$D$87),42) -> 8 | F75: =POWER(F31,2) -> 338.56 | G75: =POWER(G31,2) -> 0 | H75: =POWER(H31,2) -> 0 | I75: =POWER(I31,2) -> 0 | J75: =POWER(J31,2) -> 0 | K75: =POWER(K31,2) -> 0 | L75: =POWER(L31,2) -> 0 | M75: =POWER(M31,2) -> 0 | ... O75: =POWER(O31,2) -> 0
A76: =A75+1 -> 30 | B76: S&D TEAM | C76: Шевчук Дмитрий | D76: =SUM(F76:O76) -> 311.5225 | E76: =IF(D76>0,RANK(D76,$D$47:$D$87),42) -> 9 | F76: =POWER(F32,2) -> 0 | G76: =POWER(G32,2) -> 0 | H76: =POWER(H32,2) -> 0 | I76: =POWER(I32,2) -> 0 | J76: =POWER(J32,2) -> 0 | K76: =POWER(K32,2) -> 0 | L76: =POWER(L32,2) -> 0 | M76: =POWER(M32/2,2) -> 311.5225 | N76: =POWER(N32,2) -> 0 | O76: =POWER(O32,2) -> 0
A77: =A76+1 -> 31 | B77: Happy Pike | C77: Пунинский Антон | D77: =SUM(F77:O77) -> 0 | E77: =IF(D77>0,RANK(D77,$D$47:$D$87),42) -> 42 | F77: =POWER(F33,2) -> 0 | G77: =POWER(G33,2) -> 0 | H77: =POWER(H33,2) -> 0 | I77: =POWER(I33,2) -> 0 | J77: =POWER(J33,2) -> 0 | K77: =POWER(K33,2) -> 0 | L77: =POWER(L33,2) -> 0 | M77: =POWER(M33,2) -> 0 | ... O77: =POWER(O33,2) -> 0
A78: =A77+1 -> 32 | B78: Lexass PRO | C78: Булойчик Илья | D78: =SUM(F78:O78) -> 0 | E78: =IF(D78>0,RANK(D78,$D$47:$D$87),42) -> 42 | F78: =POWER(F34,2) -> 0 | G78: =POWER(G34,2) -> 0 | H78: =POWER(H34,2) -> 0 | I78: =POWER(I34,2) -> 0 | J78: =POWER(J34,2) -> 0 | K78: =POWER(K34,2) -> 0 | L78: =POWER(L34,2) -> 0 | M78: =POWER(M34,2) -> 0 | ... O78: =POWER(O34,2) -> 0
A79: =A78+1 -> 33 | B79: Жабинка | C79: Воробей Евгений | D79: =SUM(F79:O79) -> 0 | E79: =IF(D79>0,RANK(D79,$D$47:$D$87),42) -> 42 | F79: =POWER(F35,2) -> 0 | G79: =POWER(G35,2) -> 0 | H79: =POWER(H35,2) -> 0 | I79: =POWER(I35,2) -> 0 | J79: =POWER(J35,2) -> 0 | K79: =POWER(K35,2) -> 0 | L79: =POWER(L35,2) -> 0 | M79: =POWER(M35,2) -> 0 | ... O79: =POWER(O35,2) -> 0
A80: =A79+1 -> 34 | B80: Pike death TEAM | C80: Чайковский Александр | D80: =SUM(F80:O80) -> 0 | E80: =IF(D80>0,RANK(D80,$D$47:$D$87),42) -> 42 | F80: =POWER(F36,2) -> 0 | G80: =POWER(G36,2) -> 0 | H80: =POWER(H36,2) -> 0 | I80: =POWER(I36,2) -> 0 | J80: =POWER(J36,2) -> 0 | K80: =POWER(K36,2) -> 0 | L80: =POWER(L36,2) -> 0 | M80: =POWER(M36,2) -> 0 | ... O80: =POWER(O36,2) -> 0
A81: =A80+1 -> 35 | B81: Black River Team | C81: Ворон Павел | D81: =SUM(F81:O81) -> 0 | E81: =IF(D81>0,RANK(D81,$D$47:$D$87),42) -> 42 | F81: =POWER(F37,2) -> 0 | G81: =POWER(G37,2) -> 0 | H81: =POWER(H37,2) -> 0 | I81: =POWER(I37,2) -> 0 | J81: =POWER(J37,2) -> 0 | K81: =POWER(K37,2) -> 0 | L81: =POWER(L37,2) -> 0 | M81: =POWER(M37,2) -> 0 | ... O81: =POWER(O37,2) -> 0
A82: =A81+1 -> 36 | B82: ФишТоп | C82: Радчук Юрий | D82: =SUM(F82:O82) -> 0 | E82: =IF(D82>0,RANK(D82,$D$47:$D$87),42) -> 42 | F82: =POWER(F38,2) -> 0 | G82: =POWER(G38,2) -> 0 | H82: =POWER(H38,2) -> 0 | I82: =POWER(I38,2) -> 0 | J82: =POWER(J38,2) -> 0 | K82: =POWER(K38,2) -> 0 | L82: =POWER(L38,2) -> 0 | M82: =POWER(M38,2) -> 0 | ... O82: =POWER(O38,2) -> 0
A83: =A82+1 -> 37 | B83: Jerkbait.by | C83: Антонович Антон | D83: =SUM(F83:O83) -> 0 | E83: =IF(D83>0,RANK(D83,$D$47:$D$87),42) -> 42 | F83: =POWER(F39,2) -> 0 | G83: =POWER(G39,2) -> 0 | H83: =POWER(H39,2) -> 0 | I83: =POWER(I39,2) -> 0 | J83: =POWER(J39,2) -> 0 | K83: =POWER(K39,2) -> 0 | L83: =POWER(L39,2) -> 0 | M83: =POWER(M39,2) -> 0 | ... O83: =POWER(O39,2) -> 0
A84: =A83+1 -> 38 | B84: Пятнистый кукан | C84: Анпилов Андрей | D84: =SUM(F84:O84) -> 0 | E84: =IF(D84>0,RANK(D84,$D$47:$D$87),42) -> 42 | F84: =POWER(F40,2) -> 0 | G84: =POWER(G40,2) -> 0 | H84: =POWER(H40,2) -> 0 | I84: =POWER(I40,2) -> 0 | J84: =POWER(J40,2) -> 0 | K84: =POWER(K40,2) -> 0 | L84: =POWER(L40,2) -> 0 | M84: =POWER(M40,2) -> 0 | ... O84: =POWER(O40,2) -> 0
A85: =A84+1 -> 39 | B85: РГОО "БООР | C85: Козловский Владимир | D85: =SUM(F85:O85) -> 0 | E85: =IF(D85>0,RANK(D85,$D$47:$D$87),42) -> 42 | F85: =POWER(F41,2) -> 0 | G85: =POWER(G41,2) -> 0 | H85: =POWER(H41,2) -> 0 | I85: =POWER(I41,2) -> 0 | J85: =POWER(J41,2) -> 0 | K85: =POWER(K41,2) -> 0 | L85: =POWER(L41,2) -> 0 | M85: =POWER(M41,2) -> 0 | ... O85: =POWER(O41,2) -> 0
A86: =A85+1 -> 40 | B86: U2 | C86: Плевский Алексей | D86: =SUM(F86:O86) -> 0 | E86: =IF(D86>0,RANK(D86,$D$47:$D$87),42) -> 42 | F86: =POWER(F42,2) -> 0 | G86: =POWER(G42,2) -> 0 | H86: =POWER(H42,2) -> 0 | I86: =POWER(I42,2) -> 0 | J86: =POWER(J42,2) -> 0 | K86: =POWER(K42,2) -> 0 | L86: =POWER(L42,2) -> 0 | M86: =POWER(M42,2) -> 0 | ... O86: =POWER(O42,2) -> 0
A87: =A86+1 -> 41 | B87: U1 | C87: Савич Сергей | D87: =SUM(F87:O87) -> 0 | E87: =IF(D87>0,RANK(D87,$D$47:$D$87),42) -> 42 | F87: =POWER(F43,2) -> 0 | G87: =POWER(G43,2) -> 0 | H87: =POWER(H43,2) -> 0 | I87: =POWER(I43,2) -> 0 | J87: =POWER(J43,2) -> 0 | K87: =POWER(K43,2) -> 0 | L87: =POWER(L43,2) -> 0 | M87: =POWER(M43,2) -> 0 | ... O87: =POWER(O43,2) -> 0

Sheet Т1Зб
A1: № | B1: команда | C1: участник | D1: сумма баллов | E1: место | F1: окунь | M1: щука
F2: размер, см
A3: 1 | B3: Против Течения | C3: Кириенко Кирилл | D3: =D47 -> 0 | E3: =E47 -> 42
A4: =A3+1 -> 2 | B4: ASpinnteam | C4: Вашкевич Александр | D4: =D48 -> 0 | E4: =E48 -> 42
A5: =A4+1 -> 3 | B5: Трудовые резервы | C5: Баранок Артём | D5: =D49 -> 0 | E5: =E49 -> 42
A6: =A5+1 -> 4 | B6: Perch Legends | C6: Каменец Алексей | D6: =D50 -> 0 | E6: =E50 -> 42
A7: =A6+1 -> 5 | B7: ROCKFISH | C7: Силивончик Павел | D7: =D51 -> 264.0625 | E7: =E51 -> 2 | M7: 32.5
A8: =A7+1 -> 6 | B8: UL Hooligans | C8: Дешкевич Виталий | D8: =D52 -> 0 | E8: =E52 -> 42
A9: =A8+1 -> 7 | B9: ЕК | C9: Ковалёв Евгений | D9: =D53 -> 0 | E9: =E53 -> 42
A10: =A9+1 -> 8 | B10: WFT Minsk | C10: Тулупов Александр | D10: =D54 -> 0 | E10: =E54 -> 42
A11: =A10+1 -> 9 | B11: XULi-ULi | C11: Лавренчук Станислав | D11: =D55 -> 0 | E11: =E55 -> 42
A12: =A11+1 -> 10 | B12: Peacock Bass | C12: Сенчуров Иван | D12: =D56 -> 0 | E12: =E56 -> 42
A13: =A12+1 -> 11 | B13: Bait Breath Team | C13: Бахур Александр | D13: =D57 -> 0 | E13: =E57 -> 42
A14: =A13+1 -> 12 | B14: Perch Power | C14: Кохно Антон | D14: =D58 -> 400 | E14: =E58 -> 1 | M14: 40
A15: =A14+1 -> 13 | B15: BASS HUNTER | C15: Шевко Виталий | D15: =D59 -> 0 | E15: =E59 -> 42
A16: =A15+1 -> 14 | B16: West Fishing | C16: Золотарь Андрей | D16: =D60 -> 0 | E16: =E60 -> 42
A17: =A16+1 -> 15 | B17: Amateurs | C17: Куликовский Виталий | D17: =D61 -> 0 | E17: =E61 -> 42
A18: =A17+1 -> 16 | B18: TEAM WFT BELARUS | C18: Зеновко Дмитрий | D18: =D62 -> 0 | E18: =E62 -> 42
A19: =A18+1 -> 17 | B19: LEGION | C19: Дмитрий Благуш | D19: =D63 -> 0 | E19: =E63 -> 42
A20: =A19+1 -> 18 | B20: КОРЧ | C20: Лашков Юрий | D20: =D64 -> 0 | E20: =E64 -> 42
A21: =A20+1 -> 19 | B21: Регион 5 | C21: Аверин Дмитрий | D21: =D65 -> 0 | E21: =E65 -> 42
A22: =A21+1 -> 20 | B22: Фарватер | C22: Цыганок Михаил | D22: =D66 -> 0 | E22: =E66 -> 42
A23: =A22+1 -> 21 | B23: K&M | C23: Мельников Юрий | D23: =D67 -> 0 | E23: =E67 -> 42
A24: =A23+1 -> 22 | B24: ПВ | C24: Воробьев Павел | D24: =D68 -> 0 | E24: =E68 -> 42
A25: =A24+1 -> 23 | B25: Undercurrent | C25: Хоухлянцев Дмитрий | D25: =D69 -> 0 | E25: =E69 -> 42
A26: =A25+1 -> 24 | B26: nanobass | C26: Мартынчук Михаил | D26: =D70 -> 0 | E26: =E70 -> 42
... A43: =A42+1 -> 41 | B43: U1 | C43: Масюк Павел | D43: =D87 -> 0 | E43: =E87 -> 42
C44: средняя длина рыб по виду: | F44: 0 | M44: =AVERAGE(M3:O43) -> 36.25
A45: № | B45: команда | C45: участник | D45: сумма баллов | E45: место | F45: баллы
A47: 1 | B47: Против Течения | C47: Кириенко Кирилл | D47: =SUM(F47:O47) -> 0 | E47: =IF(D47>0,RANK(D47,$D$47:$D$87),42) -> 42 | F47: =POWER(F3,2) -> 0 | G47: =POWER(G3,2) -> 0 | H47: =POWER(H3,2) -> 0 | I47: =POWER(I3,2) -> 0 | J47: =POWER(J3,2) -> 0 | K47: =POWER(K3,2) -> 0 | L47: =POWER(L3,2) -> 0 | M47: =POWER(M3,2) -> 0 | ... O47: =POWER(O3,2) -> 0
A48: =A47+1 -> 2 | B48: ASpinnteam | C48: Вашкевич Александр | D48: =SUM(F48:O48) -> 0 | E48: =IF(D48>0,RANK(D48,$D$47:$D$87),42) -> 42 | F48: =POWER(F4,2) -> 0 | G48: =POWER(G4,2) -> 0 | H48: =POWER(H4,2) -> 0 | I48: =POWER(I4,2) -> 0 | J48: =POWER(J4,2) -> 0 | K48: =POWER(K4,2) -> 0 | L48: =POWER(L4,2) -> 0 | M48: =POWER(M4,2) -> 0 | ... O48: =POWER(O4,2) -> 0
A49: =A48+1 -> 3 | B49: Трудовые резервы | C49: Баранок Артём | D49: =SUM(F49:O49) -> 0 | E49: =IF(D49>0,RANK(D49,$D$47:$D$87),42) -> 42 | F49: =POWER(F5,2) -> 0 | G49: =POWER(G5,2) -> 0 | H49: =POWER(H5,2) -> 0 | I49: =POWER(I5,2) -> 0 | J49: =POWER(J5,2) -> 0 | K49: =POWER(K5,2) -> 0 | L49: =POWER(L5,2) -> 0 | M49: =POWER(M5,2) -> 0 | ... O49: =POWER(O5,2) -> 0
A50: =A49+1 -> 4 | B50: Perch Legends | C50: Каменец Алексей | D50: =SUM(F50:O50) -> 0 | E50: =IF(D50>0,RANK(D50,$D$47:$D$87),42) -> 42 | F50: =POWER(F6,2) -> 0 | G50: =POWER(G6,2) -> 0 | H50: =POWER(H6,2) -> 0 | I50: =POWER(I6,2) -> 0 | J50: =POWER(J6,2) -> 0 | K50: =POWER(K6,2) -> 0 | L50: =POWER(L6,2) -> 0 | M50: =POWER(M6,2) -> 0 | ... O50: =POWER(O6,2) -> 0
A51: =A50+1 -> 5 | B51: ROCKFISH | C51: Силивончик Павел | D51: =SUM(F51:O51) -> 264.0625 | E51: =IF(D51>0,RANK(D51,$D$47:$D$87),42) -> 2 | F51: =POWER(F7,2) -> 0 | G51: =POWER(G7,2) -> 0 | H51: =POWER(H7,2) -> 0 | I51: =POWER(I7,2) -> 0 | J51: =POWER(J7,2) -> 0 | K51: =POWER(K7,2) -> 0 | L51: =POWER(L7,2) -> 0 | M51: =POWER(M7/2,2) -> 264.0625 | N51: =POWER(N7,2) -> 0 | O51: =POWER(O7,2) -> 0
A52: =A51+1 -> 6 | B52: UL Hooligans | C52: Дешкевич Виталий | D52: =SUM(F52:O52) -> 0 | E52: =IF(D52>0,RANK(D52,$D$47:$D$87),42) -> 42 | F52: =POWER(F8,2) -> 0 | G52: =POWER(G8,2) -> 0 | H52: =POWER(H8,2) -> 0 | I52: =POWER(I8,2) -> 0 | J52: =POWER(J8,2) -> 0 | K52: =POWER(K8,2) -> 0 | L52: =POWER(L8,2) -> 0 | M52: =POWER(M8,2) -> 0 | ... O52: =POWER(O8,2) -> 0
A53: =A52+1 -> 7 | B53: ЕК | C53: Ковалёв Евгений | D53: =SUM(F53:O53) -> 0 | E53: =IF(D53>0,RANK(D53,$D$47:$D$87),42) -> 42 | F53: =POWER(F9,2) -> 0 | G53: =POWER(G9,2) -> 0 | H53: =POWER(H9,2) -> 0 | I53: =POWER(I9,2) -> 0 | J53: =POWER(J9,2) -> 0 | K53: =POWER(K9,2) -> 0 | L53: =POWER(L9,2) -> 0 | M53: =POWER(M9,2) -> 0 | ... O53: =POWER(O9,2) -> 0
A54: =A53+1 -> 8 | B54: WFT Minsk | C54: Тулупов Александр | D54: =SUM(F54:O54) -> 0 | E54: =IF(D54>0,RANK(D54,$D$47:$D$87),42) -> 42 | F54: =POWER(F10,2) -> 0 | G54: =POWER(G10,2) -> 0 | H54: =POWER(H10,2) -> 0 | I54: =POWER(I10,2) -> 0 | J54: =POWER(J10,2) -> 0 | K54: =POWER(K10,2) -> 0 | L54: =POWER(L10,2) -> 0 | M54: =POWER(M10,2) -> 0 | ... O54: =POWER(O10,2) -> 0
A55: =A54+1 -> 9 | B55: XULi-ULi | C55: Лавренчук Станислав | D55: =SUM(F55:O55) -> 0 | E55: =IF(D55>0,RANK(D55,$D$47:$D$87),42) -> 42 | F55: =POWER(F11,2) -> 0 | G55: =POWER(G11,2) -> 0 | H55: =POWER(H11,2) -> 0 | I55: =POWER(I11,2) -> 0 | J55: =POWER(J11,2) -> 0 | K55: =POWER(K11,2) -> 0 | L55: =POWER(L11,2) -> 0 | M55: =POWER(M11,2) -> 0 | ... O55: =POWER(O11,2) -> 0
A56: =A55+1 -> 10 | B56: Peacock Bass | C56: Сенчуров Иван | D56: =SUM(F56:O56) -> 0 | E56: =IF(D56>0,RANK(D56,$D$47:$D$87),42) -> 42 | F56: =POWER(F12,2) -> 0 | G56: =POWER(G12,2) -> 0 | H56: =POWER(H12,2) -> 0 | I56: =POWER(I12,2) -> 0 | J56: =POWER(J12,2) -> 0 | K56: =POWER(K12,2) -> 0 | L56: =POWER(L12,2) -> 0 | M56: =POWER(M12,2) -> 0 | ... O56: =POWER(O12,2) -> 0
A57: =A56+1 -> 11 | B57: Bait Breath Team | C57: Бахур Александр | D57: =SUM(F57:O57) -> 0 | E57: =IF(D57>0,RANK(D57,$D$47:$D$87),42) -> 42 | F57: =POWER(F13,2) -> 0 | G57: =POWER(G13,2) -> 0 | H57: =POWER(H13,2) -> 0 | I57: =POWER(I13,2) -> 0 | J57: =POWER(J13,2) -> 0 | K57: =POWER(K13,2) -> 0 | L57: =POWER(L13,2) -> 0 | M57: =POWER(M13,2) -> 0 | ... O57: =POWER(O13,2) -> 0
A58: =A57+1 -> 12 | B58: Perch Power | C58: Кохно Антон | D58: =SUM(F58:O58) -> 400 | E58: =IF(D58>0,RANK(D58,$D$47:$D$87),42) -> 1 | F58: =POWER(F14,2) -> 0 | G58: =POWER(G14,2) -> 0 | H58: =POWER(H14,2) -> 0 | I58: =POWER(I14,2) -> 0 | J58: =POWER(J14,2) -> 0 | K58: =POWER(K14,2) -> 0 | L58: =POWER(L14,2) -> 0 | M58: =POWER(M14/2,2) -> 400 | N58: =POWER(N14,2) -> 0 | O58: =POWER(O14,2) -> 0
A59: =A58+1 -> 13 | B59: BASS HUNTER | C59: Шевко Виталий | D59: =SUM(F59:O59) -> 0 | E59: =IF(D59>0,RANK(D59,$D$47:$D$87),42) -> 42 | F59: =POWER(F15,2) -> 0 | G59: =POWER(G15,2) -> 0 | H59: =POWER(H15,2) -> 0 | I59: =POWER(I15,2) -> 0 | J59: =POWER(J15,2) -> 0 | K59: =POWER(K15,2) -> 0 | L59: =POWER(L15,2) -> 0 | M59: =POWER(M15,2) -> 0 | ... O59: =POWER(O15,2) -> 0
A60: =A59+1 -> 14 | B60: West Fishing | C60: Золотарь Андрей | D60: =SUM(F60:O60) -> 0 | E60: =IF(D60>0,RANK(D60,$D$47:$D$87),42) -> 42 | F60: =POWER(F16,2) -> 0 | G60: =POWER(G16,2) -> 0 | H60: =POWER(H16,2) -> 0 | I60: =POWER(I16,2) -> 0 | J60: =POWER(J16,2) -> 0 | K60: =POWER(K16,2) -> 0 | L60: =POWER(L16,2) -> 0 | M60: =POWER(M16,2) -> 0 | ... O60: =POWER(O16,2) -> 0
A61: =A60+1 -> 15 | B61: Amateurs | C61: Куликовский Виталий | D61: =SUM(F61:O61) -> 0 | E61: =IF(D61>0,RANK(D61,$D$47:$D$87),42) -> 42 | F61: =POWER(F17,2) -> 0 | G61: =POWER(G17,2) -> 0 | H61: =POWER(H17,2) -> 0 | I61: =POWER(I17,2) -> 0 | J61: =POWER(J17,2) -> 0 | K61: =POWER(K17,2) -> 0 | L61: =POWER(L17,2) -> 0 | M61: =POWER(M17,2) -> 0 | ... O61: =POWER(O17,2) -> 0
A62: =A61+1 -> 16 | B62: TEAM WFT BELARUS | C62: Зеновко Дмитрий | D62: =SUM(F62:O62) -> 0 | E62: =IF(D62>0,RANK(D62,$D$47:$D$87),42) -> 42 | F62: =POWER(F18,2) -> 0 | G62: =POWER(G18,2) -> 0 | H62: =POWER(H18,2) -> 0 | I62: =POWER(I18,2) -> 0 | J62: =POWER(J18,2) -> 0 | K62: =POWER(K18,2) -> 0 | L62: =POWER(L18,2) -> 0 | M62: =POWER(M18,2) -> 0 | ... O62: =POWER(O18,2) -> 0
A63: =A62+1 -> 17 | B63: LEGION | C63: Дмитрий Благуш | D63: =SUM(F63:O63) -> 0 | E63: =IF(D63>0,RANK(D63,$D$47:$D$87),42) -> 42 | F63: =POWER(F19,2) -> 0 | G63: =POWER(G19,2) -> 0 | H63: =POWER(H19,2) -> 0 | I63: =POWER(I19,2) -> 0 | J63: =POWER(J19,2) -> 0 | K63: =POWER(K19,2) -> 0 | L63: =POWER(L19,2) -> 0 | M63: =POWER(M19,2) -> 0 | ... O63: =POWER(O19,2) -> 0
A64: =A63+1 -> 18 | B64: КОРЧ | C64: Лашков Юрий | D64: =SUM(F64:O64) -> 0 | E64: =IF(D64>0,RANK(D64,$D$47:$D$87),42) -> 42 | F64: =POWER(F20,2) -> 0 | G64: =POWER(G20,2) -> 0 | H64: =POWER(H20,2) -> 0 | I64: =POWER(I20,2) -> 0 | J64: =POWER(J20,2) -> 0 | K64: =POWER(K20,2) -> 0 | L64: =POWER(L20,2) -> 0 | M64: =POWER(M20,2) -> 0 | ... O64: =POWER(O20,2) -> 0
A65: =A64+1 -> 19 | B65: Регион 5 | C65: Аверин Дмитрий | D65: =SUM(F65:O65) -> 0 | E65: =IF(D65>0,RANK(D65,$D$47:$D$87),42) -> 42 | F65: =POWER(F21,2) -> 0 | G65: =POWER(G21,2) -> 0 | H65: =POWER(H21,2) -> 0 | I65: =POWER(I21,2) -> 0 | J65: =POWER(J21,2) -> 0 | K65: =POWER(K21,2) -> 0 | L65: =POWER(L21,2) -> 0 | M65: =POWER(M21,2) -> 0 | ... O65: =POWER(O21,2) -> 0
A66: =A65+1 -> 20 | B66: Фарватер | C66: Цыганок Михаил | D66: =SUM(F66:O66) -> 0 | E66: =IF(D66>0,RANK(D66,$D$47:$D$87),42) -> 42 | F66: =POWER(F22,2) -> 0 | G66: =POWER(G22,2) -> 0 | H66: =POWER(H22,2) -> 0 | I66: =POWER(I22,2) -> 0 | J66: =POWER(J22,2) -> 0 | K66: =POWER(K22,2) -> 0 | L66: =POWER(L22,2) -> 0 | M66: =POWER(M22,2) -> 0 | ... O66: =POWER(O22,2) -> 0
A67: =A66+1 -> 21 | B67: K&M | C67: Мельников Юрий | D67: =SUM(F67:O67) -> 0 | E67: =IF(D67>0,RANK(D67,$D$47:$D$87),42) -> 42 | F67: =POWER(F23,2) -> 0 | G67: =POWER(G23,2) -> 0 | H67: =POWER(H23,2) -> 0 | I67: =POWER(I23,2) -> 0 | J67: =POWER(J23,2) -> 0 | K67: =POWER(K23,2) -> 0 | L67: =POWER(L23,2) -> 0 | M67: =POWER(M23,2) -> 0 | ... O67: =POWER(O23,2) -> 0
A68: =A67+1 -> 22 | B68: ПВ | C68: Воробьев Павел | D68: =SUM(F68:O68) -> 0 | E68: =IF(D68>0,RANK(D68,$D$47:$D$87),42) -> 42 | F68: =POWER(F24,2) -> 0 | G68: =POWER(G24,2) -> 0 | H68: =POWER(H24,2) -> 0 | I68: =POWER(I24,2) -> 0 | J68: =POWER(J24,2) -> 0 | K68: =POWER(K24,2) -> 0 | L68: =POWER(L24,2) -> 0 | M68: =POWER(M24,2) -> 0 | ... O68: =POWER(O24,2) -> 0
A69: =A68+1 -> 23 | B69: Undercurrent | C69: Хоухлянцев Дмитрий | D69: =SUM(F69:O69) -> 0 | E69: =IF(D69>0,RANK(D69,$D$47:$D$87),42) -> 42 | F69: =POWER(F25,2) -> 0 | G69: =POWER(G25,2) -> 0 | H69: =POWER(H25,2) -> 0 | I69: =POWER(I25,2) -> 0 | J69: =POWER(J25,2) -> 0 | K69: =POWER(K25,2) -> 0 | L69: =POWER(L25,2) -> 0 | M69: =POWER(M25,2) -> 0 | ... O69: =POWER(O25,2) -> 0
A70: =A69+1 -> 24 | B70: nanobass | C70: Мартынчук Михаил | D70: =SUM(F70:O70) -> 0 | E70: =IF(D70>0,RANK(D70,$D$47:$D$87),42) -> 42 | F70: =POWER(F26,2) -> 0 | G70: =POWER(G26,2) -> 0 | H70: =POWER(H26,2) -> 0 | I70: =POWER(I26,2) -> 0 | J70: =POWER(J26,2) -> 0 | K70: =POWER(K26,2) -> 0 | L70: =POWER(L26,2) -> 0 | M70: =POWER(M26,2) -> 0 | ... O70: =POWER(O26,2) -> 0
... A87: =A86+1 -> 41 | B87: U1 | C87: Масюк Павел | D87: =SUM(F87:O87) -> 0 | E87: =IF(D87>0,RANK(D87,$D$47:$D$87),42) -> 42 | F87: =POWER(F43,2) -> 0 | G87: =POWER(G43,2) -> 0 | H87: =POWER(H43,2) -> 0 | I87: =POWER(I43,2) -> 0 | J87: =POWER(J43,2) -> 0 | K87: =POWER(K43,2) -> 0 | L87: =POWER(L43,2) -> 0 | M87: =POWER(M43,2) -> 0 | ... O87: =POWER(O43,2) -> 0

Sheet Т2За
A1: № | B1: команда | C1: участник | D1: сумма баллов | E1: место | F1: окунь | M1: щука
F2: размер, см
A3: 1 | B3: Против Течения | C3: Кириенко Кирилл | D3: =D47 -> 0 | E3: =E47 -> 42
A4: =A3+1 -> 2 | B4: ASpinnteam | C4: Вашкевич Александр | D4: =D48 -> 0 | E4: =E48 -> 42
A5: =A4+1 -> 3 | B5: Трудовые резервы | C5: Баранок Артём | D5: =D49 -> 0 | E5: =E49 -> 42
A6: =A5+1 -> 4 | B6: Perch Legends | C6: Каменец Алексей | D6: =D50 -> 0 | E6: =E50 -> 42
A7: =A6+1 -> 5 | B7: ROCKFISH | C7: Силивончик Павел | D7: =D51 -> 0 | E7: =E51 -> 42
A8: =A7+1 -> 6 | B8: UL Hooligans | C8: Дешкевич Виталий | D8: =D52 -> 0 | E8: =E52 -> 42
A9: =A8+1 -> 7 | B9: ЕК | C9: Ковалёв Евгений | D9: =D53 -> 0 | E9: =E53 -> 42
A10: =A9+1 -> 8 | B10: WFT Minsk | C10: Тулупов Александр | D10: =D54 -> 0 | E10: =E54 -> 42
A11: =A10+1 -> 9 | B11: XULi-ULi | C11: Лавренчук Станислав | D11: =D55 -> 496.37 | E11: =E55 -> 1 | F11: 15.4 | G11: 16.1
A12: =A11+1 -> 10 | B12: Peacock Bass | C12: Сенчуров Иван | D12: =D56 -> 0 | E12: =E56 -> 42
A13: =A12+1 -> 11 | B13: Bait Breath Team | C13: Бахур Александр | D13: =D57 -> 0 | E13: =E57 -> 42
A14: =A13+1 -> 12 | B14: Perch Power | C14: Кохно Антон | D14: =D58 -> 0 | E14: =E58 -> 42
A15: =A14+1 -> 13 | B15: BASS HUNTER | C15: Шевко Виталий | D15: =D59 -> 0 | E15: =E59 -> 42
A16: =A15+1 -> 14 | B16: West Fishing | C16: Золотарь Андрей | D16: =D60 -> 0 | E16: =E60 -> 42
A17: =A16+1 -> 15 | B17: Amateurs | C17: Куликовский Виталий | D17: =D61 -> 0 | E17: =E61 -> 42
A18: =A17+1 -> 16 | B18: TEAM WFT BELARUS | C18: Зеновко Дмитрий | D18: =D62 -> 0 | E18: =E62 -> 42
A19: =A18+1 -> 17 | B19: LEGION | C19: Дмитрий Благуш | D19: =D63 -> 0 | E19: =E63 -> 42
A20: =A19+1 -> 18 | B20: КОРЧ | C20: Лашков Юрий | D20: =D64 -> 0 | E20: =E64 -> 42
A21: =A20+1 -> 19 | B21: Регион 5 | C21: Аверин Дмитрий | D21: =D65 -> 0 | E21: =E65 -> 42
A22: =A21+1 -> 20 | B22: Фарватер | C22: Цыганок Михаил | D22: =D66 -> 213.16 | E22: =E66 -> 3 | F22: 14.6
A23: =A22+1 -> 21 | B23: K&M | C23: Мельников Юрий | D23: =D67 -> 0 | E23: =E67 -> 42
A24: =A23+1 -> 22 | B24: ПВ | C24: Воробьев Павел | D24: =D68 -> 0 | E24: =E68 -> 42
A25: =A24+1 -> 23 | B25: Undercurrent | C25: Хоухлянцев Дмитрий | D25: =D69 -> 0 | E25: =E69 -> 42
A26: =A25+1 -> 24 | B26: nanobass | C26: Мартынчук Михаил | D26: =D70 -> 340.4025 | E26: =E70 -> 2 | M26: 36.9
A27: =A26+1 -> 25 | B27: Poseidon | C27: Строк Павел | D27: =D71 -> 0 | E27: =E71 -> 42
A28: =A27+1 -> 26 | B28: Крутой берег | C28: Желтов Евгений | D28: =D72 -> 0 | E28: =E72 -> 42
A29: =A28+1 -> 27 | B29: MicroKilleR | C29: Купрейчик Сергей | D29: =D73 -> 0 | E29: =E73 -> 42
A30: =A29+1 -> 28 | B30: FishUp Team | C30: Волосевич Виталий | D30: =D74 -> 0 | E30: =E74 -> 42
A31: =A30+1 -> 29 | B31: Dream Team | C31: Золотухин Александр | D31: =D75 -> 0 | E31: =E75 -> 42
A32: =A31+1 -> 30 | B32: S&D TEAM | C32: Рулинский Александр | D32: =D76 -> 0 | E32: =E76 -> 42
A33: =A32+1 -> 31 | B33: Happy Pike | C33: Ашарчук Сегрей | D33: =D77 -> 0 | E33: =E77 -> 42
A34: =A33+1 -> 32 | B34: Lexass PRO | C34: Санюк Алексей | D34: =D78 -> 0 | E34: =E78 -> 42
A35: =A34+1 -> 33 | B35: Жабинка | C35: Глебик Денис | D35: =D79 -> 0 | E35: =E79 -> 42
A36: =A35+1 -> 34 | B36: Pike death TEAM | C36: Круглянин Сергей | D36: =D80 -> 0 | E36: =E80 -> 42
A37: =A36+1 -> 35 | B37: Black River Team | C37: Рабушко Василий | D37: =D81 -> 0 | E37: =E81 -> 42
A38: =A37+1 -> 36 | B38: ФишТоп | C38: Гуркин Максим | D38: =D82 -> 0 | E38: =E82 -> 42
... A43: =A42+1 -> 41 | B43: U1 | C43: Масюк Павел | D43: =D87 -> 0 | E43: =E87 -> 42
C44: средняя длина рыб по виду: | F44: =AVERAGE(F3:L43) -> 15.366667 | M44: =AVERAGE(M3:O43) -> 36.9
A45: № | B45: команда | C45: участник | D45: сумма баллов | E45: место | F45: баллы
A47: 1 | B47: Против Течения | C47: Кириенко Кирилл | D47: =SUM(F47:O47) -> 0 | E47: =IF(D47>0,RANK(D47,$D$47:$D$87),42) -> 42 | F47: =POWER(F3,2) -> 0 | G47: =POWER(G3,2) -> 0 | H47: =POWER(H3,2) -> 0 | I47: =POWER(I3,2) -> 0 | J47: =POWER(J3,2) -> 0 | K47: =POWER(K3,2) -> 0 | L47: =POWER(L3,2) -> 0 | M47: =POWER(M3,2) -> 0 | ... O47: =POWER(O3,2) -> 0
A48: =A47+1 -> 2 | B48: ASpinnteam | C48: Вашкевич Александр | D48: =SUM(F48:O48) -> 0 | E48: =IF(D48>0,RANK(D48,$D$47:$D$87),42) -> 42 | F48: =POWER(F4,2) -> 0 | G48: =POWER(G4,2) -> 0 | H48: =POWER(H4,2) -> 0 | I48: =POWER(I4,2) -> 0 | J48: =POWER(J4,2) -> 0 | K48: =POWER(K4,2) -> 0 | L48: =POWER(L4,2) -> 0 | M48: =POWER(M4,2) -> 0 | ... O48: =POWER(O4,2) -> 0
A49: =A48+1 -> 3 | B49: Трудовые резервы | C49: Баранок Артём | D49: =SUM(F49:O49) -> 0 | E49: =IF(D49>0,RANK(D49,$D$47:$D$87),42) -> 42 | F49: =POWER(F5,2) -> 0 | G49: =POWER(G5,2) -> 0 | H49: =POWER(H5,2) -> 0 | I49: =POWER(I5,2) -> 0 | J49: =POWER(J5,2) -> 0 | K49: =POWER(K5,2) -> 0 | L49: =POWER(L5,2) -> 0 | M49: =POWER(M5,2) -> 0 | ... O49: =POWER(O5,2) -> 0
A50: =A49+1 -> 4 | B50: Perch Legends | C50: Каменец Алексей | D50: =SUM(F50:O50) -> 0 | E50: =IF(D50>0,RANK(D50,$D$47:$D$87),42) -> 42 | F50: =POWER(F6,2) -> 0 | G50: =POWER(G6,2) -> 0 | H50: =POWER(H6,2) -> 0 | I50: =POWER(I6,2) -> 0 | J50: =POWER(J6,2) -> 0 | K50: =POWER(K6,2) -> 0 | L50: =POWER(L6,2) -> 0 | M50: =POWER(M6,2) -> 0 | ... O50: =POWER(O6,2) -> 0
A51: =A50+1 -> 5 | B51: ROCKFISH | C51: Силивончик Павел | D51: =SUM(F51:O51) -> 0 | E51: =IF(D51>0,RANK(D51,$D$47:$D$87),42) -> 42 | F51: =POWER(F7,2) -> 0 | G51: =POWER(G7,2) -> 0 | H51: =POWER(H7,2) -> 0 | I51: =POWER(I7,2) -> 0 | J51: =POWER(J7,2) -> 0 | K51: =POWER(K7,2) -> 0 | L51: =POWER(L7,2) -> 0 | M51: =POWER(M7,2) -> 0 | ... O51: =POWER(O7,2) -> 0
A52: =A51+1 -> 6 | B52: UL Hooligans | C52: Дешкевич Виталий | D52: =SUM(F52:O52) -> 0 | E52: =IF(D52>0,RANK(D52,$D$47:$D$87),42) -> 42 | F52: =POWER(F8,2) -> 0 | G52: =POWER(G8,2) -> 0 | H52: =POWER(H8,2) -> 0 | I52: =POWER(I8,2) -> 0 | J52: =POWER(J8,2) -> 0 | K52: =POWER(K8,2) -> 0 | L52: =POWER(L8,2) -> 0 | M52: =POWER(M8,2) -> 0 | ... O52: =POWER(O8,2) -> 0
A53: =A52+1 -> 7 | B53: ЕК | C53: Ковалёв Евгений | D53: =SUM(F53:O53) -> 0 | E53: =IF(D53>0,RANK(D53,$D$47:$D$87),42) -> 42 | F53: =POWER(F9,2) -> 0 | G53: =POWER(G9,2) -> 0 | H53: =POWER(H9,2) -> 0 | I53: =POWER(I9,2) -> 0 | J53: =POWER(J9,2) -> 0 | K53: =POWER(K9,2) -> 0 | L53: =POWER(L9,2) -> 0 | M53: =POWER(M9,2) -> 0 | ... O53: =POWER(O9,2) -> 0
A54: =A53+1 -> 8 | B54: WFT Minsk | C54: Тулупов Александр | D54: =SUM(F54:O54) -> 0 | E54: =IF(D54>0,RANK(D54,$D$47:$D$87),42) -> 42 | F54: =POWER(F10,2) -> 0 | G54: =POWER(G10,2) -> 0 | H54: =POWER(H10,2) -> 0 | I54: =POWER(I10,2) -> 0 | J54: =POWER(J10,2) -> 0 | K54: =POWER(K10,2) -> 0 | L54: =POWER(L10,2) -> 0 | M54: =POWER(M10,2) -> 0 | ... O54: =POWER(O10,2) -> 0
A55: =A54+1 -> 9 | B55: XULi-ULi | C55: Лавренчук Станислав | D55: =SUM(F55:O55) -> 496.37 | E55: =IF(D55>0,RANK(D55,$D$47:$D$87),42) -> 1 | F55: =POWER(F11,2) -> 237.16 | G55: =POWER(G11,2) -> 259.21 | H55: =POWER(H11,2) -> 0 | I55: =POWER(I11,2) -> 0 | J55: =POWER(J11,2) -> 0 | K55: =POWER(K11,2) -> 0 | L55: =POWER(L11,2) -> 0 | M55: =POWER(M11,2) -> 0 | ... O55: =POWER(O11,2) -> 0
A56: =A55+1 -> 10 | B56: Peacock Bass | C56: Сенчуров Иван | D56: =SUM(F56:O56) -> 0 | E56: =IF(D56>0,RANK(D56,$D$47:$D$87),42) -> 42 | F56: =POWER(F12,2) -> 0 | G56: =POWER(G12,2) -> 0 | H56: =POWER(H12,2) -> 0 | I56: =POWER(I12,2) -> 0 | J56: =POWER(J12,2) -> 0 | K56: =POWER(K12,2) -> 0 | L56: =POWER(L12,2) -> 0 | M56: =POWER(M12,2) -> 0 | ... O56: =POWER(O12,2) -> 0
A57: =A56+1 -> 11 | B57: Bait Breath Team | C57: Бахур Александр | D57: =SUM(F57:O57) -> 0 | E57: =IF(D57>0,RANK(D57,$D$47:$D$87),42) -> 42 | F57: =POWER(F13,2) -> 0 | G57: =POWER(G13,2) -> 0 | H57: =POWER(H13,2) -> 0 | I57: =POWER(I13,2) -> 0 | J57: =POWER(J13,2) -> 0 | K57: =POWER(K13,2) -> 0 | L57: =POWER(L13,2) -> 0 | M57: =POWER(M13,2) -> 0 | ... O57: =POWER(O13,2) -> 0
A58: =A57+1 -> 12 | B58: Perch Power | C58: Кохно Антон | D58: =SUM(F58:O58) -> 0 | E58: =IF(D58>0,RANK(D58,$D$47:$D$87),42) -> 42 | F58: =POWER(F14,2) -> 0 | G58: =POWER(G14,2) -> 0 | H58: =POWER(H14,2) -> 0 | I58: =POWER(I14,2) -> 0 | J58: =POWER(J14,2) -> 0 | K58: =POWER(K14,2) -> 0 | L58: =POWER(L14,2) -> 0 | M58: =POWER(M14,2) -> 0 | ... O58: =POWER(O14,2) -> 0
A59: =A58+1 -> 13 | B59: BASS HUNTER | C59: Шевко Виталий | D59: =SUM(F59:O59) -> 0 | E59: =IF(D59>0,RANK(D59,$D$47:$D$87),42) -> 42 | F59: =POWER(F15,2) -> 0 | G59: =POWER(G15,2) -> 0 | H59: =POWER(H15,2) -> 0 | I59: =POWER(I15,2) -> 0 | J59: =POWER(J15,2) -> 0 | K59: =POWER(K15,2) -> 0 | L59: =POWER(L15,2) -> 0 | M59: =POWER(M15,2) -> 0 | ... O59: =POWER(O15,2) -> 0
... A69: =A68+1 -> 23 | B69: Undercurrent | C69: Хоухлянцев Дмитрий | D69: =SUM(F69:O69) -> 0 | E69: =IF(D69>0,RANK(D69,$D$47:$D$87),42) -> 42 | F69: =POWER(F25,2) -> 0 | G69: =POWER(G25,2) -> 0 | H69: =POWER(H25,2) -> 0 | I69: =POWER(I25,2) -> 0 | J69: =POWER(J25,2) -> 0 | K69: =POWER(K25,2) -> 0 | L69: =POWER(L25,2) -> 0 | M69: =POWER(M25,2) -> 0 | ... O69: =POWER(O25,2) -> 0
A70: =A69+1 -> 24 | B70: nanobass | C70: Мартынчук Михаил | D70: =SUM(F70:O70) -> 340.4025 | E70: =IF(D70>0,RANK(D70,$D$47:$D$87),42) -> 2 | F70: =POWER(F26,2) -> 0 | G70: =POWER(G26,2) -> 0 | H70: =POWER(H26,2) -> 0 | I70: =POWER(I26,2) -> 0 | J70: =POWER(J26,2) -> 0 | K70: =POWER(K26,2) -> 0 | L70: =POWER(L26,2) -> 0 | M70: =POWER(M26/2,2) -> 340.4025 | N70: =POWER(N26,2) -> 0 | O70: =POWER(O26,2) -> 0
A71: =A70+1 -> 25 | B71: Poseidon | C71: Строк Павел | D71: =SUM(F71:O71) -> 0 | E71: =IF(D71>0,RANK(D71,$D$47:$D$87),42) -> 42 | F71: =POWER(F27,2) -> 0 | G71: =POWER(G27,2) -> 0 | H71: =POWER(H27,2) -> 0 | I71: =POWER(I27,2) -> 0 | J71: =POWER(J27,2) -> 0 | K71: =POWER(K27,2) -> 0 | L71: =POWER(L27,2) -> 0 | M71: =POWER(M27,2) -> 0 | ... O71: =POWER(O27,2) -> 0
A72: =A71+1 -> 26 | B72: Крутой берег | C72: Желтов Евгений | D72: =SUM(F72:O72) -> 0 | E72: =IF(D72>0,RANK(D72,$D$47:$D$87),42) -> 42 | F72: =POWER(F28,2) -> 0 | G72: =POWER(G28,2) -> 0 | H72: =POWER(H28,2) -> 0 | I72: =POWER(I28,2) -> 0 | J72: =POWER(J28,2) -> 0 | K72: =POWER(K28,2) -> 0 | L72: =POWER(L28,2) -> 0 | M72: =POWER(M28,2) -> 0 | ... O72: =POWER(O28,2) -> 0
A73: =A72+1 -> 27 | B73: MicroKilleR | C73: Купрейчик Сергей | D73: =SUM(F73:O73) -> 0 | E73: =IF(D73>0,RANK(D73,$D$47:$D$87),42) -> 42 | F73: =POWER(F29,2) -> 0 | G73: =POWER(G29,2) -> 0 | H73: =POWER(H29,2) -> 0 | I73: =POWER(I29,2) -> 0 | J73: =POWER(J29,2) -> 0 | K73: =POWER(K29,2) -> 0 | L73: =POWER(L29,2) -> 0 | M73: =POWER(M29,2) -> 0 | ... O73: =POWER(O29,2) -> 0
A74: =A73+1 -> 28 | B74: FishUp Team | C74: Волосевич Виталий | D74: =SUM(F74:O74) -> 0 | E74: =IF(D74>0,RANK(D74,$D$47:$D$87),42) -> 42 | F74: =POWER(F30,2) -> 0 | G74: =POWER(G30,2) -> 0 | H74: =POWER(H30,2) -> 0 | I74: =POWER(I30,2) -> 0 | J74: =POWER(J30,2) -> 0 | K74: =POWER(K30,2) -> 0 | L74: =POWER(L30,2) -> 0 | M74: =POWER(M30,2) -> 0 | ... O74: =POWER(O30,2) -> 0
A75: =A74+1 -> 29 | B75: Dream Team | C75: Золотухин Александр | D75: =SUM(F75:O75) -> 0 | E75: =IF(D75>0,RANK(D75,$D$47:$D$87),42) -> 42 | F75: =POWER(F31,2) -> 0 | G75: =POWER(G31,2) -> 0 | H75: =POWER(H31,2) -> 0 | I75: =POWER(I31,2) -> 0 | J75: =POWER(J31,2) -> 0 | K75: =POWER(K31,2) -> 0 | L75: =POWER(L31,2) -> 0 | M75: =POWER(M31,2) -> 0 | ... O75: =POWER(O31,2) -> 0
A76: =A75+1 -> 30 | B76: S&D TEAM | C76: Рулинский Александр | D76: =SUM(F76:O76) -> 0 | E76: =IF(D76>0,RANK(D76,$D$47:$D$87),42) -> 42 | F76: =POWER(F32,2) -> 0 | G76: =POWER(G32,2) -> 0 | H76: =POWER(H32,2) -> 0 | I76: =POWER(I32,2) -> 0 | J76: =POWER(J32,2) -> 0 | K76: =POWER(K32,2) -> 0 | L76: =POWER(L32,2) -> 0 | M76: =POWER(M32,2) -> 0 | ... O76: =POWER(O32,2) -> 0
A77: =A76+1 -> 31 | B77: Happy Pike | C77: Ашарчук Сегрей | D77: =SUM(F77:O77) -> 0 | E77: =IF(D77>0,RANK(D77,$D$47:$D$87),42) -> 42 | F77: =POWER(F33,2) -> 0 | G77: =POWER(G33,2) -> 0 | H77: =POWER(H33,2) -> 0 | I77: =POWER(I33,2) -> 0 | J77: =POWER(J33,2) -> 0 | K77: =POWER(K33,2) -> 0 | L77: =POWER(L33,2) -> 0 | M77: =POWER(M33,2) -> 0 | ... O77: =POWER(O33,2) -> 0
A78: =A77+1 -> 32 | B78: Lexass PRO | C78: Санюк Алексей | D78: =SUM(F78:O78) -> 0 | E78: =IF(D78>0,RANK(D78,$D$47:$D$87),42) -> 42 | F78: =POWER(F34,2) -> 0 | G78: =POWER(G34,2) -> 0 | H78: =POWER(H34,2) -> 0 | I78: =POWER(I34,2) -> 0 | J78: =POWER(J34,2) -> 0 | K78: =POWER(K34,2) -> 0 | L78: =POWER(L34,2) -> 0 | M78: =POWER(M34,2) -> 0 | ... O78: =POWER(O34,2) -> 0
A79: =A78+1 -> 33 | B79: Жабинка | C79: Глебик Денис | D79: =SUM(F79:O79) -> 0 | E79: =IF(D79>0,RANK(D79,$D$47:$D$87),42) -> 42 | F79: =POWER(F35,2) -> 0 | G79: =POWER(G35,2) -> 0 | H79: =POWER(H35,2) -> 0 | I79: =POWER(I35,2) -> 0 | J79: =POWER(J35,2) -> 0 | K79: =POWER(K35,2) -> 0 | L79: =POWER(L35,2) -> 0 | M79: =POWER(M35,2) -> 0 | ... O79: =POWER(O35,2) -> 0
A80: =A79+1 -> 34 | B80: Pike death TEAM | C80: Круглянин Сергей | D80: =SUM(F80:O80) -> 0 | E80: =IF(D80>0,RANK(D80,$D$47:$D$87),42) -> 42 | F80: =POWER(F36,2) -> 0 | G80: =POWER(G36,2) -> 0 | H80: =POWER(H36,2) -> 0 | I80: =POWER(I36,2) -> 0 | J80: =POWER(J36,2) -> 0 | K80: =POWER(K36,2) -> 0 | L80: =POWER(L36,2) -> 0 | M80: =POWER(M36,2) -> 0 | ... O80: =POWER(O36,2) -> 0
A81: =A80+1 -> 35 | B81: Black River Team | C81: Рабушко Василий | D81: =SUM(F81:O81) -> 0 | E81: =IF(D81>0,RANK(D81,$D$47:$D$87),42) -> 42 | F81: =POWER(F37,2) -> 0 | G81: =POWER(G37,2) -> 0 | H81: =POWER(H37,2) -> 0 | I81: =POWER(I37,2) -> 0 | J81: =POWER(J37,2) -> 0 | K81: =POWER(K37,2) -> 0 | L81: =POWER(L37,2) -> 0 | M81: =POWER(M37,2) -> 0 | ... O81: =POWER(O37,2) -> 0
A82: =A81+1 -> 36 | B82: ФишТоп | C82: Гуркин Максим | D82: =SUM(F82:O82) -> 0 | E82: =IF(D82>0,RANK(D82,$D$47:$D$87),42) -> 42 | F82: =POWER(F38,2) -> 0 | G82: =POWER(G38,2) -> 0 | H82: =POWER(H38,2) -> 0 | I82: =POWER(I38,2) -> 0 | J82: =POWER(J38,2) -> 0 | K82: =POWER(K38,2) -> 0 | L82: =POWER(L38,2) -> 0 | M82: =POWER(M38,2) -> 0 | ... O82: =POWER(O38,2) -> 0
... A87: =A86+1 -> 41 | B87: U1 | C87: Масюк Павел | D87: =SUM(F87:O87) -> 0 | E87: =IF(D87>0,RANK(D87,$D$47:$D$87),42) -> 42 | F87: =POWER(F43,2) -> 0 | G87: =POWER(G43,2) -> 0 | H87: =POWER(H43,2) -> 0 | I87: =POWER(I43,2) -> 0 | J87: =POWER(J43,2) -> 0 | K87: =POWER(K43,2) -> 0 | L87: =POWER(L43,2) -> 0 | M87: =POWER(M43,2) -> 0 | ... O87: =POWER(O43,2) -> 0

Sheet Т2Зб
A1: № | B1: команда | C1: участник | D1: сумма баллов | E1: место | F1: окунь | M1: щука
F2: размер, см
A3: 1 | B3: Против Течения | C3: Ананич Геннадий | D3: =D47 -> 510.76 | E3: =E47 -> 6 | F3: 22.6
A4: =A3+1 -> 2 | B4: ASpinnteam | C4: Нугуманов Артём | D4: =D48 -> 3025 | E4: =E48 -> 1 | M4: 55
A5: =A4+1 -> 3 | B5: Трудовые резервы | C5: Пожарский Константин | D5: =D49 -> 0 | E5: =E49 -> 42
A6: =A5+1 -> 4 | B6: Perch Legends | C6: Лабанок Александр | D6: =D50 -> 0 | E6: =E50 -> 42
A7: =A6+1 -> 5 | B7: ROCKFISH | C7: Лазарчик Евгений | D7: =D51 -> 0 | E7: =E51 -> 42
A8: =A7+1 -> 6 | B8: UL Hooligans | C8: Уютов Кирилл | D8: =D52 -> 0 | E8: =E52 -> 42
A9: =A8+1 -> 7 | B9: ЕК | C9: Казанцев Евгений | D9: =D53 -> 0 | E9: =E53 -> 42
A10: =A9+1 -> 8 | B10: WFT Minsk | C10: Каморников Евгений | D10: =D54 -> 0 | E10: =E54 -> 42
A11: =A10+1 -> 9 | B11: XULi-ULi | C11: Воробьёв Андрей | D11: =D55 -> 0 | E11: =E55 -> 42
A12: =A11+1 -> 10 | B12: Peacock Bass | C12: Дроздов Виталий | D12: =D56 -> 0 | E12: =E56 -> 42
A13: =A12+1 -> 11 | B13: Bait Breath Team | C13: Зубко Сергей | D13: =D57 -> 0 | E13: =E57 -> 42
A14: =A13+1 -> 12 | B14: Perch Power | C14: Иокша Дмитрий | D14: =D58 -> 0 | E14: =E58 -> 42
A15: =A14+1 -> 13 | B15: BASS HUNTER | C15: Кириевский Андрей | D15: =D59 -> 519.84 | E15: =E59 -> 5 | F15: 22.8
A16: =A15+1 -> 14 | B16: West Fishing | C16: Непомнящий Виктор | D16: =D60 -> 400 | E16: =E60 -> 7 | F16: 20
A17: =A16+1 -> 15 | B17: Amateurs | C17: Соколов Кирилл | D17: =D61 -> 0 | E17: =E61 -> 42
A18: =A17+1 -> 16 | B18: TEAM WFT BELARUS | C18: Черный Сергей | D18: =D62 -> 0 | E18: =E62 -> 42
A19: =A18+1 -> 17 | B19: LEGION | C19: Бойко Сергей | D19: =D63 -> 0 | E19: =E63 -> 42
A20: =A19+1 -> 18 | B20: КОРЧ | C20: Титенков Алексей | D20: =D64 -> 0 | E20: =E64 -> 42
A21: =A20+1 -> 19 | B21: Регион 5 | C21: Сохончук Андрей | D21: =D65 -> 0 | E21: =E65 -> 42
A22: =A21+1 -> 20 | B22: Фарватер | C22: Попельский Максим | D22: =D66 -> 0 | E22: =E66 -> 42
A23: =A22+1 -> 21 | B23: K&M | C23: Казаченко Владимир | D23: =D67 -> 0 | E23: =E67 -> 42
A24: =A23+1 -> 22 | B24: ПВ | C24: Пластун Вячеслав | D24: =D68 -> 0 | E24: =E68 -> 42
A25: =A24+1 -> 23 | B25: Undercurrent | C25: Ешман Сергей | D25: =D69 -> 0 | E25: =E69 -> 42
A26: =A25+1 -> 24 | B26: nanobass | C26: Бычик Роман | D26: =D70 -> 0 | E26: =E70 -> 42
A27: =A26+1 -> 25 | B27: Poseidon | C27: Чижонок Сергей | D27: =D71 -> 0 | E27: =E71 -> 42
A28: =A27+1 -> 26 | B28: Крутой берег | C28: Желтов Игорь | D28: =D72 -> 0 | E28: =E72 -> 42
A29: =A28+1 -> 27 | B29: MicroKilleR | C29: Бобриков Алексей | D29: =D73 -> 0 | E29: =E73 -> 42
A30: =A29+1 -> 28 | B30: FishUp Team | C30: Крук Денис | D30: =D74 -> 2599.34 | E30: =E74 -> 2 | F30: 17.6 | G30: 28.2 | H30: 16.5 | I30: 26.5 | J30: 22.8
A31: =A30+1 -> 29 | B31: Dream Team | C31: Тысевич Сергей | D31: =D75 -> 0 | E31: =E75 -> 42
A32: =A31+1 -> 30 | B32: S&D TEAM | C32: Шевчук Дмитрий | D32: =D76 -> 2092.68 | E32: =E76 -> 3 | F32: 25 | G32: 20.8 | H32: 25.2 | M32: 40
A33: =A32+1 -> 31 | B33: Happy Pike | C33: Пунинский Антон | D33: =D77 -> 0 | E33: =E77 -> 42
A34: =A33+1 -> 32 | B34: Lexass PRO | C34: Булойчик Илья | D34: =D78 -> 0 | E34: =E78 -> 42
A35: =A34+1 -> 33 | B35: Жабинка | C35: Воробей Евгений | D35: =D79 -> 0 | E35: =E79 -> 42
A36: =A35+1 -> 34 | B36: Pike death TEAM | C36: Чайковский Александр | D36: =D80 -> 0 | E36: =E80 -> 42
A37: =A36+1 -> 35 | B37: Black River Team | C37: Ворон Павел | D37: =D81 -> 0 | E37: =E81 -> 42
A38: =A37+1 -> 36 | B38: ФишТоп | C38: Радчук Юрий | D38: =D82 -> 0 | E38: =E82 -> 42
A39: =A38+1 -> 37 | B39: Jerkbait.by | C39: Антонович Антон | D39: =D83 -> 0 | E39: =E83 -> 42
A40: =A39+1 -> 38 | B40: Пятнистый кукан | C40: Анпилов Андрей | D40: =D84 -> 1397.84 | E40: =E84 -> 4 | F40: 27.8 | G40: 25
A41: =A40+1 -> 39 | B41: РГОО "БООР | C41: Козловский Владимир | D41: =D85 -> 0 | E41: =E85 -> 42
A42: =A41+1 -> 40 | B42: U2 | C42: Плевский Алексей | D42: =D86 -> 264.0625 | E42: =E86 -> 8 | M42: 32.5
A43: =A42+1 -> 41 | B43: U1 | C43: Савич Сергей | D43: =D87 -> 216.09 | E43: =E87 -> 9 | M43: 29.4
C44: средняя длина рыб по виду: | F44: =AVERAGE(F3:L43) -> 23.138462 | M44: =AVERAGE(M3:O43) -> 39.225
A45: № | B45: команда | C45: участник | D45: сумма баллов | E45: место | F45: баллы
A47: 1 | B47: Против Течения | C47: Ананич Геннадий | D47: =SUM(F47:O47) -> 510.76 | E47: =IF(D47>0,RANK(D47,$D$47:$D$87),42) -> 6 | F47: =POWER(F3,2) -> 510.76 | G47: =POWER(G3,2) -> 0 | H47: =POWER(H3,2) -> 0 | I47: =POWER(I3,2) -> 0 | J47: =POWER(J3,2) -> 0 | K47: =POWER(K3,2) -> 0 | L47: =POWER(L3,2) -> 0 | M47: =POWER(M3,2) -> 0 | ... O47: =POWER(O3,2) -> 0
A48: =A47+1 -> 2 | B48: ASpinnteam | C48: Нугуманов Артём | D48: =SUM(F48:O48) -> 3025 | E48: =IF(D48>0,RANK(D48,$D$47:$D$87),42) -> 1 | F48: =POWER(F4,2) -> 0 | G48: =POWER(G4,2) -> 0 | H48: =POWER(H4,2) -> 0 | I48: =POWER(I4,2) -> 0 | J48: =POWER(J4,2) -> 0 | K48: =POWER(K4,2) -> 0 | L48: =POWER(L4,2) -> 0 | M48: =POWER(M4,2) -> 3025 | ... O48: =POWER(O4,2) -> 0
A49: =A48+1 -> 3 | B49: Трудовые резервы | C49: Пожарский Константин | D49: =SUM(F49:O49) -> 0 | E49: =IF(D49>0,RANK(D49,$D$47:$D$87),42) -> 42 | F49: =POWER(F5,2) -> 0 | G49: =POWER(G5,2) -> 0 | H49: =POWER(H5,2) -> 0 | I49: =POWER(I5,2) -> 0 | J49: =POWER(J5,2) -> 0 | K49: =POWER(K5,2) -> 0 | L49: =POWER(L5,2) -> 0 | M49: =POWER(M5,2) -> 0 | ... O49: =POWER(O5,2) -> 0
A50: =A49+1 -> 4 | B50: Perch Legends | C50: Лабанок Александр | D50: =SUM(F50:O50) -> 0 | E50: =IF(D50>0,RANK(D50,$D$47:$D$87),42) -> 42 | F50: =POWER(F6,2) -> 0 | G50: =POWER(G6,2) -> 0 | H50: =POWER(H6,2) -> 0 | I50: =POWER(I6,2) -> 0 | J50: =POWER(J6,2) -> 0 | K50: =POWER(K6,2) -> 0 | L50: =POWER(L6,2) -> 0 | M50: =POWER(M6,2) -> 0 | ... O50: =POWER(O6,2) -> 0
A51: =A50+1 -> 5 | B51: ROCKFISH | C51: Лазарчик Евгений | D51: =SUM(F51:O51) -> 0 | E51: =IF(D51>0,RANK(D51,$D$47:$D$87),42) -> 42 | F51: =POWER(F7,2) -> 0 | G51: =POWER(G7,2) -> 0 | H51: =POWER(H7,2) -> 0 | I51: =POWER(I7,2) -> 0 | J51: =POWER(J7,2) -> 0 | K51: =POWER(K7,2) -> 0 | L51: =POWER(L7,2) -> 0 | M51: =POWER(M7,2) -> 0 | ... O51: =POWER(O7,2) -> 0
A52: =A51+1 -> 6 | B52: UL Hooligans | C52: Уютов Кирилл | D52: =SUM(F52:O52) -> 0 | E52: =IF(D52>0,RANK(D52,$D$47:$D$87),42) -> 42 | F52: =POWER(F8,2) -> 0 | G52: =POWER(G8,2) -> 0 | H52: =POWER(H8,2) -> 0 | I52: =POWER(I8,2) -> 0 | J52: =POWER(J8,2) -> 0 | K52: =POWER(K8,2) -> 0 | L52: =POWER(L8,2) -> 0 | M52: =POWER(M8,2) -> 0 | ... O52: =POWER(O8,2) -> 0
A53: =A52+1 -> 7 | B53: ЕК | C53: Казанцев Евгений | D53: =SUM(F53:O53) -> 0 | E53: =IF(D53>0,RANK(D53,$D$47:$D$87),42) -> 42 | F53: =POWER(F9,2) -> 0 | G53: =POWER(G9,2) -> 0 | H53: =POWER(H9,2) -> 0 | I53: =POWER(I9,2) -> 0 | J53: =POWER(J9,2) -> 0 | K53: =POWER(K9,2) -> 0 | L53: =POWER(L9,2) -> 0 | M53: =POWER(M9,2) -> 0 | ... O53: =POWER(O9,2) -> 0
A54: =A53+1 -> 8 | B54: WFT Minsk | C54: Каморников Евгений | D54: =SUM(F54:O54) -> 0 | E54: =IF(D54>0,RANK(D54,$D$47:$D$87),42) -> 42 | F54: =POWER(F10,2) -> 0 | G54: =POWER(G10,2) -> 0 | H54: =POWER(H10,2) -> 0 | I54: =POWER(I10,2) -> 0 | J54: =POWER(J10,2) -> 0 | K54: =POWER(K10,2) -> 0 | L54: =POWER(L10,2) -> 0 | M54: =POWER(M10,2) -> 0 | ... O54: =POWER(O10,2) -> 0
A55: =A54+1 -> 9 | B55: XULi-ULi | C55: Воробьёв Андрей | D55: =SUM(F55:O55) -> 0 | E55: =IF(D55>0,RANK(D55,$D$47:$D$87),42) -> 42 | F55: =POWER(F11,2) -> 0 | G55: =POWER(G11,2) -> 0 | H55: =POWER(H11,2) -> 0 | I55: =POWER(I11,2) -> 0 | J55: =POWER(J11,2) -> 0 | K55: =POWER(K11,2) -> 0 | L55: =POWER(L11,2) -> 0 | M55: =POWER(M11,2) -> 0 | ... O55: =POWER(O11,2) -> 0
A56: =A55+1 -> 10 | B56: Peacock Bass | C56: Дроздов Виталий | D56: =SUM(F56:O56) -> 0 | E56: =IF(D56>0,RANK(D56,$D$47:$D$87),42) -> 42 | F56: =POWER(F12,2) -> 0 | G56: =POWER(G12,2) -> 0 | H56: =POWER(H12,2) -> 0 | I56: =POWER(I12,2) -> 0 | J56: =POWER(J12,2) -> 0 | K56: =POWER(K12,2) -> 0 | L56: =POWER(L12,2) -> 0 | M56: =POWER(M12,2) -> 0 | ... O56: =POWER(O12,2) -> 0
A57: =A56+1 -> 11 | B57: Bait Breath Team | C57: Зубко Сергей | D57: =SUM(F57:O57) -> 0 | E57: =IF(D57>0,RANK(D57,$D$47:$D$87),42) -> 42 | F57: =POWER(F13,2) -> 0 | G57: =POWER(G13,2) -> 0 | H57: =POWER(H13,2) -> 0 | I57: =POWER(I13,2) -> 0 | J57: =POWER(J13,2) -> 0 | K57: =POWER(K13,2) -> 0 | L57: =POWER(L13,2) -> 0 | M57: =POWER(M13,2) -> 0 | ... O57: =POWER(O13,2) -> 0
A58: =A57+1 -> 12 | B58: Perch Power | C58: Иокша Дмитрий | D58: =SUM(F58:O58) -> 0 | E58: =IF(D58>0,RANK(D58,$D$47:$D$87),42) -> 42 | F58: =POWER(F14,2) -> 0 | G58: =POWER(G14,2) -> 0 | H58: =POWER(H14,2) -> 0 | I58: =POWER(I14,2) -> 0 | J58: =POWER(J14,2) -> 0 | K58: =POWER(K14,2) -> 0 | L58: =POWER(L14,2) -> 0 | M58: =POWER(M14,2) -> 0 | ... O58: =POWER(O14,2) -> 0
A59: =A58+1 -> 13 | B59: BASS HUNTER | C59: Кириевский Андрей | D59: =SUM(F59:O59) -> 519.84 | E59: =IF(D59>0,RANK(D59,$D$47:$D$87),42) -> 5 | F59: =POWER(F15,2) -> 519.84 | G59: =POWER(G15,2) -> 0 | H59: =POWER(H15,2) -> 0 | I59: =POWER(I15,2) -> 0 | J59: =POWER(J15,2) -> 0 | K59: =POWER(K15,2) -> 0 | L59: =POWER(L15,2) -> 0 | M59: =POWER(M15,2) -> 0 | ... O59: =POWER(O15,2) -> 0
... A75: =A74+1 -> 29 | B75: Dream Team | C75: Тысевич Сергей | D75: =SUM(F75:O75) -> 0 | E75: =IF(D75>0,RANK(D75,$D$47:$D$87),42) -> 42 | F75: =POWER(F31,2) -> 0 | G75: =POWER(G31,2) -> 0 | H75: =POWER(H31,2) -> 0 | I75: =POWER(I31,2) -> 0 | J75: =POWER(J31,2) -> 0 | K75: =POWER(K31,2) -> 0 | L75: =POWER(L31,2) -> 0 | M75: =POWER(M31,2) -> 0 | ... O75: =POWER(O31,2) -> 0
A76: =A75+1 -> 30 | B76: S&D TEAM | C76: Шевчук Дмитрий | D76: =SUM(F76:O76) -> 2092.68 | E76: =IF(D76>0,RANK(D76,$D$47:$D$87),42) -> 3 | F76: =POWER(F32,2) -> 625 | G76: =POWER(G32,2) -> 432.64 | H76: =POWER(H32,2) -> 635.04 | I76: =POWER(I32,2) -> 0 | J76: =POWER(J32,2) -> 0 | K76: =POWER(K32,2) -> 0 | L76: =POWER(L32,2) -> 0 | M76: =POWER(M32/2,2) -> 400 | N76: =POWER(N32,2) -> 0 | O76: =POWER(O32,2) -> 0
A77: =A76+1 -> 31 | B77: Happy Pike | C77: Пунинский Антон | D77: =SUM(F77:O77) -> 0 | E77: =IF(D77>0,RANK(D77,$D$47:$D$87),42) -> 42 | F77: =POWER(F33,2) -> 0 | G77: =POWER(G33,2) -> 0 | H77: =POWER(H33,2) -> 0 | I77: =POWER(I33,2) -> 0 | J77: =POWER(J33,2) -> 0 | K77: =POWER(K33,2) -> 0 | L77: =POWER(L33,2) -> 0 | M77: =POWER(M33,2) -> 0 | ... O77: =POWER(O33,2) -> 0
A78: =A77+1 -> 32 | B78: Lexass PRO | C78: Булойчик Илья | D78: =SUM(F78:O78) -> 0 | E78: =IF(D78>0,RANK(D78,$D$47:$D$87),42) -> 42 | F78: =POWER(F34,2) -> 0 | G78: =POWER(G34,2) -> 0 | H78: =POWER(H34,2) -> 0 | I78: =POWER(I34,2) -> 0 | J78: =POWER(J34,2) -> 0 | K78: =POWER(K34,2) -> 0 | L78: =POWER(L34,2) -> 0 | M78: =POWER(M34,2) -> 0 | ... O78: =POWER(O34,2) -> 0
A79: =A78+1 -> 33 | B79: Жабинка | C79: Воробей Евгений | D79: =SUM(F79:O79) -> 0 | E79: =IF(D79>0,RANK(D79,$D$47:$D$87),42) -> 42 | F79: =POWER(F35,2) -> 0 | G79: =POWER(G35,2) -> 0 | H79: =POWER(H35,2) -> 0 | I79: =POWER(I35,2) -> 0 | J79: =POWER(J35,2) -> 0 | K79: =POWER(K35,2) -> 0 | L79: =POWER(L35,2) -> 0 | M79: =POWER(M35,2) -> 0 | ... O79: =POWER(O35,2) -> 0
A80: =A79+1 -> 34 | B80: Pike death TEAM | C80: Чайковский Александр | D80: =SUM(F80:O80) -> 0 | E80: =IF(D80>0,RANK(D80,$D$47:$D$87),42) -> 42 | F80: =POWER(F36,2) -> 0 | G80: =POWER(G36,2) -> 0 | H80: =POWER(H36,2) -> 0 | I80: =POWER(I36,2) -> 0 | J80: =POWER(J36,2) -> 0 | K80: =POWER(K36,2) -> 0 | L80: =POWER(L36,2) -> 0 | M80: =POWER(M36,2) -> 0 | ... O80: =POWER(O36,2) -> 0
A81: =A80+1 -> 35 | B81: Black River Team | C81: Ворон Павел | D81: =SUM(F81:O81) -> 0 | E81: =IF(D81>0,RANK(D81,$D$47:$D$87),42) -> 42 | F81: =POWER(F37,2) -> 0 | G81: =POWER(G37,2) -> 0 | H81: =POWER(H37,2) -> 0 | I81: =POWER(I37,2) -> 0 | J81: =POWER(J37,2) -> 0 | K81: =POWER(K37,2) -> 0 | L81: =POWER(L37,2) -> 0 | M81: =POWER(M37,2) -> 0 | ... O81: =POWER(O37,2) -> 0
A82: =A81+1 -> 36 | B82: ФишТоп | C82: Радчук Юрий | D82: =SUM(F82:O82) -> 0 | E82: =IF(D82>0,RANK(D82,$D$47:$D$87),42) -> 42 | F82: =POWER(F38,2) -> 0 | G82: =POWER(G38,2) -> 0 | H82: =POWER(H38,2) -> 0 | I82: =POWER(I38,2) -> 0 | J82: =POWER(J38,2) -> 0 | K82: =POWER(K38,2) -> 0 | L82: =POWER(L38,2) -> 0 | M82: =POWER(M38,2) -> 0 | ... O82: =POWER(O38,2) -> 0
A83: =A82+1 -> 37 | B83: Jerkbait.by | C83: Антонович Антон | D83: =SUM(F83:O83) -> 0 | E83: =IF(D83>0,RANK(D83,$D$47:$D$87),42) -> 42 | F83: =POWER(F39,2) -> 0 | G83: =POWER(G39,2) -> 0 | H83: =POWER(H39,2) -> 0 | I83: =POWER(I39,2) -> 0 | J83: =POWER(J39,2) -> 0 | K83: =POWER(K39,2) -> 0 | L83: =POWER(L39,2) -> 0 | M83: =POWER(M39,2) -> 0 | ... O83: =POWER(O39,2) -> 0
A84: =A83+1 -> 38 | B84: Пятнистый кукан | C84: Анпилов Андрей | D84: =SUM(F84:O84) -> 1397.84 | E84: =IF(D84>0,RANK(D84,$D$47:$D$87),42) -> 4 | F84: =POWER(F40,2) -> 772.84 | G84: =POWER(G40,2) -> 625 | H84: =POWER(H40,2) -> 0 | I84: =POWER(I40,2) -> 0 | J84: =POWER(J40,2) -> 0 | K84: =POWER(K40,2) -> 0 | L84: =POWER(L40,2) -> 0 | M84: =POWER(M40,2) -> 0 | ... O84: =POWER(O40,2) -> 0
A85: =A84+1 -> 39 | B85: РГОО "БООР | C85: Козловский Владимир | D85: =SUM(F85:O85) -> 0 | E85: =IF(D85>0,RANK(D85,$D$47:$D$87),42) -> 42 | F85: =POWER(F41,2) -> 0 | G85: =POWER(G41,2) -> 0 | H85: =POWER(H41,2) -> 0 | I85: =POWER(I41,2) -> 0 | J85: =POWER(J41,2) -> 0 | K85: =POWER(K41,2) -> 0 | L85: =POWER(L41,2) -> 0 | M85: =POWER(M41,2) -> 0 | ... O85: =POWER(O41,2) -> 0
A86: =A85+1 -> 40 | B86: U2 | C86: Плевский Алексей | D86: =SUM(F86:O86) -> 264.0625 | E86: =IF(D86>0,RANK(D86,$D$47:$D$87),42) -> 8 | F86: =POWER(F42,2) -> 0 | G86: =POWER(G42,2) -> 0 | H86: =POWER(H42,2) -> 0 | I86: =POWER(I42,2) -> 0 | J86: =POWER(J42,2) -> 0 | K86: =POWER(K42,2) -> 0 | L86: =POWER(L42,2) -> 0 | M86: =POWER(M42/2,2) -> 264.0625 | N86: =POWER(N42,2) -> 0 | O86: =POWER(O42,2) -> 0
A87: =A86+1 -> 41 | B87: U1 | C87: Савич Сергей | D87: =SUM(F87:O87) -> 216.09 | E87: =IF(D87>0,RANK(D87,$D$47:$D$87),42) -> 9 | F87: =POWER(F43,2) -> 0 | G87: =POWER(G43,2) -> 0 | H87: =POWER(H43,2) -> 0 | I87: =POWER(I43,2) -> 0 | J87: =POWER(J43,2) -> 0 | K87: =POWER(K43,2) -> 0 | L87: =POWER(L43,2) -> 0 | M87: =POWER(M43/2,2) -> 216.09 | N87: =POWER(N43,2) -> 0 | O87: =POWER(O43,2) -> 0

Sheet FuzzyLookup_AddIn_Undo_Sheet
A1: № | B1: Команды | C1: Участники | D1: Тур 1 | H1: Тур 2 | L1: Личный зачет | O1: Командный зачет
D2: Зона А | F2: Зона Б | H2: Зона А | J2: Зона Б
D3: баллы | E3: место | F3: баллы | G3: место | H3: баллы | I3: место | J3: баллы | K3: место | L3: баллы | M3: сумма мест | N3: место | O3: баллы | P3: сумма мест | Q3: место
A4: 1 | B4: Cast-Fishing | C4: Лихачев Максим | L4: =D4+F4+H4+J4 -> 0 | M4: =E4+G4+I4+K4 -> 0 | O4: =L4+L5 -> 0 | P4: =M4+M5 -> 0
C5: Ковальчук Дмитрий | L5: =D5+F5+H5+J5 -> 0 | M5: =E5+G5+I5+K5 -> 0
A6: 2 | B6: Peacock Bass | C6: Сенчуров Иван | L6: =D6+F6+H6+J6 -> 0 | M6: =E6+G6+I6+K6 -> 0 | O6: =L6+L7 -> 0 | P6: =M6+M7 -> 0
C7: Дроздов Виталий | L7: =D7+F7+H7+J7 -> 0 | M7: =E7+G7+I7+K7 -> 0
A8: 3 | B8: Adventurers | C8: Бахур Александр | D8: 196 | L8: =D8+F8+H8+J8 -> 196 | M8: =E8+G8+I8+K8 -> 0 | O8: =L8+L9 -> 196 | P8: =M8+M9 -> 0
C9: Зубко Сергей | L9: =D9+F9+H9+J9 -> 0 | M9: =E9+G9+I9+K9 -> 0
A10: 4 | B10: MicroKiller | C10: Купрейчик Сергей | L10: =D10+F10+H10+J10 -> 0 | M10: =E10+G10+I10+K10 -> 0 | O10: =L10+L11 -> 81 | P10: =M10+M11 -> 0
C11: Янкович Сергей | D11: 81 | L11: =D11+F11+H11+J11 -> 81 | M11: =E11+G11+I11+K11 -> 0
A12: 5 | B12: Per4 | C12: Лунякин Олег | L12: =D12+F12+H12+J12 -> 0 | M12: =E12+G12+I12+K12 -> 0 | O12: =L12+L13 -> 36 | P12: =M12+M13 -> 0
C13: Каменец Алексей | D13: 36 | L13: =D13+F13+H13+J13 -> 36 | M13: =E13+G13+I13+K13 -> 0
A14: 6 | B14: Poseidon | C14: Чижонок Сергей | D14: 121 | L14: =D14+F14+H14+J14 -> 121 | M14: =E14+G14+I14+K14 -> 0 | O14: =L14+L15 -> 121 | P14: =M14+M15 -> 0
C15: Строк Павел | L15: =D15+F15+H15+J15 -> 0 | M15: =E15+G15+I15+K15 -> 0
A16: 7 | B16: West Fishing | C16: Непомнящий Виктор | L16: =D16+F16+H16+J16 -> 0 | M16: =E16+G16+I16+K16 -> 0 | O16: =L16+L17 -> 0 | P16: =M16+M17 -> 0
C17: Золотарь Андрей | L17: =D17+F17+H17+J17 -> 0 | M17: =E17+G17+I17+K17 -> 0
A18: 8 | B18: nanobass | C18: Бычик Роман | D18: 100 | L18: =D18+F18+H18+J18 -> 100 | M18: =E18+G18+I18+K18 -> 0 | O18: =L18+L19 -> 100 | P18: =M18+M19 -> 0
C19: Шевко Виталий | L19: =D19+F19+H19+J19 -> 0 | M19: =E19+G19+I19+K19 -> 0
A20: 9 | B20: Трудовые резервы | C20: Пожарский Константин | L20: =D20+F20+H20+J20 -> 0 | M20: =E20+G20+I20+K20 -> 0 | O20: =L20+L21 -> 49 | P20: =M20+M21 -> 0
C21: Бобриков Алексей | D21: 49 | L21: =D21+F21+H21+J21 -> 49 | M21: =E21+G21+I21+K21 -> 0
A22: 10 | B22: Lunker Tail | C22: Козел Вячеслав | L22: =D22+F22+H22+J22 -> 0 | M22: =E22+G22+I22+K22 -> 0 | O22: =L22+L23 -> 64 | P22: =M22+M23 -> 0
C23: Кириевский Андрей | D23: 64 | L23: =D23+F23+H23+J23 -> 64 | M23: =E23+G23+I23+K23 -> 0
A24: 11 | B24: Против Течения | C24: Ананич Геннадий | L24: =D24+F24+H24+J24 -> 0 | M24: =E24+G24+I24+K24 -> 0 | O24: =L24+L25 -> 0 | P24: =M24+M25 -> 0
C25: Кириенко Кирилл | L25: =D25+F25+H25+J25 -> 0 | M25: =E25+G25+I25+K25 -> 0
A26: 12 | B26: ЕК | C26: Ковалев Евгений | D26: 169 | L26: =D26+F26+H26+J26 -> 169 | M26: =E26+G26+I26+K26 -> 0 | O26: =L26+L27 -> 169 | P26: =M26+M27 -> 0
C27: Казанцев Евгений | L27: =D27+F27+H27+J27 -> 0 | M27: =E27+G27+I27+K27 -> 0
A28: 13 | B28: Legion | C28: Бойко Сергей | L28: =D28+F28+H28+J28 -> 0 | M28: =E28+G28+I28+K28 -> 0 | O28: =L28+L29 -> 225 | P28: =M28+M29 -> 0
C29: Микулов Владимир | D29: 225 | L29: =D29+F29+H29+J29 -> 225 | M29: =E29+G29+I29+K29 -> 0
A30: 14 | B30: Степ Гарант | C30: Мельников Ю. В. | D30: 144 | L30: =D30+F30+H30+J30 -> 144 | M30: =E30+G30+I30+K30 -> 0 | O30: =L30+L31 -> 144 | P30: =M30+M31 -> 0
C31: Кравченко И. П. | L31: =D31+F31+H31+J31 -> 0 | M31: =E31+G31+I31+K31 -> 0

Sheet Итоги
A1: № | B1: Команды | C1: Участники | D1: Тур 1 | H1: Тур 2 | L1: Личный зачет | O1: Командный зачет
D2: Зона А | F2: Зона Б | H2: Зона А | J2: Зона Б
D3: баллы | E3: меcто | F3: баллы | G3: место | H3: баллы | I3: место | J3: баллы | K3: место | L3: баллы | M3: сумма мест | N3: место | O3: баллы | P3: сумма мест | Q3: место
A4: 1 | B4: Против Течения | C4: Ананич Геннадий | D4: =IFERROR(VLOOKUP(C4,Т1За!$C$47:$D$87,2,0),0) -> 0 | E4: =IFERROR(VLOOKUP(C4,Т1За!$C$47:$E$87,3,0),0) -> 42 | F4: =IFERROR(VLOOKUP(C4,Т1Зб!$C$47:$D$87,2,0),0) -> 0 | G4: =IFERROR(VLOOKUP(C4,Т1Зб!$C$47:$E$87,3,0),0) -> 0 | H4: =IFERROR(VLOOKUP(C4,Т2За!$C$47:$D$87,2,0),0) -> 0 | I4: =IFERROR(VLOOKUP(C4,Т2За!$C$47:$E$87,3,0),0) -> 0 | J4: =IFERROR(VLOOKUP(C4,Т2Зб!$C$47:$D$87,2,0),0) -> 510.76 | K4: =IFERROR(VLOOKUP(C4,Т2Зб!$C$47:$E$87,3,0),0) -> 6 | L4: =D4+F4+H4+J4 -> 510.76 | M4: =E4+G4+I4+K4 -> 48 | N4: =RANK(M4,$M$4:$M$85,1) -> 15 | O4: =L4+L5 -> 510.76 | P4: =M4+M5 -> 132 | Q4: =RANK(P4,$P$4:$P$85,1) -> 15
A5: =A4+1 -> 2 | B5: Против Течения | C5: Кириенко Кирилл | D5: =IFERROR(VLOOKUP(C5,Т1За!$C$47:$D$87,2,0),0) -> 0 | E5: =IFERROR(VLOOKUP(C5,Т1За!$C$47:$E$87,3,0),0) -> 0 | F5: =IFERROR(VLOOKUP(C5,Т1Зб!$C$47:$D$87,2,0),0) -> 0 | G5: =IFERROR(VLOOKUP(C5,Т1Зб!$C$47:$E$87,3,0),0) -> 42 | H5: =IFERROR(VLOOKUP(C5,Т2За!$C$47:$D$87,2,0),0) -> 0 | I5: =IFERROR(VLOOKUP(C5,Т2За!$C$47:$E$87,3,0),0) -> 42 | J5: =IFERROR(VLOOKUP(C5,Т2Зб!$C$47:$D$87,2,0),0) -> 0 | K5: =IFERROR(VLOOKUP(C5,Т2Зб!$C$47:$E$87,3,0),0) -> 0 | L5: =D5+F5+H5+J5 -> 0 | M5: =E5+G5+I5+K5 -> 84 | N5: 42
A6: =A5+1 -> 3 | B6: ASpinnteam | C6: Нугуманов Артём | D6: =IFERROR(VLOOKUP(C6,Т1За!$C$47:$D$87,2,0),0) -> 590.49 | E6: =IFERROR(VLOOKUP(C6,Т1За!$C$47:$E$87,3,0),0) -> 3 | F6: =IFERROR(VLOOKUP(C6,Т1Зб!$C$47:$D$87,2,0),0) -> 0 | G6: =IFERROR(VLOOKUP(C6,Т1Зб!$C$47:$E$87,3,0),0) -> 0 | H6: =IFERROR(VLOOKUP(C6,Т2За!$C$47:$D$87,2,0),0) -> 0 | I6: =IFERROR(VLOOKUP(C6,Т2За!$C$47:$E$87,3,0),0) -> 0 | J6: =IFERROR(VLOOKUP(C6,Т2Зб!$C$47:$D$87,2,0),0) -> 3025 | K6: =IFERROR(VLOOKUP(C6,Т2Зб!$C$47:$E$87,3,0),0) -> 1 | L6: =D6+F6+H6+J6 -> 3615.49 | M6: =E6+G6+I6+K6 -> 4 | N6: =RANK(M6,$M$4:$M$85,1) -> 1 | O6: =L6+L7 -> 3615.49 | P6: =M6+M7 -> 88 | Q6: =RANK(P6,$P$4:$P$85,1) -> 1
A7: =A6+1 -> 4 | B7: ASpinnteam | C7: Вашкевич Александр | D7: =IFERROR(VLOOKUP(C7,Т1За!$C$47:$D$87,2,0),0) -> 0 | E7: =IFERROR(VLOOKUP(C7,Т1За!$C$47:$E$87,3,0),0) -> 0 | F7: =IFERROR(VLOOKUP(C7,Т1Зб!$C$47:$D$87,2,0),0) -> 0 | G7: =IFERROR(VLOOKUP(C7,Т1Зб!$C$47:$E$87,3,0),0) -> 42 | H7: =IFERROR(VLOOKUP(C7,Т2За!$C$47:$D$87,2,0),0) -> 0 | I7: =IFERROR(VLOOKUP(C7,Т2За!$C$47:$E$87,3,0),0) -> 42 | J7: =IFERROR(VLOOKUP(C7,Т2Зб!$C$47:$D$87,2,0),0) -> 0 | K7: =IFERROR(VLOOKUP(C7,Т2Зб!$C$47:$E$87,3,0),0) -> 0 | L7: =D7+F7+H7+J7 -> 0 | M7: =E7+G7+I7+K7 -> 84 | N7: 42
A8: =A7+1 -> 5 | B8: Трудовые резервы | C8: Баранок Артём | D8: =IFERROR(VLOOKUP(C8,Т1За!$C$47:$D$87,2,0),0) -> 0 | E8: =IFERROR(VLOOKUP(C8,Т1За!$C$47:$E$87,3,0),0) -> 0 | F8: =IFERROR(VLOOKUP(C8,Т1Зб!$C$47:$D$87,2,0),0) -> 0 | G8: =IFERROR(VLOOKUP(C8,Т1Зб!$C$47:$E$87,3,0),0) -> 42 | H8: =IFERROR(VLOOKUP(C8,Т2За!$C$47:$D$87,2,0),0) -> 0 | I8: =IFERROR(VLOOKUP(C8,Т2За!$C$47:$E$87,3,0),0) -> 42 | J8: =IFERROR(VLOOKUP(C8,Т2Зб!$C$47:$D$87,2,0),0) -> 0 | K8: =IFERROR(VLOOKUP(C8,Т2Зб!$C$47:$E$87,3,0),0) -> 0 | L8: =D8+F8+H8+J8 -> 0 | M8: =E8+G8+I8+K8 -> 84 | N8: 42 | O8: =L8+L9 -> 0 | P8: =M8+M9 -> 168 | Q8: 42
A9: =A8+1 -> 6 | B9: Трудовые резервы | C9: Пожарский Константин | D9: =IFERROR(VLOOKUP(C9,Т1За!$C$47:$D$87,2,0),0) -> 0 | E9: =IFERROR(VLOOKUP(C9,Т1За!$C$47:$E$87,3,0),0) -> 42 | F9: =IFERROR(VLOOKUP(C9,Т1Зб!$C$47:$D$87,2,0),0) -> 0 | G9: =IFERROR(VLOOKUP(C9,Т1Зб!$C$47:$E$87,3,0),0) -> 0 | H9: =IFERROR(VLOOKUP(C9,Т2За!$C$47:$D$87,2,0),0) -> 0 | I9: =IFERROR(VLOOKUP(C9,Т2За!$C$47:$E$87,3,0),0) -> 0 | J9: =IFERROR(VLOOKUP(C9,Т2Зб!$C$47:$D$87,2,0),0) -> 0 | K9: =IFERROR(VLOOKUP(C9,Т2Зб!$C$47:$E$87,3,0),0) -> 42 | L9: =D9+F9+H9+J9 -> 0 | M9: =E9+G9+I9+K9 -> 84 | N9: 42
A10: =A9+1 -> 7 | B10: Perch Legends | C10: Лабанок Александр | D10: =IFERROR(VLOOKUP(C10,Т1За!$C$47:$D$87,2,0),0) -> 2134.44 | E10: =IFERROR(VLOOKUP(C10,Т1За!$C$47:$E$87,3,0),0) -> 1 | F10: =IFERROR(VLOOKUP(C10,Т1Зб!$C$47:$D$87,2,0),0) -> 0 | G10: =IFERROR(VLOOKUP(C10,Т1Зб!$C$47:$E$87,3,0),0) -> 0 | H10: =IFERROR(VLOOKUP(C10,Т2За!$C$47:$D$87,2,0),0) -> 0 | I10: =IFERROR(VLOOKUP(C10,Т2За!$C$47:$E$87,3,0),0) -> 0 | J10: =IFERROR(VLOOKUP(C10,Т2Зб!$C$47:$D$87,2,0),0) -> 0 | K10: =IFERROR(VLOOKUP(C10,Т2Зб!$C$47:$E$87,3,0),0) -> 42 | L10: =D10+F10+H10+J10 -> 2134.44 | M10: =E10+G10+I10+K10 -> 43 | N10: =RANK(M10,$M$4:$M$85,1) -> 4 | O10: =L10+L11 -> 2134.44 | P10: =M10+M11 -> 127 | Q10: =RANK(P10,$P$4:$P$85,1) -> 4
A11: =A10+1 -> 8 | B11: Perch Legends | C11: Каменец Алексей | D11: =IFERROR(VLOOKUP(C11,Т1За!$C$47:$D$87,2,0),0) -> 0 | E11: =IFERROR(VLOOKUP(C11,Т1За!$C$47:$E$87,3,0),0) -> 0 | F11: =IFERROR(VLOOKUP(C11,Т1Зб!$C$47:$D$87,2,0),0) -> 0 | G11: =IFERROR(VLOOKUP(C11,Т1Зб!$C$47:$E$87,3,0),0) -> 42 | H11: =IFERROR(VLOOKUP(C11,Т2За!$C$47:$D$87,2,0),0) -> 0 | I11: =IFERROR(VLOOKUP(C11,Т2За!$C$47:$E$87,3,0),0) -> 42 | J11: =IFERROR(VLOOKUP(C11,Т2Зб!$C$47:$D$87,2,0),0) -> 0 | K11: =IFERROR(VLOOKUP(C11,Т2Зб!$C$47:$E$87,3,0),0) -> 0 | L11: =D11+F11+H11+J11 -> 0 | M11: =E11+G11+I11+K11 -> 84 | N11: 42
A12: =A11+1 -> 9 | B12: ROCKFISH | C12: Лазарчик Евгений | D12: =IFERROR(VLOOKUP(C12,Т1За!$C$47:$D$87,2,0),0) -> 0 | E12: =IFERROR(VLOOKUP(C12,Т1За!$C$47:$E$87,3,0),0) -> 42 | F12: =IFERROR(VLOOKUP(C12,Т1Зб!$C$47:$D$87,2,0),0) -> 0 | G12: =IFERROR(VLOOKUP(C12,Т1Зб!$C$47:$E$87,3,0),0) -> 0 | H12: =IFERROR(VLOOKUP(C12,Т2За!$C$47:$D$87,2,0),0) -> 0 | I12: =IFERROR(VLOOKUP(C12,Т2За!$C$47:$E$87,3,0),0) -> 0 | J12: =IFERROR(VLOOKUP(C12,Т2Зб!$C$47:$D$87,2,0),0) -> 0 | K12: =IFERROR(VLOOKUP(C12,Т2Зб!$C$47:$E$87,3,0),0) -> 42 | L12: =D12+F12+H12+J12 -> 0 | M12: =E12+G12+I12+K12 -> 84 | N12: 42 | O12: =L12+L13 -> 264.0625 | P12: =M12+M13 -> 128 | Q12: 10
A13: =A12+1 -> 10 | B13: ROCKFISH | C13: Силивончик Павел | D13: =IFERROR(VLOOKUP(C13,Т1За!$C$47:$D$87,2,0),0) -> 0 | E13: =IFERROR(VLOOKUP(C13,Т1За!$C$47:$E$87,3,0),0) -> 0 | F13: =IFERROR(VLOOKUP(C13,Т1Зб!$C$47:$D$87,2,0),0) -> 264.0625 | G13: =IFERROR(VLOOKUP(C13,Т1Зб!$C$47:$E$87,3,0),0) -> 2 | H13: =IFERROR(VLOOKUP(C13,Т2За!$C$47:$D$87,2,0),0) -> 0 | I13: =IFERROR(VLOOKUP(C13,Т2За!$C$47:$E$87,3,0),0) -> 42 | J13: =IFERROR(VLOOKUP(C13,Т2Зб!$C$47:$D$87,2,0),0) -> 0 | K13: =IFERROR(VLOOKUP(C13,Т2Зб!$C$47:$E$87,3,0),0) -> 0 | L13: =D13+F13+H13+J13 -> 264.0625 | M13: =E13+G13+I13+K13 -> 44 | N13: 10
A14: =A13+1 -> 11 | B14: UL Hooligans | C14: Дешкевич Виталий | D14: =IFERROR(VLOOKUP(C14,Т1За!$C$47:$D$87,2,0),0) -> 0 | E14: =IFERROR(VLOOKUP(C14,Т1За!$C$47:$E$87,3,0),0) -> 0 | F14: =IFERROR(VLOOKUP(C14,Т1Зб!$C$47:$D$87,2,0),0) -> 0 | G14: =IFERROR(VLOOKUP(C14,Т1Зб!$C$47:$E$87,3,0),0) -> 42 | H14: =IFERROR(VLOOKUP(C14,Т2За!$C$47:$D$87,2,0),0) -> 0 | I14: =IFERROR(VLOOKUP(C14,Т2За!$C$47:$E$87,3,0),0) -> 42 | J14: =IFERROR(VLOOKUP(C14,Т2Зб!$C$47:$D$87,2,0),0) -> 0 | K14: =IFERROR(VLOOKUP(C14,Т2Зб!$C$47:$E$87,3,0),0) -> 0 | L14: =D14+F14+H14+J14 -> 0 | M14: =E14+G14+I14+K14 -> 84 | N14: 42 | O14: =L14+L15 -> 0 | P14: =M14+M15 -> 168 | Q14: 42
A15: =A14+1 -> 12 | B15: UL Hooligans | C15: Уютов Кирилл | D15: =IFERROR(VLOOKUP(C15,Т1За!$C$47:$D$87,2,0),0) -> 0 | E15: =IFERROR(VLOOKUP(C15,Т1За!$C$47:$E$87,3,0),0) -> 42 | F15: =IFERROR(VLOOKUP(C15,Т1Зб!$C$47:$D$87,2,0),0) -> 0 | G15: =IFERROR(VLOOKUP(C15,Т1Зб!$C$47:$E$87,3,0),0) -> 0 | H15: =IFERROR(VLOOKUP(C15,Т2За!$C$47:$D$87,2,0),0) -> 0 | I15: =IFERROR(VLOOKUP(C15,Т2За!$C$47:$E$87,3,0),0) -> 0 | J15: =IFERROR(VLOOKUP(C15,Т2Зб!$C$47:$D$87,2,0),0) -> 0 | K15: =IFERROR(VLOOKUP(C15,Т2Зб!$C$47:$E$87,3,0),0) -> 42 | L15: =D15+F15+H15+J15 -> 0 | M15: =E15+G15+I15+K15 -> 84 | N15: 42
A16: =A15+1 -> 13 | B16: ЕК | C16: Казанцев Евгений | D16: =IFERROR(VLOOKUP(C16,Т1За!$C$47:$D$87,2,0),0) -> 0 | E16: =IFERROR(VLOOKUP(C16,Т1За!$C$47:$E$87,3,0),0) -> 42 | F16: =IFERROR(VLOOKUP(C16,Т1Зб!$C$47:$D$87,2,0),0) -> 0 | G16: =IFERROR(VLOOKUP(C16,Т1Зб!$C$47:$E$87,3,0),0) -> 0 | H16: =IFERROR(VLOOKUP(C16,Т2За!$C$47:$D$87,2,0),0) -> 0 | I16: =IFERROR(VLOOKUP(C16,Т2За!$C$47:$E$87,3,0),0) -> 0 | J16: =IFERROR(VLOOKUP(C16,Т2Зб!$C$47:$D$87,2,0),0) -> 0 | K16: =IFERROR(VLOOKUP(C16,Т2Зб!$C$47:$E$87,3,0),0) -> 42 | L16: =D16+F16+H16+J16 -> 0 | M16: =E16+G16+I16+K16 -> 84 | N16: 42 | O16: =L16+L17 -> 0 | P16: =M16+M17 -> 168 | Q16: 42
A17: =A16+1 -> 14 | B17: ЕК | C17: Ковалёв Евгений | D17: =IFERROR(VLOOKUP(C17,Т1За!$C$47:$D$87,2,0),0) -> 0 | E17: =IFERROR(VLOOKUP(C17,Т1За!$C$47:$E$87,3,0),0) -> 0 | F17: =IFERROR(VLOOKUP(C17,Т1Зб!$C$47:$D$87,2,0),0) -> 0 | G17: =IFERROR(VLOOKUP(C17,Т1Зб!$C$47:$E$87,3,0),0) -> 42 | H17: =IFERROR(VLOOKUP(C17,Т2За!$C$47:$D$87,2,0),0) -> 0 | I17: =IFERROR(VLOOKUP(C17,Т2За!$C$47:$E$87,3,0),0) -> 42 | J17: =IFERROR(VLOOKUP(C17,Т2Зб!$C$47:$D$87,2,0),0) -> 0 | K17: =IFERROR(VLOOKUP(C17,Т2Зб!$C$47:$E$87,3,0),0) -> 0 | L17: =D17+F17+H17+J17 -> 0 | M17: =E17+G17+I17+K17 -> 84 | N17: 42
A18: =A17+1 -> 15 | B18: WFT Minsk | C18: Каморников Евгений | D18: =IFERROR(VLOOKUP(C18,Т1За!$C$47:$D$87,2,0),0) -> 0 | E18: =IFERROR(VLOOKUP(C18,Т1За!$C$47:$E$87,3,0),0) -> 42 | F18: =IFERROR(VLOOKUP(C18,Т1Зб!$C$47:$D$87,2,0),0) -> 0 | G18: =IFERROR(VLOOKUP(C18,Т1Зб!$C$47:$E$87,3,0),0) -> 0 | H18: =IFERROR(VLOOKUP(C18,Т2За!$C$47:$D$87,2,0),0) -> 0 | I18: =IFERROR(VLOOKUP(C18,Т2За!$C$47:$E$87,3,0),0) -> 0 | J18: =IFERROR(VLOOKUP(C18,Т2Зб!$C$47:$D$87,2,0),0) -> 0 | K18: =IFERROR(VLOOKUP(C18,Т2Зб!$C$47:$E$87,3,0),0) -> 42 | L18: =D18+F18+H18+J18 -> 0 | M18: =E18+G18+I18+K18 -> 84 | N18: 42 | O18: =L18+L19 -> 0 | P18: =M18+M19 -> 168 | Q18: 42
A19: =A18+1 -> 16 | B19: WFT Minsk | C19: Тулупов Александр | D19: =IFERROR(VLOOKUP(C19,Т1За!$C$47:$D$87,2,0),0) -> 0 | E19: =IFERROR(VLOOKUP(C19,Т1За!$C$47:$E$87,3,0),0) -> 0 | F19: =IFERROR(VLOOKUP(C19,Т1Зб!$C$47:$D$87,2,0),0) -> 0 | G19: =IFERROR(VLOOKUP(C19,Т1Зб!$C$47:$E$87,3,0),0) -> 42 | H19: =IFERROR(VLOOKUP(C19,Т2За!$C$47:$D$87,2,0),0) -> 0 | I19: =IFERROR(VLOOKUP(C19,Т2За!$C$47:$E$87,3,0),0) -> 42 | J19: =IFERROR(VLOOKUP(C19,Т2Зб!$C$47:$D$87,2,0),0) -> 0 | K19: =IFERROR(VLOOKUP(C19,Т2Зб!$C$47:$E$87,3,0),0) -> 0 | L19: =D19+F19+H19+J19 -> 0 | M19: =E19+G19+I19+K19 -> 84 | N19: 42
A20: =A19+1 -> 17 | B20: XULi-ULi | C20: Воробьёв Андрей | D20: =IFERROR(VLOOKUP(C20,Т1За!$C$47:$D$87,2,0),0) -> 0 | E20: =IFERROR(VLOOKUP(C20,Т1За!$C$47:$E$87,3,0),0) -> 42 | F20: =IFERROR(VLOOKUP(C20,Т1Зб!$C$47:$D$87,2,0),0) -> 0 | G20: =IFERROR(VLOOKUP(C20,Т1Зб!$C$47:$E$87,3,0),0) -> 0 | H20: =IFERROR(VLOOKUP(C20,Т2За!$C$47:$D$87,2,0),0) -> 0 | I20: =IFERROR(VLOOKUP(C20,Т2За!$C$47:$E$87,3,0),0) -> 0 | J20: =IFERROR(VLOOKUP(C20,Т2Зб!$C$47:$D$87,2,0),0) -> 0 | K20: =IFERROR(VLOOKUP(C20,Т2Зб!$C$47:$E$87,3,0),0) -> 42 | L20: =D20+F20+H20+J20 -> 0 | M20: =E20+G20+I20+K20 -> 84 | N20: 42 | O20: =L20+L21 -> 496.37 | P20: =M20+M21 -> 127 | Q20: 5
A21: =A20+1 -> 18 | B21: XULi-ULi | C21: Лавренчук Станислав | D21: =IFERROR(VLOOKUP(C21,Т1За!$C$47:$D$87,2,0),0) -> 0 | E21: =IFERROR(VLOOKUP(C21,Т1За!$C$47:$E$87,3,0),0) -> 0 | F21: =IFERROR(VLOOKUP(C21,Т1Зб!$C$47:$D$87,2,0),0) -> 0 | G21: =IFERROR(VLOOKUP(C21,Т1Зб!$C$47:$E$87,3,0),0) -> 42 | H21: =IFERROR(VLOOKUP(C21,Т2За!$C$47:$D$87,2,0),0) -> 496.37 | I21: =IFERROR(VLOOKUP(C21,Т2За!$C$47:$E$87,3,0),0) -> 1 | J21: =IFERROR(VLOOKUP(C21,Т2Зб!$C$47:$D$87,2,0),0) -> 0 | K21: =IFERROR(VLOOKUP(C21,Т2Зб!$C$47:$E$87,3,0),0) -> 0 | L21: =D21+F21+H21+J21 -> 496.37 | M21: =E21+G21+I21+K21 -> 43 | N21: 5
A22: =A21+1 -> 19 | B22: Peacock Bass | C22: Сенчуров Иван | D22: =IFERROR(VLOOKUP(C22,Т1За!$C$47:$D$87,2,0),0) -> 0 | E22: =IFERROR(VLOOKUP(C22,Т1За!$C$47:$E$87,3,0),0) -> 0 | F22: =IFERROR(VLOOKUP(C22,Т1Зб!$C$47:$D$87,2,0),0) -> 0 | G22: =IFERROR(VLOOKUP(C22,Т1Зб!$C$47:$E$87,3,0),0) -> 42 | H22: =IFERROR(VLOOKUP(C22,Т2За!$C$47:$D$87,2,0),0) -> 0 | I22: =IFERROR(VLOOKUP(C22,Т2За!$C$47:$E$87,3,0),0) -> 42 | J22: =IFERROR(VLOOKUP(C22,Т2Зб!$C$47:$D$87,2,0),0) -> 0 | K22: =IFERROR(VLOOKUP(C22,Т2Зб!$C$47:$E$87,3,0),0) -> 0 | L22: =D22+F22+H22+J22 -> 0 | M22: =E22+G22+I22+K22 -> 84 | N22: 42 | O22: =L22+L23 -> 0 | P22: =M22+M23 -> 168 | Q22: 42
A23: =A22+1 -> 20 | B23: Peacock Bass | C23: Дроздов Виталий | D23: =IFERROR(VLOOKUP(C23,Т1За!$C$47:$D$87,2,0),0) -> 0 | E23: =IFERROR(VLOOKUP(C23,Т1За!$C$47:$E$87,3,0),0) -> 42 | F23: =IFERROR(VLOOKUP(C23,Т1Зб!$C$47:$D$87,2,0),0) -> 0 | G23: =IFERROR(VLOOKUP(C23,Т1Зб!$C$47:$E$87,3,0),0) -> 0 | H23: =IFERROR(VLOOKUP(C23,Т2За!$C$47:$D$87,2,0),0) -> 0 | I23: =IFERROR(VLOOKUP(C23,Т2За!$C$47:$E$87,3,0),0) -> 0 | J23: =IFERROR(VLOOKUP(C23,Т2Зб!$C$47:$D$87,2,0),0) -> 0 | K23: =IFERROR(VLOOKUP(C23,Т2Зб!$C$47:$E$87,3,0),0) -> 42 | L23: =D23+F23+H23+J23 -> 0 | M23: =E23+G23+I23+K23 -> 84 | N23: 42
A24: =A23+1 -> 21 | B24: Bait Breath Team | C24: Бахур Александр | D24: =IFERROR(VLOOKUP(C24,Т1За!$C$47:$D$87,2,0),0) -> 0 | E24: =IFERROR(VLOOKUP(C24,Т1За!$C$47:$E$87,3,0),0) -> 0 | F24: =IFERROR(VLOOKUP(C24,Т1Зб!$C$47:$D$87,2,0),0) -> 0 | G24: =IFERROR(VLOOKUP(C24,Т1Зб!$C$47:$E$87,3,0),0) -> 42 | H24: =IFERROR(VLOOKUP(C24,Т2За!$C$47:$D$87,2,0),0) -> 0 | I24: =IFERROR(VLOOKUP(C24,Т2За!$C$47:$E$87,3,0),0) -> 42 | J24: =IFERROR(VLOOKUP(C24,Т2Зб!$C$47:$D$87,2,0),0) -> 0 | K24: =IFERROR(VLOOKUP(C24,Т2Зб!$C$47:$E$87,3,0),0) -> 0 | L24: =D24+F24+H24+J24 -> 0 | M24: =E24+G24+I24+K24 -> 84 | N24: 42 | O24: =L24+L25 -> 262.44 | P24: =M24+M25 -> 136 | Q24: =RANK(P24,$P$4:$P$85,1) -> 21
A25: =A24+1 -> 22 | B25: Bait Breath Team | C25: Зубко Сергей | D25: =IFERROR(VLOOKUP(C25,Т1За!$C$47:$D$87,2,0),0) -> 262.44 | E25: =IFERROR(VLOOKUP(C25,Т1За!$C$47:$E$87,3,0),0) -> 10 | F25: =IFERROR(VLOOKUP(C25,Т1Зб!$C$47:$D$87,2,0),0) -> 0 | G25: =IFERROR(VLOOKUP(C25,Т1Зб!$C$47:$E$87,3,0),0) -> 0 | H25: =IFERROR(VLOOKUP(C25,Т2За!$C$47:$D$87,2,0),0) -> 0 | I25: =IFERROR(VLOOKUP(C25,Т2За!$C$47:$E$87,3,0),0) -> 0 | J25: =IFERROR(VLOOKUP(C25,Т2Зб!$C$47:$D$87,2,0),0) -> 0 | K25: =IFERROR(VLOOKUP(C25,Т2Зб!$C$47:$E$87,3,0),0) -> 42 | L25: =D25+F25+H25+J25 -> 262.44 | M25: =E25+G25+I25+K25 -> 52 | N25: =RANK(M25,$M$4:$M$85,1) -> 21
A26: =A25+1 -> 23 | B26: Perch Power | C26: Иокша Дмитрий | D26: =IFERROR(VLOOKUP(C26,Т1За!$C$47:$D$87,2,0),0) -> 0 | E26: =IFERROR(VLOOKUP(C26,Т1За!$C$47:$E$87,3,0),0) -> 42 | F26: =IFERROR(VLOOKUP(C26,Т1Зб!$C$47:$D$87,2,0),0) -> 0 | G26: =IFERROR(VLOOKUP(C26,Т1Зб!$C$47:$E$87,3,0),0) -> 0 | H26: =IFERROR(VLOOKUP(C26,Т2За!$C$47:$D$87,2,0),0) -> 0 | I26: =IFERROR(VLOOKUP(C26,Т2За!$C$47:$E$87,3,0),0) -> 0 | J26: =IFERROR(VLOOKUP(C26,Т2Зб!$C$47:$D$87,2,0),0) -> 0 | K26: =IFERROR(VLOOKUP(C26,Т2Зб!$C$47:$E$87,3,0),0) -> 42 | L26: =D26+F26+H26+J26 -> 0 | M26: =E26+G26+I26+K26 -> 84 | N26: 42 | O26: =L26+L27 -> 400 | P26: =M26+M27 -> 127 | Q26: 6
A27: =A26+1 -> 24 | B27: Perch Power | C27: Кохно Антон | D27: =IFERROR(VLOOKUP(C27,Т1За!$C$47:$D$87,2,0),0) -> 0 | E27: =IFERROR(VLOOKUP(C27,Т1За!$C$47:$E$87,3,0),0) -> 0 | F27: =IFERROR(VLOOKUP(C27,Т1Зб!$C$47:$D$87,2,0),0) -> 400 | G27: =IFERROR(VLOOKUP(C27,Т1Зб!$C$47:$E$87,3,0),0) -> 1 | H27: =IFERROR(VLOOKUP(C27,Т2За!$C$47:$D$87,2,0),0) -> 0 | I27: =IFERROR(VLOOKUP(C27,Т2За!$C$47:$E$87,3,0),0) -> 42 | J27: =IFERROR(VLOOKUP(C27,Т2Зб!$C$47:$D$87,2,0),0) -> 0 | K27: =IFERROR(VLOOKUP(C27,Т2Зб!$C$47:$E$87,3,0),0) -> 0 | L27: =D27+F27+H27+J27 -> 400 | M27: =E27+G27+I27+K27 -> 43 | N27: 6
A28: =A27+1 -> 25 | B28: BASS HUNTER | C28: Шевко Виталий | D28: =IFERROR(VLOOKUP(C28,Т1За!$C$47:$D$87,2,0),0) -> 0 | E28: =IFERROR(VLOOKUP(C28,Т1За!$C$47:$E$87,3,0),0) -> 0 | F28: =IFERROR(VLOOKUP(C28,Т1Зб!$C$47:$D$87,2,0),0) -> 0 | G28: =IFERROR(VLOOKUP(C28,Т1Зб!$C$47:$E$87,3,0),0) -> 42 | H28: =IFERROR(VLOOKUP(C28,Т2За!$C$47:$D$87,2,0),0) -> 0 | I28: =IFERROR(VLOOKUP(C28,Т2За!$C$47:$E$87,3,0),0) -> 42 | J28: =IFERROR(VLOOKUP(C28,Т2Зб!$C$47:$D$87,2,0),0) -> 0 | K28: =IFERROR(VLOOKUP(C28,Т2Зб!$C$47:$E$87,3,0),0) -> 0 | L28: =D28+F28+H28+J28 -> 0 | M28: =E28+G28+I28+K28 -> 84 | N28: 42 | O28: =L28+L29 -> 519.84 | P28: =M28+M29 -> 131 | Q28: =RANK(P28,$P$4:$P$85,1) -> 13
A29: =A28+1 -> 26 | B29: BASS HUNTER | C29: Кириевский Андрей | D29: =IFERROR(VLOOKUP(C29,Т1За!$C$47:$D$87,2,0),0) -> 0 | E29: =IFERROR(VLOOKUP(C29,Т1За!$C$47:$E$87,3,0),0) -> 42 | F29: =IFERROR(VLOOKUP(C29,Т1Зб!$C$47:$D$87,2,0),0) -> 0 | G29: =IFERROR(VLOOKUP(C29,Т1Зб!$C$47:$E$87,3,0),0) -> 0 | H29: =IFERROR(VLOOKUP(C29,Т2За!$C$47:$D$87,2,0),0) -> 0 | I29: =IFERROR(VLOOKUP(C29,Т2За!$C$47:$E$87,3,0),0) -> 0 | J29: =IFERROR(VLOOKUP(C29,Т2Зб!$C$47:$D$87,2,0),0) -> 519.84 | K29: =IFERROR(VLOOKUP(C29,Т2Зб!$C$47:$E$87,3,0),0) -> 5 | L29: =D29+F29+H29+J29 -> 519.84 | M29: =E29+G29+I29+K29 -> 47 | N29: =RANK(M29,$M$4:$M$85,1) -> 13
A30: =A29+1 -> 27 | B30: West Fishing | C30: Непомнящий Виктор | D30: =IFERROR(VLOOKUP(C30,Т1За!$C$47:$D$87,2,0),0) -> 585.64 | E30: =IFERROR(VLOOKUP(C30,Т1За!$C$47:$E$87,3,0),0) -> 4 | F30: =IFERROR(VLOOKUP(C30,Т1Зб!$C$47:$D$87,2,0),0) -> 0 | G30: =IFERROR(VLOOKUP(C30,Т1Зб!$C$47:$E$87,3,0),0) -> 0 | H30: =IFERROR(VLOOKUP(C30,Т2За!$C$47:$D$87,2,0),0) -> 0 | I30: =IFERROR(VLOOKUP(C30,Т2За!$C$47:$E$87,3,0),0) -> 0 | J30: =IFERROR(VLOOKUP(C30,Т2Зб!$C$47:$D$87,2,0),0) -> 400 | K30: =IFERROR(VLOOKUP(C30,Т2Зб!$C$47:$E$87,3,0),0) -> 7 | L30: =D30+F30+H30+J30 -> 985.64 | M30: =E30+G30+I30+K30 -> 11 | N30: =RANK(M30,$M$4:$M$85,1) -> 2 | O30: =L30+L31 -> 985.64 | P30: =M30+M31 -> 95 | Q30: =RANK(P30,$P$4:$P$85,1) -> 2
A31: =A30+1 -> 28 | B31: West Fishing | C31: Золотарь Андрей | D31: =IFERROR(VLOOKUP(C31,Т1За!$C$47:$D$87,2,0),0) -> 0 | E31: =IFERROR(VLOOKUP(C31,Т1За!$C$47:$E$87,3,0),0) -> 0 | F31: =IFERROR(VLOOKUP(C31,Т1Зб!$C$47:$D$87,2,0),0) -> 0 | G31: =IFERROR(VLOOKUP(C31,Т1Зб!$C$47:$E$87,3,0),0) -> 42 | H31: =IFERROR(VLOOKUP(C31,Т2За!$C$47:$D$87,2,0),0) -> 0 | I31: =IFERROR(VLOOKUP(C31,Т2За!$C$47:$E$87,3,0),0) -> 42 | J31: =IFERROR(VLOOKUP(C31,Т2Зб!$C$47:$D$87,2,0),0) -> 0 | K31: =IFERROR(VLOOKUP(C31,Т2Зб!$C$47:$E$87,3,0),0) -> 0 | L31: =D31+F31+H31+J31 -> 0 | M31: =E31+G31+I31+K31 -> 84 | N31: 42
A32: =A31+1 -> 29 | B32: Amateurs | C32: Куликовский Виталий | D32: =IFERROR(VLOOKUP(C32,Т1За!$C$47:$D$87,2,0),0) -> 0 | E32: =IFERROR(VLOOKUP(C32,Т1За!$C$47:$E$87,3,0),0) -> 0 | F32: =IFERROR(VLOOKUP(C32,Т1Зб!$C$47:$D$87,2,0),0) -> 0 | G32: =IFERROR(VLOOKUP(C32,Т1Зб!$C$47:$E$87,3,0),0) -> 42 | H32: =IFERROR(VLOOKUP(C32,Т2За!$C$47:$D$87,2,0),0) -> 0 | I32: =IFERROR(VLOOKUP(C32,Т2За!$C$47:$E$87,3,0),0) -> 42 | J32: =IFERROR(VLOOKUP(C32,Т2Зб!$C$47:$D$87,2,0),0) -> 0 | K32: =IFERROR(VLOOKUP(C32,Т2Зб!$C$47:$E$87,3,0),0) -> 0 | L32: =D32+F32+H32+J32 -> 0 | M32: =E32+G32+I32+K32 -> 84 | N32: 42 | O32: =L32+L33 -> 0 | P32: =M32+M33 -> 168 | Q32: 42
A33: =A32+1 -> 30 | B33: Amateurs | C33: Соколов Кирилл | D33: =IFERROR(VLOOKUP(C33,Т1За!$C$47:$D$87,2,0),0) -> 0 | E33: =IFERROR(VLOOKUP(C33,Т1За!$C$47:$E$87,3,0),0) -> 42 | F33: =IFERROR(VLOOKUP(C33,Т1Зб!$C$47:$D$87,2,0),0) -> 0 | G33: =IFERROR(VLOOKUP(C33,Т1Зб!$C$47:$E$87,3,0),0) -> 0 | H33: =IFERROR(VLOOKUP(C33,Т2За!$C$47:$D$87,2,0),0) -> 0 | I33: =IFERROR(VLOOKUP(C33,Т2За!$C$47:$E$87,3,0),0) -> 0 | J33: =IFERROR(VLOOKUP(C33,Т2Зб!$C$47:$D$87,2,0),0) -> 0 | K33: =IFERROR(VLOOKUP(C33,Т2Зб!$C$47:$E$87,3,0),0) -> 42 | L33: =D33+F33+H33+J33 -> 0 | M33: =E33+G33+I33+K33 -> 84 | N33: 42
A34: =A33+1 -> 31 | B34: TEAM WFT BELARUS | C34: Зеновко Дмитрий | D34: =IFERROR(VLOOKUP(C34,Т1За!$C$47:$D$87,2,0),0) -> 0 | E34: =IFERROR(VLOOKUP(C34,Т1За!$C$47:$E$87,3,0),0) -> 0 | F34: =IFERROR(VLOOKUP(C34,Т1Зб!$C$47:$D$87,2,0),0) -> 0 | G34: =IFERROR(VLOOKUP(C34,Т1Зб!$C$47:$E$87,3,0),0) -> 42 | H34: =IFERROR(VLOOKUP(C34,Т2За!$C$47:$D$87,2,0),0) -> 0 | I34: =IFERROR(VLOOKUP(C34,Т2За!$C$47:$E$87,3,0),0) -> 42 | J34: =IFERROR(VLOOKUP(C34,Т2Зб!$C$47:$D$87,2,0),0) -> 0 | K34: =IFERROR(VLOOKUP(C34,Т2Зб!$C$47:$E$87,3,0),0) -> 0 | L34: =D34+F34+H34+J34 -> 0 | M34: =E34+G34+I34+K34 -> 84 | N34: 42 | O34: =L34+L35 -> 0 | P34: =M34+M35 -> 168 | Q34: 42
A35: =A34+1 -> 32 | B35: TEAM WFT BELARUS | C35: Черный Сергей | D35: =IFERROR(VLOOKUP(C35,Т1За!$C$47:$D$87,2,0),0) -> 0 | E35: =IFERROR(VLOOKUP(C35,Т1За!$C$47:$E$87,3,0),0) -> 42 | F35: =IFERROR(VLOOKUP(C35,Т1Зб!$C$47:$D$87,2,0),0) -> 0 | G35: =IFERROR(VLOOKUP(C35,Т1Зб!$C$47:$E$87,3,0),0) -> 0 | H35: =IFERROR(VLOOKUP(C35,Т2За!$C$47:$D$87,2,0),0) -> 0 | I35: =IFERROR(VLOOKUP(C35,Т2За!$C$47:$E$87,3,0),0) -> 0 | J35: =IFERROR(VLOOKUP(C35,Т2Зб!$C$47:$D$87,2,0),0) -> 0 | K35: =IFERROR(VLOOKUP(C35,Т2Зб!$C$47:$E$87,3,0),0) -> 42 | L35: =D35+F35+H35+J35 -> 0 | M35: =E35+G35+I35+K35 -> 84 | N35: 42
A36: =A35+1 -> 33 | B36: LEGION | C36: Бойко Сергей | D36: =IFERROR(VLOOKUP(C36,Т1За!$C$47:$D$87,2,0),0) -> 0 | E36: =IFERROR(VLOOKUP(C36,Т1За!$C$47:$E$87,3,0),0) -> 42 | F36: =IFERROR(VLOOKUP(C36,Т1Зб!$C$47:$D$87,2,0),0) -> 0 | G36: =IFERROR(VLOOKUP(C36,Т1Зб!$C$47:$E$87,3,0),0) -> 0 | H36: =IFERROR(VLOOKUP(C36,Т2За!$C$47:$D$87,2,0),0) -> 0 | I36: =IFERROR(VLOOKUP(C36,Т2За!$C$47:$E$87,3,0),0) -> 0 | J36: =IFERROR(VLOOKUP(C36,Т2Зб!$C$47:$D$87,2,0),0) -> 0 | K36: =IFERROR(VLOOKUP(C36,Т2Зб!$C$47:$E$87,3,0),0) -> 42 | L36: =D36+F36+H36+J36 -> 0 | M36: =E36+G36+I36+K36 -> 84 | N36: 42 | O36: =L36+L37 -> 0 | P36: =M36+M37 -> 168 | Q36: 42
A37: =A36+1 -> 34 | B37: LEGION | C37: Дмитрий Благуш | D37: =IFERROR(VLOOKUP(C37,Т1За!$C$47:$D$87,2,0),0) -> 0 | E37: =IFERROR(VLOOKUP(C37,Т1За!$C$47:$E$87,3,0),0) -> 0 | F37: =IFERROR(VLOOKUP(C37,Т1Зб!$C$47:$D$87,2,0),0) -> 0 | G37: =IFERROR(VLOOKUP(C37,Т1Зб!$C$47:$E$87,3,0),0) -> 42 | H37: =IFERROR(VLOOKUP(C37,Т2За!$C$47:$D$87,2,0),0) -> 0 | I37: =IFERROR(VLOOKUP(C37,Т2За!$C$47:$E$87,3,0),0) -> 42 | J37: =IFERROR(VLOOKUP(C37,Т2Зб!$C$47:$D$87,2,0),0) -> 0 | K37: =IFERROR(VLOOKUP(C37,Т2Зб!$C$47:$E$87,3,0),0) -> 0 | L37: =D37+F37+H37+J37 -> 0 | M37: =E37+G37+I37+K37 -> 84 | N37: 42
A38: =A37+1 -> 35 | B38: КОРЧ | C38: Лашков Юрий | D38: =IFERROR(VLOOKUP(C38,Т1За!$C$47:$D$87,2,0),0) -> 0 | E38: =IFERROR(VLOOKUP(C38,Т1За!$C$47:$E$87,3,0),0) -> 0 | F38: =IFERROR(VLOOKUP(C38,Т1Зб!$C$47:$D$87,2,0),0) -> 0 | G38: =IFERROR(VLOOKUP(C38,Т1Зб!$C$47:$E$87,3,0),0) -> 42 | H38: =IFERROR(VLOOKUP(C38,Т2За!$C$47:$D$87,2,0),0) -> 0 | I38: =IFERROR(VLOOKUP(C38,Т2За!$C$47:$E$87,3,0),0) -> 42 | J38: =IFERROR(VLOOKUP(C38,Т2Зб!$C$47:$D$87,2,0),0) -> 0 | K38: =IFERROR(VLOOKUP(C38,Т2Зб!$C$47:$E$87,3,0),0) -> 0 | L38: =D38+F38+H38+J38 -> 0 | M38: =E38+G38+I38+K38 -> 84 | N38: 42 | O38: =L38+L39 -> 449.44 | P38: =M38+M39 -> 131 | Q38: 14
A39: =A38+1 -> 36 | B39: КОРЧ | C39: Титенков Алексей | D39: =IFERROR(VLOOKUP(C39,Т1За!$C$47:$D$87,2,0),0) -> 449.44 | E39: =IFERROR(VLOOKUP(C39,Т1За!$C$47:$E$87,3,0),0) -> 5 | F39: =IFERROR(VLOOKUP(C39,Т1Зб!$C$47:$D$87,2,0),0) -> 0 | G39: =IFERROR(VLOOKUP(C39,Т1Зб!$C$47:$E$87,3,0),0) -> 0 | H39: =IFERROR(VLOOKUP(C39,Т2За!$C$47:$D$87,2,0),0) -> 0 | I39: =IFERROR(VLOOKUP(C39,Т2За!$C$47:$E$87,3,0),0) -> 0 | J39: =IFERROR(VLOOKUP(C39,Т2Зб!$C$47:$D$87,2,0),0) -> 0 | K39: =IFERROR(VLOOKUP(C39,Т2Зб!$C$47:$E$87,3,0),0) -> 42 | L39: =D39+F39+H39+J39 -> 449.44 | M39: =E39+G39+I39+K39 -> 47 | N39: 14
A40: =A39+1 -> 37 | B40: Регион 5 | C40: Сохончук Андрей | D40: =IFERROR(VLOOKUP(C40,Т1За!$C$47:$D$87,2,0),0) -> 723.9025 | E40: =IFERROR(VLOOKUP(C40,Т1За!$C$47:$E$87,3,0),0) -> 2 | F40: =IFERROR(VLOOKUP(C40,Т1Зб!$C$47:$D$87,2,0),0) -> 0 | G40: =IFERROR(VLOOKUP(C40,Т1Зб!$C$47:$E$87,3,0),0) -> 0 | H40: =IFERROR(VLOOKUP(C40,Т2За!$C$47:$D$87,2,0),0) -> 0 | I40: =IFERROR(VLOOKUP(C40,Т2За!$C$47:$E$87,3,0),0) -> 0 | J40: =IFERROR(VLOOKUP(C40,Т2Зб!$C$47:$D$87,2,0),0) -> 0 | K40: =IFERROR(VLOOKUP(C40,Т2Зб!$C$47:$E$87,3,0),0) -> 42 | L40: =D40+F40+H40+J40 -> 723.9025 | M40: =E40+G40+I40+K40 -> 44 | N40: 8 | O40: =L40+L41 -> 723.9025 | P40: =M40+M41 -> 128 | Q40: 8
A41: =A40+1 -> 38 | B41: Регион 5 | C41: Аверин Дмитрий | D41: =IFERROR(VLOOKUP(C41,Т1За!$C$47:$D$87,2,0),0) -> 0 | E41: =IFERROR(VLOOKUP(C41,Т1За!$C$47:$E$87,3,0),0) -> 0 | F41: =IFERROR(VLOOKUP(C41,Т1Зб!$C$47:$D$87,2,0),0) -> 0 | G41: =IFERROR(VLOOKUP(C41,Т1Зб!$C$47:$E$87,3,0),0) -> 42 | H41: =IFERROR(VLOOKUP(C41,Т2За!$C$47:$D$87,2,0),0) -> 0 | I41: =IFERROR(VLOOKUP(C41,Т2За!$C$47:$E$87,3,0),0) -> 42 | J41: =IFERROR(VLOOKUP(C41,Т2Зб!$C$47:$D$87,2,0),0) -> 0 | K41: =IFERROR(VLOOKUP(C41,Т2Зб!$C$47:$E$87,3,0),0) -> 0 | L41: =D41+F41+H41+J41 -> 0 | M41: =E41+G41+I41+K41 -> 84 | N41: 42
A42: =A41+1 -> 39 | B42: Фарватер | C42: Цыганок Михаил | D42: =IFERROR(VLOOKUP(C42,Т1За!$C$47:$D$87,2,0),0) -> 0 | E42: =IFERROR(VLOOKUP(C42,Т1За!$C$47:$E$87,3,0),0) -> 0 | F42: =IFERROR(VLOOKUP(C42,Т1Зб!$C$47:$D$87,2,0),0) -> 0 | G42: =IFERROR(VLOOKUP(C42,Т1Зб!$C$47:$E$87,3,0),0) -> 42 | H42: =IFERROR(VLOOKUP(C42,Т2За!$C$47:$D$87,2,0),0) -> 213.16 | I42: =IFERROR(VLOOKUP(C42,Т2За!$C$47:$E$87,3,0),0) -> 3 | J42: =IFERROR(VLOOKUP(C42,Т2Зб!$C$47:$D$87,2,0),0) -> 0 | K42: =IFERROR(VLOOKUP(C42,Т2Зб!$C$47:$E$87,3,0),0) -> 0 | L42: =D42+F42+H42+J42 -> 213.16 | M42: =E42+G42+I42+K42 -> 45 | N42: =RANK(M42,$M$4:$M$85,1) -> 11 | O42: =L42+L43 -> 213.16 | P42: =M42+M43 -> 129 | Q42: =RANK(P42,$P$4:$P$85,1) -> 11
A43: =A42+1 -> 40 | B43: Фарватер | C43: Попельский Максим | D43: =IFERROR(VLOOKUP(C43,Т1За!$C$47:$D$87,2,0),0) -> 0 | E43: =IFERROR(VLOOKUP(C43,Т1За!$C$47:$E$87,3,0),0) -> 42 | F43: =IFERROR(VLOOKUP(C43,Т1Зб!$C$47:$D$87,2,0),0) -> 0 | G43: =IFERROR(VLOOKUP(C43,Т1Зб!$C$47:$E$87,3,0),0) -> 0 | H43: =IFERROR(VLOOKUP(C43,Т2За!$C$47:$D$87,2,0),0) -> 0 | I43: =IFERROR(VLOOKUP(C43,Т2За!$C$47:$E$87,3,0),0) -> 0 | J43: =IFERROR(VLOOKUP(C43,Т2Зб!$C$47:$D$87,2,0),0) -> 0 | K43: =IFERROR(VLOOKUP(C43,Т2Зб!$C$47:$E$87,3,0),0) -> 42 | L43: =D43+F43+H43+J43 -> 0 | M43: =E43+G43+I43+K43 -> 84 | N43: 42
A44: =A43+1 -> 41 | B44: K&M | C44: Мельников Юрий | D44: =IFERROR(VLOOKUP(C44,Т1За!$C$47:$D$87,2,0),0) -> 0 | E44: =IFERROR(VLOOKUP(C44,Т1За!$C$47:$E$87,3,0),0) -> 0 | F44: =IFERROR(VLOOKUP(C44,Т1Зб!$C$47:$D$87,2,0),0) -> 0 | G44: =IFERROR(VLOOKUP(C44,Т1Зб!$C$47:$E$87,3,0),0) -> 42 | H44: =IFERROR(VLOOKUP(C44,Т2За!$C$47:$D$87,2,0),0) -> 0 | I44: =IFERROR(VLOOKUP(C44,Т2За!$C$47:$E$87,3,0),0) -> 42 | J44: =IFERROR(VLOOKUP(C44,Т2Зб!$C$47:$D$87,2,0),0) -> 0 | K44: =IFERROR(VLOOKUP(C44,Т2Зб!$C$47:$E$87,3,0),0) -> 0 | L44: =D44+F44+H44+J44 -> 0 | M44: =E44+G44+I44+K44 -> 84 | N44: 42 | O44: =L44+L45 -> 0 | P44: =M44+M45 -> 168 | Q44: 42
A45: =A44+1 -> 42 | B45: K&M | C45: Казаченко Владимир | D45: =IFERROR(VLOOKUP(C45,Т1За!$C$47:$D$87,2,0),0) -> 0 | E45: =IFERROR(VLOOKUP(C45,Т1За!$C$47:$E$87,3,0),0) -> 42 | F45: =IFERROR(VLOOKUP(C45,Т1Зб!$C$47:$D$87,2,0),0) -> 0 | G45: =IFERROR(VLOOKUP(C45,Т1Зб!$C$47:$E$87,3,0),0) -> 0 | H45: =IFERROR(VLOOKUP(C45,Т2За!$C$47:$D$87,2,0),0) -> 0 | I45: =IFERROR(VLOOKUP(C45,Т2За!$C$47:$E$87,3,0),0) -> 0 | J45: =IFERROR(VLOOKUP(C45,Т2Зб!$C$47:$D$87,2,0),0) -> 0 | K45: =IFERROR(VLOOKUP(C45,Т2Зб!$C$47:$E$87,3,0),0) -> 42 | L45: =D45+F45+H45+J45 -> 0 | M45: =E45+G45+I45+K45 -> 84 | N45: 42
A46: =A45+1 -> 43 | B46: ПВ | C46: Пластун Вячеслав | D46: =IFERROR(VLOOKUP(C46,Т1За!$C$47:$D$87,2,0),0) -> 0 | E46: =IFERROR(VLOOKUP(C46,Т1За!$C$47:$E$87,3,0),0) -> 42 | F46: =IFERROR(VLOOKUP(C46,Т1Зб!$C$47:$D$87,2,0),0) -> 0 | G46: =IFERROR(VLOOKUP(C46,Т1Зб!$C$47:$E$87,3,0),0) -> 0 | H46: =IFERROR(VLOOKUP(C46,Т2За!$C$47:$D$87,2,0),0) -> 0 | I46: =IFERROR(VLOOKUP(C46,Т2За!$C$47:$E$87,3,0),0) -> 0 | J46: =IFERROR(VLOOKUP(C46,Т2Зб!$C$47:$D$87,2,0),0) -> 0 | K46: =IFERROR(VLOOKUP(C46,Т2Зб!$C$47:$E$87,3,0),0) -> 42 | L46: =D46+F46+H46+J46 -> 0 | M46: =E46+G46+I46+K46 -> 84 | N46: 42 | O46: =L46+L47 -> 0 | P46: =M46+M47 -> 168 | Q46: 42
A47: =A46+1 -> 44 | B47: ПВ | C47: Воробьев Павел | D47: =IFERROR(VLOOKUP(C47,Т1За!$C$47:$D$87,2,0),0) -> 0 | E47: =IFERROR(VLOOKUP(C47,Т1За!$C$47:$E$87,3,0),0) -> 0 | F47: =IFERROR(VLOOKUP(C47,Т1Зб!$C$47:$D$87,2,0),0) -> 0 | G47: =IFERROR(VLOOKUP(C47,Т1Зб!$C$47:$E$87,3,0),0) -> 42 | H47: =IFERROR(VLOOKUP(C47,Т2За!$C$47:$D$87,2,0),0) -> 0 | I47: =IFERROR(VLOOKUP(C47,Т2За!$C$47:$E$87,3,0),0) -> 42 | J47: =IFERROR(VLOOKUP(C47,Т2Зб!$C$47:$D$87,2,0),0) -> 0 | K47: =IFERROR(VLOOKUP(C47,Т2Зб!$C$47:$E$87,3,0),0) -> 0 | L47: =D47+F47+H47+J47 -> 0 | M47: =E47+G47+I47+K47 -> 84 | N47: 42
A48: =A47+1 -> 45 | B48: Undercurrent | C48: Хоухлянцев Дмитрий | D48: =IFERROR(VLOOKUP(C48,Т1За!$C$47:$D$87,2,0),0) -> 0 | E48: =IFERROR(VLOOKUP(C48,Т1За!$C$47:$E$87,3,0),0) -> 0 | F48: =IFERROR(VLOOKUP(C48,Т1Зб!$C$47:$D$87,2,0),0) -> 0 | G48: =IFERROR(VLOOKUP(C48,Т1Зб!$C$47:$E$87,3,0),0) -> 42 | H48: =IFERROR(VLOOKUP(C48,Т2За!$C$47:$D$87,2,0),0) -> 0 | I48: =IFERROR(VLOOKUP(C48,Т2За!$C$47:$E$87,3,0),0) -> 42 | J48: =IFERROR(VLOOKUP(C48,Т2Зб!$C$47:$D$87,2,0),0) -> 0 | K48: =IFERROR(VLOOKUP(C48,Т2Зб!$C$47:$E$87,3,0),0) -> 0 | L48: =D48+F48+H48+J48 -> 0 | M48: =E48+G48+I48+K48 -> 84 | N48: 42 | O48: =L48+L49 -> 370.5625 | P48: =M48+M49 -> 133 | Q48: =RANK(P48,$P$4:$P$85,1) -> 17
A49: =A48+1 -> 46 | B49: Undercurrent | C49: Ешман Сергей | D49: =IFERROR(VLOOKUP(C49,Т1За!$C$47:$D$87,2,0),0) -> 370.5625 | E49: =IFERROR(VLOOKUP(C49,Т1За!$C$47:$E$87,3,0),0) -> 7 | F49: =IFERROR(VLOOKUP(C49,Т1Зб!$C$47:$D$87,2,0),0) -> 0 | G49: =IFERROR(VLOOKUP(C49,Т1Зб!$C$47:$E$87,3,0),0) -> 0 | H49: =IFERROR(VLOOKUP(C49,Т2За!$C$47:$D$87,2,0),0) -> 0 | I49: =IFERROR(VLOOKUP(C49,Т2За!$C$47:$E$87,3,0),0) -> 0 | J49: =IFERROR(VLOOKUP(C49,Т2Зб!$C$47:$D$87,2,0),0) -> 0 | K49: =IFERROR(VLOOKUP(C49,Т2Зб!$C$47:$E$87,3,0),0) -> 42 | L49: =D49+F49+H49+J49 -> 370.5625 | M49: =E49+G49+I49+K49 -> 49 | N49: =RANK(M49,$M$4:$M$85,1) -> 17
A50: =A49+1 -> 47 | B50: nanobass | C50: Бычик Роман | D50: =IFERROR(VLOOKUP(C50,Т1За!$C$47:$D$87,2,0),0) -> 0 | E50: =IFERROR(VLOOKUP(C50,Т1За!$C$47:$E$87,3,0),0) -> 42 | F50: =IFERROR(VLOOKUP(C50,Т1Зб!$C$47:$D$87,2,0),0) -> 0 | G50: =IFERROR(VLOOKUP(C50,Т1Зб!$C$47:$E$87,3,0),0) -> 0 | H50: =IFERROR(VLOOKUP(C50,Т2За!$C$47:$D$87,2,0),0) -> 0 | I50: =IFERROR(VLOOKUP(C50,Т2За!$C$47:$E$87,3,0),0) -> 0 | J50: =IFERROR(VLOOKUP(C50,Т2Зб!$C$47:$D$87,2,0),0) -> 0 | K50: =IFERROR(VLOOKUP(C50,Т2Зб!$C$47:$E$87,3,0),0) -> 42 | L50: =D50+F50+H50+J50 -> 0 | M50: =E50+G50+I50+K50 -> 84 | N50: 42 | O50: =L50+L51 -> 340.4025 | P50: =M50+M51 -> 128 | Q50: 9
A51: =A50+1 -> 48 | B51: nanobass | C51: Мартынчук Михаил | D51: =IFERROR(VLOOKUP(C51,Т1За!$C$47:$D$87,2,0),0) -> 0 | E51: =IFERROR(VLOOKUP(C51,Т1За!$C$47:$E$87,3,0),0) -> 0 | F51: =IFERROR(VLOOKUP(C51,Т1Зб!$C$47:$D$87,2,0),0) -> 0 | G51: =IFERROR(VLOOKUP(C51,Т1Зб!$C$47:$E$87,3,0),0) -> 42 | H51: =IFERROR(VLOOKUP(C51,Т2За!$C$47:$D$87,2,0),0) -> 340.4025 | I51: =IFERROR(VLOOKUP(C51,Т2За!$C$47:$E$87,3,0),0) -> 2 | J51: =IFERROR(VLOOKUP(C51,Т2Зб!$C$47:$D$87,2,0),0) -> 0 | K51: =IFERROR(VLOOKUP(C51,Т2Зб!$C$47:$E$87,3,0),0) -> 0 | L51: =D51+F51+H51+J51 -> 340.4025 | M51: =E51+G51+I51+K51 -> 44 | N51: 9
A52: =A51+1 -> 49 | B52: Poseidon | C52: Чижонок Сергей | D52: =IFERROR(VLOOKUP(C52,Т1За!$C$47:$D$87,2,0),0) -> 0 | E52: =IFERROR(VLOOKUP(C52,Т1За!$C$47:$E$87,3,0),0) -> 42 | F52: =IFERROR(VLOOKUP(C52,Т1Зб!$C$47:$D$87,2,0),0) -> 0 | G52: =IFERROR(VLOOKUP(C52,Т1Зб!$C$47:$E$87,3,0),0) -> 0 | H52: =IFERROR(VLOOKUP(C52,Т2За!$C$47:$D$87,2,0),0) -> 0 | I52: =IFERROR(VLOOKUP(C52,Т2За!$C$47:$E$87,3,0),0) -> 0 | J52: =IFERROR(VLOOKUP(C52,Т2Зб!$C$47:$D$87,2,0),0) -> 0 | K52: =IFERROR(VLOOKUP(C52,Т2Зб!$C$47:$E$87,3,0),0) -> 42 | L52: =D52+F52+H52+J52 -> 0 | M52: =E52+G52+I52+K52 -> 84 | N52: 42 | O52: =L52+L53 -> 0 | P52: =M52+M53 -> 168 | Q52: 42
A53: =A52+1 -> 50 | B53: Poseidon | C53: Строк Павел | D53: =IFERROR(VLOOKUP(C53,Т1За!$C$47:$D$87,2,0),0) -> 0 | E53: =IFERROR(VLOOKUP(C53,Т1За!$C$47:$E$87,3,0),0) -> 0 | F53: =IFERROR(VLOOKUP(C53,Т1Зб!$C$47:$D$87,2,0),0) -> 0 | G53: =IFERROR(VLOOKUP(C53,Т1Зб!$C$47:$E$87,3,0),0) -> 42 | H53: =IFERROR(VLOOKUP(C53,Т2За!$C$47:$D$87,2,0),0) -> 0 | I53: =IFERROR(VLOOKUP(C53,Т2За!$C$47:$E$87,3,0),0) -> 42 | J53: =IFERROR(VLOOKUP(C53,Т2Зб!$C$47:$D$87,2,0),0) -> 0 | K53: =IFERROR(VLOOKUP(C53,Т2Зб!$C$47:$E$87,3,0),0) -> 0 | L53: =D53+F53+H53+J53 -> 0 | M53: =E53+G53+I53+K53 -> 84 | N53: 42
A54: =A53+1 -> 51 | B54: Крутой берег | C54: Желтов Игорь | D54: =IFERROR(VLOOKUP(C54,Т1За!$C$47:$D$87,2,0),0) -> 412.09 | E54: =IFERROR(VLOOKUP(C54,Т1За!$C$47:$E$87,3,0),0) -> 6 | F54: =IFERROR(VLOOKUP(C54,Т1Зб!$C$47:$D$87,2,0),0) -> 0 | G54: =IFERROR(VLOOKUP(C54,Т1Зб!$C$47:$E$87,3,0),0) -> 0 | H54: =IFERROR(VLOOKUP(C54,Т2За!$C$47:$D$87,2,0),0) -> 0 | I54: =IFERROR(VLOOKUP(C54,Т2За!$C$47:$E$87,3,0),0) -> 0 | J54: =IFERROR(VLOOKUP(C54,Т2Зб!$C$47:$D$87,2,0),0) -> 0 | K54: =IFERROR(VLOOKUP(C54,Т2Зб!$C$47:$E$87,3,0),0) -> 42 | L54: =D54+F54+H54+J54 -> 412.09 | M54: =E54+G54+I54+K54 -> 48 | N54: 16 | O54: =L54+L55 -> 412.09 | P54: =M54+M55 -> 132 | Q54: 16
A55: =A54+1 -> 52 | B55: Крутой берег | C55: Желтов Евгений | D55: =IFERROR(VLOOKUP(C55,Т1За!$C$47:$D$87,2,0),0) -> 0 | E55: =IFERROR(VLOOKUP(C55,Т1За!$C$47:$E$87,3,0),0) -> 0 | F55: =IFERROR(VLOOKUP(C55,Т1Зб!$C$47:$D$87,2,0),0) -> 0 | G55: =IFERROR(VLOOKUP(C55,Т1Зб!$C$47:$E$87,3,0),0) -> 42 | H55: =IFERROR(VLOOKUP(C55,Т2За!$C$47:$D$87,2,0),0) -> 0 | I55: =IFERROR(VLOOKUP(C55,Т2За!$C$47:$E$87,3,0),0) -> 42 | J55: =IFERROR(VLOOKUP(C55,Т2Зб!$C$47:$D$87,2,0),0) -> 0 | K55: =IFERROR(VLOOKUP(C55,Т2Зб!$C$47:$E$87,3,0),0) -> 0 | L55: =D55+F55+H55+J55 -> 0 | M55: =E55+G55+I55+K55 -> 84 | N55: 42
A56: =A55+1 -> 53 | B56: MicroKilleR | C56: Купрейчик Сергей | D56: =IFERROR(VLOOKUP(C56,Т1За!$C$47:$D$87,2,0),0) -> 0 | E56: =IFERROR(VLOOKUP(C56,Т1За!$C$47:$E$87,3,0),0) -> 0 | F56: =IFERROR(VLOOKUP(C56,Т1Зб!$C$47:$D$87,2,0),0) -> 0 | G56: =IFERROR(VLOOKUP(C56,Т1Зб!$C$47:$E$87,3,0),0) -> 42 | H56: =IFERROR(VLOOKUP(C56,Т2За!$C$47:$D$87,2,0),0) -> 0 | I56: =IFERROR(VLOOKUP(C56,Т2За!$C$47:$E$87,3,0),0) -> 42 | J56: =IFERROR(VLOOKUP(C56,Т2Зб!$C$47:$D$87,2,0),0) -> 0 | K56: =IFERROR(VLOOKUP(C56,Т2Зб!$C$47:$E$87,3,0),0) -> 0 | L56: =D56+F56+H56+J56 -> 0 | M56: =E56+G56+I56+K56 -> 84 | N56: 42 | O56: =L56+L57 -> 0 | P56: =M56+M57 -> 168 | Q56: 42
A57: =A56+1 -> 54 | B57: MicroKilleR | C57: Бобриков Алексей | D57: =IFERROR(VLOOKUP(C57,Т1За!$C$47:$D$87,2,0),0) -> 0 | E57: =IFERROR(VLOOKUP(C57,Т1За!$C$47:$E$87,3,0),0) -> 42 | F57: =IFERROR(VLOOKUP(C57,Т1Зб!$C$47:$D$87,2,0),0) -> 0 | G57: =IFERROR(VLOOKUP(C57,Т1Зб!$C$47:$E$87,3,0),0) -> 0 | H57: =IFERROR(VLOOKUP(C57,Т2За!$C$47:$D$87,2,0),0) -> 0 | I57: =IFERROR(VLOOKUP(C57,Т2За!$C$47:$E$87,3,0),0) -> 0 | J57: =IFERROR(VLOOKUP(C57,Т2Зб!$C$47:$D$87,2,0),0) -> 0 | K57: =IFERROR(VLOOKUP(C57,Т2Зб!$C$47:$E$87,3,0),0) -> 42 | L57: =D57+F57+H57+J57 -> 0 | M57: =E57+G57+I57+K57 -> 84 | N57: 42
A58: =A57+1 -> 55 | B58: FishUp Team | C58: Волосевич Виталий | D58: =IFERROR(VLOOKUP(C58,Т1За!$C$47:$D$87,2,0),0) -> 0 | E58: =IFERROR(VLOOKUP(C58,Т1За!$C$47:$E$87,3,0),0) -> 0 | F58: =IFERROR(VLOOKUP(C58,Т1Зб!$C$47:$D$87,2,0),0) -> 0 | G58: =IFERROR(VLOOKUP(C58,Т1Зб!$C$47:$E$87,3,0),0) -> 42 | H58: =IFERROR(VLOOKUP(C58,Т2За!$C$47:$D$87,2,0),0) -> 0 | I58: =IFERROR(VLOOKUP(C58,Т2За!$C$47:$E$87,3,0),0) -> 42 | J58: =IFERROR(VLOOKUP(C58,Т2Зб!$C$47:$D$87,2,0),0) -> 0 | K58: =IFERROR(VLOOKUP(C58,Т2Зб!$C$47:$E$87,3,0),0) -> 0 | L58: =D58+F58+H58+J58 -> 0 | M58: =E58+G58+I58+K58 -> 84 | N58: 42 | O58: =L58+L59 -> 2599.34 | P58: =M58+M59 -> 128 | Q58: =RANK(P58,$P$4:$P$85,1) -> 7
A59: =A58+1 -> 56 | B59: FishUp Team | C59: Крук Денис | D59: =IFERROR(VLOOKUP(C59,Т1За!$C$47:$D$87,2,0),0) -> 0 | E59: =IFERROR(VLOOKUP(C59,Т1За!$C$47:$E$87,3,0),0) -> 42 | F59: =IFERROR(VLOOKUP(C59,Т1Зб!$C$47:$D$87,2,0),0) -> 0 | G59: =IFERROR(VLOOKUP(C59,Т1Зб!$C$47:$E$87,3,0),0) -> 0 | H59: =IFERROR(VLOOKUP(C59,Т2За!$C$47:$D$87,2,0),0) -> 0 | I59: =IFERROR(VLOOKUP(C59,Т2За!$C$47:$E$87,3,0),0) -> 0 | J59: =IFERROR(VLOOKUP(C59,Т2Зб!$C$47:$D$87,2,0),0) -> 2599.34 | K59: =IFERROR(VLOOKUP(C59,Т2Зб!$C$47:$E$87,3,0),0) -> 2 | L59: =D59+F59+H59+J59 -> 2599.34 | M59: =E59+G59+I59+K59 -> 44 | N59: =RANK(M59,$M$4:$M$85,1) -> 7
A60: =A59+1 -> 57 | B60: Dream Team | C60: Золотухин Александр | D60: =IFERROR(VLOOKUP(C60,Т1За!$C$47:$D$87,2,0),0) -> 0 | E60: =IFERROR(VLOOKUP(C60,Т1За!$C$47:$E$87,3,0),0) -> 0 | F60: =IFERROR(VLOOKUP(C60,Т1Зб!$C$47:$D$87,2,0),0) -> 0 | G60: =IFERROR(VLOOKUP(C60,Т1Зб!$C$47:$E$87,3,0),0) -> 42 | H60: =IFERROR(VLOOKUP(C60,Т2За!$C$47:$D$87,2,0),0) -> 0 | I60: =IFERROR(VLOOKUP(C60,Т2За!$C$47:$E$87,3,0),0) -> 42 | J60: =IFERROR(VLOOKUP(C60,Т2Зб!$C$47:$D$87,2,0),0) -> 0 | K60: =IFERROR(VLOOKUP(C60,Т2Зб!$C$47:$E$87,3,0),0) -> 0 | L60: =D60+F60+H60+J60 -> 0 | M60: =E60+G60+I60+K60 -> 84 | N60: 42 | O60: =L60+L61 -> 338.56 | P60: =M60+M61 -> 134 | Q60: =RANK(P60,$P$4:$P$85,1) -> 18
A61: =A60+1 -> 58 | B61: Dream Team | C61: Тысевич Сергей | D61: =IFERROR(VLOOKUP(C61,Т1За!$C$47:$D$87,2,0),0) -> 338.56 | E61: =IFERROR(VLOOKUP(C61,Т1За!$C$47:$E$87,3,0),0) -> 8 | F61: =IFERROR(VLOOKUP(C61,Т1Зб!$C$47:$D$87,2,0),0) -> 0 | G61: =IFERROR(VLOOKUP(C61,Т1Зб!$C$47:$E$87,3,0),0) -> 0 | H61: =IFERROR(VLOOKUP(C61,Т2За!$C$47:$D$87,2,0),0) -> 0 | I61: =IFERROR(VLOOKUP(C61,Т2За!$C$47:$E$87,3,0),0) -> 0 | J61: =IFERROR(VLOOKUP(C61,Т2Зб!$C$47:$D$87,2,0),0) -> 0 | K61: =IFERROR(VLOOKUP(C61,Т2Зб!$C$47:$E$87,3,0),0) -> 42 | L61: =D61+F61+H61+J61 -> 338.56 | M61: =E61+G61+I61+K61 -> 50 | N61: =RANK(M61,$M$4:$M$85,1) -> 18
A62: =A61+1 -> 59 | B62: S&D TEAM | C62: Рулинский Александр | D62: =IFERROR(VLOOKUP(C62,Т1За!$C$47:$D$87,2,0),0) -> 0 | E62: =IFERROR(VLOOKUP(C62,Т1За!$C$47:$E$87,3,0),0) -> 0 | F62: =IFERROR(VLOOKUP(C62,Т1Зб!$C$47:$D$87,2,0),0) -> 0 | G62: =IFERROR(VLOOKUP(C62,Т1Зб!$C$47:$E$87,3,0),0) -> 42 | H62: =IFERROR(VLOOKUP(C62,Т2За!$C$47:$D$87,2,0),0) -> 0 | I62: =IFERROR(VLOOKUP(C62,Т2За!$C$47:$E$87,3,0),0) -> 42 | J62: =IFERROR(VLOOKUP(C62,Т2Зб!$C$47:$D$87,2,0),0) -> 0 | K62: =IFERROR(VLOOKUP(C62,Т2Зб!$C$47:$E$87,3,0),0) -> 0 | L62: =D62+F62+H62+J62 -> 0 | M62: =E62+G62+I62+K62 -> 84 | N62: 42 | O62: =L62+L63 -> 2404.2025 | P62: =M62+M63 -> 96 | Q62: =RANK(P62,$P$4:$P$85,1) -> 3
A63: =A62+1 -> 60 | B63: S&D TEAM | C63: Шевчук Дмитрий | D63: =IFERROR(VLOOKUP(C63,Т1За!$C$47:$D$87,2,0),0) -> 311.5225 | E63: =IFERROR(VLOOKUP(C63,Т1За!$C$47:$E$87,3,0),0) -> 9 | F63: =IFERROR(VLOOKUP(C63,Т1Зб!$C$47:$D$87,2,0),0) -> 0 | G63: =IFERROR(VLOOKUP(C63,Т1Зб!$C$47:$E$87,3,0),0) -> 0 | H63: =IFERROR(VLOOKUP(C63,Т2За!$C$47:$D$87,2,0),0) -> 0 | I63: =IFERROR(VLOOKUP(C63,Т2За!$C$47:$E$87,3,0),0) -> 0 | J63: =IFERROR(VLOOKUP(C63,Т2Зб!$C$47:$D$87,2,0),0) -> 2092.68 | K63: =IFERROR(VLOOKUP(C63,Т2Зб!$C$47:$E$87,3,0),0) -> 3 | L63: =D63+F63+H63+J63 -> 2404.2025 | M63: =E63+G63+I63+K63 -> 12 | N63: =RANK(M63,$M$4:$M$85,1) -> 3
A64: =A63+1 -> 61 | B64: Happy Pike | C64: Пунинский Антон | D64: =IFERROR(VLOOKUP(C64,Т1За!$C$47:$D$87,2,0),0) -> 0 | E64: =IFERROR(VLOOKUP(C64,Т1За!$C$47:$E$87,3,0),0) -> 42 | F64: =IFERROR(VLOOKUP(C64,Т1Зб!$C$47:$D$87,2,0),0) -> 0 | G64: =IFERROR(VLOOKUP(C64,Т1Зб!$C$47:$E$87,3,0),0) -> 0 | H64: =IFERROR(VLOOKUP(C64,Т2За!$C$47:$D$87,2,0),0) -> 0 | I64: =IFERROR(VLOOKUP(C64,Т2За!$C$47:$E$87,3,0),0) -> 0 | J64: =IFERROR(VLOOKUP(C64,Т2Зб!$C$47:$D$87,2,0),0) -> 0 | K64: =IFERROR(VLOOKUP(C64,Т2Зб!$C$47:$E$87,3,0),0) -> 42 | L64: =D64+F64+H64+J64 -> 0 | M64: =E64+G64+I64+K64 -> 84 | N64: 42 | O64: =L64+L65 -> 0 | P64: =M64+M65 -> 168 | Q64: 42
A65: =A64+1 -> 62 | B65: Happy Pike | C65: Ашарчук Сегрей | D65: =IFERROR(VLOOKUP(C65,Т1За!$C$47:$D$87,2,0),0) -> 0 | E65: =IFERROR(VLOOKUP(C65,Т1За!$C$47:$E$87,3,0),0) -> 0 | F65: =IFERROR(VLOOKUP(C65,Т1Зб!$C$47:$D$87,2,0),0) -> 0 | G65: =IFERROR(VLOOKUP(C65,Т1Зб!$C$47:$E$87,3,0),0) -> 42 | H65: =IFERROR(VLOOKUP(C65,Т2За!$C$47:$D$87,2,0),0) -> 0 | I65: =IFERROR(VLOOKUP(C65,Т2За!$C$47:$E$87,3,0),0) -> 42 | J65: =IFERROR(VLOOKUP(C65,Т2Зб!$C$47:$D$87,2,0),0) -> 0 | K65: =IFERROR(VLOOKUP(C65,Т2Зб!$C$47:$E$87,3,0),0) -> 0 | L65: =D65+F65+H65+J65 -> 0 | M65: =E65+G65+I65+K65 -> 84 | N65: 42
A66: =A65+1 -> 63 | B66: Lexass PRO | C66: Булойчик Илья | D66: =IFERROR(VLOOKUP(C66,Т1За!$C$47:$D$87,2,0),0) -> 0 | E66: =IFERROR(VLOOKUP(C66,Т1За!$C$47:$E$87,3,0),0) -> 42 | F66: =IFERROR(VLOOKUP(C66,Т1Зб!$C$47:$D$87,2,0),0) -> 0 | G66: =IFERROR(VLOOKUP(C66,Т1Зб!$C$47:$E$87,3,0),0) -> 0 | H66: =IFERROR(VLOOKUP(C66,Т2За!$C$47:$D$87,2,0),0) -> 0 | I66: =IFERROR(VLOOKUP(C66,Т2За!$C$47:$E$87,3,0),0) -> 0 | J66: =IFERROR(VLOOKUP(C66,Т2Зб!$C$47:$D$87,2,0),0) -> 0 | K66: =IFERROR(VLOOKUP(C66,Т2Зб!$C$47:$E$87,3,0),0) -> 42 | L66: =D66+F66+H66+J66 -> 0 | M66: =E66+G66+I66+K66 -> 84 | N66: 42 | O66: =L66+L67 -> 0 | P66: =M66+M67 -> 168 | Q66: 42
A67: =A66+1 -> 64 | B67: Lexass PRO | C67: Санюк Алексей | D67: =IFERROR(VLOOKUP(C67,Т1За!$C$47:$D$87,2,0),0) -> 0 | E67: =IFERROR(VLOOKUP(C67,Т1За!$C$47:$E$87,3,0),0) -> 0 | F67: =IFERROR(VLOOKUP(C67,Т1Зб!$C$47:$D$87,2,0),0) -> 0 | G67: =IFERROR(VLOOKUP(C67,Т1Зб!$C$47:$E$87,3,0),0) -> 42 | H67: =IFERROR(VLOOKUP(C67,Т2За!$C$47:$D$87,2,0),0) -> 0 | I67: =IFERROR(VLOOKUP(C67,Т2За!$C$47:$E$87,3,0),0) -> 42 | J67: =IFERROR(VLOOKUP(C67,Т2Зб!$C$47:$D$87,2,0),0) -> 0 | K67: =IFERROR(VLOOKUP(C67,Т2Зб!$C$47:$E$87,3,0),0) -> 0 | L67: =D67+F67+H67+J67 -> 0 | M67: =E67+G67+I67+K67 -> 84 | N67: 42
A68: =A67+1 -> 65 | B68: Жабинка | C68: Глебик Денис | D68: =IFERROR(VLOOKUP(C68,Т1За!$C$47:$D$87,2,0),0) -> 0 | E68: =IFERROR(VLOOKUP(C68,Т1За!$C$47:$E$87,3,0),0) -> 0 | F68: =IFERROR(VLOOKUP(C68,Т1Зб!$C$47:$D$87,2,0),0) -> 0 | G68: =IFERROR(VLOOKUP(C68,Т1Зб!$C$47:$E$87,3,0),0) -> 42 | H68: =IFERROR(VLOOKUP(C68,Т2За!$C$47:$D$87,2,0),0) -> 0 | I68: =IFERROR(VLOOKUP(C68,Т2За!$C$47:$E$87,3,0),0) -> 42 | J68: =IFERROR(VLOOKUP(C68,Т2Зб!$C$47:$D$87,2,0),0) -> 0 | K68: =IFERROR(VLOOKUP(C68,Т2Зб!$C$47:$E$87,3,0),0) -> 0 | L68: =D68+F68+H68+J68 -> 0 | M68: =E68+G68+I68+K68 -> 84 | N68: 42 | O68: =L68+L69 -> 0 | P68: =M68+M69 -> 168 | Q68: 42
A69: =A68+1 -> 66 | B69: Жабинка | C69: Воробей Евгений | D69: =IFERROR(VLOOKUP(C69,Т1За!$C$47:$D$87,2,0),0) -> 0 | E69: =IFERROR(VLOOKUP(C69,Т1За!$C$47:$E$87,3,0),0) -> 42 | F69: =IFERROR(VLOOKUP(C69,Т1Зб!$C$47:$D$87,2,0),0) -> 0 | G69: =IFERROR(VLOOKUP(C69,Т1Зб!$C$47:$E$87,3,0),0) -> 0 | H69: =IFERROR(VLOOKUP(C69,Т2За!$C$47:$D$87,2,0),0) -> 0 | I69: =IFERROR(VLOOKUP(C69,Т2За!$C$47:$E$87,3,0),0) -> 0 | J69: =IFERROR(VLOOKUP(C69,Т2Зб!$C$47:$D$87,2,0),0) -> 0 | K69: =IFERROR(VLOOKUP(C69,Т2Зб!$C$47:$E$87,3,0),0) -> 42 | L69: =D69+F69+H69+J69 -> 0 | M69: =E69+G69+I69+K69 -> 84 | N69: 42
A70: =A69+1 -> 67 | B70: Pike death TEAM | C70: Круглянин Сергей | D70: =IFERROR(VLOOKUP(C70,Т1За!$C$47:$D$87,2,0),0) -> 0 | E70: =IFERROR(VLOOKUP(C70,Т1За!$C$47:$E$87,3,0),0) -> 0 | F70: =IFERROR(VLOOKUP(C70,Т1Зб!$C$47:$D$87,2,0),0) -> 0 | G70: =IFERROR(VLOOKUP(C70,Т1Зб!$C$47:$E$87,3,0),0) -> 42 | H70: =IFERROR(VLOOKUP(C70,Т2За!$C$47:$D$87,2,0),0) -> 0 | I70: =IFERROR(VLOOKUP(C70,Т2За!$C$47:$E$87,3,0),0) -> 42 | J70: =IFERROR(VLOOKUP(C70,Т2Зб!$C$47:$D$87,2,0),0) -> 0 | K70: =IFERROR(VLOOKUP(C70,Т2Зб!$C$47:$E$87,3,0),0) -> 0 | L70: =D70+F70+H70+J70 -> 0 | M70: =E70+G70+I70+K70 -> 84 | N70: 42 | O70: =L70+L71 -> 0 | P70: =M70+M71 -> 168 | Q70: 42
A71: =A70+1 -> 68 | B71: Pike death TEAM | C71: Чайковский Александр | D71: =IFERROR(VLOOKUP(C71,Т1За!$C$47:$D$87,2,0),0) -> 0 | E71: =IFERROR(VLOOKUP(C71,Т1За!$C$47:$E$87,3,0),0) -> 42 | F71: =IFERROR(VLOOKUP(C71,Т1Зб!$C$47:$D$87,2,0),0) -> 0 | G71: =IFERROR(VLOOKUP(C71,Т1Зб!$C$47:$E$87,3,0),0) -> 0 | H71: =IFERROR(VLOOKUP(C71,Т2За!$C$47:$D$87,2,0),0) -> 0 | I71: =IFERROR(VLOOKUP(C71,Т2За!$C$47:$E$87,3,0),0) -> 0 | J71: =IFERROR(VLOOKUP(C71,Т2Зб!$C$47:$D$87,2,0),0) -> 0 | K71: =IFERROR(VLOOKUP(C71,Т2Зб!$C$47:$E$87,3,0),0) -> 42 | L71: =D71+F71+H71+J71 -> 0 | M71: =E71+G71+I71+K71 -> 84 | N71: 42
A72: =A71+1 -> 69 | B72: Black River Team | C72: Ворон Павел | D72: =IFERROR(VLOOKUP(C72,Т1За!$C$47:$D$87,2,0),0) -> 0 | E72: =IFERROR(VLOOKUP(C72,Т1За!$C$47:$E$87,3,0),0) -> 42 | F72: =IFERROR(VLOOKUP(C72,Т1Зб!$C$47:$D$87,2,0),0) -> 0 | G72: =IFERROR(VLOOKUP(C72,Т1Зб!$C$47:$E$87,3,0),0) -> 0 | H72: =IFERROR(VLOOKUP(C72,Т2За!$C$47:$D$87,2,0),0) -> 0 | I72: =IFERROR(VLOOKUP(C72,Т2За!$C$47:$E$87,3,0),0) -> 0 | J72: =IFERROR(VLOOKUP(C72,Т2Зб!$C$47:$D$87,2,0),0) -> 0 | K72: =IFERROR(VLOOKUP(C72,Т2Зб!$C$47:$E$87,3,0),0) -> 42 | L72: =D72+F72+H72+J72 -> 0 | M72: =E72+G72+I72+K72 -> 84 | N72: 42 | O72: =L72+L73 -> 0 | P72: =M72+M73 -> 168 | Q72: 42
A73: =A72+1 -> 70 | B73: Black River Team | C73: Рабушко Василий | D73: =IFERROR(VLOOKUP(C73,Т1За!$C$47:$D$87,2,0),0) -> 0 | E73: =IFERROR(VLOOKUP(C73,Т1За!$C$47:$E$87,3,0),0) -> 0 | F73: =IFERROR(VLOOKUP(C73,Т1Зб!$C$47:$D$87,2,0),0) -> 0 | G73: =IFERROR(VLOOKUP(C73,Т1Зб!$C$47:$E$87,3,0),0) -> 42 | H73: =IFERROR(VLOOKUP(C73,Т2За!$C$47:$D$87,2,0),0) -> 0 | I73: =IFERROR(VLOOKUP(C73,Т2За!$C$47:$E$87,3,0),0) -> 42 | J73: =IFERROR(VLOOKUP(C73,Т2Зб!$C$47:$D$87,2,0),0) -> 0 | K73: =IFERROR(VLOOKUP(C73,Т2Зб!$C$47:$E$87,3,0),0) -> 0 | L73: =D73+F73+H73+J73 -> 0 | M73: =E73+G73+I73+K73 -> 84 | N73: 42
A74: =A73+1 -> 71 | B74: ФишТоп | C74: Радчук Юрий | D74: =IFERROR(VLOOKUP(C74,Т1За!$C$47:$D$87,2,0),0) -> 0 | E74: =IFERROR(VLOOKUP(C74,Т1За!$C$47:$E$87,3,0),0) -> 42 | F74: =IFERROR(VLOOKUP(C74,Т1Зб!$C$47:$D$87,2,0),0) -> 0 | G74: =IFERROR(VLOOKUP(C74,Т1Зб!$C$47:$E$87,3,0),0) -> 0 | H74: =IFERROR(VLOOKUP(C74,Т2За!$C$47:$D$87,2,0),0) -> 0 | I74: =IFERROR(VLOOKUP(C74,Т2За!$C$47:$E$87,3,0),0) -> 0 | J74: =IFERROR(VLOOKUP(C74,Т2Зб!$C$47:$D$87,2,0),0) -> 0 | K74: =IFERROR(VLOOKUP(C74,Т2Зб!$C$47:$E$87,3,0),0) -> 42 | L74: =D74+F74+H74+J74 -> 0 | M74: =E74+G74+I74+K74 -> 84 | N74: 42 | O74: =L74+L75 -> 0 | P74: =M74+M75 -> 168 | Q74: 42
A75: =A74+1 -> 72 | B75: ФишТоп | C75: Гуркин Максим | D75: =IFERROR(VLOOKUP(C75,Т1За!$C$47:$D$87,2,0),0) -> 0 | E75: =IFERROR(VLOOKUP(C75,Т1За!$C$47:$E$87,3,0),0) -> 0 | F75: =IFERROR(VLOOKUP(C75,Т1Зб!$C$47:$D$87,2,0),0) -> 0 | G75: =IFERROR(VLOOKUP(C75,Т1Зб!$C$47:$E$87,3,0),0) -> 42 | H75: =IFERROR(VLOOKUP(C75,Т2За!$C$47:$D$87,2,0),0) -> 0 | I75: =IFERROR(VLOOKUP(C75,Т2За!$C$47:$E$87,3,0),0) -> 42 | J75: =IFERROR(VLOOKUP(C75,Т2Зб!$C$47:$D$87,2,0),0) -> 0 | K75: =IFERROR(VLOOKUP(C75,Т2Зб!$C$47:$E$87,3,0),0) -> 0 | L75: =D75+F75+H75+J75 -> 0 | M75: =E75+G75+I75+K75 -> 84 | N75: 42
A76: =A75+1 -> 73 | B76: Jerkbait.by | C76: Антонович Антон | D76: =IFERROR(VLOOKUP(C76,Т1За!$C$47:$D$87,2,0),0) -> 0 | E76: =IFERROR(VLOOKUP(C76,Т1За!$C$47:$E$87,3,0),0) -> 42 | F76: =IFERROR(VLOOKUP(C76,Т1Зб!$C$47:$D$87,2,0),0) -> 0 | G76: =IFERROR(VLOOKUP(C76,Т1Зб!$C$47:$E$87,3,0),0) -> 0 | H76: =IFERROR(VLOOKUP(C76,Т2За!$C$47:$D$87,2,0),0) -> 0 | I76: =IFERROR(VLOOKUP(C76,Т2За!$C$47:$E$87,3,0),0) -> 0 | J76: =IFERROR(VLOOKUP(C76,Т2Зб!$C$47:$D$87,2,0),0) -> 0 | K76: =IFERROR(VLOOKUP(C76,Т2Зб!$C$47:$E$87,3,0),0) -> 42 | L76: =D76+F76+H76+J76 -> 0 | M76: =E76+G76+I76+K76 -> 84 | N76: 42 | O76: =L76+L77 -> 0 | P76: =M76+M77 -> 168 | Q76: 42
A77: =A76+1 -> 74 | B77: Jerkbait.by | C77: Березин Сергей | D77: =IFERROR(VLOOKUP(C77,Т1За!$C$47:$D$87,2,0),0) -> 0 | E77: =IFERROR(VLOOKUP(C77,Т1За!$C$47:$E$87,3,0),0) -> 0 | F77: =IFERROR(VLOOKUP(C77,Т1Зб!$C$47:$D$87,2,0),0) -> 0 | G77: =IFERROR(VLOOKUP(C77,Т1Зб!$C$47:$E$87,3,0),0) -> 42 | H77: =IFERROR(VLOOKUP(C77,Т2За!$C$47:$D$87,2,0),0) -> 0 | I77: =IFERROR(VLOOKUP(C77,Т2За!$C$47:$E$87,3,0),0) -> 42 | J77: =IFERROR(VLOOKUP(C77,Т2Зб!$C$47:$D$87,2,0),0) -> 0 | K77: =IFERROR(VLOOKUP(C77,Т2Зб!$C$47:$E$87,3,0),0) -> 0 | L77: =D77+F77+H77+J77 -> 0 | M77: =E77+G77+I77+K77 -> 84 | N77: 42
A78: =A77+1 -> 75 | B78: Пятнистый кукан | C78: Хилько Артем | D78: =IFERROR(VLOOKUP(C78,Т1За!$C$47:$D$87,2,0),0) -> 0 | E78: =IFERROR(VLOOKUP(C78,Т1За!$C$47:$E$87,3,0),0) -> 0 | F78: =IFERROR(VLOOKUP(C78,Т1Зб!$C$47:$D$87,2,0),0) -> 0 | G78: =IFERROR(VLOOKUP(C78,Т1Зб!$C$47:$E$87,3,0),0) -> 42 | H78: =IFERROR(VLOOKUP(C78,Т2За!$C$47:$D$87,2,0),0) -> 0 | I78: =IFERROR(VLOOKUP(C78,Т2За!$C$47:$E$87,3,0),0) -> 42 | J78: =IFERROR(VLOOKUP(C78,Т2Зб!$C$47:$D$87,2,0),0) -> 0 | K78: =IFERROR(VLOOKUP(C78,Т2Зб!$C$47:$E$87,3,0),0) -> 0 | L78: =D78+F78+H78+J78 -> 0 | M78: =E78+G78+I78+K78 -> 84 | N78: 42 | O78: =L78+L79 -> 1397.84 | P78: =M78+M79 -> 130 | Q78: =RANK(P78,$P$4:$P$85,1) -> 12
A79: =A78+1 -> 76 | B79: Пятнистый кукан | C79: Анпилов Андрей | D79: =IFERROR(VLOOKUP(C79,Т1За!$C$47:$D$87,2,0),0) -> 0 | E79: =IFERROR(VLOOKUP(C79,Т1За!$C$47:$E$87,3,0),0) -> 42 | F79: =IFERROR(VLOOKUP(C79,Т1Зб!$C$47:$D$87,2,0),0) -> 0 | G79: =IFERROR(VLOOKUP(C79,Т1Зб!$C$47:$E$87,3,0),0) -> 0 | H79: =IFERROR(VLOOKUP(C79,Т2За!$C$47:$D$87,2,0),0) -> 0 | I79: =IFERROR(VLOOKUP(C79,Т2За!$C$47:$E$87,3,0),0) -> 0 | J79: =IFERROR(VLOOKUP(C79,Т2Зб!$C$47:$D$87,2,0),0) -> 1397.84 | K79: =IFERROR(VLOOKUP(C79,Т2Зб!$C$47:$E$87,3,0),0) -> 4 | L79: =D79+F79+H79+J79 -> 1397.84 | M79: =E79+G79+I79+K79 -> 46 | N79: =RANK(M79,$M$4:$M$85,1) -> 12
A80: =A79+1 -> 77 | B80: РГОО "БООР | C80: Козловский Владимир | D80: =IFERROR(VLOOKUP(C80,Т1За!$C$47:$D$87,2,0),0) -> 0 | E80: =IFERROR(VLOOKUP(C80,Т1За!$C$47:$E$87,3,0),0) -> 42 | F80: =IFERROR(VLOOKUP(C80,Т1Зб!$C$47:$D$87,2,0),0) -> 0 | G80: =IFERROR(VLOOKUP(C80,Т1Зб!$C$47:$E$87,3,0),0) -> 0 | H80: =IFERROR(VLOOKUP(C80,Т2За!$C$47:$D$87,2,0),0) -> 0 | I80: =IFERROR(VLOOKUP(C80,Т2За!$C$47:$E$87,3,0),0) -> 0 | J80: =IFERROR(VLOOKUP(C80,Т2Зб!$C$47:$D$87,2,0),0) -> 0 | K80: =IFERROR(VLOOKUP(C80,Т2Зб!$C$47:$E$87,3,0),0) -> 42 | L80: =D80+F80+H80+J80 -> 0 | M80: =E80+G80+I80+K80 -> 84 | N80: 42 | O80: =L80+L81 -> 0 | P80: =M80+M81 -> 168 | Q80: 42
A81: =A80+1 -> 78 | B81: РГОО "БООР | C81: Сыроквашка Дмитрий | D81: =IFERROR(VLOOKUP(C81,Т1За!$C$47:$D$87,2,0),0) -> 0 | E81: =IFERROR(VLOOKUP(C81,Т1За!$C$47:$E$87,3,0),0) -> 0 | F81: =IFERROR(VLOOKUP(C81,Т1Зб!$C$47:$D$87,2,0),0) -> 0 | G81: =IFERROR(VLOOKUP(C81,Т1Зб!$C$47:$E$87,3,0),0) -> 42 | H81: =IFERROR(VLOOKUP(C81,Т2За!$C$47:$D$87,2,0),0) -> 0 | I81: =IFERROR(VLOOKUP(C81,Т2За!$C$47:$E$87,3,0),0) -> 42 | J81: =IFERROR(VLOOKUP(C81,Т2Зб!$C$47:$D$87,2,0),0) -> 0 | K81: =IFERROR(VLOOKUP(C81,Т2Зб!$C$47:$E$87,3,0),0) -> 0 | L81: =D81+F81+H81+J81 -> 0 | M81: =E81+G81+I81+K81 -> 84 | N81: 42
A82: =A81+1 -> 79 | B82: U2 | C82: Плевский Алексей | D82: =IFERROR(VLOOKUP(C82,Т1За!$C$47:$D$87,2,0),0) -> 0 | E82: =IFERROR(VLOOKUP(C82,Т1За!$C$47:$E$87,3,0),0) -> 42 | F82: =IFERROR(VLOOKUP(C82,Т1Зб!$C$47:$D$87,2,0),0) -> 0 | G82: =IFERROR(VLOOKUP(C82,Т1Зб!$C$47:$E$87,3,0),0) -> 0 | H82: =IFERROR(VLOOKUP(C82,Т2За!$C$47:$D$87,2,0),0) -> 0 | I82: =IFERROR(VLOOKUP(C82,Т2За!$C$47:$E$87,3,0),0) -> 0 | J82: =IFERROR(VLOOKUP(C82,Т2Зб!$C$47:$D$87,2,0),0) -> 264.0625 | K82: =IFERROR(VLOOKUP(C82,Т2Зб!$C$47:$E$87,3,0),0) -> 8 | L82: =D82+F82+H82+J82 -> 264.0625 | M82: =E82+G82+I82+K82 -> 50 | N82: 19 | O82: =L82+L83 -> 264.0625 | P82: =M82+M83 -> 134 | Q82: 19
A83: =A82+1 -> 80 | B83: U2 | C83: Герасимович Сергей | D83: =IFERROR(VLOOKUP(C83,Т1За!$C$47:$D$87,2,0),0) -> 0 | E83: =IFERROR(VLOOKUP(C83,Т1За!$C$47:$E$87,3,0),0) -> 0 | F83: =IFERROR(VLOOKUP(C83,Т1Зб!$C$47:$D$87,2,0),0) -> 0 | G83: =IFERROR(VLOOKUP(C83,Т1Зб!$C$47:$E$87,3,0),0) -> 42 | H83: =IFERROR(VLOOKUP(C83,Т2За!$C$47:$D$87,2,0),0) -> 0 | I83: =IFERROR(VLOOKUP(C83,Т2За!$C$47:$E$87,3,0),0) -> 42 | J83: =IFERROR(VLOOKUP(C83,Т2Зб!$C$47:$D$87,2,0),0) -> 0 | K83: =IFERROR(VLOOKUP(C83,Т2Зб!$C$47:$E$87,3,0),0) -> 0 | L83: =D83+F83+H83+J83 -> 0 | M83: =E83+G83+I83+K83 -> 84 | N83: 42
A84: =A83+1 -> 81 | B84: U1 | C84: Масюк Павел | D84: =IFERROR(VLOOKUP(C84,Т1За!$C$47:$D$87,2,0),0) -> 0 | E84: =IFERROR(VLOOKUP(C84,Т1За!$C$47:$E$87,3,0),0) -> 0 | F84: =IFERROR(VLOOKUP(C84,Т1Зб!$C$47:$D$87,2,0),0) -> 0 | G84: =IFERROR(VLOOKUP(C84,Т1Зб!$C$47:$E$87,3,0),0) -> 42 | H84: =IFERROR(VLOOKUP(C84,Т2За!$C$47:$D$87,2,0),0) -> 0 | I84: =IFERROR(VLOOKUP(C84,Т2За!$C$47:$E$87,3,0),0) -> 42 | J84: =IFERROR(VLOOKUP(C84,Т2Зб!$C$47:$D$87,2,0),0) -> 0 | K84: =IFERROR(VLOOKUP(C84,Т2Зб!$C$47:$E$87,3,0),0) -> 0 | L84: =D84+F84+H84+J84 -> 0 | M84: =E84+G84+I84+K84 -> 84 | N84: 42 | O84: =L84+L85 -> 216.09 | P84: =M84+M85 -> 135 | Q84: =RANK(P84,$P$4:$P$85,1) -> 20
A85: =A84+1 -> 82 | B85: U1 | C85: Савич Сергей | D85: =IFERROR(VLOOKUP(C85,Т1За!$C$47:$D$87,2,0),0) -> 0 | E85: =IFERROR(VLOOKUP(C85,Т1За!$C$47:$E$87,3,0),0) -> 42 | F85: =IFERROR(VLOOKUP(C85,Т1Зб!$C$47:$D$87,2,0),0) -> 0 | G85: =IFERROR(VLOOKUP(C85,Т1Зб!$C$47:$E$87,3,0),0) -> 0 | H85: =IFERROR(VLOOKUP(C85,Т2За!$C$47:$D$87,2,0),0) -> 0 | I85: =IFERROR(VLOOKUP(C85,Т2За!$C$47:$E$87,3,0),0) -> 0 | J85: =IFERROR(VLOOKUP(C85,Т2Зб!$C$47:$D$87,2,0),0) -> 216.09 | K85: =IFERROR(VLOOKUP(C85,Т2Зб!$C$47:$E$87,3,0),0) -> 9 | L85: =D85+F85+H85+J85 -> 216.09 | M85: =E85+G85+I85+K85 -> 51 | N85: =RANK(M85,$M$4:$M$85,1) -> 20
A87: Средний размер окуня, см: | C87: =(Т1За!F44+Т1Зб!F44+Т2За!F44+Т2Зб!F44)/4 -> 14.817949
A88: Средний размер щуки, см: | C88: =(Т1За!M44+Т1Зб!M44+Т2За!M44+Т2Зб!M44)/4 -> 37.89875
