Workbook

Sheet Т1За
A1: № | B1: команда | C1: участник | D1: сумма баллов | E1: место | F1: окунь | V1: щука
F2: размер, см
A3: 1 | B3: Peacock Bass | C3: Сенчуров Иван | D3: =D45 -> 979.21 | E3: =E45 -> 16 | F3: 12 | G3: 28.9
A4: =A3+1 -> 2 | B4: FISHINGSTOCK BELARUS | C4: Бобриков Алексей | D4: =D46 -> 187.69 | E4: =E46 -> 33 | F4: 13.7
A5: =A4+1 -> 3 | B5: West Fishing | C5: Непомнящий Виктор | D5: =D47 -> 2711.77 | E5: =E47 -> 2 | F5: 13.4 | G5: 17.7 | H5: 16.8 | I5: 19.8 | J5: 15.3 | K5: 21.9 | L5: 16.3 | M5: 12.6 | N5: 12.2 | O5: 11.3 | P5: 11.4
A6: =A5+1 -> 4 | B6: UL Hooligans | C6: Уютов Кирилл | D6: =D48 -> 284.98 | E6: =E48 -> 32 | F6: 8.3 | G6: 14.7
A7: =A6+1 -> 5 | B7: Rockfish | C7: Силивончик Павел | D7: =D49 -> 161.29 | E7: =E49 -> 35 | F7: 12.7
A8: =A7+1 -> 6 | B8: Крутой берег | C8: Желтов Евгений | D8: =D50 -> 0 | E8: =E50 -> 40
A9: =A8+1 -> 7 | B9: Pike death TEAM | C9: Круглянин Сергей | D9: =D51 -> 585 | E9: =E51 -> 23 | F9: 17.4 | G9: 16.8
A10: =A9+1 -> 8 | B10: Трудовые резервы | C10: Баранок Артём | D10: =D52 -> 415.44 | E10: =E52 -> 29 | F10: 13.8 | G10: 15
A11: =A10+1 -> 9 | B11: К&М | C11: Мельников Юрий | D11: =D53 -> 169 | E11: =E53 -> 34 | F11: 13
A12: =A11+1 -> 10 | B12: Пятнистый кукан | C12: Хилько Артем | D12: =D54 -> 666.4 | E12: =E54 -> 21 | F12: 16.8 | G12: 19.6
A13: =A12+1 -> 11 | B13: Black River Team | C13: Рабушко Василий | D13: =D55 -> 1005.97 | E13: =E55 -> 14 | F13: 11.9 | G13: 29.4
A14: =A13+1 -> 12 | B14: Дачники | C14: Тищенко Павел | D14: =D56 -> 1004.89 | E14: =E56 -> 15 | F14: 31.7
A15: =A14+1 -> 13 | B15: Amateurs | C15: Куликовский Виталий | D15: =D57 -> 1565.61 | E15: =E57 -> 8 | F15: 10.5 | G15: 20.1 | H15: 12.3 | I15: 10.6 | J15: 10.8 | K15: 11 | L15: 17.1 | M15: 11.4 | N15: 11.3
A16: =A15+1 -> 14 | B16: Против Течениия | C16: Карпеев Тимофей | D16: =D58 -> 811.98 | E16: =E58 -> 18 | F16: 21 | G16: 11.7 | H16: 15.3
A17: =A16+1 -> 15 | B17: ASpinnTeam | C17: Вашкевич Александр | D17: =D59 -> 156.25 | E17: =E59 -> 36 | F17: 12.5
A18: =A17+1 -> 16 | B18: Poseidon | C18: Строк Павел | D18: =D60 -> 1547.23 | E18: =E60 -> 9 | F18: 12.1 | G18: 12.8 | H18: 11.7 | I18: 12.2 | J18: 24.9 | V18: 36.4
A19: =A18+1 -> 17 | B19: Bona Кобрин | C19: Марковский Максим | D19: =D61 -> 2589.37 | E19: =E61 -> 3 | F19: 13.8 | G19: 23.1 | H19: 27.1 | I19: 25.2 | J19: 12.5 | K19: 12.1 | L19: 13.9
A20: =A19+1 -> 18 | B20: ЕК | C20: Ковалёв Евгений | D20: =D62 -> 449.44 | E20: =E62 -> 27 | F20: 21.2
A21: =A20+1 -> 19 | B21: ПВ | C21: Воробьев Павел | D21: =D63 -> 0 | E21: =E63 -> 40
A22: =A21+1 -> 20 | B22: Fanatik Belarus | C22: Шевчук Дмитрий | D22: =D64 -> 2259.79 | E22: =E64 -> 5 | F22: 12.5 | G22: 12 | H22: 12.4 | I22: 12.2 | J22: 11.6 | K22: 12.1 | L22: 11.8 | M22: 11.7 | N22: 11.7 | O22: 12.9 | P22: 12.3 | Q22: 11.4 | R22: 22.7
A23: =A22+1 -> 21 | B23: Bass Hunters | C23: Кириевский Андрей | D23: =D65 -> 2514.28 | E23: =E65 -> 4 | F23: 16.8 | G23: 19.6 | H23: 11.6 | I23: 11.1 | J23: 12.1 | K23: 12.5 | L23: 11.2 | M23: 10.3 | N23: 11.1 | O23: 12.4 | P23: 12.5 | Q23: 13.7 | R23: 11.5 | S23: 12 | T23: 12.6
A24: =A23+1 -> 22 | B24: Alutech Team | C24: Янкович Сергей | D24: =D66 -> 733.33 | E24: =E66 -> 19 | F24: 23.3 | G24: 13.8
A25: =A24+1 -> 23 | B25: Бритый Карась | C25: Герасимович Сергей | D25: =D67 -> 0 | E25: =E67 -> 40
A26: =A25+1 -> 24 | B26: Undercurrent | C26: Ешман Сергей | D26: =D68 -> 450.25 | E26: =E68 -> 26 | F26: 17.5 | G26: 12
A27: =A26+1 -> 25 | B27: XULi-ULi | C27: Лавренчук Станислав | D27: =D69 -> 296.09 | E27: =E69 -> 31 | F27: 11.5 | G27: 12.8
A28: =A27+1 -> 26 | B28: WFT Minsk | C28: Тулупов Александр | D28: =D70 -> 1286.33 | E28: =E70 -> 13 | F28: 11.8 | G28: 10.5 | H28: 32.2
A29: =A28+1 -> 27 | B29: Фарватер | C29: Цыганок Михаил | D29: =D71 -> 439.49 | E29: =E71 -> 28 | F29: 11.8 | G29: 12 | H29: 12.5
A30: =A29+1 -> 28 | B30: Bait Breath Team | C30: Зубко Сергей | D30: =D72 -> 1941.56 | E30: =E72 -> 6 | F30: 12.1 | G30: 24.5 | H30: 11.7 | I30: 11 | J30: 11.1 | K30: 14.8 | L30: 12.4 | M30: 21
A31: =A30+1 -> 29 | B31: Lexass PRO | C31: Булойчик Илья | D31: =D73 -> 614.89 | E31: =E73 -> 22 | F31: 13.5 | G31: 20.8
A32: =A31+1 -> 30 | B32: Dream Team | C32: Тысевич Сергей | D32: =D74 -> 711.02 | E32: =E74 -> 20 | F32: 12.5 | G32: 19.9 | H32: 12.6
A33: =A32+1 -> 31 | B33: nanobass | C33: Бычик Роман | D33: =D75 -> 1488.5 | E33: =E75 -> 11 | F33: 21.7 | G33: 31.9
A34: =A33+1 -> 32 | B34: Mad Perch | C34: Павлючик Андрей | D34: =D76 -> 557.28 | E34: =E76 -> 24 | F34: 11.8 | G34: 11.8 | H34: 11.4 | I34: 12.2
A35: =A34+1 -> 33 | B35: Old Roads Fishing | C35: Синовец Роман | D35: =D77 -> 840.98 | E35: =E77 -> 17 | F35: 17.8 | G35: 12.3 | H35: 15.8 | I35: 11.1
A36: =A35+1 -> 34 | B36: Gefest | C36: Радчук Юрий | D36: =D78 -> 1865.09 | E36: =E78 -> 7 | F36: 25.4 | G36: 12.2 | H36: 12.3 | I36: 13 | J36: 10.5 | K36: 11.9 | L36: 11.7 | M36: 13.8 | N36: 13.1
A37: =A36+1 -> 35 | B37: Legion | C37: Микулов Владимир | D37: =D79 -> 1540.88 | E37: =E79 -> 10 | F37: 11.3 | G37: 14.1 | H37: 18.1 | I37: 12.2 | J37: 13.2 | K37: 17.4 | L37: 14.2 | M37: 7.7
A38: =A37+1 -> 36 | B38: Кооператив ХИЩНИК | C38: Сницкий Виктор | D38: =D80 -> 3021.25 | E38: =E80 -> 1 | F38: 20.5 | V38: 51
A39: =A38+1 -> 37 | B39: FishUp Team | C39: Крук Денис | D39: =D81 -> 537.81 | E39: =E81 -> 25 | F39: 16.6 | G39: 11.6 | H39: 11.3
A40: =A39+1 -> 38 | B40: S'B-FISHING | C40: Сапроненков Евгений | D40: =D82 -> 1435 | E40: =E82 -> 12 | F40: 12.5 | G40: 11.9 | H40: 11.9 | I40: 14.2 | J40: 14.2 | K40: 13.6 | V40: 24.6 | W40: 32
A41: =A40+1 -> 39 | B41: Perch Legends | C41: Корней Валентин | D41: =D83 -> 364.81 | E41: =E83 -> 30 | F41: 19.1
C42: средняя длина рыб по виду: | F42: =AVERAGE(F3:O41) -> 14.871852 | V42: =AVERAGE(V3:X41) -> 36
A43: № | B43: команда | C43: участник | D43: сумма баллов | E43: место | F43: баллы
A45: 1 | B45: Peacock Bass | C45: Сенчуров Иван | D45: =SUM(F45:X45) -> 979.21 | E45: =IF(D45>0,RANK(D45,$D$45:$D$83),40) -> 16 | F45: =POWER(F3,2) -> 144 | G45: =POWER(G3,2) -> 835.21 | H45: =POWER(H3,2) -> 0 | I45: =POWER(I3,2) -> 0 | J45: =POWER(J3,2) -> 0 | K45: =POWER(K3,2) -> 0 | L45: =POWER(L3,2) -> 0 | M45: =POWER(M3,2) -> 0 | ... X45: =POWER(X3,2) -> 0
A46: =A45+1 -> 2 | B46: FISHINGSTOCK BELARUS | C46: Бобриков Алексей | D46: =SUM(F46:X46) -> 187.69 | E46: =IF(D46>0,RANK(D46,$D$45:$D$83),40) -> 33 | F46: =POWER(F4,2) -> 187.69 | G46: =POWER(G4,2) -> 0 | H46: =POWER(H4,2) -> 0 | I46: =POWER(I4,2) -> 0 | J46: =POWER(J4,2) -> 0 | K46: =POWER(K4,2) -> 0 | L46: =POWER(L4,2) -> 0 | M46: =POWER(M4,2) -> 0 | ... X46: =POWER(X4,2) -> 0
A47: =A46+1 -> 3 | B47: West Fishing | C47: Непомнящий Виктор | D47: =SUM(F47:X47) -> 2711.77 | E47: =IF(D47>0,RANK(D47,$D$45:$D$83),40) -> 2 | F47: =POWER(F5,2) -> 179.56 | G47: =POWER(G5,2) -> 313.29 | H47: =POWER(H5,2) -> 282.24 | I47: =POWER(I5,2) -> 392.04 | J47: =POWER(J5,2) -> 234.09 | K47: =POWER(K5,2) -> 479.61 | L47: =POWER(L5,2) -> 265.69 | M47: =POWER(M5,2) -> 158.76 | ... X47: =POWER(X5,2) -> 0
A48: =A47+1 -> 4 | B48: UL Hooligans | C48: Уютов Кирилл | D48: =SUM(F48:X48) -> 284.98 | E48: =IF(D48>0,RANK(D48,$D$45:$D$83),40) -> 32 | F48: =POWER(F6,2) -> 68.89 | G48: =POWER(G6,2) -> 216.09 | H48: =POWER(H6,2) -> 0 | I48: =POWER(I6,2) -> 0 | J48: =POWER(J6,2) -> 0 | K48: =POWER(K6,2) -> 0 | L48: =POWER(L6,2) -> 0 | M48: =POWER(M6,2) -> 0 | ... X48: =POWER(X6,2) -> 0
A49: =A48+1 -> 5 | B49: Rockfish | C49: Силивончик Павел | D49: =SUM(F49:X49) -> 161.29 | E49: =IF(D49>0,RANK(D49,$D$45:$D$83),40) -> 35 | F49: =POWER(F7,2) -> 161.29 | G49: =POWER(G7,2) -> 0 | H49: =POWER(H7,2) -> 0 | I49: =POWER(I7,2) -> 0 | J49: =POWER(J7,2) -> 0 | K49: =POWER(K7,2) -> 0 | L49: =POWER(L7,2) -> 0 | M49: =POWER(M7,2) -> 0 | ... X49: =POWER(X7,2) -> 0
A50: =A49+1 -> 6 | B50: Крутой берег | C50: Желтов Евгений | D50: =SUM(F50:X50) -> 0 | E50: =IF(D50>0,RANK(D50,$D$45:$D$83),40) -> 40 | F50: =POWER(F8,2) -> 0 | G50: =POWER(G8,2) -> 0 | H50: =POWER(H8,2) -> 0 | I50: =POWER(I8,2) -> 0 | J50: =POWER(J8,2) -> 0 | K50: =POWER(K8,2) -> 0 | L50: =POWER(L8,2) -> 0 | M50: =POWER(M8,2) -> 0 | ... X50: =POWER(X8,2) -> 0
A51: =A50+1 -> 7 | B51: Pike death TEAM | C51: Круглянин Сергей | D51: =SUM(F51:X51) -> 585 | E51: =IF(D51>0,RANK(D51,$D$45:$D$83),40) -> 23 | F51: =POWER(F9,2) -> 302.76 | G51: =POWER(G9,2) -> 282.24 | H51: =POWER(H9,2) -> 0 | I51: =POWER(I9,2) -> 0 | J51: =POWER(J9,2) -> 0 | K51: =POWER(K9,2) -> 0 | L51: =POWER(L9,2) -> 0 | M51: =POWER(M9,2) -> 0 | ... X51: =POWER(X9,2) -> 0
A52: =A51+1 -> 8 | B52: Трудовые резервы | C52: Баранок Артём | D52: =SUM(F52:X52) -> 415.44 | E52: =IF(D52>0,RANK(D52,$D$45:$D$83),40) -> 29 | F52: =POWER(F10,2) -> 190.44 | G52: =POWER(G10,2) -> 225 | H52: =POWER(H10,2) -> 0 | I52: =POWER(I10,2) -> 0 | J52: =POWER(J10,2) -> 0 | K52: =POWER(K10,2) -> 0 | L52: =POWER(L10,2) -> 0 | M52: =POWER(M10,2) -> 0 | ... X52: =POWER(X10,2) -> 0
A53: =A52+1 -> 9 | B53: К&М | C53: Мельников Юрий | D53: =SUM(F53:X53) -> 169 | E53: =IF(D53>0,RANK(D53,$D$45:$D$83),40) -> 34 | F53: =POWER(F11,2) -> 169 | G53: =POWER(G11,2) -> 0 | H53: =POWER(H11,2) -> 0 | I53: =POWER(I11,2) -> 0 | J53: =POWER(J11,2) -> 0 | K53: =POWER(K11,2) -> 0 | L53: =POWER(L11,2) -> 0 | M53: =POWER(M11,2) -> 0 | ... X53: =POWER(X11,2) -> 0
A54: =A53+1 -> 10 | B54: Пятнистый кукан | C54: Хилько Артем | D54: =SUM(F54:X54) -> 666.4 | E54: =IF(D54>0,RANK(D54,$D$45:$D$83),40) -> 21 | F54: =POWER(F12,2) -> 282.24 | G54: =POWER(G12,2) -> 384.16 | H54: =POWER(H12,2) -> 0 | I54: =POWER(I12,2) -> 0 | J54: =POWER(J12,2) -> 0 | K54: =POWER(K12,2) -> 0 | L54: =POWER(L12,2) -> 0 | M54: =POWER(M12,2) -> 0 | ... X54: =POWER(X12,2) -> 0
A55: =A54+1 -> 11 | B55: Black River Team | C55: Рабушко Василий | D55: =SUM(F55:X55) -> 1005.97 | E55: =IF(D55>0,RANK(D55,$D$45:$D$83),40) -> 14 | F55: =POWER(F13,2) -> 141.61 | G55: =POWER(G13,2) -> 864.36 | H55: =POWER(H13,2) -> 0 | I55: =POWER(I13,2) -> 0 | J55: =POWER(J13,2) -> 0 | K55: =POWER(K13,2) -> 0 | L55: =POWER(L13,2) -> 0 | M55: =POWER(M13,2) -> 0 | ... X55: =POWER(X13,2) -> 0
A56: =A55+1 -> 12 | B56: Дачники | C56: Тищенко Павел | D56: =SUM(F56:X56) -> 1004.89 | E56: =IF(D56>0,RANK(D56,$D$45:$D$83),40) -> 15 | F56: =POWER(F14,2) -> 1004.89 | G56: =POWER(G14,2) -> 0 | H56: =POWER(H14,2) -> 0 | I56: =POWER(I14,2) -> 0 | J56: =POWER(J14,2) -> 0 | K56: =POWER(K14,2) -> 0 | L56: =POWER(L14,2) -> 0 | M56: =POWER(M14,2) -> 0 | ... X56: =POWER(X14,2) -> 0
A57: =A56+1 -> 13 | B57: Amateurs | C57: Куликовский Виталий | D57: =SUM(F57:X57) -> 1565.61 | E57: =IF(D57>0,RANK(D57,$D$45:$D$83),40) -> 8 | F57: =POWER(F15,2) -> 110.25 | G57: =POWER(G15,2) -> 404.01 | H57: =POWER(H15,2) -> 151.29 | I57: =POWER(I15,2) -> 112.36 | J57: =POWER(J15,2) -> 116.64 | K57: =POWER(K15,2) -> 121 | L57: =POWER(L15,2) -> 292.41 | M57: =POWER(M15,2) -> 129.96 | ... X57: =POWER(X15,2) -> 0
... A59: =A58+1 -> 15 | B59: ASpinnTeam | C59: Вашкевич Александр | D59: =SUM(F59:X59) -> 156.25 | E59: =IF(D59>0,RANK(D59,$D$45:$D$83),40) -> 36 | F59: =POWER(F17,2) -> 156.25 | G59: =POWER(G17,2) -> 0 | H59: =POWER(H17,2) -> 0 | I59: =POWER(I17,2) -> 0 | J59: =POWER(J17,2) -> 0 | K59: =POWER(K17,2) -> 0 | L59: =POWER(L17,2) -> 0 | M59: =POWER(M17,2) -> 0 | ... X59: =POWER(X17,2) -> 0
A60: =A59+1 -> 16 | B60: Poseidon | C60: Строк Павел | D60: =SUM(F60:X60) -> 1547.23 | E60: =IF(D60>0,RANK(D60,$D$45:$D$83),40) -> 9 | F60: =POWER(F18,2) -> 146.41 | G60: =POWER(G18,2) -> 163.84 | H60: =POWER(H18,2) -> 136.89 | I60: =POWER(I18,2) -> 148.84 | J60: =POWER(J18,2) -> 620.01 | K60: =POWER(K18,2) -> 0 | L60: =POWER(L18,2) -> 0 | M60: =POWER(M18,2) -> 0 | ... U60: =POWER(U18,2) -> 0 | V60: =POWER(V18/2,2) -> 331.24 | W60: =POWER(W18,2) -> 0 | X60: =POWER(X18,2) -> 0
A61: =A60+1 -> 17 | B61: Bona Кобрин | C61: Марковский Максим | D61: =SUM(F61:X61) -> 2589.37 | E61: =IF(D61>0,RANK(D61,$D$45:$D$83),40) -> 3 | F61: =POWER(F19,2) -> 190.44 | G61: =POWER(G19,2) -> 533.61 | H61: =POWER(H19,2) -> 734.41 | I61: =POWER(I19,2) -> 635.04 | J61: =POWER(J19,2) -> 156.25 | K61: =POWER(K19,2) -> 146.41 | L61: =POWER(L19,2) -> 193.21 | M61: =POWER(M19,2) -> 0 | ... X61: =POWER(X19,2) -> 0
A62: =A61+1 -> 18 | B62: ЕК | C62: Ковалёв Евгений | D62: =SUM(F62:X62) -> 449.44 | E62: =IF(D62>0,RANK(D62,$D$45:$D$83),40) -> 27 | F62: =POWER(F20,2) -> 449.44 | G62: =POWER(G20,2) -> 0 | H62: =POWER(H20,2) -> 0 | I62: =POWER(I20,2) -> 0 | J62: =POWER(J20,2) -> 0 | K62: =POWER(K20,2) -> 0 | L62: =POWER(L20,2) -> 0 | M62: =POWER(M20,2) -> 0 | ... X62: =POWER(X20,2) -> 0
A63: =A62+1 -> 19 | B63: ПВ | C63: Воробьев Павел | D63: =SUM(F63:X63) -> 0 | E63: =IF(D63>0,RANK(D63,$D$45:$D$83),40) -> 40 | F63: =POWER(F21,2) -> 0 | G63: =POWER(G21,2) -> 0 | H63: =POWER(H21,2) -> 0 | I63: =POWER(I21,2) -> 0 | J63: =POWER(J21,2) -> 0 | K63: =POWER(K21,2) -> 0 | L63: =POWER(L21,2) -> 0 | M63: =POWER(M21,2) -> 0 | ... X63: =POWER(X21,2) -> 0
A64: =A63+1 -> 20 | B64: Fanatik Belarus | C64: Шевчук Дмитрий | D64: =SUM(F64:X64) -> 2259.79 | E64: =IF(D64>0,RANK(D64,$D$45:$D$83),40) -> 5 | F64: =POWER(F22,2) -> 156.25 | G64: =POWER(G22,2) -> 144 | H64: =POWER(H22,2) -> 153.76 | I64: =POWER(I22,2) -> 148.84 | J64: =POWER(J22,2) -> 134.56 | K64: =POWER(K22,2) -> 146.41 | L64: =POWER(L22,2) -> 139.24 | M64: =POWER(M22,2) -> 136.89 | ... X64: =POWER(X22,2) -> 0
A65: =A64+1 -> 21 | B65: Bass Hunters | C65: Кириевский Андрей | D65: =SUM(F65:X65) -> 2514.28 | E65: =IF(D65>0,RANK(D65,$D$45:$D$83),40) -> 4 | F65: =POWER(F23,2) -> 282.24 | G65: =POWER(G23,2) -> 384.16 | H65: =POWER(H23,2) -> 134.56 | I65: =POWER(I23,2) -> 123.21 | J65: =POWER(J23,2) -> 146.41 | K65: =POWER(K23,2) -> 156.25 | L65: =POWER(L23,2) -> 125.44 | M65: =POWER(M23,2) -> 106.09 | ... X65: =POWER(X23,2) -> 0
A66: =A65+1 -> 22 | B66: Alutech Team | C66: Янкович Сергей | D66: =SUM(F66:X66) -> 733.33 | E66: =IF(D66>0,RANK(D66,$D$45:$D$83),40) -> 19 | F66: =POWER(F24,2) -> 542.89 | G66: =POWER(G24,2) -> 190.44 | H66: =POWER(H24,2) -> 0 | I66: =POWER(I24,2) -> 0 | J66: =POWER(J24,2) -> 0 | K66: =POWER(K24,2) -> 0 | L66: =POWER(L24,2) -> 0 | M66: =POWER(M24,2) -> 0 | ... X66: =POWER(X24,2) -> 0
A67: =A66+1 -> 23 | B67: Бритый Карась | C67: Герасимович Сергей | D67: =SUM(F67:X67) -> 0 | E67: =IF(D67>0,RANK(D67,$D$45:$D$83),40) -> 40 | F67: =POWER(F25,2) -> 0 | G67: =POWER(G25,2) -> 0 | H67: =POWER(H25,2) -> 0 | I67: =POWER(I25,2) -> 0 | J67: =POWER(J25,2) -> 0 | K67: =POWER(K25,2) -> 0 | L67: =POWER(L25,2) -> 0 | M67: =POWER(M25,2) -> 0 | ... X67: =POWER(X25,2) -> 0
A68: =A67+1 -> 24 | B68: Undercurrent | C68: Ешман Сергей | D68: =SUM(F68:X68) -> 450.25 | E68: =IF(D68>0,RANK(D68,$D$45:$D$83),40) -> 26 | F68: =POWER(F26,2) -> 306.25 | G68: =POWER(G26,2) -> 144 | H68: =POWER(H26,2) -> 0 | I68: =POWER(I26,2) -> 0 | J68: =POWER(J26,2) -> 0 | K68: =POWER(K26,2) -> 0 | L68: =POWER(L26,2) -> 0 | M68: =POWER(M26,2) -> 0 | ... X68: =POWER(X26,2) -> 0
A69: =A68+1 -> 25 | B69: XULi-ULi | C69: Лавренчук Станислав | D69: =SUM(F69:X69) -> 296.09 | E69: =IF(D69>0,RANK(D69,$D$45:$D$83),40) -> 31 | F69: =POWER(F27,2) -> 132.25 | G69: =POWER(G27,2) -> 163.84 | H69: =POWER(H27,2) -> 0 | I69: =POWER(I27,2) -> 0 | J69: =POWER(J27,2) -> 0 | K69: =POWER(K27,2) -> 0 | L69: =POWER(L27,2) -> 0 | M69: =POWER(M27,2) -> 0 | ... X69: =POWER(X27,2) -> 0
A70: =A69+1 -> 26 | B70: WFT Minsk | C70: Тулупов Александр | D70: =SUM(F70:X70) -> 1286.33 | E70: =IF(D70>0,RANK(D70,$D$45:$D$83),40) -> 13 | F70: =POWER(F28,2) -> 139.24 | G70: =POWER(G28,2) -> 110.25 | H70: =POWER(H28,2) -> 1036.84 | I70: =POWER(I28,2) -> 0 | J70: =POWER(J28,2) -> 0 | K70: =POWER(K28,2) -> 0 | L70: =POWER(L28,2) -> 0 | M70: =POWER(M28,2) -> 0 | ... X70: =POWER(X28,2) -> 0
A71: =A70+1 -> 27 | B71: Фарватер | C71: Цыганок Михаил | D71: =SUM(F71:X71) -> 439.49 | E71: =IF(D71>0,RANK(D71,$D$45:$D$83),40) -> 28 | F71: =POWER(F29,2) -> 139.24 | G71: =POWER(G29,2) -> 144 | H71: =POWER(H29,2) -> 156.25 | I71: =POWER(I29,2) -> 0 | J71: =POWER(J29,2) -> 0 | K71: =POWER(K29,2) -> 0 | L71: =POWER(L29,2) -> 0 | M71: =POWER(M29,2) -> 0 | ... X71: =POWER(X29,2) -> 0
A72: =A71+1 -> 28 | B72: Bait Breath Team | C72: Зубко Сергей | D72: =SUM(F72:X72) -> 1941.56 | E72: =IF(D72>0,RANK(D72,$D$45:$D$83),40) -> 6 | F72: =POWER(F30,2) -> 146.41 | G72: =POWER(G30,2) -> 600.25 | H72: =POWER(H30,2) -> 136.89 | I72: =POWER(I30,2) -> 121 | J72: =POWER(J30,2) -> 123.21 | K72: =POWER(K30,2) -> 219.04 | L72: =POWER(L30,2) -> 153.76 | M72: =POWER(M30,2) -> 441 | ... X72: =POWER(X30,2) -> 0
... A81: =A80+1 -> 37 | B81: FishUp Team | C81: Крук Денис | D81: =SUM(F81:X81) -> 537.81 | E81: =IF(D81>0,RANK(D81,$D$45:$D$83),40) -> 25 | F81: =POWER(F39,2) -> 275.56 | G81: =POWER(G39,2) -> 134.56 | H81: =POWER(H39,2) -> 127.69 | I81: =POWER(I39,2) -> 0 | J81: =POWER(J39,2) -> 0 | K81: =POWER(K39,2) -> 0 | L81: =POWER(L39,2) -> 0 | M81: =POWER(M39,2) -> 0 | ... X81: =POWER(X39,2) -> 0
A82: =A81+1 -> 38 | B82: S'B-FISHING | C82: Сапроненков Евгений | D82: =SUM(F82:X82) -> 1435 | E82: =IF(D82>0,RANK(D82,$D$45:$D$83),40) -> 12 | F82: =POWER(F40,2) -> 156.25 | G82: =POWER(G40,2) -> 141.61 | H82: =POWER(H40,2) -> 141.61 | I82: =POWER(I40,2) -> 201.64 | J82: =POWER(J40,2) -> 201.64 | K82: =POWER(K40,2) -> 184.96 | L82: =POWER(L40,2) -> 0 | M82: =POWER(M40,2) -> 0 | ... U82: =POWER(U40,2) -> 0 | V82: =POWER(V40/2,2) -> 151.29 | W82: =POWER(W40/2,2) -> 256 | X82: =POWER(X40,2) -> 0
A83: =A82+1 -> 39 | B83: Perch Legends | C83: Корней Валентин | D83: =SUM(F83:X83) -> 364.81 | E83: =IF(D83>0,RANK(D83,$D$45:$D$83),40) -> 30 | F83: =POWER(F41,2) -> 364.81 | G83: =POWER(G41,2) -> 0 | H83: =POWER(H41,2) -> 0 | I83: =POWER(I41,2) -> 0 | J83: =POWER(J41,2) -> 0 | K83: =POWER(K41,2) -> 0 | L83: =POWER(L41,2) -> 0 | M83: =POWER(M41,2) -> 0 | ... X83: =POWER(X41,2) -> 0

Sheet Т1Зб
A1: № | B1: команда | C1: участник | D1: сумма баллов | E1: место | F1: окунь | N1: щука
F2: размер, см
A3: 1 | B3: Peacock Bass | C3: Дроздов Виталий | D3: =D45 -> 601.5 | E3: =E45 -> 16 | F3: 12 | G3: 13 | H3: 11.5 | I3: 12.5
A4: =A3+1 -> 2 | B4: FISHINGSTOCK BELARUS | C4: Лунякин Олег | D4: =D46 -> 572.26 | E4: =E46 -> 19 | F4: 11.6 | G4: 11.5 | H4: 11.9 | I4: 12.8
A5: =A4+1 -> 3 | B5: West Fishing | C5: Золотарь Андрей | D5: =D47 -> 141.61 | E5: =E47 -> 34 | F5: 11.9
A6: =A5+1 -> 4 | B6: UL Hooligans | C6: Дешкевич Виталий | D6: =D48 -> 414.49 | E6: =E48 -> 24 | F6: 15.5 | G6: 13.2
A7: =A6+1 -> 5 | B7: Rockfish | C7: Лазарчик Евгений | D7: =D49 -> 340.85 | E7: =E49 -> 28 | F7: 13.4 | G7: 12.7
A8: =A7+1 -> 6 | B8: Крутой берег | C8: Желтов Игорь | D8: =D50 -> 0 | E8: =E50 -> 40
A9: =A8+1 -> 7 | B9: Pike death TEAM | C9: Ставер Дмитрий | D9: =D51 -> 424.4 | E9: =E51 -> 23 | F9: 16.6 | G9: 12.2
A10: =A9+1 -> 8 | B10: Трудовые резервы | C10: Пожарский Константин | D10: =D52 -> 588.6 | E10: =E52 -> 18 | F10: 11.1 | G10: 10.1 | H10: 11.5 | I10: 10.7 | J10: 10.8
A11: =A10+1 -> 9 | B11: К&М | C11: Казаченко Владимир | D11: =D53 -> 591.32 | E11: =E53 -> 17 | F11: 11.7 | G11: 12.7 | H11: 11.7 | I11: 12.5
A12: =A11+1 -> 10 | B12: Пятнистый кукан | C12: Анпилов Андрей | D12: =D54 -> 394.69 | E12: =E54 -> 26 | F12: 11.5 | G12: 16.2
A13: =A12+1 -> 11 | B13: Black River Team | C13: Ворон Павел | D13: =D55 -> 196 | E13: =E55 -> 31 | F13: 14
A14: =A13+1 -> 12 | B14: Дачники | C14: Сапун Станислав | D14: =D56 -> 207.36 | E14: =E56 -> 30 | F14: 14.4
A15: =A14+1 -> 13 | B15: Amateurs | C15: Соколов Кирилл | D15: =D57 -> 1554.82 | E15: =E57 -> 4 | F15: 12.5 | G15: 12.5 | H15: 12.1 | I15: 12.5 | J15: 15.8 | K15: 10.9 | L15: 23.9
A16: =A15+1 -> 14 | B16: Против Течениия | C16: Ананич Геннадий | D16: =D58 -> 620.5 | E16: =E58 -> 15 | F16: 12.4 | G16: 11.6 | H16: 11.3 | N16: 28.6
A17: =A16+1 -> 15 | B17: ASpinnTeam | C17: Нугуманов Артём | D17: =D59 -> 700.2 | E17: =E59 -> 13 | F17: 22.2 | G17: 14.4
A18: =A17+1 -> 16 | B18: Poseidon | C18: Чижонок Сергей | D18: =D60 -> 2405.23 | E18: =E60 -> 2 | F18: 31.2 | G18: 11.5 | H18: 12.1 | I18: 14.2 | J18: 11.8 | K18: 28.5
A19: =A18+1 -> 17 | B19: Bona Кобрин | C19: Барташук Александр | D19: =D61 -> 859.35 | E19: =E61 -> 10 | F19: 12 | G19: 12.3 | H19: 17 | I19: 10.9 | J19: 12.5
A20: =A19+1 -> 18 | B20: ЕК | C20: Казанцев Евгений | D20: =D62 -> 3782.25 | E20: =E62 -> 1 | N20: 61.5
A21: =A20+1 -> 19 | B21: ПВ | C21: Пластун Вячеслав | D21: =D63 -> 543.46 | E21: =E63 -> 20 | F21: 11.3 | G21: 12.2 | H21: 11.8 | I21: 11.3
A22: =A21+1 -> 20 | B22: Fanatik Belarus | C22: Рулинский Александр | D22: =D64 -> 327.68 | E22: =E64 -> 29 | F22: 12.8 | G22: 12.8
A23: =A22+1 -> 21 | B23: Bass Hunters | C23: Шевко Виталий | D23: =D65 -> 1233.61 | E23: =E65 -> 7 | F23: 12.8 | G23: 12.4 | H23: 11.5 | I23: 25 | J23: 12.6
A24: =A23+1 -> 22 | B24: Alutech Team | C24: Купрейчик Сергей | D24: =D66 -> 487.85 | E24: =E66 -> 22 | F24: 12.5 | G24: 11.4 | H24: 14.2
A25: =A24+1 -> 23 | B25: Бритый Карась | C25: Левандовский Дмитрий | D25: =D67 -> 169 | E25: =E67 -> 33 | F25: 13
A26: =A25+1 -> 24 | B26: Undercurrent | C26: Хоухлянцев Дмитрий | D26: =D68 -> 401.89 | E26: =E68 -> 25 | F26: 11.7 | G26: 12 | H26: 11
A27: =A26+1 -> 25 | B27: XULi-ULi | C27: Воробьёв Андрей | D27: =D69 -> 0 | E27: =E69 -> 40
A28: =A27+1 -> 26 | B28: WFT Minsk | C28: Каморников Евгений | D28: =D70 -> 0 | E28: =E70 -> 40
A29: =A28+1 -> 27 | B29: Фарватер | C29: Попельский Максим | D29: =D71 -> 898.69 | E29: =E71 -> 9 | F29: 13 | G29: 17 | H29: 11.3 | I29: 12 | J29: 13
A30: =A29+1 -> 28 | B30: Bait Breath Team | C30: Бахур Александр | D30: =D72 -> 752.93 | E30: =E72 -> 12 | F30: 10.8 | G30: 11 | H30: 22.7
A31: =A30+1 -> 29 | B31: Lexass PRO | C31: Санюк Алексей | D31: =D73 -> 377.14 | E31: =E73 -> 27 | F31: 15.5 | G31: 11.7
A32: =A31+1 -> 30 | B32: Dream Team | C32: Золотухин Александр | D32: =D74 -> 841.5 | E32: =E74 -> 11 | F32: 11.9 | G32: 12.2 | H32: 10.8 | I32: 12 | J32: 12.1 | K32: 12
A33: =A32+1 -> 31 | B33: nanobass | C33: Мартынчук Михаил | D33: =D75 -> 0 | E33: =E75 -> 40
A34: =A33+1 -> 32 | B34: Mad Perch | C34: Масюк Павел | D34: =D76 -> 1296.55 | E34: =E76 -> 6 | F34: 13.2 | G34: 11.4 | H34: 12.2 | I34: 14.5 | J34: 12.6 | K34: 18.5 | L34: 11.5
A35: =A34+1 -> 33 | B35: Old Roads Fishing | C35: Чернышёв Егор | D35: =D77 -> 0 | E35: =E77 -> 40
A36: =A35+1 -> 34 | B36: Gefest | C36: Саган Сергей | D36: =D78 -> 1341.61 | E36: =E78 -> 5 | F36: 11.5 | G36: 11.8 | H36: 12.3 | I36: 10.9 | J36: 10.9 | K36: 26.1
A37: =A36+1 -> 35 | B37: Legion | C37: Бойко Сергей | D37: =D79 -> 508.25 | E37: =E79 -> 21 | F37: 14.5 | G37: 12.6 | H37: 11.8
A38: =A37+1 -> 36 | B38: Кооператив ХИЩНИК | C38: Сницкий Владимир | D38: =D80 -> 193.09 | E38: =E80 -> 32 | F38: 11.5 | G38: 7.8
A39: =A38+1 -> 37 | B39: FishUp Team | C39: Волосевич Виталий | D39: =D81 -> 1591.22 | E39: =E81 -> 3 | F39: 13.2 | G39: 12.4 | H39: 11.5 | I39: 12.1 | J39: 12 | K39: 23.4 | L39: 11.8 | M39: 12.4
A40: =A39+1 -> 38 | B40: S'B-FISHING | C40: Болбас Тимофей | D40: =D82 -> 665.98 | E40: =E82 -> 14 | F40: 11.7 | G40: 12.2 | H40: 19.5
A41: =A40+1 -> 39 | B41: Perch Legends | C41: Лабанок Александр | D41: =D83 -> 918.01 | E41: =E83 -> 8 | F41: 12 | G41: 12 | H41: 25.1
C42: средняя длина рыб по виду: | F42: =AVERAGE(F3:L41) -> 13.475 | N42: =AVERAGE(N3:P41) -> 45.05
A43: № | B43: команда | C43: участник | D43: сумма баллов | E43: место | F43: баллы
A45: 1 | B45: Peacock Bass | C45: Дроздов Виталий | D45: =SUM(F45:P45) -> 601.5 | E45: =IF(D45>0,RANK(D45,$D$45:$D$83),40) -> 16 | F45: =POWER(F3,2) -> 144 | G45: =POWER(G3,2) -> 169 | H45: =POWER(H3,2) -> 132.25 | I45: =POWER(I3,2) -> 156.25 | J45: =POWER(J3,2) -> 0 | K45: =POWER(K3,2) -> 0 | L45: =POWER(L3,2) -> 0 | M45: =POWER(M3,2) -> 0 | ... P45: =POWER(P3,2) -> 0
A46: =A45+1 -> 2 | B46: FISHINGSTOCK BELARUS | C46: Лунякин Олег | D46: =SUM(F46:P46) -> 572.26 | E46: =IF(D46>0,RANK(D46,$D$45:$D$83),40) -> 19 | F46: =POWER(F4,2) -> 134.56 | G46: =POWER(G4,2) -> 132.25 | H46: =POWER(H4,2) -> 141.61 | I46: =POWER(I4,2) -> 163.84 | J46: =POWER(J4,2) -> 0 | K46: =POWER(K4,2) -> 0 | L46: =POWER(L4,2) -> 0 | M46: =POWER(M4,2) -> 0 | ... P46: =POWER(P4,2) -> 0
A47: =A46+1 -> 3 | B47: West Fishing | C47: Золотарь Андрей | D47: =SUM(F47:P47) -> 141.61 | E47: =IF(D47>0,RANK(D47,$D$45:$D$83),40) -> 34 | F47: =POWER(F5,2) -> 141.61 | G47: =POWER(G5,2) -> 0 | H47: =POWER(H5,2) -> 0 | I47: =POWER(I5,2) -> 0 | J47: =POWER(J5,2) -> 0 | K47: =POWER(K5,2) -> 0 | L47: =POWER(L5,2) -> 0 | M47: =POWER(M5,2) -> 0 | ... P47: =POWER(P5,2) -> 0
A48: =A47+1 -> 4 | B48: UL Hooligans | C48: Дешкевич Виталий | D48: =SUM(F48:P48) -> 414.49 | E48: =IF(D48>0,RANK(D48,$D$45:$D$83),40) -> 24 | F48: =POWER(F6,2) -> 240.25 | G48: =POWER(G6,2) -> 174.24 | H48: =POWER(H6,2) -> 0 | I48: =POWER(I6,2) -> 0 | J48: =POWER(J6,2) -> 0 | K48: =POWER(K6,2) -> 0 | L48: =POWER(L6,2) -> 0 | M48: =POWER(M6,2) -> 0 | ... P48: =POWER(P6,2) -> 0
A49: =A48+1 -> 5 | B49: Rockfish | C49: Лазарчик Евгений | D49: =SUM(F49:P49) -> 340.85 | E49: =IF(D49>0,RANK(D49,$D$45:$D$83),40) -> 28 | F49: =POWER(F7,2) -> 179.56 | G49: =POWER(G7,2) -> 161.29 | H49: =POWER(H7,2) -> 0 | I49: =POWER(I7,2) -> 0 | J49: =POWER(J7,2) -> 0 | K49: =POWER(K7,2) -> 0 | L49: =POWER(L7,2) -> 0 | M49: =POWER(M7,2) -> 0 | ... P49: =POWER(P7,2) -> 0
A50: =A49+1 -> 6 | B50: Крутой берег | C50: Желтов Игорь | D50: =SUM(F50:P50) -> 0 | E50: =IF(D50>0,RANK(D50,$D$45:$D$83),40) -> 40 | F50: =POWER(F8,2) -> 0 | G50: =POWER(G8,2) -> 0 | H50: =POWER(H8,2) -> 0 | I50: =POWER(I8,2) -> 0 | J50: =POWER(J8,2) -> 0 | K50: =POWER(K8,2) -> 0 | L50: =POWER(L8,2) -> 0 | M50: =POWER(M8,2) -> 0 | ... P50: =POWER(P8,2) -> 0
A51: =A50+1 -> 7 | B51: Pike death TEAM | C51: Ставер Дмитрий | D51: =SUM(F51:P51) -> 424.4 | E51: =IF(D51>0,RANK(D51,$D$45:$D$83),40) -> 23 | F51: =POWER(F9,2) -> 275.56 | G51: =POWER(G9,2) -> 148.84 | H51: =POWER(H9,2) -> 0 | I51: =POWER(I9,2) -> 0 | J51: =POWER(J9,2) -> 0 | K51: =POWER(K9,2) -> 0 | L51: =POWER(L9,2) -> 0 | M51: =POWER(M9,2) -> 0 | ... P51: =POWER(P9,2) -> 0
A52: =A51+1 -> 8 | B52: Трудовые резервы | C52: Пожарский Константин | D52: =SUM(F52:P52) -> 588.6 | E52: =IF(D52>0,RANK(D52,$D$45:$D$83),40) -> 18 | F52: =POWER(F10,2) -> 123.21 | G52: =POWER(G10,2) -> 102.01 | H52: =POWER(H10,2) -> 132.25 | I52: =POWER(I10,2) -> 114.49 | J52: =POWER(J10,2) -> 116.64 | K52: =POWER(K10,2) -> 0 | L52: =POWER(L10,2) -> 0 | M52: =POWER(M10,2) -> 0 | ... P52: =POWER(P10,2) -> 0
A53: =A52+1 -> 9 | B53: К&М | C53: Казаченко Владимир | D53: =SUM(F53:P53) -> 591.32 | E53: =IF(D53>0,RANK(D53,$D$45:$D$83),40) -> 17 | F53: =POWER(F11,2) -> 136.89 | G53: =POWER(G11,2) -> 161.29 | H53: =POWER(H11,2) -> 136.89 | I53: =POWER(I11,2) -> 156.25 | J53: =POWER(J11,2) -> 0 | K53: =POWER(K11,2) -> 0 | L53: =POWER(L11,2) -> 0 | M53: =POWER(M11,2) -> 0 | ... P53: =POWER(P11,2) -> 0
A54: =A53+1 -> 10 | B54: Пятнистый кукан | C54: Анпилов Андрей | D54: =SUM(F54:P54) -> 394.69 | E54: =IF(D54>0,RANK(D54,$D$45:$D$83),40) -> 26 | F54: =POWER(F12,2) -> 132.25 | G54: =POWER(G12,2) -> 262.44 | H54: =POWER(H12,2) -> 0 | I54: =POWER(I12,2) -> 0 | J54: =POWER(J12,2) -> 0 | K54: =POWER(K12,2) -> 0 | L54: =POWER(L12,2) -> 0 | M54: =POWER(M12,2) -> 0 | ... P54: =POWER(P12,2) -> 0
A55: =A54+1 -> 11 | B55: Black River Team | C55: Ворон Павел | D55: =SUM(F55:P55) -> 196 | E55: =IF(D55>0,RANK(D55,$D$45:$D$83),40) -> 31 | F55: =POWER(F13,2) -> 196 | G55: =POWER(G13,2) -> 0 | H55: =POWER(H13,2) -> 0 | I55: =POWER(I13,2) -> 0 | J55: =POWER(J13,2) -> 0 | K55: =POWER(K13,2) -> 0 | L55: =POWER(L13,2) -> 0 | M55: =POWER(M13,2) -> 0 | ... P55: =POWER(P13,2) -> 0
A56: =A55+1 -> 12 | B56: Дачники | C56: Сапун Станислав | D56: =SUM(F56:P56) -> 207.36 | E56: =IF(D56>0,RANK(D56,$D$45:$D$83),40) -> 30 | F56: =POWER(F14,2) -> 207.36 | G56: =POWER(G14,2) -> 0 | H56: =POWER(H14,2) -> 0 | I56: =POWER(I14,2) -> 0 | J56: =POWER(J14,2) -> 0 | K56: =POWER(K14,2) -> 0 | L56: =POWER(L14,2) -> 0 | M56: =POWER(M14,2) -> 0 | ... P56: =POWER(P14,2) -> 0
A57: =A56+1 -> 13 | B57: Amateurs | C57: Соколов Кирилл | D57: =SUM(F57:P57) -> 1554.82 | E57: =IF(D57>0,RANK(D57,$D$45:$D$83),40) -> 4 | F57: =POWER(F15,2) -> 156.25 | G57: =POWER(G15,2) -> 156.25 | H57: =POWER(H15,2) -> 146.41 | I57: =POWER(I15,2) -> 156.25 | J57: =POWER(J15,2) -> 249.64 | K57: =POWER(K15,2) -> 118.81 | L57: =POWER(L15,2) -> 571.21 | M57: =POWER(M15,2) -> 0 | ... P57: =POWER(P15,2) -> 0
A58: =A57+1 -> 14 | B58: Против Течениия | C58: Ананич Геннадий | D58: =SUM(F58:P58) -> 620.5 | E58: =IF(D58>0,RANK(D58,$D$45:$D$83),40) -> 15 | F58: =POWER(F16,2) -> 153.76 | G58: =POWER(G16,2) -> 134.56 | H58: =POWER(H16,2) -> 127.69 | I58: =POWER(I16,2) -> 0 | J58: =POWER(J16,2) -> 0 | K58: =POWER(K16,2) -> 0 | L58: =POWER(L16,2) -> 0 | M58: =POWER(M16,2) -> 0 | N58: =POWER(N16/2,2) -> 204.49 | O58: =POWER(O16,2) -> 0 | P58: =POWER(P16,2) -> 0
A59: =A58+1 -> 15 | B59: ASpinnTeam | C59: Нугуманов Артём | D59: =SUM(F59:P59) -> 700.2 | E59: =IF(D59>0,RANK(D59,$D$45:$D$83),40) -> 13 | F59: =POWER(F17,2) -> 492.84 | G59: =POWER(G17,2) -> 207.36 | H59: =POWER(H17,2) -> 0 | I59: =POWER(I17,2) -> 0 | J59: =POWER(J17,2) -> 0 | K59: =POWER(K17,2) -> 0 | L59: =POWER(L17,2) -> 0 | M59: =POWER(M17,2) -> 0 | ... P59: =POWER(P17,2) -> 0
A60: =A59+1 -> 16 | B60: Poseidon | C60: Чижонок Сергей | D60: =SUM(F60:P60) -> 2405.23 | E60: =IF(D60>0,RANK(D60,$D$45:$D$83),40) -> 2 | F60: =POWER(F18,2) -> 973.44 | G60: =POWER(G18,2) -> 132.25 | H60: =POWER(H18,2) -> 146.41 | I60: =POWER(I18,2) -> 201.64 | J60: =POWER(J18,2) -> 139.24 | K60: =POWER(K18,2) -> 812.25 | L60: =POWER(L18,2) -> 0 | M60: =POWER(M18,2) -> 0 | ... P60: =POWER(P18,2) -> 0
A61: =A60+1 -> 17 | B61: Bona Кобрин | C61: Барташук Александр | D61: =SUM(F61:P61) -> 859.35 | E61: =IF(D61>0,RANK(D61,$D$45:$D$83),40) -> 10 | F61: =POWER(F19,2) -> 144 | G61: =POWER(G19,2) -> 151.29 | H61: =POWER(H19,2) -> 289 | I61: =POWER(I19,2) -> 118.81 | J61: =POWER(J19,2) -> 156.25 | K61: =POWER(K19,2) -> 0 | L61: =POWER(L19,2) -> 0 | M61: =POWER(M19,2) -> 0 | ... P61: =POWER(P19,2) -> 0
A62: =A61+1 -> 18 | B62: ЕК | C62: Казанцев Евгений | D62: =SUM(F62:P62) -> 3782.25 | E62: =IF(D62>0,RANK(D62,$D$45:$D$83),40) -> 1 | F62: =POWER(F20,2) -> 0 | G62: =POWER(G20,2) -> 0 | H62: =POWER(H20,2) -> 0 | I62: =POWER(I20,2) -> 0 | J62: =POWER(J20,2) -> 0 | K62: =POWER(K20,2) -> 0 | L62: =POWER(L20,2) -> 0 | M62: =POWER(M20,2) -> 0 | ... P62: =POWER(P20,2) -> 0
A63: =A62+1 -> 19 | B63: ПВ | C63: Пластун Вячеслав | D63: =SUM(F63:P63) -> 543.46 | E63: =IF(D63>0,RANK(D63,$D$45:$D$83),40) -> 20 | F63: =POWER(F21,2) -> 127.69 | G63: =POWER(G21,2) -> 148.84 | H63: =POWER(H21,2) -> 139.24 | I63: =POWER(I21,2) -> 127.69 | J63: =POWER(J21,2) -> 0 | K63: =POWER(K21,2) -> 0 | L63: =POWER(L21,2) -> 0 | M63: =POWER(M21,2) -> 0 | ... P63: =POWER(P21,2) -> 0
A64: =A63+1 -> 20 | B64: Fanatik Belarus | C64: Рулинский Александр | D64: =SUM(F64:P64) -> 327.68 | E64: =IF(D64>0,RANK(D64,$D$45:$D$83),40) -> 29 | F64: =POWER(F22,2) -> 163.84 | G64: =POWER(G22,2) -> 163.84 | H64: =POWER(H22,2) -> 0 | I64: =POWER(I22,2) -> 0 | J64: =POWER(J22,2) -> 0 | K64: =POWER(K22,2) -> 0 | L64: =POWER(L22,2) -> 0 | M64: =POWER(M22,2) -> 0 | ... P64: =POWER(P22,2) -> 0
A65: =A64+1 -> 21 | B65: Bass Hunters | C65: Шевко Виталий | D65: =SUM(F65:P65) -> 1233.61 | E65: =IF(D65>0,RANK(D65,$D$45:$D$83),40) -> 7 | F65: =POWER(F23,2) -> 163.84 | G65: =POWER(G23,2) -> 153.76 | H65: =POWER(H23,2) -> 132.25 | I65: =POWER(I23,2) -> 625 | J65: =POWER(J23,2) -> 158.76 | K65: =POWER(K23,2) -> 0 | L65: =POWER(L23,2) -> 0 | M65: =POWER(M23,2) -> 0 | ... P65: =POWER(P23,2) -> 0
A66: =A65+1 -> 22 | B66: Alutech Team | C66: Купрейчик Сергей | D66: =SUM(F66:P66) -> 487.85 | E66: =IF(D66>0,RANK(D66,$D$45:$D$83),40) -> 22 | F66: =POWER(F24,2) -> 156.25 | G66: =POWER(G24,2) -> 129.96 | H66: =POWER(H24,2) -> 201.64 | I66: =POWER(I24,2) -> 0 | J66: =POWER(J24,2) -> 0 | K66: =POWER(K24,2) -> 0 | L66: =POWER(L24,2) -> 0 | M66: =POWER(M24,2) -> 0 | ... P66: =POWER(P24,2) -> 0
A67: =A66+1 -> 23 | B67: Бритый Карась | C67: Левандовский Дмитрий | D67: =SUM(F67:P67) -> 169 | E67: =IF(D67>0,RANK(D67,$D$45:$D$83),40) -> 33 | F67: =POWER(F25,2) -> 169 | G67: =POWER(G25,2) -> 0 | H67: =POWER(H25,2) -> 0 | I67: =POWER(I25,2) -> 0 | J67: =POWER(J25,2) -> 0 | K67: =POWER(K25,2) -> 0 | L67: =POWER(L25,2) -> 0 | M67: =POWER(M25,2) -> 0 | ... P67: =POWER(P25,2) -> 0
A68: =A67+1 -> 24 | B68: Undercurrent | C68: Хоухлянцев Дмитрий | D68: =SUM(F68:P68) -> 401.89 | E68: =IF(D68>0,RANK(D68,$D$45:$D$83),40) -> 25 | F68: =POWER(F26,2) -> 136.89 | G68: =POWER(G26,2) -> 144 | H68: =POWER(H26,2) -> 121 | I68: =POWER(I26,2) -> 0 | J68: =POWER(J26,2) -> 0 | K68: =POWER(K26,2) -> 0 | L68: =POWER(L26,2) -> 0 | M68: =POWER(M26,2) -> 0 | ... P68: =POWER(P26,2) -> 0
A69: =A68+1 -> 25 | B69: XULi-ULi | C69: Воробьёв Андрей | D69: =SUM(F69:P69) -> 0 | E69: =IF(D69>0,RANK(D69,$D$45:$D$83),40) -> 40 | F69: =POWER(F27,2) -> 0 | G69: =POWER(G27,2) -> 0 | H69: =POWER(H27,2) -> 0 | I69: =POWER(I27,2) -> 0 | J69: =POWER(J27,2) -> 0 | K69: =POWER(K27,2) -> 0 | L69: =POWER(L27,2) -> 0 | M69: =POWER(M27,2) -> 0 | ... P69: =POWER(P27,2) -> 0
A70: =A69+1 -> 26 | B70: WFT Minsk | C70: Каморников Евгений | D70: =SUM(F70:P70) -> 0 | E70: =IF(D70>0,RANK(D70,$D$45:$D$83),40) -> 40 | F70: =POWER(F28,2) -> 0 | G70: =POWER(G28,2) -> 0 | H70: =POWER(H28,2) -> 0 | I70: =POWER(I28,2) -> 0 | J70: =POWER(J28,2) -> 0 | K70: =POWER(K28,2) -> 0 | L70: =POWER(L28,2) -> 0 | M70: =POWER(M28,2) -> 0 | ... P70: =POWER(P28,2) -> 0
... A83: =A82+1 -> 39 | B83: Perch Legends | C83: Лабанок Александр | D83: =SUM(F83:P83) -> 918.01 | E83: =IF(D83>0,RANK(D83,$D$45:$D$83),40) -> 8 | F83: =POWER(F41,2) -> 144 | G83: =POWER(G41,2) -> 144 | H83: =POWER(H41,2) -> 630.01 | I83: =POWER(I41,2) -> 0 | J83: =POWER(J41,2) -> 0 | K83: =POWER(K41,2) -> 0 | L83: =POWER(L41,2) -> 0 | M83: =POWER(M41,2) -> 0 | ... P83: =POWER(P41,2) -> 0

Sheet Т2За
A1: № | B1: команда | C1: участник | D1: сумма баллов | E1: место | F1: окунь | Q1: щука
F2: размер, см
A3: 1 | B3: Peacock Bass | C3: Дроздов Виталий | D3: =D45 -> 1580.26 | E3: =E45 -> 5 | F3: 13.6 | G3: 12.8 | H3: 11.6 | I3: 11.6 | J3: 12.3 | K3: 12 | L3: 11.8 | M3: 12 | N3: 11 | O3: 12 | P3: 10.9
A4: =A3+1 -> 2 | B4: FISHINGSTOCK BELARUS | C4: Лунякин Олег | D4: =D46 -> 734.88 | E4: =E46 -> 12 | F4: 14 | G4: 12 | H4: 11.2 | I4: 12 | J4: 11.2
A5: =A4+1 -> 3 | B5: West Fishing | C5: Золотарь Андрей | D5: =D47 -> 182.25 | E5: =E47 -> 27 | F5: 13.5
A6: =A5+1 -> 4 | B6: UL Hooligans | C6: Дешкевич Виталий | D6: =D48 -> 374.85 | E6: =E48 -> 21 | F6: 12.6 | G6: 14.7
A7: =A6+1 -> 5 | B7: Rockfish | C7: Лазарчик Евгений | D7: =D49 -> 121 | E7: =E49 -> 30 | F7: 11
A8: =A7+1 -> 6 | B8: Крутой берег | C8: Желтов Игорь | D8: =D50 -> 0 | E8: =E50 -> 40
A9: =A8+1 -> 7 | B9: Pike death TEAM | C9: Ставер Дмитрий | D9: =D51 -> 190.44 | E9: =E51 -> 26 | F9: 13.8
A10: =A9+1 -> 8 | B10: Трудовые резервы | C10: Пожарский Константин | D10: =D52 -> 557.64 | E10: =E52 -> 16 | F10: 21 | G10: 10.8
A11: =A10+1 -> 9 | B11: К&М | C11: Казаченко Владимир | D11: =D53 -> 148.84 | E11: =E53 -> 28 | F11: 12.2
A12: =A11+1 -> 10 | B12: Пятнистый кукан | C12: Анпилов Андрей | D12: =D54 -> 338.98 | E12: =E54 -> 22 | F12: 12.3 | Q12: 27.4
A13: =A12+1 -> 11 | B13: Black River Team | C13: Ворон Павел | D13: =D55 -> 0 | E13: =E55 -> 40
A14: =A13+1 -> 12 | B14: Дачники | C14: Сапун Станислав | D14: =D56 -> 132.25 | E14: =E56 -> 29 | F14: 11.5
A15: =A14+1 -> 13 | B15: Amateurs | C15: Соколов Кирилл | D15: =D57 -> 1610.2 | E15: =E57 -> 4 | F15: 11.3 | G15: 11.5 | H15: 11.9 | I15: 13.5 | J15: 12.3 | K15: 11.9 | L15: 11 | M15: 21.7 | N15: 11.9
A16: =A15+1 -> 14 | B16: Против Течениия | C16: Ананич Геннадий | D16: =D58 -> 421.78 | E16: =E58 -> 20 | F16: 13.7 | G16: 15.3
A17: =A16+1 -> 15 | B17: ASpinnTeam | C17: Нугуманов Артём | D17: =D59 -> 256 | E17: =E59 -> 25 | F17: 16
A18: =A17+1 -> 16 | B18: Poseidon | C18: Чижонок Сергей | D18: =D60 -> 1957.6325 | E18: =E60 -> 3 | F18: 21.2 | G18: 12.5 | H18: 13 | I18: 12.2 | J18: 12.1 | K18: 7.9 | L18: 18.8 | M18: 12.8 | Q18: 35.1
A19: =A18+1 -> 17 | B19: Bona Кобрин | C19: Барташук Александр | D19: =D61 -> 881.21 | E19: =E61 -> 10 | F19: 11.5 | G19: 12.6 | H19: 12.1 | I19: 8.9 | Q19: 27.4 | R19: 26.6
A20: =A19+1 -> 18 | B20: ЕК | C20: Казанцев Евгений | D20: =D62 -> 469.05 | E20: =E62 -> 19 | F20: 11 | G20: 12.1 | Q20: 28.4
A21: =A20+1 -> 19 | B21: ПВ | C21: Пластун Вячеслав | D21: =D63 -> 0 | E21: =E63 -> 40
A22: =A21+1 -> 20 | B22: Fanatik Belarus | C22: Рулинский Александр | D22: =D64 -> 295.49 | E22: =E64 -> 24 | F22: 12.5 | G22: 11.8
A23: =A22+1 -> 21 | B23: Bass Hunters | C23: Шевко Виталий | D23: =D65 -> 656.82 | E23: =E65 -> 13 | F23: 11.1 | G23: 23.1
A24: =A23+1 -> 22 | B24: Alutech Team | C24: Купрейчик Сергей | D24: =D66 -> 53.29 | E24: =E66 -> 31 | F24: 7.3
A25: =A24+1 -> 23 | B25: Бритый Карась | C25: Левандовский Дмитрий | D25: =D67 -> 0 | E25: =E67 -> 40
A26: =A25+1 -> 24 | B26: Undercurrent | C26: Хоухлянцев Дмитрий | D26: =D68 -> 1104.59 | E26: =E68 -> 7 | F26: 11.5 | G26: 11.4 | H26: 12.4 | I26: 12.7 | J26: 19.7 | K26: 11.8
A27: =A26+1 -> 25 | B27: XULi-ULi | C27: Воробьёв Андрей | D27: =D69 -> 0 | E27: =E69 -> 40
A28: =A27+1 -> 26 | B28: WFT Minsk | C28: Каморников Евгений | D28: =D70 -> 0 | E28: =E70 -> 40
A29: =A28+1 -> 27 | B29: Фарватер | C29: Попельский Максим | D29: =D71 -> 0 | E29: =E71 -> 40
A30: =A29+1 -> 28 | B30: Bait Breath Team | C30: Бахур Александр | D30: =D72 -> 2381.86 | E30: =E72 -> 2 | F30: 11.9 | G30: 29.4 | H30: 12.7 | I30: 20.2 | J30: 28.4
A31: =A30+1 -> 29 | B31: Lexass PRO | C31: Санюк Алексей | D31: =D73 -> 0 | E31: =E73 -> 40
A32: =A31+1 -> 30 | B32: Dream Team | C32: Золотухин Александр | D32: =D74 -> 622.56 | E32: =E74 -> 14 | F32: 18.8 | G32: 11.6 | H32: 11.6
A33: =A32+1 -> 31 | B33: nanobass | C33: Мартынчук Михаил | D33: =D75 -> 520.65 | E33: =E75 -> 18 | F33: 14.4 | G33: 17.7
A34: =A33+1 -> 32 | B34: Mad Perch | C34: Масюк Павел | D34: =D76 -> 556.78 | E34: =E76 -> 17 | F34: 15.1 | G34: 14.1 | H34: 11.4
A35: =A34+1 -> 33 | B35: Old Roads Fishing | C35: Чернышёв Егор | D35: =D77 -> 864.36 | E35: =E77 -> 11 | F35: 29.4
A36: =A35+1 -> 34 | B36: Gefest | C36: Саган Сергей | D36: =D78 -> 3029.93 | E36: =E78 -> 1 | F36: 7.8 | G36: 11.6 | H36: 12.3 | Q36: 51.8
A37: =A36+1 -> 35 | B37: Legion | C37: Бойко Сергей | D37: =D79 -> 1426.74 | E37: =E79 -> 6 | F37: 22.6 | G37: 11.7 | H37: 13 | I37: 24.7
A38: =A37+1 -> 36 | B38: Кооператив ХИЩНИК | C38: Сницкий Владимир | D38: =D80 -> 915.5 | E38: =E80 -> 9 | F38: 15.1 | G38: 21 | H38: 15.7
A39: =A38+1 -> 37 | B39: FishUp Team | C39: Волосевич Виталий | D39: =D81 -> 315.0625 | E39: =E81 -> 23 | Q39: 35.5
A40: =A39+1 -> 38 | B40: S'B-FISHING | C40: Болбас Тимофей | D40: =D82 -> 981.84 | E40: =E82 -> 8 | F40: 12.9 | G40: 12 | H40: 11.4 | I40: 8.3 | J40: 13.1 | K40: 11.6 | L40: 12.9
A41: =A40+1 -> 39 | B41: Perch Legends | C41: Лабанок Александр | D41: =D83 -> 582.1 | E41: =E83 -> 15 | F41: 11.7 | G41: 21.1
C42: средняя длина рыб по виду: | F42: =AVERAGE(F3:L41) -> 13.891011 | Q42: =AVERAGE(Q3:S41) -> 33.171429
A43: № | B43: команда | C43: участник | D43: сумма баллов | E43: место | F43: баллы
A45: 1 | B45: Peacock Bass | C45: Дроздов Виталий | D45: =SUM(F45:S45) -> 1580.26 | E45: =IF(D45>0,RANK(D45,$D$45:$D$83),40) -> 5 | F45: =POWER(F3,2) -> 184.96 | G45: =POWER(G3,2) -> 163.84 | H45: =POWER(H3,2) -> 134.56 | I45: =POWER(I3,2) -> 134.56 | J45: =POWER(J3,2) -> 151.29 | K45: =POWER(K3,2) -> 144 | L45: =POWER(L3,2) -> 139.24 | M45: =POWER(M3,2) -> 144 | ... S45: =POWER(S3,2) -> 0
A46: =A45+1 -> 2 | B46: FISHINGSTOCK BELARUS | C46: Лунякин Олег | D46: =SUM(F46:S46) -> 734.88 | E46: =IF(D46>0,RANK(D46,$D$45:$D$83),40) -> 12 | F46: =POWER(F4,2) -> 196 | G46: =POWER(G4,2) -> 144 | H46: =POWER(H4,2) -> 125.44 | I46: =POWER(I4,2) -> 144 | J46: =POWER(J4,2) -> 125.44 | K46: =POWER(K4,2) -> 0 | L46: =POWER(L4,2) -> 0 | M46: =POWER(M4,2) -> 0 | ... S46: =POWER(S4,2) -> 0
A47: =A46+1 -> 3 | B47: West Fishing | C47: Золотарь Андрей | D47: =SUM(F47:S47) -> 182.25 | E47: =IF(D47>0,RANK(D47,$D$45:$D$83),40) -> 27 | F47: =POWER(F5,2) -> 182.25 | G47: =POWER(G5,2) -> 0 | H47: =POWER(H5,2) -> 0 | I47: =POWER(I5,2) -> 0 | J47: =POWER(J5,2) -> 0 | K47: =POWER(K5,2) -> 0 | L47: =POWER(L5,2) -> 0 | M47: =POWER(M5,2) -> 0 | ... S47: =POWER(S5,2) -> 0
A48: =A47+1 -> 4 | B48: UL Hooligans | C48: Дешкевич Виталий | D48: =SUM(F48:S48) -> 374.85 | E48: =IF(D48>0,RANK(D48,$D$45:$D$83),40) -> 21 | F48: =POWER(F6,2) -> 158.76 | G48: =POWER(G6,2) -> 216.09 | H48: =POWER(H6,2) -> 0 | I48: =POWER(I6,2) -> 0 | J48: =POWER(J6,2) -> 0 | K48: =POWER(K6,2) -> 0 | L48: =POWER(L6,2) -> 0 | M48: =POWER(M6,2) -> 0 | ... S48: =POWER(S6,2) -> 0
A49: =A48+1 -> 5 | B49: Rockfish | C49: Лазарчик Евгений | D49: =SUM(F49:S49) -> 121 | E49: =IF(D49>0,RANK(D49,$D$45:$D$83),40) -> 30 | F49: =POWER(F7,2) -> 121 | G49: =POWER(G7,2) -> 0 | H49: =POWER(H7,2) -> 0 | I49: =POWER(I7,2) -> 0 | J49: =POWER(J7,2) -> 0 | K49: =POWER(K7,2) -> 0 | L49: =POWER(L7,2) -> 0 | M49: =POWER(M7,2) -> 0 | ... S49: =POWER(S7,2) -> 0
A50: =A49+1 -> 6 | B50: Крутой берег | C50: Желтов Игорь | D50: =SUM(F50:S50) -> 0 | E50: =IF(D50>0,RANK(D50,$D$45:$D$83),40) -> 40 | F50: =POWER(F8,2) -> 0 | G50: =POWER(G8,2) -> 0 | H50: =POWER(H8,2) -> 0 | I50: =POWER(I8,2) -> 0 | J50: =POWER(J8,2) -> 0 | K50: =POWER(K8,2) -> 0 | L50: =POWER(L8,2) -> 0 | M50: =POWER(M8,2) -> 0 | ... S50: =POWER(S8,2) -> 0
A51: =A50+1 -> 7 | B51: Pike death TEAM | C51: Ставер Дмитрий | D51: =SUM(F51:S51) -> 190.44 | E51: =IF(D51>0,RANK(D51,$D$45:$D$83),40) -> 26 | F51: =POWER(F9,2) -> 190.44 | G51: =POWER(G9,2) -> 0 | H51: =POWER(H9,2) -> 0 | I51: =POWER(I9,2) -> 0 | J51: =POWER(J9,2) -> 0 | K51: =POWER(K9,2) -> 0 | L51: =POWER(L9,2) -> 0 | M51: =POWER(M9,2) -> 0 | ... S51: =POWER(S9,2) -> 0
A52: =A51+1 -> 8 | B52: Трудовые резервы | C52: Пожарский Константин | D52: =SUM(F52:S52) -> 557.64 | E52: =IF(D52>0,RANK(D52,$D$45:$D$83),40) -> 16 | F52: =POWER(F10,2) -> 441 | G52: =POWER(G10,2) -> 116.64 | H52: =POWER(H10,2) -> 0 | I52: =POWER(I10,2) -> 0 | J52: =POWER(J10,2) -> 0 | K52: =POWER(K10,2) -> 0 | L52: =POWER(L10,2) -> 0 | M52: =POWER(M10,2) -> 0 | ... S52: =POWER(S10,2) -> 0
A53: =A52+1 -> 9 | B53: К&М | C53: Казаченко Владимир | D53: =SUM(F53:S53) -> 148.84 | E53: =IF(D53>0,RANK(D53,$D$45:$D$83),40) -> 28 | F53: =POWER(F11,2) -> 148.84 | G53: =POWER(G11,2) -> 0 | H53: =POWER(H11,2) -> 0 | I53: =POWER(I11,2) -> 0 | J53: =POWER(J11,2) -> 0 | K53: =POWER(K11,2) -> 0 | L53: =POWER(L11,2) -> 0 | M53: =POWER(M11,2) -> 0 | ... S53: =POWER(S11,2) -> 0
A54: =A53+1 -> 10 | B54: Пятнистый кукан | C54: Анпилов Андрей | D54: =SUM(F54:S54) -> 338.98 | E54: =IF(D54>0,RANK(D54,$D$45:$D$83),40) -> 22 | F54: =POWER(F12,2) -> 151.29 | G54: =POWER(G12,2) -> 0 | H54: =POWER(H12,2) -> 0 | I54: =POWER(I12,2) -> 0 | J54: =POWER(J12,2) -> 0 | K54: =POWER(K12,2) -> 0 | L54: =POWER(L12,2) -> 0 | M54: =POWER(M12,2) -> 0 | ... P54: =POWER(P12,2) -> 0 | Q54: =POWER(Q12/2,2) -> 187.69 | R54: =POWER(R12,2) -> 0 | S54: =POWER(S12,2) -> 0
A55: =A54+1 -> 11 | B55: Black River Team | C55: Ворон Павел | D55: =SUM(F55:S55) -> 0 | E55: =IF(D55>0,RANK(D55,$D$45:$D$83),40) -> 40 | F55: =POWER(F13,2) -> 0 | G55: =POWER(G13,2) -> 0 | H55: =POWER(H13,2) -> 0 | I55: =POWER(I13,2) -> 0 | J55: =POWER(J13,2) -> 0 | K55: =POWER(K13,2) -> 0 | L55: =POWER(L13,2) -> 0 | M55: =POWER(M13,2) -> 0 | ... S55: =POWER(S13,2) -> 0
A56: =A55+1 -> 12 | B56: Дачники | C56: Сапун Станислав | D56: =SUM(F56:S56) -> 132.25 | E56: =IF(D56>0,RANK(D56,$D$45:$D$83),40) -> 29 | F56: =POWER(F14,2) -> 132.25 | G56: =POWER(G14,2) -> 0 | H56: =POWER(H14,2) -> 0 | I56: =POWER(I14,2) -> 0 | J56: =POWER(J14,2) -> 0 | K56: =POWER(K14,2) -> 0 | L56: =POWER(L14,2) -> 0 | M56: =POWER(M14,2) -> 0 | ... S56: =POWER(S14,2) -> 0
A57: =A56+1 -> 13 | B57: Amateurs | C57: Соколов Кирилл | D57: =SUM(F57:S57) -> 1610.2 | E57: =IF(D57>0,RANK(D57,$D$45:$D$83),40) -> 4 | F57: =POWER(F15,2) -> 127.69 | G57: =POWER(G15,2) -> 132.25 | H57: =POWER(H15,2) -> 141.61 | I57: =POWER(I15,2) -> 182.25 | J57: =POWER(J15,2) -> 151.29 | K57: =POWER(K15,2) -> 141.61 | L57: =POWER(L15,2) -> 121 | M57: =POWER(M15,2) -> 470.89 | ... S57: =POWER(S15,2) -> 0
A58: =A57+1 -> 14 | B58: Против Течениия | C58: Ананич Геннадий | D58: =SUM(F58:S58) -> 421.78 | E58: =IF(D58>0,RANK(D58,$D$45:$D$83),40) -> 20 | F58: =POWER(F16,2) -> 187.69 | G58: =POWER(G16,2) -> 234.09 | H58: =POWER(H16,2) -> 0 | I58: =POWER(I16,2) -> 0 | J58: =POWER(J16,2) -> 0 | K58: =POWER(K16,2) -> 0 | L58: =POWER(L16,2) -> 0 | M58: =POWER(M16,2) -> 0 | ... S58: =POWER(S16,2) -> 0
A59: =A58+1 -> 15 | B59: ASpinnTeam | C59: Нугуманов Артём | D59: =SUM(F59:S59) -> 256 | E59: =IF(D59>0,RANK(D59,$D$45:$D$83),40) -> 25 | F59: =POWER(F17,2) -> 256 | G59: =POWER(G17,2) -> 0 | H59: =POWER(H17,2) -> 0 | I59: =POWER(I17,2) -> 0 | J59: =POWER(J17,2) -> 0 | K59: =POWER(K17,2) -> 0 | L59: =POWER(L17,2) -> 0 | M59: =POWER(M17,2) -> 0 | ... S59: =POWER(S17,2) -> 0
A60: =A59+1 -> 16 | B60: Poseidon | C60: Чижонок Сергей | D60: =SUM(F60:S60) -> 1957.6325 | E60: =IF(D60>0,RANK(D60,$D$45:$D$83),40) -> 3 | F60: =POWER(F18,2) -> 449.44 | G60: =POWER(G18,2) -> 156.25 | H60: =POWER(H18,2) -> 169 | I60: =POWER(I18,2) -> 148.84 | J60: =POWER(J18,2) -> 146.41 | K60: =POWER(K18,2) -> 62.41 | L60: =POWER(L18,2) -> 353.44 | M60: =POWER(M18,2) -> 163.84 | ... P60: =POWER(P18,2) -> 0 | Q60: =POWER(Q18/2,2) -> 308.0025 | R60: =POWER(R18,2) -> 0 | S60: =POWER(S18,2) -> 0
A61: =A60+1 -> 17 | B61: Bona Кобрин | C61: Барташук Александр | D61: =SUM(F61:S61) -> 881.21 | E61: =IF(D61>0,RANK(D61,$D$45:$D$83),40) -> 10 | F61: =POWER(F19,2) -> 132.25 | G61: =POWER(G19,2) -> 158.76 | H61: =POWER(H19,2) -> 146.41 | I61: =POWER(I19,2) -> 79.21 | J61: =POWER(J19,2) -> 0 | K61: =POWER(K19,2) -> 0 | L61: =POWER(L19,2) -> 0 | M61: =POWER(M19,2) -> 0 | ... P61: =POWER(P19,2) -> 0 | Q61: =POWER(Q19/2,2) -> 187.69 | R61: =POWER(R19/2,2) -> 176.89 | S61: =POWER(S19,2) -> 0
A62: =A61+1 -> 18 | B62: ЕК | C62: Казанцев Евгений | D62: =SUM(F62:S62) -> 469.05 | E62: =IF(D62>0,RANK(D62,$D$45:$D$83),40) -> 19 | F62: =POWER(F20,2) -> 121 | G62: =POWER(G20,2) -> 146.41 | H62: =POWER(H20,2) -> 0 | I62: =POWER(I20,2) -> 0 | J62: =POWER(J20,2) -> 0 | K62: =POWER(K20,2) -> 0 | L62: =POWER(L20,2) -> 0 | M62: =POWER(M20,2) -> 0 | ... P62: =POWER(P20,2) -> 0 | Q62: =POWER(Q20/2,2) -> 201.64 | R62: =POWER(R20,2) -> 0 | S62: =POWER(S20,2) -> 0
A63: =A62+1 -> 19 | B63: ПВ | C63: Пластун Вячеслав | D63: =SUM(F63:S63) -> 0 | E63: =IF(D63>0,RANK(D63,$D$45:$D$83),40) -> 40 | F63: =POWER(F21,2) -> 0 | G63: =POWER(G21,2) -> 0 | H63: =POWER(H21,2) -> 0 | I63: =POWER(I21,2) -> 0 | J63: =POWER(J21,2) -> 0 | K63: =POWER(K21,2) -> 0 | L63: =POWER(L21,2) -> 0 | M63: =POWER(M21,2) -> 0 | ... S63: =POWER(S21,2) -> 0
A64: =A63+1 -> 20 | B64: Fanatik Belarus | C64: Рулинский Александр | D64: =SUM(F64:S64) -> 295.49 | E64: =IF(D64>0,RANK(D64,$D$45:$D$83),40) -> 24 | F64: =POWER(F22,2) -> 156.25 | G64: =POWER(G22,2) -> 139.24 | H64: =POWER(H22,2) -> 0 | I64: =POWER(I22,2) -> 0 | J64: =POWER(J22,2) -> 0 | K64: =POWER(K22,2) -> 0 | L64: =POWER(L22,2) -> 0 | M64: =POWER(M22,2) -> 0 | ... S64: =POWER(S22,2) -> 0
A65: =A64+1 -> 21 | B65: Bass Hunters | C65: Шевко Виталий | D65: =SUM(F65:S65) -> 656.82 | E65: =IF(D65>0,RANK(D65,$D$45:$D$83),40) -> 13 | F65: =POWER(F23,2) -> 123.21 | G65: =POWER(G23,2) -> 533.61 | H65: =POWER(H23,2) -> 0 | I65: =POWER(I23,2) -> 0 | J65: =POWER(J23,2) -> 0 | K65: =POWER(K23,2) -> 0 | L65: =POWER(L23,2) -> 0 | M65: =POWER(M23,2) -> 0 | ... S65: =POWER(S23,2) -> 0
A66: =A65+1 -> 22 | B66: Alutech Team | C66: Купрейчик Сергей | D66: =SUM(F66:S66) -> 53.29 | E66: =IF(D66>0,RANK(D66,$D$45:$D$83),40) -> 31 | F66: =POWER(F24,2) -> 53.29 | G66: =POWER(G24,2) -> 0 | H66: =POWER(H24,2) -> 0 | I66: =POWER(I24,2) -> 0 | J66: =POWER(J24,2) -> 0 | K66: =POWER(K24,2) -> 0 | L66: =POWER(L24,2) -> 0 | M66: =POWER(M24,2) -> 0 | ... S66: =POWER(S24,2) -> 0
A67: =A66+1 -> 23 | B67: Бритый Карась | C67: Левандовский Дмитрий | D67: =SUM(F67:S67) -> 0 | E67: =IF(D67>0,RANK(D67,$D$45:$D$83),40) -> 40 | F67: =POWER(F25,2) -> 0 | G67: =POWER(G25,2) -> 0 | H67: =POWER(H25,2) -> 0 | I67: =POWER(I25,2) -> 0 | J67: =POWER(J25,2) -> 0 | K67: =POWER(K25,2) -> 0 | L67: =POWER(L25,2) -> 0 | M67: =POWER(M25,2) -> 0 | ... S67: =POWER(S25,2) -> 0
A68: =A67+1 -> 24 | B68: Undercurrent | C68: Хоухлянцев Дмитрий | D68: =SUM(F68:S68) -> 1104.59 | E68: =IF(D68>0,RANK(D68,$D$45:$D$83),40) -> 7 | F68: =POWER(F26,2) -> 132.25 | G68: =POWER(G26,2) -> 129.96 | H68: =POWER(H26,2) -> 153.76 | I68: =POWER(I26,2) -> 161.29 | J68: =POWER(J26,2) -> 388.09 | K68: =POWER(K26,2) -> 139.24 | L68: =POWER(L26,2) -> 0 | M68: =POWER(M26,2) -> 0 | ... S68: =POWER(S26,2) -> 0
A69: =A68+1 -> 25 | B69: XULi-ULi | C69: Воробьёв Андрей | D69: =SUM(F69:S69) -> 0 | E69: =IF(D69>0,RANK(D69,$D$45:$D$83),40) -> 40 | F69: =POWER(F27,2) -> 0 | G69: =POWER(G27,2) -> 0 | H69: =POWER(H27,2) -> 0 | I69: =POWER(I27,2) -> 0 | J69: =POWER(J27,2) -> 0 | K69: =POWER(K27,2) -> 0 | L69: =POWER(L27,2) -> 0 | M69: =POWER(M27,2) -> 0 | ... S69: =POWER(S27,2) -> 0
A70: =A69+1 -> 26 | B70: WFT Minsk | C70: Каморников Евгений | D70: =SUM(F70:S70) -> 0 | E70: =IF(D70>0,RANK(D70,$D$45:$D$83),40) -> 40 | F70: =POWER(F28,2) -> 0 | G70: =POWER(G28,2) -> 0 | H70: =POWER(H28,2) -> 0 | I70: =POWER(I28,2) -> 0 | J70: =POWER(J28,2) -> 0 | K70: =POWER(K28,2) -> 0 | L70: =POWER(L28,2) -> 0 | M70: =POWER(M28,2) -> 0 | ... S70: =POWER(S28,2) -> 0
A71: =A70+1 -> 27 | B71: Фарватер | C71: Попельский Максим | D71: =SUM(F71:S71) -> 0 | E71: =IF(D71>0,RANK(D71,$D$45:$D$83),40) -> 40 | F71: =POWER(F29,2) -> 0 | G71: =POWER(G29,2) -> 0 | H71: =POWER(H29,2) -> 0 | I71: =POWER(I29,2) -> 0 | J71: =POWER(J29,2) -> 0 | K71: =POWER(K29,2) -> 0 | L71: =POWER(L29,2) -> 0 | M71: =POWER(M29,2) -> 0 | ... S71: =POWER(S29,2) -> 0
A72: =A71+1 -> 28 | B72: Bait Breath Team | C72: Бахур Александр | D72: =SUM(F72:S72) -> 2381.86 | E72: =IF(D72>0,RANK(D72,$D$45:$D$83),40) -> 2 | F72: =POWER(F30,2) -> 141.61 | G72: =POWER(G30,2) -> 864.36 | H72: =POWER(H30,2) -> 161.29 | I72: =POWER(I30,2) -> 408.04 | J72: =POWER(J30,2) -> 806.56 | K72: =POWER(K30,2) -> 0 | L72: =POWER(L30,2) -> 0 | M72: =POWER(M30,2) -> 0 | ... S72: =POWER(S30,2) -> 0
A73: =A72+1 -> 29 | B73: Lexass PRO | C73: Санюк Алексей | D73: =SUM(F73:S73) -> 0 | E73: =IF(D73>0,RANK(D73,$D$45:$D$83),40) -> 40 | F73: =POWER(F31,2) -> 0 | G73: =POWER(G31,2) -> 0 | H73: =POWER(H31,2) -> 0 | I73: =POWER(I31,2) -> 0 | J73: =POWER(J31,2) -> 0 | K73: =POWER(K31,2) -> 0 | L73: =POWER(L31,2) -> 0 | M73: =POWER(M31,2) -> 0 | ... S73: =POWER(S31,2) -> 0
A74: =A73+1 -> 30 | B74: Dream Team | C74: Золотухин Александр | D74: =SUM(F74:S74) -> 622.56 | E74: =IF(D74>0,RANK(D74,$D$45:$D$83),40) -> 14 | F74: =POWER(F32,2) -> 353.44 | G74: =POWER(G32,2) -> 134.56 | H74: =POWER(H32,2) -> 134.56 | I74: =POWER(I32,2) -> 0 | J74: =POWER(J32,2) -> 0 | K74: =POWER(K32,2) -> 0 | L74: =POWER(L32,2) -> 0 | M74: =POWER(M32,2) -> 0 | ... S74: =POWER(S32,2) -> 0
... A80: =A79+1 -> 36 | B80: Кооператив ХИЩНИК | C80: Сницкий Владимир | D80: =SUM(F80:S80) -> 915.5 | E80: =IF(D80>0,RANK(D80,$D$45:$D$83),40) -> 9 | F80: =POWER(F38,2) -> 228.01 | G80: =POWER(G38,2) -> 441 | H80: =POWER(H38,2) -> 246.49 | I80: =POWER(I38,2) -> 0 | J80: =POWER(J38,2) -> 0 | K80: =POWER(K38,2) -> 0 | L80: =POWER(L38,2) -> 0 | M80: =POWER(M38,2) -> 0 | ... S80: =POWER(S38,2) -> 0
A81: =A80+1 -> 37 | B81: FishUp Team | C81: Волосевич Виталий | D81: =SUM(F81:S81) -> 315.0625 | E81: =IF(D81>0,RANK(D81,$D$45:$D$83),40) -> 23 | F81: =POWER(F39,2) -> 0 | G81: =POWER(G39,2) -> 0 | H81: =POWER(H39,2) -> 0 | I81: =POWER(I39,2) -> 0 | J81: =POWER(J39,2) -> 0 | K81: =POWER(K39,2) -> 0 | L81: =POWER(L39,2) -> 0 | M81: =POWER(M39,2) -> 0 | ... P81: =POWER(P39,2) -> 0 | Q81: =POWER(Q39/2,2) -> 315.0625 | R81: =POWER(R39,2) -> 0 | S81: =POWER(S39,2) -> 0
A82: =A81+1 -> 38 | B82: S'B-FISHING | C82: Болбас Тимофей | D82: =SUM(F82:S82) -> 981.84 | E82: =IF(D82>0,RANK(D82,$D$45:$D$83),40) -> 8 | F82: =POWER(F40,2) -> 166.41 | G82: =POWER(G40,2) -> 144 | H82: =POWER(H40,2) -> 129.96 | I82: =POWER(I40,2) -> 68.89 | J82: =POWER(J40,2) -> 171.61 | K82: =POWER(K40,2) -> 134.56 | L82: =POWER(L40,2) -> 166.41 | M82: =POWER(M40,2) -> 0 | ... S82: =POWER(S40,2) -> 0
A83: =A82+1 -> 39 | B83: Perch Legends | C83: Лабанок Александр | D83: =SUM(F83:S83) -> 582.1 | E83: =IF(D83>0,RANK(D83,$D$45:$D$83),40) -> 15 | F83: =POWER(F41,2) -> 136.89 | G83: =POWER(G41,2) -> 445.21 | H83: =POWER(H41,2) -> 0 | I83: =POWER(I41,2) -> 0 | J83: =POWER(J41,2) -> 0 | K83: =POWER(K41,2) -> 0 | L83: =POWER(L41,2) -> 0 | M83: =POWER(M41,2) -> 0 | ... S83: =POWER(S41,2) -> 0

Sheet Т2Зб
A1: № | B1: команда | C1: участник | D1: сумма баллов | E1: место | F1: окунь | M1: щука
F2: размер, см
A3: 1 | B3: Peacock Bass | C3: Сенчуров Иван | D3: =D45 -> 123.21 | E3: =E45 -> 29 | F3: 11.1
A4: =A3+1 -> 2 | B4: FISHINGSTOCK BELARUS | C4: Бобриков Алексей | D4: =D46 -> 743.21 | E4: =E46 -> 5 | F4: 16.1 | G4: 22
A5: =A4+1 -> 3 | B5: West Fishing | C5: Непомнящий Виктор | D5: =D47 -> 713.54 | E5: =E47 -> 7 | F5: 8.2 | G5: 11.7 | H5: 16.5 | I5: 15.4
A6: =A5+1 -> 4 | B6: UL Hooligans | C6: Уютов Кирилл | D6: =D48 -> 0 | E6: =E48 -> 40
A7: =A6+1 -> 5 | B7: Rockfish | C7: Силивончик Павел | D7: =D49 -> 1352.04 | E7: =E49 -> 3 | F7: 11.2 | G7: 32.6 | H7: 12.8
A8: =A7+1 -> 6 | B8: Крутой берег | C8: Желтов Евгений | D8: =D50 -> 0 | E8: =E50 -> 40
A9: =A8+1 -> 7 | B9: Pike death TEAM | C9: Круглянин Сергей | D9: =D51 -> 262.44 | E9: =E51 -> 17 | F9: 16.2
A10: =A9+1 -> 8 | B10: Трудовые резервы | C10: Баранок Артём | D10: =D52 -> 0 | E10: =E52 -> 40
A11: =A10+1 -> 9 | B11: К&М | C11: Мельников Юрий | D11: =D53 -> 342.25 | E11: =E53 -> 14 | M11: 37
A12: =A11+1 -> 10 | B12: Пятнистый кукан | C12: Хилько Артем | D12: =D54 -> 207.36 | E12: =E54 -> 19 | F12: 14.4
A13: =A12+1 -> 11 | B13: Black River Team | C13: Рабушко Василий | D13: =D55 -> 0 | E13: =E55 -> 40
A14: =A13+1 -> 12 | B14: Дачники | C14: Тищенко Павел | D14: =D56 -> 144 | E14: =E56 -> 25 | F14: 12
A15: =A14+1 -> 13 | B15: Amateurs | C15: Куликовский Виталий | D15: =D57 -> 146.41 | E15: =E57 -> 24 | F15: 12.1
A16: =A15+1 -> 14 | B16: Против Течениия | C16: Карпеев Тимофей | D16: =D58 -> 501.76 | E16: =E58 -> 10 | F16: 22.4
A17: =A16+1 -> 15 | B17: ASpinnTeam | C17: Вашкевич Александр | D17: =D59 -> 290.41 | E17: =E59 -> 15 | F17: 12 | G17: 12.1
A18: =A17+1 -> 16 | B18: Poseidon | C18: Строк Павел | D18: =D60 -> 190.44 | E18: =E60 -> 20 | F18: 13.8
A19: =A18+1 -> 17 | B19: Bona Кобрин | C19: Марковский Максим | D19: =D61 -> 179.56 | E19: =E61 -> 21 | F19: 13.4
A20: =A19+1 -> 18 | B20: ЕК | C20: Ковалёв Евгений | D20: =D62 -> 0 | E20: =E62 -> 40
A21: =A20+1 -> 19 | B21: ПВ | C21: Воробьев Павел | D21: =D63 -> 0 | E21: =E63 -> 40
A22: =A21+1 -> 20 | B22: Fanatik Belarus | C22: Шевчук Дмитрий | D22: =D64 -> 358.25 | E22: =E64 -> 13 | F22: 12.4 | G22: 14.3
A23: =A22+1 -> 21 | B23: Bass Hunters | C23: Кириевский Андрей | D23: =D65 -> 0 | E23: =E65 -> 40
A24: =A23+1 -> 22 | B24: Alutech Team | C24: Янкович Сергей | D24: =D66 -> 148.84 | E24: =E66 -> 23 | F24: 12.2
A25: =A24+1 -> 23 | B25: Бритый Карась | C25: Герасимович Сергей | D25: =D67 -> 0 | E25: =E67 -> 40
A26: =A25+1 -> 24 | B26: Undercurrent | C26: Ешман Сергей | D26: =D68 -> 0 | E26: =E68 -> 40
A27: =A26+1 -> 25 | B27: XULi-ULi | C27: Лавренчук Станислав | D27: =D69 -> 156.25 | E27: =E69 -> 22 | F27: 12.5
A28: =A27+1 -> 26 | B28: WFT Minsk | C28: Тулупов Александр | D28: =D70 -> 520.0225 | E28: =E70 -> 9 | F28: 8.6 | G28: 12.6 | M28: 33.9
A29: =A28+1 -> 27 | B29: Фарватер | C29: Цыганок Михаил | D29: =D71 -> 243.86 | E29: =E71 -> 18 | F29: 8.5 | G29: 13.1
A30: =A29+1 -> 28 | B30: Bait Breath Team | C30: Зубко Сергей | D30: =D72 -> 365.61 | E30: =E72 -> 12 | F30: 11 | G30: 11.5 | M30: 21.2
A31: =A30+1 -> 29 | B31: Lexass PRO | C31: Булойчик Илья | D31: =D73 -> 132.25 | E31: =E73 -> 28 | F31: 11.5
A32: =A31+1 -> 30 | B32: Dream Team | C32: Тысевич Сергей | D32: =D74 -> 139.24 | E32: =E74 -> 26 | F32: 11.8
A33: =A32+1 -> 31 | B33: nanobass | C33: Бычик Роман | D33: =D75 -> 4040 | E33: =E75 -> 1 | F33: 30.8 | M33: 55.6
A34: =A33+1 -> 32 | B34: Mad Perch | C34: Павлючик Андрей | D34: =D76 -> 136.89 | E34: =E76 -> 27 | F34: 11.7
A35: =A34+1 -> 33 | B35: Old Roads Fishing | C35: Синовец Роман | D35: =D77 -> 0 | E35: =E77 -> 40
A36: =A35+1 -> 34 | B36: Gefest | C36: Радчук Юрий | D36: =D78 -> 1391.1 | E36: =E78 -> 2 | F36: 21 | G36: 11.6 | H36: 13.2 | I36: 12.7 | J36: 12 | K36: 12.4 | L36: 13.5
A37: =A36+1 -> 35 | B37: Legion | C37: Микулов Владимир | D37: =D79 -> 499.28 | E37: =E79 -> 11 | F37: 15.8 | G37: 15.8
A38: =A37+1 -> 36 | B38: Кооператив ХИЩНИК | C38: Сницкий Виктор | D38: =D80 -> 1047.4325 | E38: =E80 -> 4 | F38: 15.2 | G38: 11.7 | H38: 15 | I38: 13.8 | M38: 32.5
A39: =A38+1 -> 37 | B39: FishUp Team | C39: Крук Денис | D39: =D81 -> 653 | E39: =E81 -> 8 | F39: 22 | G39: 13
A40: =A39+1 -> 38 | B40: S'B-FISHING | C40: Сапроненков Евгений | D40: =D82 -> 721.26 | E40: =E82 -> 6 | F40: 14.3 | G40: 8.6 | H40: 10.9 | M40: 36
A41: =A40+1 -> 39 | B41: Perch Legends | C41: Каменец Алексей | D41: =D83 -> 268.96 | E41: =E83 -> 16 | M41: 32.8
C42: средняя длина рыб по виду: | F42: =AVERAGE(F3:L41) -> 14.137255 | M42: =AVERAGE(M3:O41) -> 35.571429
A43: № | B43: команда | C43: участник | D43: сумма баллов | E43: место | F43: баллы
A45: 1 | B45: Peacock Bass | C45: Сенчуров Иван | D45: =SUM(F45:O45) -> 123.21 | E45: =IF(D45>0,RANK(D45,$D$45:$D$83),40) -> 29 | F45: =POWER(F3,2) -> 123.21 | G45: =POWER(G3,2) -> 0 | H45: =POWER(H3,2) -> 0 | I45: =POWER(I3,2) -> 0 | J45: =POWER(J3,2) -> 0 | K45: =POWER(K3,2) -> 0 | L45: =POWER(L3,2) -> 0 | M45: =POWER(M3,2) -> 0 | ... O45: =POWER(O3,2) -> 0
A46: =A45+1 -> 2 | B46: FISHINGSTOCK BELARUS | C46: Бобриков Алексей | D46: =SUM(F46:O46) -> 743.21 | E46: =IF(D46>0,RANK(D46,$D$45:$D$83),40) -> 5 | F46: =POWER(F4,2) -> 259.21 | G46: =POWER(G4,2) -> 484 | H46: =POWER(H4,2) -> 0 | I46: =POWER(I4,2) -> 0 | J46: =POWER(J4,2) -> 0 | K46: =POWER(K4,2) -> 0 | L46: =POWER(L4,2) -> 0 | M46: =POWER(M4,2) -> 0 | ... O46: =POWER(O4,2) -> 0
A47: =A46+1 -> 3 | B47: West Fishing | C47: Непомнящий Виктор | D47: =SUM(F47:O47) -> 713.54 | E47: =IF(D47>0,RANK(D47,$D$45:$D$83),40) -> 7 | F47: =POWER(F5,2) -> 67.24 | G47: =POWER(G5,2) -> 136.89 | H47: =POWER(H5,2) -> 272.25 | I47: =POWER(I5,2) -> 237.16 | J47: =POWER(J5,2) -> 0 | K47: =POWER(K5,2) -> 0 | L47: =POWER(L5,2) -> 0 | M47: =POWER(M5,2) -> 0 | ... O47: =POWER(O5,2) -> 0
A48: =A47+1 -> 4 | B48: UL Hooligans | C48: Уютов Кирилл | D48: =SUM(F48:O48) -> 0 | E48: =IF(D48>0,RANK(D48,$D$45:$D$83),40) -> 40 | F48: =POWER(F6,2) -> 0 | G48: =POWER(G6,2) -> 0 | H48: =POWER(H6,2) -> 0 | I48: =POWER(I6,2) -> 0 | J48: =POWER(J6,2) -> 0 | K48: =POWER(K6,2) -> 0 | L48: =POWER(L6,2) -> 0 | M48: =POWER(M6,2) -> 0 | ... O48: =POWER(O6,2) -> 0
A49: =A48+1 -> 5 | B49: Rockfish | C49: Силивончик Павел | D49: =SUM(F49:O49) -> 1352.04 | E49: =IF(D49>0,RANK(D49,$D$45:$D$83),40) -> 3 | F49: =POWER(F7,2) -> 125.44 | G49: =POWER(G7,2) -> 1062.76 | H49: =POWER(H7,2) -> 163.84 | I49: =POWER(I7,2) -> 0 | J49: =POWER(J7,2) -> 0 | K49: =POWER(K7,2) -> 0 | L49: =POWER(L7,2) -> 0 | M49: =POWER(M7,2) -> 0 | ... O49: =POWER(O7,2) -> 0
A50: =A49+1 -> 6 | B50: Крутой берег | C50: Желтов Евгений | D50: =SUM(F50:O50) -> 0 | E50: =IF(D50>0,RANK(D50,$D$45:$D$83),40) -> 40 | F50: =POWER(F8,2) -> 0 | G50: =POWER(G8,2) -> 0 | H50: =POWER(H8,2) -> 0 | I50: =POWER(I8,2) -> 0 | J50: =POWER(J8,2) -> 0 | K50: =POWER(K8,2) -> 0 | L50: =POWER(L8,2) -> 0 | M50: =POWER(M8,2) -> 0 | ... O50: =POWER(O8,2) -> 0
A51: =A50+1 -> 7 | B51: Pike death TEAM | C51: Круглянин Сергей | D51: =SUM(F51:O51) -> 262.44 | E51: =IF(D51>0,RANK(D51,$D$45:$D$83),40) -> 17 | F51: =POWER(F9,2) -> 262.44 | G51: =POWER(G9,2) -> 0 | H51: =POWER(H9,2) -> 0 | I51: =POWER(I9,2) -> 0 | J51: =POWER(J9,2) -> 0 | K51: =POWER(K9,2) -> 0 | L51: =POWER(L9,2) -> 0 | M51: =POWER(M9,2) -> 0 | ... O51: =POWER(O9,2) -> 0
A52: =A51+1 -> 8 | B52: Трудовые резервы | C52: Баранок Артём | D52: =SUM(F52:O52) -> 0 | E52: =IF(D52>0,RANK(D52,$D$45:$D$83),40) -> 40 | F52: =POWER(F10,2) -> 0 | G52: =POWER(G10,2) -> 0 | H52: =POWER(H10,2) -> 0 | I52: =POWER(I10,2) -> 0 | J52: =POWER(J10,2) -> 0 | K52: =POWER(K10,2) -> 0 | L52: =POWER(L10,2) -> 0 | M52: =POWER(M10,2) -> 0 | ... O52: =POWER(O10,2) -> 0
A53: =A52+1 -> 9 | B53: К&М | C53: Мельников Юрий | D53: =SUM(F53:O53) -> 342.25 | E53: =IF(D53>0,RANK(D53,$D$45:$D$83),40) -> 14 | F53: =POWER(F11,2) -> 0 | G53: =POWER(G11,2) -> 0 | H53: =POWER(H11,2) -> 0 | I53: =POWER(I11,2) -> 0 | J53: =POWER(J11,2) -> 0 | K53: =POWER(K11,2) -> 0 | L53: =POWER(L11,2) -> 0 | M53: =POWER(M11/2,2) -> 342.25 | N53: =POWER(N11,2) -> 0 | O53: =POWER(O11,2) -> 0
A54: =A53+1 -> 10 | B54: Пятнистый кукан | C54: Хилько Артем | D54: =SUM(F54:O54) -> 207.36 | E54: =IF(D54>0,RANK(D54,$D$45:$D$83),40) -> 19 | F54: =POWER(F12,2) -> 207.36 | G54: =POWER(G12,2) -> 0 | H54: =POWER(H12,2) -> 0 | I54: =POWER(I12,2) -> 0 | J54: =POWER(J12,2) -> 0 | K54: =POWER(K12,2) -> 0 | L54: =POWER(L12,2) -> 0 | M54: =POWER(M12,2) -> 0 | ... O54: =POWER(O12,2) -> 0
A55: =A54+1 -> 11 | B55: Black River Team | C55: Рабушко Василий | D55: =SUM(F55:O55) -> 0 | E55: =IF(D55>0,RANK(D55,$D$45:$D$83),40) -> 40 | F55: =POWER(F13,2) -> 0 | G55: =POWER(G13,2) -> 0 | H55: =POWER(H13,2) -> 0 | I55: =POWER(I13,2) -> 0 | J55: =POWER(J13,2) -> 0 | K55: =POWER(K13,2) -> 0 | L55: =POWER(L13,2) -> 0 | M55: =POWER(M13,2) -> 0 | ... O55: =POWER(O13,2) -> 0
A56: =A55+1 -> 12 | B56: Дачники | C56: Тищенко Павел | D56: =SUM(F56:O56) -> 144 | E56: =IF(D56>0,RANK(D56,$D$45:$D$83),40) -> 25 | F56: =POWER(F14,2) -> 144 | G56: =POWER(G14,2) -> 0 | H56: =POWER(H14,2) -> 0 | I56: =POWER(I14,2) -> 0 | J56: =POWER(J14,2) -> 0 | K56: =POWER(K14,2) -> 0 | L56: =POWER(L14,2) -> 0 | M56: =POWER(M14,2) -> 0 | ... O56: =POWER(O14,2) -> 0
A57: =A56+1 -> 13 | B57: Amateurs | C57: Куликовский Виталий | D57: =SUM(F57:O57) -> 146.41 | E57: =IF(D57>0,RANK(D57,$D$45:$D$83),40) -> 24 | F57: =POWER(F15,2) -> 146.41 | G57: =POWER(G15,2) -> 0 | H57: =POWER(H15,2) -> 0 | I57: =POWER(I15,2) -> 0 | J57: =POWER(J15,2) -> 0 | K57: =POWER(K15,2) -> 0 | L57: =POWER(L15,2) -> 0 | M57: =POWER(M15,2) -> 0 | ... O57: =POWER(O15,2) -> 0
A58: =A57+1 -> 14 | B58: Против Течениия | C58: Карпеев Тимофей | D58: =SUM(F58:O58) -> 501.76 | E58: =IF(D58>0,RANK(D58,$D$45:$D$83),40) -> 10 | F58: =POWER(F16,2) -> 501.76 | G58: =POWER(G16,2) -> 0 | H58: =POWER(H16,2) -> 0 | I58: =POWER(I16,2) -> 0 | J58: =POWER(J16,2) -> 0 | K58: =POWER(K16,2) -> 0 | L58: =POWER(L16,2) -> 0 | M58: =POWER(M16,2) -> 0 | ... O58: =POWER(O16,2) -> 0
A59: =A58+1 -> 15 | B59: ASpinnTeam | C59: Вашкевич Александр | D59: =SUM(F59:O59) -> 290.41 | E59: =IF(D59>0,RANK(D59,$D$45:$D$83),40) -> 15 | F59: =POWER(F17,2) -> 144 | G59: =POWER(G17,2) -> 146.41 | H59: =POWER(H17,2) -> 0 | I59: =POWER(I17,2) -> 0 | J59: =POWER(J17,2) -> 0 | K59: =POWER(K17,2) -> 0 | L59: =POWER(L17,2) -> 0 | M59: =POWER(M17,2) -> 0 | ... O59: =POWER(O17,2) -> 0
A60: =A59+1 -> 16 | B60: Poseidon | C60: Строк Павел | D60: =SUM(F60:O60) -> 190.44 | E60: =IF(D60>0,RANK(D60,$D$45:$D$83),40) -> 20 | F60: =POWER(F18,2) -> 190.44 | G60: =POWER(G18,2) -> 0 | H60: =POWER(H18,2) -> 0 | I60: =POWER(I18,2) -> 0 | J60: =POWER(J18,2) -> 0 | K60: =POWER(K18,2) -> 0 | L60: =POWER(L18,2) -> 0 | M60: =POWER(M18,2) -> 0 | ... O60: =POWER(O18,2) -> 0
A61: =A60+1 -> 17 | B61: Bona Кобрин | C61: Марковский Максим | D61: =SUM(F61:O61) -> 179.56 | E61: =IF(D61>0,RANK(D61,$D$45:$D$83),40) -> 21 | F61: =POWER(F19,2) -> 179.56 | G61: =POWER(G19,2) -> 0 | H61: =POWER(H19,2) -> 0 | I61: =POWER(I19,2) -> 0 | J61: =POWER(J19,2) -> 0 | K61: =POWER(K19,2) -> 0 | L61: =POWER(L19,2) -> 0 | M61: =POWER(M19,2) -> 0 | ... O61: =POWER(O19,2) -> 0
A62: =A61+1 -> 18 | B62: ЕК | C62: Ковалёв Евгений | D62: =SUM(F62:O62) -> 0 | E62: =IF(D62>0,RANK(D62,$D$45:$D$83),40) -> 40 | F62: =POWER(F20,2) -> 0 | G62: =POWER(G20,2) -> 0 | H62: =POWER(H20,2) -> 0 | I62: =POWER(I20,2) -> 0 | J62: =POWER(J20,2) -> 0 | K62: =POWER(K20,2) -> 0 | L62: =POWER(L20,2) -> 0 | M62: =POWER(M20,2) -> 0 | ... O62: =POWER(O20,2) -> 0
A63: =A62+1 -> 19 | B63: ПВ | C63: Воробьев Павел | D63: =SUM(F63:O63) -> 0 | E63: =IF(D63>0,RANK(D63,$D$45:$D$83),40) -> 40 | F63: =POWER(F21,2) -> 0 | G63: =POWER(G21,2) -> 0 | H63: =POWER(H21,2) -> 0 | I63: =POWER(I21,2) -> 0 | J63: =POWER(J21,2) -> 0 | K63: =POWER(K21,2) -> 0 | L63: =POWER(L21,2) -> 0 | M63: =POWER(M21,2) -> 0 | ... O63: =POWER(O21,2) -> 0
A64: =A63+1 -> 20 | B64: Fanatik Belarus | C64: Шевчук Дмитрий | D64: =SUM(F64:O64) -> 358.25 | E64: =IF(D64>0,RANK(D64,$D$45:$D$83),40) -> 13 | F64: =POWER(F22,2) -> 153.76 | G64: =POWER(G22,2) -> 204.49 | H64: =POWER(H22,2) -> 0 | I64: =POWER(I22,2) -> 0 | J64: =POWER(J22,2) -> 0 | K64: =POWER(K22,2) -> 0 | L64: =POWER(L22,2) -> 0 | M64: =POWER(M22,2) -> 0 | ... O64: =POWER(O22,2) -> 0
A65: =A64+1 -> 21 | B65: Bass Hunters | C65: Кириевский Андрей | D65: =SUM(F65:O65) -> 0 | E65: =IF(D65>0,RANK(D65,$D$45:$D$83),40) -> 40 | F65: =POWER(F23,2) -> 0 | G65: =POWER(G23,2) -> 0 | H65: =POWER(H23,2) -> 0 | I65: =POWER(I23,2) -> 0 | J65: =POWER(J23,2) -> 0 | K65: =POWER(K23,2) -> 0 | L65: =POWER(L23,2) -> 0 | M65: =POWER(M23,2) -> 0 | ... O65: =POWER(O23,2) -> 0
... A69: =A68+1 -> 25 | B69: XULi-ULi | C69: Лавренчук Станислав | D69: =SUM(F69:O69) -> 156.25 | E69: =IF(D69>0,RANK(D69,$D$45:$D$83),40) -> 22 | F69: =POWER(F27,2) -> 156.25 | G69: =POWER(G27,2) -> 0 | H69: =POWER(H27,2) -> 0 | I69: =POWER(I27,2) -> 0 | J69: =POWER(J27,2) -> 0 | K69: =POWER(K27,2) -> 0 | L69: =POWER(L27,2) -> 0 | M69: =POWER(M27,2) -> 0 | ... O69: =POWER(O27,2) -> 0
A70: =A69+1 -> 26 | B70: WFT Minsk | C70: Тулупов Александр | D70: =SUM(F70:O70) -> 520.0225 | E70: =IF(D70>0,RANK(D70,$D$45:$D$83),40) -> 9 | F70: =POWER(F28,2) -> 73.96 | G70: =POWER(G28,2) -> 158.76 | H70: =POWER(H28,2) -> 0 | I70: =POWER(I28,2) -> 0 | J70: =POWER(J28,2) -> 0 | K70: =POWER(K28,2) -> 0 | L70: =POWER(L28,2) -> 0 | M70: =POWER(M28/2,2) -> 287.3025 | N70: =POWER(N28,2) -> 0 | O70: =POWER(O28,2) -> 0
A71: =A70+1 -> 27 | B71: Фарватер | C71: Цыганок Михаил | D71: =SUM(F71:O71) -> 243.86 | E71: =IF(D71>0,RANK(D71,$D$45:$D$83),40) -> 18 | F71: =POWER(F29,2) -> 72.25 | G71: =POWER(G29,2) -> 171.61 | H71: =POWER(H29,2) -> 0 | I71: =POWER(I29,2) -> 0 | J71: =POWER(J29,2) -> 0 | K71: =POWER(K29,2) -> 0 | L71: =POWER(L29,2) -> 0 | M71: =POWER(M29,2) -> 0 | ... O71: =POWER(O29,2) -> 0
A72: =A71+1 -> 28 | B72: Bait Breath Team | C72: Зубко Сергей | D72: =SUM(F72:O72) -> 365.61 | E72: =IF(D72>0,RANK(D72,$D$45:$D$83),40) -> 12 | F72: =POWER(F30,2) -> 121 | G72: =POWER(G30,2) -> 132.25 | H72: =POWER(H30,2) -> 0 | I72: =POWER(I30,2) -> 0 | J72: =POWER(J30,2) -> 0 | K72: =POWER(K30,2) -> 0 | L72: =POWER(L30,2) -> 0 | M72: =POWER(M30/2,2) -> 112.36 | N72: =POWER(N30,2) -> 0 | O72: =POWER(O30,2) -> 0
A73: =A72+1 -> 29 | B73: Lexass PRO | C73: Булойчик Илья | D73: =SUM(F73:O73) -> 132.25 | E73: =IF(D73>0,RANK(D73,$D$45:$D$83),40) -> 28 | F73: =POWER(F31,2) -> 132.25 | G73: =POWER(G31,2) -> 0 | H73: =POWER(H31,2) -> 0 | I73: =POWER(I31,2) -> 0 | J73: =POWER(J31,2) -> 0 | K73: =POWER(K31,2) -> 0 | L73: =POWER(L31,2) -> 0 | M73: =POWER(M31,2) -> 0 | ... O73: =POWER(O31,2) -> 0
A74: =A73+1 -> 30 | B74: Dream Team | C74: Тысевич Сергей | D74: =SUM(F74:O74) -> 139.24 | E74: =IF(D74>0,RANK(D74,$D$45:$D$83),40) -> 26 | F74: =POWER(F32,2) -> 139.24 | G74: =POWER(G32,2) -> 0 | H74: =POWER(H32,2) -> 0 | I74: =POWER(I32,2) -> 0 | J74: =POWER(J32,2) -> 0 | K74: =POWER(K32,2) -> 0 | L74: =POWER(L32,2) -> 0 | M74: =POWER(M32,2) -> 0 | ... O74: =POWER(O32,2) -> 0
A75: =A74+1 -> 31 | B75: nanobass | C75: Бычик Роман | D75: =SUM(F75:O75) -> 4040 | E75: =IF(D75>0,RANK(D75,$D$45:$D$83),40) -> 1 | F75: =POWER(F33,2) -> 948.64 | G75: =POWER(G33,2) -> 0 | H75: =POWER(H33,2) -> 0 | I75: =POWER(I33,2) -> 0 | J75: =POWER(J33,2) -> 0 | K75: =POWER(K33,2) -> 0 | L75: =POWER(L33,2) -> 0 | M75: =POWER(M33,2) -> 3091.36 | ... O75: =POWER(O33,2) -> 0
A76: =A75+1 -> 32 | B76: Mad Perch | C76: Павлючик Андрей | D76: =SUM(F76:O76) -> 136.89 | E76: =IF(D76>0,RANK(D76,$D$45:$D$83),40) -> 27 | F76: =POWER(F34,2) -> 136.89 | G76: =POWER(G34,2) -> 0 | H76: =POWER(H34,2) -> 0 | I76: =POWER(I34,2) -> 0 | J76: =POWER(J34,2) -> 0 | K76: =POWER(K34,2) -> 0 | L76: =POWER(L34,2) -> 0 | M76: =POWER(M34,2) -> 0 | ... O76: =POWER(O34,2) -> 0
A77: =A76+1 -> 33 | B77: Old Roads Fishing | C77: Синовец Роман | D77: =SUM(F77:O77) -> 0 | E77: =IF(D77>0,RANK(D77,$D$45:$D$83),40) -> 40 | F77: =POWER(F35,2) -> 0 | G77: =POWER(G35,2) -> 0 | H77: =POWER(H35,2) -> 0 | I77: =POWER(I35,2) -> 0 | J77: =POWER(J35,2) -> 0 | K77: =POWER(K35,2) -> 0 | L77: =POWER(L35,2) -> 0 | M77: =POWER(M35,2) -> 0 | ... O77: =POWER(O35,2) -> 0
A78: =A77+1 -> 34 | B78: Gefest | C78: Радчук Юрий | D78: =SUM(F78:O78) -> 1391.1 | E78: =IF(D78>0,RANK(D78,$D$45:$D$83),40) -> 2 | F78: =POWER(F36,2) -> 441 | G78: =POWER(G36,2) -> 134.56 | H78: =POWER(H36,2) -> 174.24 | I78: =POWER(I36,2) -> 161.29 | J78: =POWER(J36,2) -> 144 | K78: =POWER(K36,2) -> 153.76 | L78: =POWER(L36,2) -> 182.25 | M78: =POWER(M36,2) -> 0 | ... O78: =POWER(O36,2) -> 0
A79: =A78+1 -> 35 | B79: Legion | C79: Микулов Владимир | D79: =SUM(F79:O79) -> 499.28 | E79: =IF(D79>0,RANK(D79,$D$45:$D$83),40) -> 11 | F79: =POWER(F37,2) -> 249.64 | G79: =POWER(G37,2) -> 249.64 | H79: =POWER(H37,2) -> 0 | I79: =POWER(I37,2) -> 0 | J79: =POWER(J37,2) -> 0 | K79: =POWER(K37,2) -> 0 | L79: =POWER(L37,2) -> 0 | M79: =POWER(M37,2) -> 0 | ... O79: =POWER(O37,2) -> 0
A80: =A79+1 -> 36 | B80: Кооператив ХИЩНИК | C80: Сницкий Виктор | D80: =SUM(F80:O80) -> 1047.4325 | E80: =IF(D80>0,RANK(D80,$D$45:$D$83),40) -> 4 | F80: =POWER(F38,2) -> 231.04 | G80: =POWER(G38,2) -> 136.89 | H80: =POWER(H38,2) -> 225 | I80: =POWER(I38,2) -> 190.44 | J80: =POWER(J38,2) -> 0 | K80: =POWER(K38,2) -> 0 | L80: =POWER(L38,2) -> 0 | M80: =POWER(M38/2,2) -> 264.0625 | N80: =POWER(N38,2) -> 0 | O80: =POWER(O38,2) -> 0
A81: =A80+1 -> 37 | B81: FishUp Team | C81: Крук Денис | D81: =SUM(F81:O81) -> 653 | E81: =IF(D81>0,RANK(D81,$D$45:$D$83),40) -> 8 | F81: =POWER(F39,2) -> 484 | G81: =POWER(G39,2) -> 169 | H81: =POWER(H39,2) -> 0 | I81: =POWER(I39,2) -> 0 | J81: =POWER(J39,2) -> 0 | K81: =POWER(K39,2) -> 0 | L81: =POWER(L39,2) -> 0 | M81: =POWER(M39,2) -> 0 | ... O81: =POWER(O39,2) -> 0
A82: =A81+1 -> 38 | B82: S'B-FISHING | C82: Сапроненков Евгений | D82: =SUM(F82:O82) -> 721.26 | E82: =IF(D82>0,RANK(D82,$D$45:$D$83),40) -> 6 | F82: =POWER(F40,2) -> 204.49 | G82: =POWER(G40,2) -> 73.96 | H82: =POWER(H40,2) -> 118.81 | I82: =POWER(I40,2) -> 0 | J82: =POWER(J40,2) -> 0 | K82: =POWER(K40,2) -> 0 | L82: =POWER(L40,2) -> 0 | M82: =POWER(M40/2,2) -> 324 | N82: =POWER(N40,2) -> 0 | O82: =POWER(O40,2) -> 0
A83: =A82+1 -> 39 | B83: Perch Legends | C83: Корней Валентин | D83: =SUM(F83:O83) -> 268.96 | E83: =IF(D83>0,RANK(D83,$D$45:$D$83),40) -> 16 | F83: =POWER(F41,2) -> 0 | G83: =POWER(G41,2) -> 0 | H83: =POWER(H41,2) -> 0 | I83: =POWER(I41,2) -> 0 | J83: =POWER(J41,2) -> 0 | K83: =POWER(K41,2) -> 0 | L83: =POWER(L41,2) -> 0 | M83: =POWER(M41/2,2) -> 268.96 | N83: =POWER(N41,2) -> 0 | O83: =POWER(O41,2) -> 0

Sheet FuzzyLookup_AddIn_Undo_Sheet
A1: № | B1: Команды | C1: Участники | D1: Тур 1 | H1: Тур 2 | L1: Личный зачет | O1: Командный зачет
D2: Зона А | F2: Зона Б | H2: Зона А | J2: Зона Б
D3: баллы | E3: место | F3: баллы | G3: место | H3: баллы | I3: место | J3: баллы | K3: место | L3: баллы | M3: сумма мест | N3: место | O3: баллы | P3: сумма мест | Q3: место
A4: 1 | B4: Cast-Fishing | C4: Лихачев Максим | L4: =D4+F4+H4+J4 -> 0 | M4: =E4+G4+I4+K4 -> 0 | O4: =L4+L5 -> 0 | P4: =M4+M5 -> 0
C5: Ковальчук Дмитрий | L5: =D5+F5+H5+J5 -> 0 | M5: =E5+G5+I5+K5 -> 0
A6: 2 | B6: Peacock Bass | C6: Сенчуров Иван | L6: =D6+F6+H6+J6 -> 0 | M6: =E6+G6+I6+K6 -> 0 | O6: =L6+L7 -> 0 | P6: =M6+M7 -> 0
C7: Дроздов Виталий | L7: =D7+F7+H7+J7 -> 0 | M7: =E7+G7+I7+K7 -> 0
A8: 3 | B8: Adventurers | C8: Бахур Александр | D8: 196 | L8: =D8+F8+H8+J8 -> 196 | M8: =E8+G8+I8+K8 -> 0 | O8: =L8+L9 -> 196 | P8: =M8+M9 -> 0
C9: Зубко Сергей | L9: =D9+F9+H9+J9 -> 0 | M9: =E9+G9+I9+K9 -> 0
A10: 4 | B10: MicroKiller | C10: Купрейчик Сергей | L10: =D10+F10+H10+J10 -> 0 | M10: =E10+G10+I10+K10 -> 0 | O10: =L10+L11 -> 81 | P10: =M10+M11 -> 0
C11: Янкович Сергей | D11: 81 | L11: =D11+F11+H11+J11 -> 81 | M11: =E11+G11+I11+K11 -> 0
A12: 5 | B12: Per4 | C12: Лунякин Олег | L12: =D12+F12+H12+J12 -> 0 | M12: =E12+G12+I12+K12 -> 0 | O12: =L12+L13 -> 36 | P12: =M12+M13 -> 0
C13: Каменец Алексей | D13: 36 | L13: =D13+F13+H13+J13 -> 36 | M13: =E13+G13+I13+K13 -> 0
A14: 6 | B14: Poseidon | C14: Чижонок Сергей | D14: 121 | L14: =D14+F14+H14+J14 -> 121 | M14: =E14+G14+I14+K14 -> 0 | O14: =L14+L15 -> 121 | P14: =M14+M15 -> 0
C15: Строк Павел | L15: =D15+F15+H15+J15 -> 0 | M15: =E15+G15+I15+K15 -> 0
A16: 7 | B16: West Fishing | C16: Непомнящий Виктор | L16: =D16+F16+H16+J16 -> 0 | M16: =E16+G16+I16+K16 -> 0 | O16: =L16+L17 -> 0 | P16: =M16+M17 -> 0
C17: Золотарь Андрей | L17: =D17+F17+H17+J17 -> 0 | M17: =E17+G17+I17+K17 -> 0
A18: 8 | B18: nanobass | C18: Бычик Роман | D18: 100 | L18: =D18+F18+H18+J18 -> 100 | M18: =E18+G18+I18+K18 -> 0 | O18: =L18+L19 -> 100 | P18: =M18+M19 -> 0
C19: Шевко Виталий | L19: =D19+F19+H19+J19 -> 0 | M19: =E19+G19+I19+K19 -> 0
A20: 9 | B20: Трудовые резервы | C20: Пожарский Константин | L20: =D20+F20+H20+J20 -> 0 | M20: =E20+G20+I20+K20 -> 0 | O20: =L20+L21 -> 49 | P20: =M20+M21 -> 0
C21: Бобриков Алексей | D21: 49 | L21: =D21+F21+H21+J21 -> 49 | M21: =E21+G21+I21+K21 -> 0
A22: 10 | B22: Lunker Tail | C22: Козел Вячеслав | L22: =D22+F22+H22+J22 -> 0 | M22: =E22+G22+I22+K22 -> 0 | O22: =L22+L23 -> 64 | P22: =M22+M23 -> 0
C23: Кириевский Андрей | D23: 64 | L23: =D23+F23+H23+J23 -> 64 | M23: =E23+G23+I23+K23 -> 0
A24: 11 | B24: Против Течения | C24: Ананич Геннадий | L24: =D24+F24+H24+J24 -> 0 | M24: =E24+G24+I24+K24 -> 0 | O24: =L24+L25 -> 0 | P24: =M24+M25 -> 0
C25: Кириенко Кирилл | L25: =D25+F25+H25+J25 -> 0 | M25: =E25+G25+I25+K25 -> 0
A26: 12 | B26: ЕК | C26: Ковалев Евгений | D26: 169 | L26: =D26+F26+H26+J26 -> 169 | M26: =E26+G26+I26+K26 -> 0 | O26: =L26+L27 -> 169 | P26: =M26+M27 -> 0
C27: Казанцев Евгений | L27: =D27+F27+H27+J27 -> 0 | M27: =E27+G27+I27+K27 -> 0
A28: 13 | B28: Legion | C28: Бойко Сергей | L28: =D28+F28+H28+J28 -> 0 | M28: =E28+G28+I28+K28 -> 0 | O28: =L28+L29 -> 225 | P28: =M28+M29 -> 0
C29: Микулов Владимир | D29: 225 | L29: =D29+F29+H29+J29 -> 225 | M29: =E29+G29+I29+K29 -> 0
A30: 14 | B30: Степ Гарант | C30: Мельников Ю. В. | D30: 144 | L30: =D30+F30+H30+J30 -> 144 | M30: =E30+G30+I30+K30 -> 0 | O30: =L30+L31 -> 144 | P30: =M30+M31 -> 0
C31: Кравченко И. П. | L31: =D31+F31+H31+J31 -> 0 | M31: =E31+G31+I31+K31 -> 0

Sheet Итоги
A1: № | B1: Команды | C1: Участники | D1: Тур 1 | H1: Тур 2 | L1: Личный зачет | O1: Командный зачет
D2: Зона А | F2: Зона Б | H2: Зона А | J2: Зона Б
D3: баллы | E3: меcто | F3: баллы | G3: место | H3: баллы | I3: место | J3: баллы | K3: место | L3: баллы | M3: сумма мест | N3: место | O3: баллы | P3: сумма мест | Q3: место
A4: 1 | B4: Peacock Bass | C4: Сенчуров Иван | D4: =IFERROR(VLOOKUP(C4,Т1За!$C$45:$D$83,2,0),0) -> 979.21 | E4: =IFERROR(VLOOKUP(C4,Т1За!$C$45:$E$83,3,0),0) -> 16 | F4: =IFERROR(VLOOKUP(C4,Т1Зб!$C$45:$D$83,2,0),0) -> 0 | G4: =IFERROR(VLOOKUP(C4,Т1Зб!$C$45:$E$83,3,0),0) -> 0 | H4: =IFERROR(VLOOKUP(C4,Т2За!$C$45:$D$83,2,0),0) -> 0 | I4: =IFERROR(VLOOKUP(C4,Т2За!$C$45:$E$83,3,0),0) -> 0 | J4: =IFERROR(VLOOKUP(C4,Т2Зб!$C$45:$D$83,2,0),0) -> 123.21 | K4: =IFERROR(VLOOKUP(C4,Т2Зб!$C$45:$E$83,3,0),0) -> 29 | L4: =D4+F4+H4+J4 -> 1102.42 | M4: =E4+G4+I4+K4 -> 45 | N4: =RANK(M4,$M$4:$M$82,1) -> 42 | O4: =L4+L5 -> 3284.18 | P4: =M4+M5 -> 66 | Q4: =RANK(P4,$P$4:$P$82,1) -> 12
A5: =A4+1 -> 2 | B5: Peacock Bass | C5: Дроздов Виталий | D5: =IFERROR(VLOOKUP(C5,Т1За!$C$45:$D$83,2,0),0) -> 0 | E5: =IFERROR(VLOOKUP(C5,Т1За!$C$45:$E$83,3,0),0) -> 0 | F5: =IFERROR(VLOOKUP(C5,Т1Зб!$C$45:$D$83,2,0),0) -> 601.5 | G5: =IFERROR(VLOOKUP(C5,Т1Зб!$C$45:$E$83,3,0),0) -> 16 | H5: =IFERROR(VLOOKUP(C5,Т2За!$C$45:$D$83,2,0),0) -> 1580.26 | I5: =IFERROR(VLOOKUP(C5,Т2За!$C$45:$E$83,3,0),0) -> 5 | J5: =IFERROR(VLOOKUP(C5,Т2Зб!$C$45:$D$83,2,0),0) -> 0 | K5: =IFERROR(VLOOKUP(C5,Т2Зб!$C$45:$E$83,3,0),0) -> 0 | L5: =D5+F5+H5+J5 -> 2181.76 | M5: =E5+G5+I5+K5 -> 21 | N5: =RANK(M5,$M$4:$M$82,1) -> 15
A6: =A5+1 -> 3 | B6: FISHINGSTOCK BELARUS | C6: Лунякин Олег | D6: =IFERROR(VLOOKUP(C6,Т1За!$C$45:$D$83,2,0),0) -> 0 | E6: =IFERROR(VLOOKUP(C6,Т1За!$C$45:$E$83,3,0),0) -> 0 | F6: =IFERROR(VLOOKUP(C6,Т1Зб!$C$45:$D$83,2,0),0) -> 572.26 | G6: =IFERROR(VLOOKUP(C6,Т1Зб!$C$45:$E$83,3,0),0) -> 19 | H6: =IFERROR(VLOOKUP(C6,Т2За!$C$45:$D$83,2,0),0) -> 734.88 | I6: =IFERROR(VLOOKUP(C6,Т2За!$C$45:$E$83,3,0),0) -> 12 | J6: =IFERROR(VLOOKUP(C6,Т2Зб!$C$45:$D$83,2,0),0) -> 0 | K6: =IFERROR(VLOOKUP(C6,Т2Зб!$C$45:$E$83,3,0),0) -> 0 | L6: =D6+F6+H6+J6 -> 1307.14 | M6: =E6+G6+I6+K6 -> 31 | N6: =RANK(M6,$M$4:$M$82,1) -> 27 | O6: =L6+L7 -> 2238.04 | P6: =M6+M7 -> 69 | Q6: =RANK(P6,$P$4:$P$82,1) -> 13
A7: =A6+1 -> 4 | B7: FISHINGSTOCK BELARUS | C7: Бобриков Алексей | D7: =IFERROR(VLOOKUP(C7,Т1За!$C$45:$D$83,2,0),0) -> 187.69 | E7: =IFERROR(VLOOKUP(C7,Т1За!$C$45:$E$83,3,0),0) -> 33 | F7: =IFERROR(VLOOKUP(C7,Т1Зб!$C$45:$D$83,2,0),0) -> 0 | G7: =IFERROR(VLOOKUP(C7,Т1Зб!$C$45:$E$83,3,0),0) -> 0 | H7: =IFERROR(VLOOKUP(C7,Т2За!$C$45:$D$83,2,0),0) -> 0 | I7: =IFERROR(VLOOKUP(C7,Т2За!$C$45:$E$83,3,0),0) -> 0 | J7: =IFERROR(VLOOKUP(C7,Т2Зб!$C$45:$D$83,2,0),0) -> 743.21 | K7: =IFERROR(VLOOKUP(C7,Т2Зб!$C$45:$E$83,3,0),0) -> 5 | L7: =D7+F7+H7+J7 -> 930.9 | M7: =E7+G7+I7+K7 -> 38 | N7: 35
A8: =A7+1 -> 5 | B8: West Fishing | C8: Непомнящий Виктор | D8: =IFERROR(VLOOKUP(C8,Т1За!$C$45:$D$83,2,0),0) -> 2711.77 | E8: =IFERROR(VLOOKUP(C8,Т1За!$C$45:$E$83,3,0),0) -> 2 | F8: =IFERROR(VLOOKUP(C8,Т1Зб!$C$45:$D$83,2,0),0) -> 0 | G8: =IFERROR(VLOOKUP(C8,Т1Зб!$C$45:$E$83,3,0),0) -> 0 | H8: =IFERROR(VLOOKUP(C8,Т2За!$C$45:$D$83,2,0),0) -> 0 | I8: =IFERROR(VLOOKUP(C8,Т2За!$C$45:$E$83,3,0),0) -> 0 | J8: =IFERROR(VLOOKUP(C8,Т2Зб!$C$45:$D$83,2,0),0) -> 713.54 | K8: =IFERROR(VLOOKUP(C8,Т2Зб!$C$45:$E$83,3,0),0) -> 7 | L8: =D8+F8+H8+J8 -> 3425.31 | M8: =E8+G8+I8+K8 -> 9 | N8: =RANK(M8,$M$4:$M$82,1) -> 5 | O8: =L8+L9 -> 3749.17 | P8: =M8+M9 -> 70 | Q8: 16
A9: =A8+1 -> 6 | B9: West Fishing | C9: Золотарь Андрей | D9: =IFERROR(VLOOKUP(C9,Т1За!$C$45:$D$83,2,0),0) -> 0 | E9: =IFERROR(VLOOKUP(C9,Т1За!$C$45:$E$83,3,0),0) -> 0 | F9: =IFERROR(VLOOKUP(C9,Т1Зб!$C$45:$D$83,2,0),0) -> 141.61 | G9: =IFERROR(VLOOKUP(C9,Т1Зб!$C$45:$E$83,3,0),0) -> 34 | H9: =IFERROR(VLOOKUP(C9,Т2За!$C$45:$D$83,2,0),0) -> 182.25 | I9: =IFERROR(VLOOKUP(C9,Т2За!$C$45:$E$83,3,0),0) -> 27 | J9: =IFERROR(VLOOKUP(C9,Т2Зб!$C$45:$D$83,2,0),0) -> 0 | K9: =IFERROR(VLOOKUP(C9,Т2Зб!$C$45:$E$83,3,0),0) -> 0 | L9: =D9+F9+H9+J9 -> 323.86 | M9: =E9+G9+I9+K9 -> 61 | N9: =RANK(M9,$M$4:$M$82,1) -> 65
A10: =A9+1 -> 7 | B10: UL Hooligans | C10: Дешкевич Виталий | D10: =IFERROR(VLOOKUP(C10,Т1За!$C$45:$D$83,2,0),0) -> 0 | E10: =IFERROR(VLOOKUP(C10,Т1За!$C$45:$E$83,3,0),0) -> 0 | F10: =IFERROR(VLOOKUP(C10,Т1Зб!$C$45:$D$83,2,0),0) -> 414.49 | G10: =IFERROR(VLOOKUP(C10,Т1Зб!$C$45:$E$83,3,0),0) -> 24 | H10: =IFERROR(VLOOKUP(C10,Т2За!$C$45:$D$83,2,0),0) -> 374.85 | I10: =IFERROR(VLOOKUP(C10,Т2За!$C$45:$E$83,3,0),0) -> 21 | J10: =IFERROR(VLOOKUP(C10,Т2Зб!$C$45:$D$83,2,0),0) -> 0 | K10: =IFERROR(VLOOKUP(C10,Т2Зб!$C$45:$E$83,3,0),0) -> 0 | L10: =D10+F10+H10+J10 -> 789.34 | M10: =E10+G10+I10+K10 -> 45 | N10: 43 | O10: =L10+L11 -> 1074.32 | P10: =M10+M11 -> 117 | Q10: 34
A11: =A10+1 -> 8 | B11: UL Hooligans | C11: Уютов Кирилл | D11: =IFERROR(VLOOKUP(C11,Т1За!$C$45:$D$83,2,0),0) -> 284.98 | E11: =IFERROR(VLOOKUP(C11,Т1За!$C$45:$E$83,3,0),0) -> 32 | F11: =IFERROR(VLOOKUP(C11,Т1Зб!$C$45:$D$83,2,0),0) -> 0 | G11: =IFERROR(VLOOKUP(C11,Т1Зб!$C$45:$E$83,3,0),0) -> 0 | H11: =IFERROR(VLOOKUP(C11,Т2За!$C$45:$D$83,2,0),0) -> 0 | I11: =IFERROR(VLOOKUP(C11,Т2За!$C$45:$E$83,3,0),0) -> 0 | J11: =IFERROR(VLOOKUP(C11,Т2Зб!$C$45:$D$83,2,0),0) -> 0 | K11: =IFERROR(VLOOKUP(C11,Т2Зб!$C$45:$E$83,3,0),0) -> 40 | L11: =D11+F11+H11+J11 -> 284.98 | M11: =E11+G11+I11+K11 -> 72 | N11: =RANK(M11,$M$4:$M$82,1) -> 72
A12: =A11+1 -> 9 | B12: Rockfish | C12: Лазарчик Евгений | D12: =IFERROR(VLOOKUP(C12,Т1За!$C$45:$D$83,2,0),0) -> 0 | E12: =IFERROR(VLOOKUP(C12,Т1За!$C$45:$E$83,3,0),0) -> 0 | F12: =IFERROR(VLOOKUP(C12,Т1Зб!$C$45:$D$83,2,0),0) -> 340.85 | G12: =IFERROR(VLOOKUP(C12,Т1Зб!$C$45:$E$83,3,0),0) -> 28 | H12: =IFERROR(VLOOKUP(C12,Т2За!$C$45:$D$83,2,0),0) -> 121 | I12: =IFERROR(VLOOKUP(C12,Т2За!$C$45:$E$83,3,0),0) -> 30 | J12: =IFERROR(VLOOKUP(C12,Т2Зб!$C$45:$D$83,2,0),0) -> 0 | K12: =IFERROR(VLOOKUP(C12,Т2Зб!$C$45:$E$83,3,0),0) -> 0 | L12: =D12+F12+H12+J12 -> 461.85 | M12: =E12+G12+I12+K12 -> 58 | N12: 62 | O12: =L12+L13 -> 1975.18 | P12: =M12+M13 -> 96 | Q12: =RANK(P12,$P$4:$P$82,1) -> 27
A13: =A12+1 -> 10 | B13: Rockfish | C13: Силивончик Павел | D13: =IFERROR(VLOOKUP(C13,Т1За!$C$45:$D$83,2,0),0) -> 161.29 | E13: =IFERROR(VLOOKUP(C13,Т1За!$C$45:$E$83,3,0),0) -> 35 | F13: =IFERROR(VLOOKUP(C13,Т1Зб!$C$45:$D$83,2,0),0) -> 0 | G13: =IFERROR(VLOOKUP(C13,Т1Зб!$C$45:$E$83,3,0),0) -> 0 | H13: =IFERROR(VLOOKUP(C13,Т2За!$C$45:$D$83,2,0),0) -> 0 | I13: =IFERROR(VLOOKUP(C13,Т2За!$C$45:$E$83,3,0),0) -> 0 | J13: =IFERROR(VLOOKUP(C13,Т2Зб!$C$45:$D$83,2,0),0) -> 1352.04 | K13: =IFERROR(VLOOKUP(C13,Т2Зб!$C$45:$E$83,3,0),0) -> 3 | L13: =D13+F13+H13+J13 -> 1513.33 | M13: =E13+G13+I13+K13 -> 38 | N13: 33
A14: =A13+1 -> 11 | B14: Крутой берег | C14: Желтов Игорь | D14: =IFERROR(VLOOKUP(C14,Т1За!$C$45:$D$83,2,0),0) -> 0 | E14: =IFERROR(VLOOKUP(C14,Т1За!$C$45:$E$83,3,0),0) -> 0 | F14: =IFERROR(VLOOKUP(C14,Т1Зб!$C$45:$D$83,2,0),0) -> 0 | G14: =IFERROR(VLOOKUP(C14,Т1Зб!$C$45:$E$83,3,0),0) -> 40 | H14: =IFERROR(VLOOKUP(C14,Т2За!$C$45:$D$83,2,0),0) -> 0 | I14: =IFERROR(VLOOKUP(C14,Т2За!$C$45:$E$83,3,0),0) -> 40 | J14: =IFERROR(VLOOKUP(C14,Т2Зб!$C$45:$D$83,2,0),0) -> 0 | K14: =IFERROR(VLOOKUP(C14,Т2Зб!$C$45:$E$83,3,0),0) -> 0 | L14: =D14+F14+H14+J14 -> 0 | M14: =E14+G14+I14+K14 -> 80 | N14: 79 | O14: =L14+L15 -> 0 | P14: =M14+M15 -> 160 | Q14: 40
A15: =A14+1 -> 12 | B15: Крутой берег | C15: Желтов Евгений | D15: =IFERROR(VLOOKUP(C15,Т1За!$C$45:$D$83,2,0),0) -> 0 | E15: =IFERROR(VLOOKUP(C15,Т1За!$C$45:$E$83,3,0),0) -> 40 | F15: =IFERROR(VLOOKUP(C15,Т1Зб!$C$45:$D$83,2,0),0) -> 0 | G15: =IFERROR(VLOOKUP(C15,Т1Зб!$C$45:$E$83,3,0),0) -> 0 | H15: =IFERROR(VLOOKUP(C15,Т2За!$C$45:$D$83,2,0),0) -> 0 | I15: =IFERROR(VLOOKUP(C15,Т2За!$C$45:$E$83,3,0),0) -> 0 | J15: =IFERROR(VLOOKUP(C15,Т2Зб!$C$45:$D$83,2,0),0) -> 0 | K15: =IFERROR(VLOOKUP(C15,Т2Зб!$C$45:$E$83,3,0),0) -> 40 | L15: =D15+F15+H15+J15 -> 0 | M15: =E15+G15+I15+K15 -> 80 | N15: 79
A16: =A15+1 -> 13 | B16: Pike death TEAM | C16: Круглянин Сергей | D16: =IFERROR(VLOOKUP(C16,Т1За!$C$45:$D$83,2,0),0) -> 585 | E16: =IFERROR(VLOOKUP(C16,Т1За!$C$45:$E$83,3,0),0) -> 23 | F16: =IFERROR(VLOOKUP(C16,Т1Зб!$C$45:$D$83,2,0),0) -> 0 | G16: =IFERROR(VLOOKUP(C16,Т1Зб!$C$45:$E$83,3,0),0) -> 0 | H16: =IFERROR(VLOOKUP(C16,Т2За!$C$45:$D$83,2,0),0) -> 0 | I16: =IFERROR(VLOOKUP(C16,Т2За!$C$45:$E$83,3,0),0) -> 0 | J16: =IFERROR(VLOOKUP(C16,Т2Зб!$C$45:$D$83,2,0),0) -> 262.44 | K16: =IFERROR(VLOOKUP(C16,Т2Зб!$C$45:$E$83,3,0),0) -> 17 | L16: =D16+F16+H16+J16 -> 847.44 | M16: =E16+G16+I16+K16 -> 40 | N16: 38 | O16: =L16+L17 -> 1462.28 | P16: =M16+M17 -> 89 | Q16: =RANK(P16,$P$4:$P$82,1) -> 22
A17: =A16+1 -> 14 | B17: Pike death TEAM | C17: Ставер Дмитрий | D17: =IFERROR(VLOOKUP(C17,Т1За!$C$45:$D$83,2,0),0) -> 0 | E17: =IFERROR(VLOOKUP(C17,Т1За!$C$45:$E$83,3,0),0) -> 0 | F17: =IFERROR(VLOOKUP(C17,Т1Зб!$C$45:$D$83,2,0),0) -> 424.4 | G17: =IFERROR(VLOOKUP(C17,Т1Зб!$C$45:$E$83,3,0),0) -> 23 | H17: =IFERROR(VLOOKUP(C17,Т2За!$C$45:$D$83,2,0),0) -> 190.44 | I17: =IFERROR(VLOOKUP(C17,Т2За!$C$45:$E$83,3,0),0) -> 26 | J17: =IFERROR(VLOOKUP(C17,Т2Зб!$C$45:$D$83,2,0),0) -> 0 | K17: =IFERROR(VLOOKUP(C17,Т2Зб!$C$45:$E$83,3,0),0) -> 0 | L17: =D17+F17+H17+J17 -> 614.84 | M17: =E17+G17+I17+K17 -> 49 | N17: 50
A18: =A17+1 -> 15 | B18: Трудовые резервы | C18: Баранок Артём | D18: =IFERROR(VLOOKUP(C18,Т1За!$C$45:$D$83,2,0),0) -> 415.44 | E18: =IFERROR(VLOOKUP(C18,Т1За!$C$45:$E$83,3,0),0) -> 29 | F18: =IFERROR(VLOOKUP(C18,Т1Зб!$C$45:$D$83,2,0),0) -> 0 | G18: =IFERROR(VLOOKUP(C18,Т1Зб!$C$45:$E$83,3,0),0) -> 0 | H18: =IFERROR(VLOOKUP(C18,Т2За!$C$45:$D$83,2,0),0) -> 0 | I18: =IFERROR(VLOOKUP(C18,Т2За!$C$45:$E$83,3,0),0) -> 0 | J18: =IFERROR(VLOOKUP(C18,Т2Зб!$C$45:$D$83,2,0),0) -> 0 | K18: =IFERROR(VLOOKUP(C18,Т2Зб!$C$45:$E$83,3,0),0) -> 40 | L18: =D18+F18+H18+J18 -> 415.44 | M18: =E18+G18+I18+K18 -> 69 | N18: =RANK(M18,$M$4:$M$82,1) -> 69 | O18: =L18+L19 -> 1561.68 | P18: =M18+M19 -> 103 | Q18: =RANK(P18,$P$4:$P$82,1) -> 31
A19: =A18+1 -> 16 | B19: Трудовые резервы | C19: Пожарский Константин | D19: =IFERROR(VLOOKUP(C19,Т1За!$C$45:$D$83,2,0),0) -> 0 | E19: =IFERROR(VLOOKUP(C19,Т1За!$C$45:$E$83,3,0),0) -> 0 | F19: =IFERROR(VLOOKUP(C19,Т1Зб!$C$45:$D$83,2,0),0) -> 588.6 | G19: =IFERROR(VLOOKUP(C19,Т1Зб!$C$45:$E$83,3,0),0) -> 18 | H19: =IFERROR(VLOOKUP(C19,Т2За!$C$45:$D$83,2,0),0) -> 557.64 | I19: =IFERROR(VLOOKUP(C19,Т2За!$C$45:$E$83,3,0),0) -> 16 | J19: =IFERROR(VLOOKUP(C19,Т2Зб!$C$45:$D$83,2,0),0) -> 0 | K19: =IFERROR(VLOOKUP(C19,Т2Зб!$C$45:$E$83,3,0),0) -> 0 | L19: =D19+F19+H19+J19 -> 1146.24 | M19: =E19+G19+I19+K19 -> 34 | N19: =RANK(M19,$M$4:$M$82,1) -> 31
A20: =A19+1 -> 17 | B20: К&М | C20: Мельников Юрий | D20: =IFERROR(VLOOKUP(C20,Т1За!$C$45:$D$83,2,0),0) -> 169 | E20: =IFERROR(VLOOKUP(C20,Т1За!$C$45:$E$83,3,0),0) -> 34 | F20: =IFERROR(VLOOKUP(C20,Т1Зб!$C$45:$D$83,2,0),0) -> 0 | G20: =IFERROR(VLOOKUP(C20,Т1Зб!$C$45:$E$83,3,0),0) -> 0 | H20: =IFERROR(VLOOKUP(C20,Т2За!$C$45:$D$83,2,0),0) -> 0 | I20: =IFERROR(VLOOKUP(C20,Т2За!$C$45:$E$83,3,0),0) -> 0 | J20: =IFERROR(VLOOKUP(C20,Т2Зб!$C$45:$D$83,2,0),0) -> 342.25 | K20: =IFERROR(VLOOKUP(C20,Т2Зб!$C$45:$E$83,3,0),0) -> 14 | L20: =D20+F20+H20+J20 -> 511.25 | M20: =E20+G20+I20+K20 -> 48 | N20: 48 | O20: =L20+L21 -> 1251.41 | P20: =M20+M21 -> 93 | Q20: =RANK(P20,$P$4:$P$82,1) -> 24
A21: =A20+1 -> 18 | B21: К&М | C21: Казаченко Владимир | D21: =IFERROR(VLOOKUP(C21,Т1За!$C$45:$D$83,2,0),0) -> 0 | E21: =IFERROR(VLOOKUP(C21,Т1За!$C$45:$E$83,3,0),0) -> 0 | F21: =IFERROR(VLOOKUP(C21,Т1Зб!$C$45:$D$83,2,0),0) -> 591.32 | G21: =IFERROR(VLOOKUP(C21,Т1Зб!$C$45:$E$83,3,0),0) -> 17 | H21: =IFERROR(VLOOKUP(C21,Т2За!$C$45:$D$83,2,0),0) -> 148.84 | I21: =IFERROR(VLOOKUP(C21,Т2За!$C$45:$E$83,3,0),0) -> 28 | J21: =IFERROR(VLOOKUP(C21,Т2Зб!$C$45:$D$83,2,0),0) -> 0 | K21: =IFERROR(VLOOKUP(C21,Т2Зб!$C$45:$E$83,3,0),0) -> 0 | L21: =D21+F21+H21+J21 -> 740.16 | M21: =E21+G21+I21+K21 -> 45 | N21: 44
A22: =A21+1 -> 19 | B22: Пятнистый кукан | C22: Хилько Артем | D22: =IFERROR(VLOOKUP(C22,Т1За!$C$45:$D$83,2,0),0) -> 666.4 | E22: =IFERROR(VLOOKUP(C22,Т1За!$C$45:$E$83,3,0),0) -> 21 | F22: =IFERROR(VLOOKUP(C22,Т1Зб!$C$45:$D$83,2,0),0) -> 0 | G22: =IFERROR(VLOOKUP(C22,Т1Зб!$C$45:$E$83,3,0),0) -> 0 | H22: =IFERROR(VLOOKUP(C22,Т2За!$C$45:$D$83,2,0),0) -> 0 | I22: =IFERROR(VLOOKUP(C22,Т2За!$C$45:$E$83,3,0),0) -> 0 | J22: =IFERROR(VLOOKUP(C22,Т2Зб!$C$45:$D$83,2,0),0) -> 207.36 | K22: =IFERROR(VLOOKUP(C22,Т2Зб!$C$45:$E$83,3,0),0) -> 19 | L22: =D22+F22+H22+J22 -> 873.76 | M22: =E22+G22+I22+K22 -> 40 | N22: 37 | O22: =L22+L23 -> 1607.43 | P22: =M22+M23 -> 88 | Q22: =RANK(P22,$P$4:$P$82,1) -> 21
A23: =A22+1 -> 20 | B23: Пятнистый кукан | C23: Анпилов Андрей | D23: =IFERROR(VLOOKUP(C23,Т1За!$C$45:$D$83,2,0),0) -> 0 | E23: =IFERROR(VLOOKUP(C23,Т1За!$C$45:$E$83,3,0),0) -> 0 | F23: =IFERROR(VLOOKUP(C23,Т1Зб!$C$45:$D$83,2,0),0) -> 394.69 | G23: =IFERROR(VLOOKUP(C23,Т1Зб!$C$45:$E$83,3,0),0) -> 26 | H23: =IFERROR(VLOOKUP(C23,Т2За!$C$45:$D$83,2,0),0) -> 338.98 | I23: =IFERROR(VLOOKUP(C23,Т2За!$C$45:$E$83,3,0),0) -> 22 | J23: =IFERROR(VLOOKUP(C23,Т2Зб!$C$45:$D$83,2,0),0) -> 0 | K23: =IFERROR(VLOOKUP(C23,Т2Зб!$C$45:$E$83,3,0),0) -> 0 | L23: =D23+F23+H23+J23 -> 733.67 | M23: =E23+G23+I23+K23 -> 48 | N23: =RANK(M23,$M$4:$M$82,1) -> 47
A24: =A23+1 -> 21 | B24: Black River Team | C24: Ворон Павел | D24: =IFERROR(VLOOKUP(C24,Т1За!$C$45:$D$83,2,0),0) -> 0 | E24: =IFERROR(VLOOKUP(C24,Т1За!$C$45:$E$83,3,0),0) -> 0 | F24: =IFERROR(VLOOKUP(C24,Т1Зб!$C$45:$D$83,2,0),0) -> 196 | G24: =IFERROR(VLOOKUP(C24,Т1Зб!$C$45:$E$83,3,0),0) -> 31 | H24: =IFERROR(VLOOKUP(C24,Т2За!$C$45:$D$83,2,0),0) -> 0 | I24: =IFERROR(VLOOKUP(C24,Т2За!$C$45:$E$83,3,0),0) -> 40 | J24: =IFERROR(VLOOKUP(C24,Т2Зб!$C$45:$D$83,2,0),0) -> 0 | K24: =IFERROR(VLOOKUP(C24,Т2Зб!$C$45:$E$83,3,0),0) -> 0 | L24: =D24+F24+H24+J24 -> 196 | M24: =E24+G24+I24+K24 -> 71 | N24: =RANK(M24,$M$4:$M$82,1) -> 71 | O24: =L24+L25 -> 1201.97 | P24: =M24+M25 -> 125 | Q24: =RANK(P24,$P$4:$P$82,1) -> 35
A25: =A24+1 -> 22 | B25: Black River Team | C25: Рабушко Василий | D25: =IFERROR(VLOOKUP(C25,Т1За!$C$45:$D$83,2,0),0) -> 1005.97 | E25: =IFERROR(VLOOKUP(C25,Т1За!$C$45:$E$83,3,0),0) -> 14 | F25: =IFERROR(VLOOKUP(C25,Т1Зб!$C$45:$D$83,2,0),0) -> 0 | G25: =IFERROR(VLOOKUP(C25,Т1Зб!$C$45:$E$83,3,0),0) -> 0 | H25: =IFERROR(VLOOKUP(C25,Т2За!$C$45:$D$83,2,0),0) -> 0 | I25: =IFERROR(VLOOKUP(C25,Т2За!$C$45:$E$83,3,0),0) -> 0 | J25: =IFERROR(VLOOKUP(C25,Т2Зб!$C$45:$D$83,2,0),0) -> 0 | K25: =IFERROR(VLOOKUP(C25,Т2Зб!$C$45:$E$83,3,0),0) -> 40 | L25: =D25+F25+H25+J25 -> 1005.97 | M25: =E25+G25+I25+K25 -> 54 | N25: =RANK(M25,$M$4:$M$82,1) -> 58
A26: =A25+1 -> 23 | B26: Дачники | C26: Тищенко Павел | D26: =IFERROR(VLOOKUP(C26,Т1За!$C$45:$D$83,2,0),0) -> 1004.89 | E26: =IFERROR(VLOOKUP(C26,Т1За!$C$45:$E$83,3,0),0) -> 15 | F26: =IFERROR(VLOOKUP(C26,Т1Зб!$C$45:$D$83,2,0),0) -> 0 | G26: =IFERROR(VLOOKUP(C26,Т1Зб!$C$45:$E$83,3,0),0) -> 0 | H26: =IFERROR(VLOOKUP(C26,Т2За!$C$45:$D$83,2,0),0) -> 0 | I26: =IFERROR(VLOOKUP(C26,Т2За!$C$45:$E$83,3,0),0) -> 0 | J26: =IFERROR(VLOOKUP(C26,Т2Зб!$C$45:$D$83,2,0),0) -> 144 | K26: =IFERROR(VLOOKUP(C26,Т2Зб!$C$45:$E$83,3,0),0) -> 25 | L26: =D26+F26+H26+J26 -> 1148.89 | M26: =E26+G26+I26+K26 -> 40 | N26: =RANK(M26,$M$4:$M$82,1) -> 36 | O26: =L26+L27 -> 1488.5 | P26: =M26+M27 -> 99 | Q26: =RANK(P26,$P$4:$P$82,1) -> 29
A27: =A26+1 -> 24 | B27: Дачники | C27: Сапун Станислав | D27: =IFERROR(VLOOKUP(C27,Т1За!$C$45:$D$83,2,0),0) -> 0 | E27: =IFERROR(VLOOKUP(C27,Т1За!$C$45:$E$83,3,0),0) -> 0 | F27: =IFERROR(VLOOKUP(C27,Т1Зб!$C$45:$D$83,2,0),0) -> 207.36 | G27: =IFERROR(VLOOKUP(C27,Т1Зб!$C$45:$E$83,3,0),0) -> 30 | H27: =IFERROR(VLOOKUP(C27,Т2За!$C$45:$D$83,2,0),0) -> 132.25 | I27: =IFERROR(VLOOKUP(C27,Т2За!$C$45:$E$83,3,0),0) -> 29 | J27: =IFERROR(VLOOKUP(C27,Т2Зб!$C$45:$D$83,2,0),0) -> 0 | K27: =IFERROR(VLOOKUP(C27,Т2Зб!$C$45:$E$83,3,0),0) -> 0 | L27: =D27+F27+H27+J27 -> 339.61 | M27: =E27+G27+I27+K27 -> 59 | N27: =RANK(M27,$M$4:$M$82,1) -> 63
A28: =A27+1 -> 25 | B28: Amateurs | C28: Куликовский Виталий | D28: =IFERROR(VLOOKUP(C28,Т1За!$C$45:$D$83,2,0),0) -> 1565.61 | E28: =IFERROR(VLOOKUP(C28,Т1За!$C$45:$E$83,3,0),0) -> 8 | F28: =IFERROR(VLOOKUP(C28,Т1Зб!$C$45:$D$83,2,0),0) -> 0 | G28: =IFERROR(VLOOKUP(C28,Т1Зб!$C$45:$E$83,3,0),0) -> 0 | H28: =IFERROR(VLOOKUP(C28,Т2За!$C$45:$D$83,2,0),0) -> 0 | I28: =IFERROR(VLOOKUP(C28,Т2За!$C$45:$E$83,3,0),0) -> 0 | J28: =IFERROR(VLOOKUP(C28,Т2Зб!$C$45:$D$83,2,0),0) -> 146.41 | K28: =IFERROR(VLOOKUP(C28,Т2Зб!$C$45:$E$83,3,0),0) -> 24 | L28: =D28+F28+H28+J28 -> 1712.02 | M28: =E28+G28+I28+K28 -> 32 | N28: =RANK(M28,$M$4:$M$82,1) -> 28 | O28: =L28+L29 -> 4877.04 | P28: =M28+M29 -> 40 | Q28: =RANK(P28,$P$4:$P$82,1) -> 4
A29: =A28+1 -> 26 | B29: Amateurs | C29: Соколов Кирилл | D29: =IFERROR(VLOOKUP(C29,Т1За!$C$45:$D$83,2,0),0) -> 0 | E29: =IFERROR(VLOOKUP(C29,Т1За!$C$45:$E$83,3,0),0) -> 0 | F29: =IFERROR(VLOOKUP(C29,Т1Зб!$C$45:$D$83,2,0),0) -> 1554.82 | G29: =IFERROR(VLOOKUP(C29,Т1Зб!$C$45:$E$83,3,0),0) -> 4 | H29: =IFERROR(VLOOKUP(C29,Т2За!$C$45:$D$83,2,0),0) -> 1610.2 | I29: =IFERROR(VLOOKUP(C29,Т2За!$C$45:$E$83,3,0),0) -> 4 | J29: =IFERROR(VLOOKUP(C29,Т2Зб!$C$45:$D$83,2,0),0) -> 0 | K29: =IFERROR(VLOOKUP(C29,Т2Зб!$C$45:$E$83,3,0),0) -> 0 | L29: =D29+F29+H29+J29 -> 3165.02 | M29: =E29+G29+I29+K29 -> 8 | N29: =RANK(M29,$M$4:$M$82,1) -> 4
A30: =A29+1 -> 27 | B30: Против Течениия | C30: Ананич Геннадий | D30: =IFERROR(VLOOKUP(C30,Т1За!$C$45:$D$83,2,0),0) -> 0 | E30: =IFERROR(VLOOKUP(C30,Т1За!$C$45:$E$83,3,0),0) -> 0 | F30: =IFERROR(VLOOKUP(C30,Т1Зб!$C$45:$D$83,2,0),0) -> 620.5 | G30: =IFERROR(VLOOKUP(C30,Т1Зб!$C$45:$E$83,3,0),0) -> 15 | H30: =IFERROR(VLOOKUP(C30,Т2За!$C$45:$D$83,2,0),0) -> 421.78 | I30: =IFERROR(VLOOKUP(C30,Т2За!$C$45:$E$83,3,0),0) -> 20 | J30: =IFERROR(VLOOKUP(C30,Т2Зб!$C$45:$D$83,2,0),0) -> 0 | K30: =IFERROR(VLOOKUP(C30,Т2Зб!$C$45:$E$83,3,0),0) -> 0 | L30: =D30+F30+H30+J30 -> 1042.28 | M30: =E30+G30+I30+K30 -> 35 | N30: =RANK(M30,$M$4:$M$82,1) -> 32 | O30: =L30+L31 -> 2356.02 | P30: =M30+M31 -> 63 | Q30: =RANK(P30,$P$4:$P$82,1) -> 10
A31: =A30+1 -> 28 | B31: Против Течениия | C31: Карпеев Тимофей | D31: =IFERROR(VLOOKUP(C31,Т1За!$C$45:$D$83,2,0),0) -> 811.98 | E31: =IFERROR(VLOOKUP(C31,Т1За!$C$45:$E$83,3,0),0) -> 18 | F31: =IFERROR(VLOOKUP(C31,Т1Зб!$C$45:$D$83,2,0),0) -> 0 | G31: =IFERROR(VLOOKUP(C31,Т1Зб!$C$45:$E$83,3,0),0) -> 0 | H31: =IFERROR(VLOOKUP(C31,Т2За!$C$45:$D$83,2,0),0) -> 0 | I31: =IFERROR(VLOOKUP(C31,Т2За!$C$45:$E$83,3,0),0) -> 0 | J31: =IFERROR(VLOOKUP(C31,Т2Зб!$C$45:$D$83,2,0),0) -> 501.76 | K31: =IFERROR(VLOOKUP(C31,Т2Зб!$C$45:$E$83,3,0),0) -> 10 | L31: =D31+F31+H31+J31 -> 1313.74 | M31: =E31+G31+I31+K31 -> 28 | N31: =RANK(M31,$M$4:$M$82,1) -> 25
A32: =A31+1 -> 29 | B32: ASpinnTeam | C32: Нугуманов Артём | D32: =IFERROR(VLOOKUP(C32,Т1За!$C$45:$D$83,2,0),0) -> 0 | E32: =IFERROR(VLOOKUP(C32,Т1За!$C$45:$E$83,3,0),0) -> 0 | F32: =IFERROR(VLOOKUP(C32,Т1Зб!$C$45:$D$83,2,0),0) -> 700.2 | G32: =IFERROR(VLOOKUP(C32,Т1Зб!$C$45:$E$83,3,0),0) -> 13 | H32: =IFERROR(VLOOKUP(C32,Т2За!$C$45:$D$83,2,0),0) -> 256 | I32: =IFERROR(VLOOKUP(C32,Т2За!$C$45:$E$83,3,0),0) -> 25 | J32: =IFERROR(VLOOKUP(C32,Т2Зб!$C$45:$D$83,2,0),0) -> 0 | K32: =IFERROR(VLOOKUP(C32,Т2Зб!$C$45:$E$83,3,0),0) -> 0 | L32: =D32+F32+H32+J32 -> 956.2 | M32: =E32+G32+I32+K32 -> 38 | N32: 34 | O32: =L32+L33 -> 1402.86 | P32: =M32+M33 -> 89 | Q32: 23
A33: =A32+1 -> 30 | B33: ASpinnTeam | C33: Вашкевич Александр | D33: =IFERROR(VLOOKUP(C33,Т1За!$C$45:$D$83,2,0),0) -> 156.25 | E33: =IFERROR(VLOOKUP(C33,Т1За!$C$45:$E$83,3,0),0) -> 36 | F33: =IFERROR(VLOOKUP(C33,Т1Зб!$C$45:$D$83,2,0),0) -> 0 | G33: =IFERROR(VLOOKUP(C33,Т1Зб!$C$45:$E$83,3,0),0) -> 0 | H33: =IFERROR(VLOOKUP(C33,Т2За!$C$45:$D$83,2,0),0) -> 0 | I33: =IFERROR(VLOOKUP(C33,Т2За!$C$45:$E$83,3,0),0) -> 0 | J33: =IFERROR(VLOOKUP(C33,Т2Зб!$C$45:$D$83,2,0),0) -> 290.41 | K33: =IFERROR(VLOOKUP(C33,Т2Зб!$C$45:$E$83,3,0),0) -> 15 | L33: =D33+F33+H33+J33 -> 446.66 | M33: =E33+G33+I33+K33 -> 51 | N33: 54
A34: =A33+1 -> 31 | B34: Poseidon | C34: Чижонок Сергей | D34: =IFERROR(VLOOKUP(C34,Т1За!$C$45:$D$83,2,0),0) -> 0 | E34: =IFERROR(VLOOKUP(C34,Т1За!$C$45:$E$83,3,0),0) -> 0 | F34: =IFERROR(VLOOKUP(C34,Т1Зб!$C$45:$D$83,2,0),0) -> 2405.23 | G34: =IFERROR(VLOOKUP(C34,Т1Зб!$C$45:$E$83,3,0),0) -> 2 | H34: =IFERROR(VLOOKUP(C34,Т2За!$C$45:$D$83,2,0),0) -> 1957.6325 | I34: =IFERROR(VLOOKUP(C34,Т2За!$C$45:$E$83,3,0),0) -> 3 | J34: =IFERROR(VLOOKUP(C34,Т2Зб!$C$45:$D$83,2,0),0) -> 0 | K34: =IFERROR(VLOOKUP(C34,Т2Зб!$C$45:$E$83,3,0),0) -> 0 | L34: =D34+F34+H34+J34 -> 4362.8625 | M34: =E34+G34+I34+K34 -> 5 | N34: =RANK(M34,$M$4:$M$82,1) -> 1 | O34: =L34+L35 -> 6100.5325 | P34: =M34+M35 -> 34 | Q34: =RANK(P34,$P$4:$P$82,1) -> 3
A35: =A34+1 -> 32 | B35: Poseidon | C35: Строк Павел | D35: =IFERROR(VLOOKUP(C35,Т1За!$C$45:$D$83,2,0),0) -> 1547.23 | E35: =IFERROR(VLOOKUP(C35,Т1За!$C$45:$E$83,3,0),0) -> 9 | F35: =IFERROR(VLOOKUP(C35,Т1Зб!$C$45:$D$83,2,0),0) -> 0 | G35: =IFERROR(VLOOKUP(C35,Т1Зб!$C$45:$E$83,3,0),0) -> 0 | H35: =IFERROR(VLOOKUP(C35,Т2За!$C$45:$D$83,2,0),0) -> 0 | I35: =IFERROR(VLOOKUP(C35,Т2За!$C$45:$E$83,3,0),0) -> 0 | J35: =IFERROR(VLOOKUP(C35,Т2Зб!$C$45:$D$83,2,0),0) -> 190.44 | K35: =IFERROR(VLOOKUP(C35,Т2Зб!$C$45:$E$83,3,0),0) -> 20 | L35: =D35+F35+H35+J35 -> 1737.67 | M35: =E35+G35+I35+K35 -> 29 | N35: =RANK(M35,$M$4:$M$82,1) -> 26
A36: =A35+1 -> 33 | B36: Bona Кобрин | C36: Марковский Максим | D36: =IFERROR(VLOOKUP(C36,Т1За!$C$45:$D$83,2,0),0) -> 2589.37 | E36: =IFERROR(VLOOKUP(C36,Т1За!$C$45:$E$83,3,0),0) -> 3 | F36: =IFERROR(VLOOKUP(C36,Т1Зб!$C$45:$D$83,2,0),0) -> 0 | G36: =IFERROR(VLOOKUP(C36,Т1Зб!$C$45:$E$83,3,0),0) -> 0 | H36: =IFERROR(VLOOKUP(C36,Т2За!$C$45:$D$83,2,0),0) -> 0 | I36: =IFERROR(VLOOKUP(C36,Т2За!$C$45:$E$83,3,0),0) -> 0 | J36: =IFERROR(VLOOKUP(C36,Т2Зб!$C$45:$D$83,2,0),0) -> 179.56 | K36: =IFERROR(VLOOKUP(C36,Т2Зб!$C$45:$E$83,3,0),0) -> 21 | L36: =D36+F36+H36+J36 -> 2768.93 | M36: =E36+G36+I36+K36 -> 24 | N36: =RANK(M36,$M$4:$M$82,1) -> 21 | O36: =L36+L37 -> 4509.49 | P36: =M36+M37 -> 44 | Q36: =RANK(P36,$P$4:$P$82,1) -> 6
A37: =A36+1 -> 34 | B37: Bona Кобрин | C37: Барташук Александр | D37: =IFERROR(VLOOKUP(C37,Т1За!$C$45:$D$83,2,0),0) -> 0 | E37: =IFERROR(VLOOKUP(C37,Т1За!$C$45:$E$83,3,0),0) -> 0 | F37: =IFERROR(VLOOKUP(C37,Т1Зб!$C$45:$D$83,2,0),0) -> 859.35 | G37: =IFERROR(VLOOKUP(C37,Т1Зб!$C$45:$E$83,3,0),0) -> 10 | H37: =IFERROR(VLOOKUP(C37,Т2За!$C$45:$D$83,2,0),0) -> 881.21 | I37: =IFERROR(VLOOKUP(C37,Т2За!$C$45:$E$83,3,0),0) -> 10 | J37: =IFERROR(VLOOKUP(C37,Т2Зб!$C$45:$D$83,2,0),0) -> 0 | K37: =IFERROR(VLOOKUP(C37,Т2Зб!$C$45:$E$83,3,0),0) -> 0 | L37: =D37+F37+H37+J37 -> 1740.56 | M37: =E37+G37+I37+K37 -> 20 | N37: 14
A38: =A37+1 -> 35 | B38: ЕК | C38: Казанцев Евгений | D38: =IFERROR(VLOOKUP(C38,Т1За!$C$45:$D$83,2,0),0) -> 0 | E38: =IFERROR(VLOOKUP(C38,Т1За!$C$45:$E$83,3,0),0) -> 0 | F38: =IFERROR(VLOOKUP(C38,Т1Зб!$C$45:$D$83,2,0),0) -> 3782.25 | G38: =IFERROR(VLOOKUP(C38,Т1Зб!$C$45:$E$83,3,0),0) -> 1 | H38: =IFERROR(VLOOKUP(C38,Т2За!$C$45:$D$83,2,0),0) -> 469.05 | I38: =IFERROR(VLOOKUP(C38,Т2За!$C$45:$E$83,3,0),0) -> 19 | J38: =IFERROR(VLOOKUP(C38,Т2Зб!$C$45:$D$83,2,0),0) -> 0 | K38: =IFERROR(VLOOKUP(C38,Т2Зб!$C$45:$E$83,3,0),0) -> 0 | L38: =D38+F38+H38+J38 -> 4251.3 | M38: =E38+G38+I38+K38 -> 20 | N38: =RANK(M38,$M$4:$M$82,1) -> 12 | O38: =L38+L39 -> 4700.74 | P38: =M38+M39 -> 87 | Q38: =RANK(P38,$P$4:$P$82,1) -> 20
A39: =A38+1 -> 36 | B39: ЕК | C39: Ковалёв Евгений | D39: =IFERROR(VLOOKUP(C39,Т1За!$C$45:$D$83,2,0),0) -> 449.44 | E39: =IFERROR(VLOOKUP(C39,Т1За!$C$45:$E$83,3,0),0) -> 27 | F39: =IFERROR(VLOOKUP(C39,Т1Зб!$C$45:$D$83,2,0),0) -> 0 | G39: =IFERROR(VLOOKUP(C39,Т1Зб!$C$45:$E$83,3,0),0) -> 0 | H39: =IFERROR(VLOOKUP(C39,Т2За!$C$45:$D$83,2,0),0) -> 0 | I39: =IFERROR(VLOOKUP(C39,Т2За!$C$45:$E$83,3,0),0) -> 0 | J39: =IFERROR(VLOOKUP(C39,Т2Зб!$C$45:$D$83,2,0),0) -> 0 | K39: =IFERROR(VLOOKUP(C39,Т2Зб!$C$45:$E$83,3,0),0) -> 40 | L39: =D39+F39+H39+J39 -> 449.44 | M39: =E39+G39+I39+K39 -> 67 | N39: =RANK(M39,$M$4:$M$82,1) -> 67
A40: =A39+1 -> 37 | B40: ПВ | C40: Пластун Вячеслав | D40: =IFERROR(VLOOKUP(C40,Т1За!$C$45:$D$83,2,0),0) -> 0 | E40: =IFERROR(VLOOKUP(C40,Т1За!$C$45:$E$83,3,0),0) -> 0 | F40: =IFERROR(VLOOKUP(C40,Т1Зб!$C$45:$D$83,2,0),0) -> 543.46 | G40: =IFERROR(VLOOKUP(C40,Т1Зб!$C$45:$E$83,3,0),0) -> 20 | H40: =IFERROR(VLOOKUP(C40,Т2За!$C$45:$D$83,2,0),0) -> 0 | I40: =IFERROR(VLOOKUP(C40,Т2За!$C$45:$E$83,3,0),0) -> 40 | J40: =IFERROR(VLOOKUP(C40,Т2Зб!$C$45:$D$83,2,0),0) -> 0 | K40: =IFERROR(VLOOKUP(C40,Т2Зб!$C$45:$E$83,3,0),0) -> 0 | L40: =D40+F40+H40+J40 -> 543.46 | M40: =E40+G40+I40+K40 -> 60 | N40: =RANK(M40,$M$4:$M$82,1) -> 64 | O40: =L40+L41 -> 543.46 | P40: =M40+M41 -> 140 | Q40: =RANK(P40,$P$4:$P$82,1) -> 37
A41: =A40+1 -> 38 | B41: ПВ | C41: Воробьев Павел | D41: =IFERROR(VLOOKUP(C41,Т1За!$C$45:$D$83,2,0),0) -> 0 | E41: =IFERROR(VLOOKUP(C41,Т1За!$C$45:$E$83,3,0),0) -> 40 | F41: =IFERROR(VLOOKUP(C41,Т1Зб!$C$45:$D$83,2,0),0) -> 0 | G41: =IFERROR(VLOOKUP(C41,Т1Зб!$C$45:$E$83,3,0),0) -> 0 | H41: =IFERROR(VLOOKUP(C41,Т2За!$C$45:$D$83,2,0),0) -> 0 | I41: =IFERROR(VLOOKUP(C41,Т2За!$C$45:$E$83,3,0),0) -> 0 | J41: =IFERROR(VLOOKUP(C41,Т2Зб!$C$45:$D$83,2,0),0) -> 0 | K41: =IFERROR(VLOOKUP(C41,Т2Зб!$C$45:$E$83,3,0),0) -> 40 | L41: =D41+F41+H41+J41 -> 0 | M41: =E41+G41+I41+K41 -> 80 | N41: 79
A42: =A41+1 -> 39 | B42: Fanatik Belarus | C42: Рулинский Александр | D42: =IFERROR(VLOOKUP(C42,Т1За!$C$45:$D$83,2,0),0) -> 0 | E42: =IFERROR(VLOOKUP(C42,Т1За!$C$45:$E$83,3,0),0) -> 0 | F42: =IFERROR(VLOOKUP(C42,Т1Зб!$C$45:$D$83,2,0),0) -> 327.68 | G42: =IFERROR(VLOOKUP(C42,Т1Зб!$C$45:$E$83,3,0),0) -> 29 | H42: =IFERROR(VLOOKUP(C42,Т2За!$C$45:$D$83,2,0),0) -> 295.49 | I42: =IFERROR(VLOOKUP(C42,Т2За!$C$45:$E$83,3,0),0) -> 24 | J42: =IFERROR(VLOOKUP(C42,Т2Зб!$C$45:$D$83,2,0),0) -> 0 | K42: =IFERROR(VLOOKUP(C42,Т2Зб!$C$45:$E$83,3,0),0) -> 0 | L42: =D42+F42+H42+J42 -> 623.17 | M42: =E42+G42+I42+K42 -> 53 | N42: =RANK(M42,$M$4:$M$82,1) -> 55 | O42: =L42+L43 -> 3241.21 | P42: =M42+M43 -> 71 | Q42: =RANK(P42,$P$4:$P$82,1) -> 17
A43: =A42+1 -> 40 | B43: Fanatik Belarus | C43: Шевчук Дмитрий | D43: =IFERROR(VLOOKUP(C43,Т1За!$C$45:$D$83,2,0),0) -> 2259.79 | E43: =IFERROR(VLOOKUP(C43,Т1За!$C$45:$E$83,3,0),0) -> 5 | F43: =IFERROR(VLOOKUP(C43,Т1Зб!$C$45:$D$83,2,0),0) -> 0 | G43: =IFERROR(VLOOKUP(C43,Т1Зб!$C$45:$E$83,3,0),0) -> 0 | H43: =IFERROR(VLOOKUP(C43,Т2За!$C$45:$D$83,2,0),0) -> 0 | I43: =IFERROR(VLOOKUP(C43,Т2За!$C$45:$E$83,3,0),0) -> 0 | J43: =IFERROR(VLOOKUP(C43,Т2Зб!$C$45:$D$83,2,0),0) -> 358.25 | K43: =IFERROR(VLOOKUP(C43,Т2Зб!$C$45:$E$83,3,0),0) -> 13 | L43: =D43+F43+H43+J43 -> 2618.04 | M43: =E43+G43+I43+K43 -> 18 | N43: =RANK(M43,$M$4:$M$82,1) -> 9
A44: =A43+1 -> 41 | B44: Bass Hunters | C44: Шевко Виталий | D44: =IFERROR(VLOOKUP(C44,Т1За!$C$45:$D$83,2,0),0) -> 0 | E44: =IFERROR(VLOOKUP(C44,Т1За!$C$45:$E$83,3,0),0) -> 0 | F44: =IFERROR(VLOOKUP(C44,Т1Зб!$C$45:$D$83,2,0),0) -> 1233.61 | G44: =IFERROR(VLOOKUP(C44,Т1Зб!$C$45:$E$83,3,0),0) -> 7 | H44: =IFERROR(VLOOKUP(C44,Т2За!$C$45:$D$83,2,0),0) -> 656.82 | I44: =IFERROR(VLOOKUP(C44,Т2За!$C$45:$E$83,3,0),0) -> 13 | J44: =IFERROR(VLOOKUP(C44,Т2Зб!$C$45:$D$83,2,0),0) -> 0 | K44: =IFERROR(VLOOKUP(C44,Т2Зб!$C$45:$E$83,3,0),0) -> 0 | L44: =D44+F44+H44+J44 -> 1890.43 | M44: =E44+G44+I44+K44 -> 20 | N44: 13 | O44: =L44+L45 -> 4404.71 | P44: =M44+M45 -> 64 | Q44: =RANK(P44,$P$4:$P$82,1) -> 11
A45: =A44+1 -> 42 | B45: Bass Hunters | C45: Кириевский Андрей | D45: =IFERROR(VLOOKUP(C45,Т1За!$C$45:$D$83,2,0),0) -> 2514.28 | E45: =IFERROR(VLOOKUP(C45,Т1За!$C$45:$E$83,3,0),0) -> 4 | F45: =IFERROR(VLOOKUP(C45,Т1Зб!$C$45:$D$83,2,0),0) -> 0 | G45: =IFERROR(VLOOKUP(C45,Т1Зб!$C$45:$E$83,3,0),0) -> 0 | H45: =IFERROR(VLOOKUP(C45,Т2За!$C$45:$D$83,2,0),0) -> 0 | I45: =IFERROR(VLOOKUP(C45,Т2За!$C$45:$E$83,3,0),0) -> 0 | J45: =IFERROR(VLOOKUP(C45,Т2Зб!$C$45:$D$83,2,0),0) -> 0 | K45: =IFERROR(VLOOKUP(C45,Т2Зб!$C$45:$E$83,3,0),0) -> 40 | L45: =D45+F45+H45+J45 -> 2514.28 | M45: =E45+G45+I45+K45 -> 44 | N45: =RANK(M45,$M$4:$M$82,1) -> 41
A46: =A45+1 -> 43 | B46: Alutech Team | C46: Купрейчик Сергей | D46: =IFERROR(VLOOKUP(C46,Т1За!$C$45:$D$83,2,0),0) -> 0 | E46: =IFERROR(VLOOKUP(C46,Т1За!$C$45:$E$83,3,0),0) -> 0 | F46: =IFERROR(VLOOKUP(C46,Т1Зб!$C$45:$D$83,2,0),0) -> 487.85 | G46: =IFERROR(VLOOKUP(C46,Т1Зб!$C$45:$E$83,3,0),0) -> 22 | H46: =IFERROR(VLOOKUP(C46,Т2За!$C$45:$D$83,2,0),0) -> 53.29 | I46: =IFERROR(VLOOKUP(C46,Т2За!$C$45:$E$83,3,0),0) -> 31 | J46: =IFERROR(VLOOKUP(C46,Т2Зб!$C$45:$D$83,2,0),0) -> 0 | K46: =IFERROR(VLOOKUP(C46,Т2Зб!$C$45:$E$83,3,0),0) -> 0 | L46: =D46+F46+H46+J46 -> 541.14 | M46: =E46+G46+I46+K46 -> 53 | N46: 56 | O46: =L46+L47 -> 1423.31 | P46: =M46+M47 -> 95 | Q46: 26
A47: =A46+1 -> 44 | B47: Alutech Team | C47: Янкович Сергей | D47: =IFERROR(VLOOKUP(C47,Т1За!$C$45:$D$83,2,0),0) -> 733.33 | E47: =IFERROR(VLOOKUP(C47,Т1За!$C$45:$E$83,3,0),0) -> 19 | F47: =IFERROR(VLOOKUP(C47,Т1Зб!$C$45:$D$83,2,0),0) -> 0 | G47: =IFERROR(VLOOKUP(C47,Т1Зб!$C$45:$E$83,3,0),0) -> 0 | H47: =IFERROR(VLOOKUP(C47,Т2За!$C$45:$D$83,2,0),0) -> 0 | I47: =IFERROR(VLOOKUP(C47,Т2За!$C$45:$E$83,3,0),0) -> 0 | J47: =IFERROR(VLOOKUP(C47,Т2Зб!$C$45:$D$83,2,0),0) -> 148.84 | K47: =IFERROR(VLOOKUP(C47,Т2Зб!$C$45:$E$83,3,0),0) -> 23 | L47: =D47+F47+H47+J47 -> 882.17 | M47: =E47+G47+I47+K47 -> 42 | N47: =RANK(M47,$M$4:$M$82,1) -> 40
A48: =A47+1 -> 45 | B48: Бритый Карась | C48: Герасимович Сергей | D48: =IFERROR(VLOOKUP(C48,Т1За!$C$45:$D$83,2,0),0) -> 0 | E48: =IFERROR(VLOOKUP(C48,Т1За!$C$45:$E$83,3,0),0) -> 40 | F48: =IFERROR(VLOOKUP(C48,Т1Зб!$C$45:$D$83,2,0),0) -> 0 | G48: =IFERROR(VLOOKUP(C48,Т1Зб!$C$45:$E$83,3,0),0) -> 0 | H48: =IFERROR(VLOOKUP(C48,Т2За!$C$45:$D$83,2,0),0) -> 0 | I48: =IFERROR(VLOOKUP(C48,Т2За!$C$45:$E$83,3,0),0) -> 0 | J48: =IFERROR(VLOOKUP(C48,Т2Зб!$C$45:$D$83,2,0),0) -> 0 | K48: =IFERROR(VLOOKUP(C48,Т2Зб!$C$45:$E$83,3,0),0) -> 40 | L48: =D48+F48+H48+J48 -> 0 | M48: =E48+G48+I48+K48 -> 80 | N48: 79 | O48: =L48+L49 -> 169 | P48: =M48+M49 -> 153 | Q48: =RANK(P48,$P$4:$P$82,1) -> 38
A49: =A48+1 -> 46 | B49: Бритый Карась | C49: Левандовский Дмитрий | D49: =IFERROR(VLOOKUP(C49,Т1За!$C$45:$D$83,2,0),0) -> 0 | E49: =IFERROR(VLOOKUP(C49,Т1За!$C$45:$E$83,3,0),0) -> 0 | F49: =IFERROR(VLOOKUP(C49,Т1Зб!$C$45:$D$83,2,0),0) -> 169 | G49: =IFERROR(VLOOKUP(C49,Т1Зб!$C$45:$E$83,3,0),0) -> 33 | H49: =IFERROR(VLOOKUP(C49,Т2За!$C$45:$D$83,2,0),0) -> 0 | I49: =IFERROR(VLOOKUP(C49,Т2За!$C$45:$E$83,3,0),0) -> 40 | J49: =IFERROR(VLOOKUP(C49,Т2Зб!$C$45:$D$83,2,0),0) -> 0 | K49: =IFERROR(VLOOKUP(C49,Т2Зб!$C$45:$E$83,3,0),0) -> 0 | L49: =D49+F49+H49+J49 -> 169 | M49: =E49+G49+I49+K49 -> 73 | N49: =RANK(M49,$M$4:$M$82,1) -> 73
A50: =A49+1 -> 47 | B50: Undercurrent | C50: Хоухлянцев Дмитрий | D50: =IFERROR(VLOOKUP(C50,Т1За!$C$45:$D$83,2,0),0) -> 0 | E50: =IFERROR(VLOOKUP(C50,Т1За!$C$45:$E$83,3,0),0) -> 0 | F50: =IFERROR(VLOOKUP(C50,Т1Зб!$C$45:$D$83,2,0),0) -> 401.89 | G50: =IFERROR(VLOOKUP(C50,Т1Зб!$C$45:$E$83,3,0),0) -> 25 | H50: =IFERROR(VLOOKUP(C50,Т2За!$C$45:$D$83,2,0),0) -> 1104.59 | I50: =IFERROR(VLOOKUP(C50,Т2За!$C$45:$E$83,3,0),0) -> 7 | J50: =IFERROR(VLOOKUP(C50,Т2Зб!$C$45:$D$83,2,0),0) -> 0 | K50: =IFERROR(VLOOKUP(C50,Т2Зб!$C$45:$E$83,3,0),0) -> 0 | L50: =D50+F50+H50+J50 -> 1506.48 | M50: =E50+G50+I50+K50 -> 32 | N50: 29 | O50: =L50+L51 -> 1956.73 | P50: =M50+M51 -> 98 | Q50: =RANK(P50,$P$4:$P$82,1) -> 28
A51: =A50+1 -> 48 | B51: Undercurrent | C51: Ешман Сергей | D51: =IFERROR(VLOOKUP(C51,Т1За!$C$45:$D$83,2,0),0) -> 450.25 | E51: =IFERROR(VLOOKUP(C51,Т1За!$C$45:$E$83,3,0),0) -> 26 | F51: =IFERROR(VLOOKUP(C51,Т1Зб!$C$45:$D$83,2,0),0) -> 0 | G51: =IFERROR(VLOOKUP(C51,Т1Зб!$C$45:$E$83,3,0),0) -> 0 | H51: =IFERROR(VLOOKUP(C51,Т2За!$C$45:$D$83,2,0),0) -> 0 | I51: =IFERROR(VLOOKUP(C51,Т2За!$C$45:$E$83,3,0),0) -> 0 | J51: =IFERROR(VLOOKUP(C51,Т2Зб!$C$45:$D$83,2,0),0) -> 0 | K51: =IFERROR(VLOOKUP(C51,Т2Зб!$C$45:$E$83,3,0),0) -> 40 | L51: =D51+F51+H51+J51 -> 450.25 | M51: =E51+G51+I51+K51 -> 66 | N51: =RANK(M51,$M$4:$M$82,1) -> 66
A52: =A51+1 -> 49 | B52: XULi-ULi | C52: Воробьёв Андрей | D52: =IFERROR(VLOOKUP(C52,Т1За!$C$45:$D$83,2,0),0) -> 0 | E52: =IFERROR(VLOOKUP(C52,Т1За!$C$45:$E$83,3,0),0) -> 0 | F52: =IFERROR(VLOOKUP(C52,Т1Зб!$C$45:$D$83,2,0),0) -> 0 | G52: =IFERROR(VLOOKUP(C52,Т1Зб!$C$45:$E$83,3,0),0) -> 40 | H52: =IFERROR(VLOOKUP(C52,Т2За!$C$45:$D$83,2,0),0) -> 0 | I52: =IFERROR(VLOOKUP(C52,Т2За!$C$45:$E$83,3,0),0) -> 40 | J52: =IFERROR(VLOOKUP(C52,Т2Зб!$C$45:$D$83,2,0),0) -> 0 | K52: =IFERROR(VLOOKUP(C52,Т2Зб!$C$45:$E$83,3,0),0) -> 0 | L52: =D52+F52+H52+J52 -> 0 | M52: =E52+G52+I52+K52 -> 80 | N52: 79 | O52: =L52+L53 -> 452.34 | P52: =M52+M53 -> 133 | Q52: =RANK(P52,$P$4:$P$82,1) -> 36
A53: =A52+1 -> 50 | B53: XULi-ULi | C53: Лавренчук Станислав | D53: =IFERROR(VLOOKUP(C53,Т1За!$C$45:$D$83,2,0),0) -> 296.09 | E53: =IFERROR(VLOOKUP(C53,Т1За!$C$45:$E$83,3,0),0) -> 31 | F53: =IFERROR(VLOOKUP(C53,Т1Зб!$C$45:$D$83,2,0),0) -> 0 | G53: =IFERROR(VLOOKUP(C53,Т1Зб!$C$45:$E$83,3,0),0) -> 0 | H53: =IFERROR(VLOOKUP(C53,Т2За!$C$45:$D$83,2,0),0) -> 0 | I53: =IFERROR(VLOOKUP(C53,Т2За!$C$45:$E$83,3,0),0) -> 0 | J53: =IFERROR(VLOOKUP(C53,Т2Зб!$C$45:$D$83,2,0),0) -> 156.25 | K53: =IFERROR(VLOOKUP(C53,Т2Зб!$C$45:$E$83,3,0),0) -> 22 | L53: =D53+F53+H53+J53 -> 452.34 | M53: =E53+G53+I53+K53 -> 53 | N53: 57
A54: =A53+1 -> 51 | B54: WFT Minsk | C54: Каморников Евгений | D54: =IFERROR(VLOOKUP(C54,Т1За!$C$45:$D$83,2,0),0) -> 0 | E54: =IFERROR(VLOOKUP(C54,Т1За!$C$45:$E$83,3,0),0) -> 0 | F54: =IFERROR(VLOOKUP(C54,Т1Зб!$C$45:$D$83,2,0),0) -> 0 | G54: =IFERROR(VLOOKUP(C54,Т1Зб!$C$45:$E$83,3,0),0) -> 40 | H54: =IFERROR(VLOOKUP(C54,Т2За!$C$45:$D$83,2,0),0) -> 0 | I54: =IFERROR(VLOOKUP(C54,Т2За!$C$45:$E$83,3,0),0) -> 40 | J54: =IFERROR(VLOOKUP(C54,Т2Зб!$C$45:$D$83,2,0),0) -> 0 | K54: =IFERROR(VLOOKUP(C54,Т2Зб!$C$45:$E$83,3,0),0) -> 0 | L54: =D54+F54+H54+J54 -> 0 | M54: =E54+G54+I54+K54 -> 80 | N54: 79 | O54: =L54+L55 -> 1806.3525 | P54: =M54+M55 -> 102 | Q54: =RANK(P54,$P$4:$P$82,1) -> 30
A55: =A54+1 -> 52 | B55: WFT Minsk | C55: Тулупов Александр | D55: =IFERROR(VLOOKUP(C55,Т1За!$C$45:$D$83,2,0),0) -> 1286.33 | E55: =IFERROR(VLOOKUP(C55,Т1За!$C$45:$E$83,3,0),0) -> 13 | F55: =IFERROR(VLOOKUP(C55,Т1Зб!$C$45:$D$83,2,0),0) -> 0 | G55: =IFERROR(VLOOKUP(C55,Т1Зб!$C$45:$E$83,3,0),0) -> 0 | H55: =IFERROR(VLOOKUP(C55,Т2За!$C$45:$D$83,2,0),0) -> 0 | I55: =IFERROR(VLOOKUP(C55,Т2За!$C$45:$E$83,3,0),0) -> 0 | J55: =IFERROR(VLOOKUP(C55,Т2Зб!$C$45:$D$83,2,0),0) -> 520.0225 | K55: =IFERROR(VLOOKUP(C55,Т2Зб!$C$45:$E$83,3,0),0) -> 9 | L55: =D55+F55+H55+J55 -> 1806.3525 | M55: =E55+G55+I55+K55 -> 22 | N55: =RANK(M55,$M$4:$M$82,1) -> 17
A56: =A55+1 -> 53 | B56: Фарватер | C56: Цыганок Михаил | D56: =IFERROR(VLOOKUP(C56,Т1За!$C$45:$D$83,2,0),0) -> 439.49 | E56: =IFERROR(VLOOKUP(C56,Т1За!$C$45:$E$83,3,0),0) -> 28 | F56: =IFERROR(VLOOKUP(C56,Т1Зб!$C$45:$D$83,2,0),0) -> 0 | G56: =IFERROR(VLOOKUP(C56,Т1Зб!$C$45:$E$83,3,0),0) -> 0 | H56: =IFERROR(VLOOKUP(C56,Т2За!$C$45:$D$83,2,0),0) -> 0 | I56: =IFERROR(VLOOKUP(C56,Т2За!$C$45:$E$83,3,0),0) -> 0 | J56: =IFERROR(VLOOKUP(C56,Т2Зб!$C$45:$D$83,2,0),0) -> 243.86 | K56: =IFERROR(VLOOKUP(C56,Т2Зб!$C$45:$E$83,3,0),0) -> 18 | L56: =D56+F56+H56+J56 -> 683.35 | M56: =E56+G56+I56+K56 -> 46 | N56: 46 | O56: =L56+L57 -> 1582.04 | P56: =M56+M57 -> 95 | Q56: =RANK(P56,$P$4:$P$82,1) -> 25
A57: =A56+1 -> 54 | B57: Фарватер | C57: Попельский Максим | D57: =IFERROR(VLOOKUP(C57,Т1За!$C$45:$D$83,2,0),0) -> 0 | E57: =IFERROR(VLOOKUP(C57,Т1За!$C$45:$E$83,3,0),0) -> 0 | F57: =IFERROR(VLOOKUP(C57,Т1Зб!$C$45:$D$83,2,0),0) -> 898.69 | G57: =IFERROR(VLOOKUP(C57,Т1Зб!$C$45:$E$83,3,0),0) -> 9 | H57: =IFERROR(VLOOKUP(C57,Т2За!$C$45:$D$83,2,0),0) -> 0 | I57: =IFERROR(VLOOKUP(C57,Т2За!$C$45:$E$83,3,0),0) -> 40 | J57: =IFERROR(VLOOKUP(C57,Т2Зб!$C$45:$D$83,2,0),0) -> 0 | K57: =IFERROR(VLOOKUP(C57,Т2Зб!$C$45:$E$83,3,0),0) -> 0 | L57: =D57+F57+H57+J57 -> 898.69 | M57: =E57+G57+I57+K57 -> 49 | N57: =RANK(M57,$M$4:$M$82,1) -> 49
A58: =A57+1 -> 55 | B58: Bait Breath Team | C58: Бахур Александр | D58: =IFERROR(VLOOKUP(C58,Т1За!$C$45:$D$83,2,0),0) -> 0 | E58: =IFERROR(VLOOKUP(C58,Т1За!$C$45:$E$83,3,0),0) -> 0 | F58: =IFERROR(VLOOKUP(C58,Т1Зб!$C$45:$D$83,2,0),0) -> 752.93 | G58: =IFERROR(VLOOKUP(C58,Т1Зб!$C$45:$E$83,3,0),0) -> 12 | H58: =IFERROR(VLOOKUP(C58,Т2За!$C$45:$D$83,2,0),0) -> 2381.86 | I58: =IFERROR(VLOOKUP(C58,Т2За!$C$45:$E$83,3,0),0) -> 2 | J58: =IFERROR(VLOOKUP(C58,Т2Зб!$C$45:$D$83,2,0),0) -> 0 | K58: =IFERROR(VLOOKUP(C58,Т2Зб!$C$45:$E$83,3,0),0) -> 0 | L58: =D58+F58+H58+J58 -> 3134.79 | M58: =E58+G58+I58+K58 -> 14 | N58: =RANK(M58,$M$4:$M$82,1) -> 8 | O58: =L58+L59 -> 5441.96 | P58: =M58+M59 -> 32 | Q58: =RANK(P58,$P$4:$P$82,1) -> 2
A59: =A58+1 -> 56 | B59: Bait Breath Team | C59: Зубко Сергей | D59: =IFERROR(VLOOKUP(C59,Т1За!$C$45:$D$83,2,0),0) -> 1941.56 | E59: =IFERROR(VLOOKUP(C59,Т1За!$C$45:$E$83,3,0),0) -> 6 | F59: =IFERROR(VLOOKUP(C59,Т1Зб!$C$45:$D$83,2,0),0) -> 0 | G59: =IFERROR(VLOOKUP(C59,Т1Зб!$C$45:$E$83,3,0),0) -> 0 | H59: =IFERROR(VLOOKUP(C59,Т2За!$C$45:$D$83,2,0),0) -> 0 | I59: =IFERROR(VLOOKUP(C59,Т2За!$C$45:$E$83,3,0),0) -> 0 | J59: =IFERROR(VLOOKUP(C59,Т2Зб!$C$45:$D$83,2,0),0) -> 365.61 | K59: =IFERROR(VLOOKUP(C59,Т2Зб!$C$45:$E$83,3,0),0) -> 12 | L59: =D59+F59+H59+J59 -> 2307.17 | M59: =E59+G59+I59+K59 -> 18 | N59: 10
A60: =A59+1 -> 57 | B60: Lexass PRO | C60: Булойчик Илья | D60: =IFERROR(VLOOKUP(C60,Т1За!$C$45:$D$83,2,0),0) -> 614.89 | E60: =IFERROR(VLOOKUP(C60,Т1За!$C$45:$E$83,3,0),0) -> 22 | F60: =IFERROR(VLOOKUP(C60,Т1Зб!$C$45:$D$83,2,0),0) -> 0 | G60: =IFERROR(VLOOKUP(C60,Т1Зб!$C$45:$E$83,3,0),0) -> 0 | H60: =IFERROR(VLOOKUP(C60,Т2За!$C$45:$D$83,2,0),0) -> 0 | I60: =IFERROR(VLOOKUP(C60,Т2За!$C$45:$E$83,3,0),0) -> 0 | J60: =IFERROR(VLOOKUP(C60,Т2Зб!$C$45:$D$83,2,0),0) -> 132.25 | K60: =IFERROR(VLOOKUP(C60,Т2Зб!$C$45:$E$83,3,0),0) -> 28 | L60: =D60+F60+H60+J60 -> 747.14 | M60: =E60+G60+I60+K60 -> 50 | N60: =RANK(M60,$M$4:$M$82,1) -> 51 | O60: =L60+L61 -> 1124.28 | P60: =M60+M61 -> 117 | Q60: =RANK(P60,$P$4:$P$82,1) -> 33
A61: =A60+1 -> 58 | B61: Lexass PRO | C61: Санюк Алексей | D61: =IFERROR(VLOOKUP(C61,Т1За!$C$45:$D$83,2,0),0) -> 0 | E61: =IFERROR(VLOOKUP(C61,Т1За!$C$45:$E$83,3,0),0) -> 0 | F61: =IFERROR(VLOOKUP(C61,Т1Зб!$C$45:$D$83,2,0),0) -> 377.14 | G61: =IFERROR(VLOOKUP(C61,Т1Зб!$C$45:$E$83,3,0),0) -> 27 | H61: =IFERROR(VLOOKUP(C61,Т2За!$C$45:$D$83,2,0),0) -> 0 | I61: =IFERROR(VLOOKUP(C61,Т2За!$C$45:$E$83,3,0),0) -> 40 | J61: =IFERROR(VLOOKUP(C61,Т2Зб!$C$45:$D$83,2,0),0) -> 0 | K61: =IFERROR(VLOOKUP(C61,Т2Зб!$C$45:$E$83,3,0),0) -> 0 | L61: =D61+F61+H61+J61 -> 377.14 | M61: =E61+G61+I61+K61 -> 67 | N61: 68
A62: =A61+1 -> 59 | B62: Dream Team | C62: Золотухин Александр | D62: =IFERROR(VLOOKUP(C62,Т1За!$C$45:$D$83,2,0),0) -> 0 | E62: =IFERROR(VLOOKUP(C62,Т1За!$C$45:$E$83,3,0),0) -> 0 | F62: =IFERROR(VLOOKUP(C62,Т1Зб!$C$45:$D$83,2,0),0) -> 841.5 | G62: =IFERROR(VLOOKUP(C62,Т1Зб!$C$45:$E$83,3,0),0) -> 11 | H62: =IFERROR(VLOOKUP(C62,Т2За!$C$45:$D$83,2,0),0) -> 622.56 | I62: =IFERROR(VLOOKUP(C62,Т2За!$C$45:$E$83,3,0),0) -> 14 | J62: =IFERROR(VLOOKUP(C62,Т2Зб!$C$45:$D$83,2,0),0) -> 0 | K62: =IFERROR(VLOOKUP(C62,Т2Зб!$C$45:$E$83,3,0),0) -> 0 | L62: =D62+F62+H62+J62 -> 1464.06 | M62: =E62+G62+I62+K62 -> 25 | N62: =RANK(M62,$M$4:$M$82,1) -> 22 | O62: =L62+L63 -> 2314.32 | P62: =M62+M63 -> 71 | Q62: 18
A63: =A62+1 -> 60 | B63: Dream Team | C63: Тысевич Сергей | D63: =IFERROR(VLOOKUP(C63,Т1За!$C$45:$D$83,2,0),0) -> 711.02 | E63: =IFERROR(VLOOKUP(C63,Т1За!$C$45:$E$83,3,0),0) -> 20 | F63: =IFERROR(VLOOKUP(C63,Т1Зб!$C$45:$D$83,2,0),0) -> 0 | G63: =IFERROR(VLOOKUP(C63,Т1Зб!$C$45:$E$83,3,0),0) -> 0 | H63: =IFERROR(VLOOKUP(C63,Т2За!$C$45:$D$83,2,0),0) -> 0 | I63: =IFERROR(VLOOKUP(C63,Т2За!$C$45:$E$83,3,0),0) -> 0 | J63: =IFERROR(VLOOKUP(C63,Т2Зб!$C$45:$D$83,2,0),0) -> 139.24 | K63: =IFERROR(VLOOKUP(C63,Т2Зб!$C$45:$E$83,3,0),0) -> 26 | L63: =D63+F63+H63+J63 -> 850.26 | M63: =E63+G63+I63+K63 -> 46 | N63: =RANK(M63,$M$4:$M$82,1) -> 45
A64: =A63+1 -> 61 | B64: nanobass | C64: Бычик Роман | D64: =IFERROR(VLOOKUP(C64,Т1За!$C$45:$D$83,2,0),0) -> 1488.5 | E64: =IFERROR(VLOOKUP(C64,Т1За!$C$45:$E$83,3,0),0) -> 11 | F64: =IFERROR(VLOOKUP(C64,Т1Зб!$C$45:$D$83,2,0),0) -> 0 | G64: =IFERROR(VLOOKUP(C64,Т1Зб!$C$45:$E$83,3,0),0) -> 0 | H64: =IFERROR(VLOOKUP(C64,Т2За!$C$45:$D$83,2,0),0) -> 0 | I64: =IFERROR(VLOOKUP(C64,Т2За!$C$45:$E$83,3,0),0) -> 0 | J64: =IFERROR(VLOOKUP(C64,Т2Зб!$C$45:$D$83,2,0),0) -> 4040 | K64: =IFERROR(VLOOKUP(C64,Т2Зб!$C$45:$E$83,3,0),0) -> 1 | L64: =D64+F64+H64+J64 -> 5528.5 | M64: =E64+G64+I64+K64 -> 12 | N64: =RANK(M64,$M$4:$M$82,1) -> 7 | O64: =L64+L65 -> 6049.15 | P64: =M64+M65 -> 70 | Q64: =RANK(P64,$P$4:$P$82,1) -> 15
A65: =A64+1 -> 62 | B65: nanobass | C65: Мартынчук Михаил | D65: =IFERROR(VLOOKUP(C65,Т1За!$C$45:$D$83,2,0),0) -> 0 | E65: =IFERROR(VLOOKUP(C65,Т1За!$C$45:$E$83,3,0),0) -> 0 | F65: =IFERROR(VLOOKUP(C65,Т1Зб!$C$45:$D$83,2,0),0) -> 0 | G65: =IFERROR(VLOOKUP(C65,Т1Зб!$C$45:$E$83,3,0),0) -> 40 | H65: =IFERROR(VLOOKUP(C65,Т2За!$C$45:$D$83,2,0),0) -> 520.65 | I65: =IFERROR(VLOOKUP(C65,Т2За!$C$45:$E$83,3,0),0) -> 18 | J65: =IFERROR(VLOOKUP(C65,Т2Зб!$C$45:$D$83,2,0),0) -> 0 | K65: =IFERROR(VLOOKUP(C65,Т2Зб!$C$45:$E$83,3,0),0) -> 0 | L65: =D65+F65+H65+J65 -> 520.65 | M65: =E65+G65+I65+K65 -> 58 | N65: =RANK(M65,$M$4:$M$82,1) -> 61
A66: =A65+1 -> 63 | B66: Mad Perch | C66: Павлючик Андрей | D66: =IFERROR(VLOOKUP(C66,Т1За!$C$45:$D$83,2,0),0) -> 557.28 | E66: =IFERROR(VLOOKUP(C66,Т1За!$C$45:$E$83,3,0),0) -> 24 | F66: =IFERROR(VLOOKUP(C66,Т1Зб!$C$45:$D$83,2,0),0) -> 0 | G66: =IFERROR(VLOOKUP(C66,Т1Зб!$C$45:$E$83,3,0),0) -> 0 | H66: =IFERROR(VLOOKUP(C66,Т2За!$C$45:$D$83,2,0),0) -> 0 | I66: =IFERROR(VLOOKUP(C66,Т2За!$C$45:$E$83,3,0),0) -> 0 | J66: =IFERROR(VLOOKUP(C66,Т2Зб!$C$45:$D$83,2,0),0) -> 136.89 | K66: =IFERROR(VLOOKUP(C66,Т2Зб!$C$45:$E$83,3,0),0) -> 27 | L66: =D66+F66+H66+J66 -> 694.17 | M66: =E66+G66+I66+K66 -> 51 | N66: 53 | O66: =L66+L67 -> 2547.5 | P66: =M66+M67 -> 74 | Q66: =RANK(P66,$P$4:$P$82,1) -> 19
A67: =A66+1 -> 64 | B67: Mad Perch | C67: Масюк Павел | D67: =IFERROR(VLOOKUP(C67,Т1За!$C$45:$D$83,2,0),0) -> 0 | E67: =IFERROR(VLOOKUP(C67,Т1За!$C$45:$E$83,3,0),0) -> 0 | F67: =IFERROR(VLOOKUP(C67,Т1Зб!$C$45:$D$83,2,0),0) -> 1296.55 | G67: =IFERROR(VLOOKUP(C67,Т1Зб!$C$45:$E$83,3,0),0) -> 6 | H67: =IFERROR(VLOOKUP(C67,Т2За!$C$45:$D$83,2,0),0) -> 556.78 | I67: =IFERROR(VLOOKUP(C67,Т2За!$C$45:$E$83,3,0),0) -> 17 | J67: =IFERROR(VLOOKUP(C67,Т2Зб!$C$45:$D$83,2,0),0) -> 0 | K67: =IFERROR(VLOOKUP(C67,Т2Зб!$C$45:$E$83,3,0),0) -> 0 | L67: =D67+F67+H67+J67 -> 1853.33 | M67: =E67+G67+I67+K67 -> 23 | N67: =RANK(M67,$M$4:$M$82,1) -> 19
A68: =A67+1 -> 65 | B68: Old Roads Fishing | C68: Синовец Роман | D68: =IFERROR(VLOOKUP(C68,Т1За!$C$45:$D$83,2,0),0) -> 840.98 | E68: =IFERROR(VLOOKUP(C68,Т1За!$C$45:$E$83,3,0),0) -> 17 | F68: =IFERROR(VLOOKUP(C68,Т1Зб!$C$45:$D$83,2,0),0) -> 0 | G68: =IFERROR(VLOOKUP(C68,Т1Зб!$C$45:$E$83,3,0),0) -> 0 | H68: =IFERROR(VLOOKUP(C68,Т2За!$C$45:$D$83,2,0),0) -> 0 | I68: =IFERROR(VLOOKUP(C68,Т2За!$C$45:$E$83,3,0),0) -> 0 | J68: =IFERROR(VLOOKUP(C68,Т2Зб!$C$45:$D$83,2,0),0) -> 0 | K68: =IFERROR(VLOOKUP(C68,Т2Зб!$C$45:$E$83,3,0),0) -> 40 | L68: =D68+F68+H68+J68 -> 840.98 | M68: =E68+G68+I68+K68 -> 57 | N68: =RANK(M68,$M$4:$M$82,1) -> 60 | O68: =L68+L69 -> 1705.34 | P68: =M68+M69 -> 108 | Q68: =RANK(P68,$P$4:$P$82,1) -> 32
A69: =A68+1 -> 66 | B69: Old Roads Fishing | C69: Чернышёв Егор | D69: =IFERROR(VLOOKUP(C69,Т1За!$C$45:$D$83,2,0),0) -> 0 | E69: =IFERROR(VLOOKUP(C69,Т1За!$C$45:$E$83,3,0),0) -> 0 | F69: =IFERROR(VLOOKUP(C69,Т1Зб!$C$45:$D$83,2,0),0) -> 0 | G69: =IFERROR(VLOOKUP(C69,Т1Зб!$C$45:$E$83,3,0),0) -> 40 | H69: =IFERROR(VLOOKUP(C69,Т2За!$C$45:$D$83,2,0),0) -> 864.36 | I69: =IFERROR(VLOOKUP(C69,Т2За!$C$45:$E$83,3,0),0) -> 11 | J69: =IFERROR(VLOOKUP(C69,Т2Зб!$C$45:$D$83,2,0),0) -> 0 | K69: =IFERROR(VLOOKUP(C69,Т2Зб!$C$45:$E$83,3,0),0) -> 0 | L69: =D69+F69+H69+J69 -> 864.36 | M69: =E69+G69+I69+K69 -> 51 | N69: =RANK(M69,$M$4:$M$82,1) -> 52
A70: =A69+1 -> 67 | B70: Gefest | C70: Саган Сергей | D70: =IFERROR(VLOOKUP(C70,Т1За!$C$45:$D$83,2,0),0) -> 0 | E70: =IFERROR(VLOOKUP(C70,Т1За!$C$45:$E$83,3,0),0) -> 0 | F70: =IFERROR(VLOOKUP(C70,Т1Зб!$C$45:$D$83,2,0),0) -> 1341.61 | G70: =IFERROR(VLOOKUP(C70,Т1Зб!$C$45:$E$83,3,0),0) -> 5 | H70: =IFERROR(VLOOKUP(C70,Т2За!$C$45:$D$83,2,0),0) -> 3029.93 | I70: =IFERROR(VLOOKUP(C70,Т2За!$C$45:$E$83,3,0),0) -> 1 | J70: =IFERROR(VLOOKUP(C70,Т2Зб!$C$45:$D$83,2,0),0) -> 0 | K70: =IFERROR(VLOOKUP(C70,Т2Зб!$C$45:$E$83,3,0),0) -> 0 | L70: =D70+F70+H70+J70 -> 4371.54 | M70: =E70+G70+I70+K70 -> 6 | N70: =RANK(M70,$M$4:$M$82,1) -> 3 | O70: =L70+L71 -> 7627.73 | P70: =M70+M71 -> 15 | Q70: =RANK(P70,$P$4:$P$82,1) -> 1
A71: =A70+1 -> 68 | B71: Gefest | C71: Радчук Юрий | D71: =IFERROR(VLOOKUP(C71,Т1За!$C$45:$D$83,2,0),0) -> 1865.09 | E71: =IFERROR(VLOOKUP(C71,Т1За!$C$45:$E$83,3,0),0) -> 7 | F71: =IFERROR(VLOOKUP(C71,Т1Зб!$C$45:$D$83,2,0),0) -> 0 | G71: =IFERROR(VLOOKUP(C71,Т1Зб!$C$45:$E$83,3,0),0) -> 0 | H71: =IFERROR(VLOOKUP(C71,Т2За!$C$45:$D$83,2,0),0) -> 0 | I71: =IFERROR(VLOOKUP(C71,Т2За!$C$45:$E$83,3,0),0) -> 0 | J71: =IFERROR(VLOOKUP(C71,Т2Зб!$C$45:$D$83,2,0),0) -> 1391.1 | K71: =IFERROR(VLOOKUP(C71,Т2Зб!$C$45:$E$83,3,0),0) -> 2 | L71: =D71+F71+H71+J71 -> 3256.19 | M71: =E71+G71+I71+K71 -> 9 | N71: 6
A72: =A71+1 -> 69 | B72: Legion | C72: Бойко Сергей | D72: =IFERROR(VLOOKUP(C72,Т1За!$C$45:$D$83,2,0),0) -> 0 | E72: =IFERROR(VLOOKUP(C72,Т1За!$C$45:$E$83,3,0),0) -> 0 | F72: =IFERROR(VLOOKUP(C72,Т1Зб!$C$45:$D$83,2,0),0) -> 508.25 | G72: =IFERROR(VLOOKUP(C72,Т1Зб!$C$45:$E$83,3,0),0) -> 21 | H72: =IFERROR(VLOOKUP(C72,Т2За!$C$45:$D$83,2,0),0) -> 1426.74 | I72: =IFERROR(VLOOKUP(C72,Т2За!$C$45:$E$83,3,0),0) -> 6 | J72: =IFERROR(VLOOKUP(C72,Т2Зб!$C$45:$D$83,2,0),0) -> 0 | K72: =IFERROR(VLOOKUP(C72,Т2Зб!$C$45:$E$83,3,0),0) -> 0 | L72: =D72+F72+H72+J72 -> 1934.99 | M72: =E72+G72+I72+K72 -> 27 | N72: 24 | O72: =L72+L73 -> 3975.15 | P72: =M72+M73 -> 48 | Q72: =RANK(P72,$P$4:$P$82,1) -> 8
A73: =A72+1 -> 70 | B73: Legion | C73: Микулов Владимир | D73: =IFERROR(VLOOKUP(C73,Т1За!$C$45:$D$83,2,0),0) -> 1540.88 | E73: =IFERROR(VLOOKUP(C73,Т1За!$C$45:$E$83,3,0),0) -> 10 | F73: =IFERROR(VLOOKUP(C73,Т1Зб!$C$45:$D$83,2,0),0) -> 0 | G73: =IFERROR(VLOOKUP(C73,Т1Зб!$C$45:$E$83,3,0),0) -> 0 | H73: =IFERROR(VLOOKUP(C73,Т2За!$C$45:$D$83,2,0),0) -> 0 | I73: =IFERROR(VLOOKUP(C73,Т2За!$C$45:$E$83,3,0),0) -> 0 | J73: =IFERROR(VLOOKUP(C73,Т2Зб!$C$45:$D$83,2,0),0) -> 499.28 | K73: =IFERROR(VLOOKUP(C73,Т2Зб!$C$45:$E$83,3,0),0) -> 11 | L73: =D73+F73+H73+J73 -> 2040.16 | M73: =E73+G73+I73+K73 -> 21 | N73: 16
A74: =A73+1 -> 71 | B74: Кооператив ХИЩНИК | C74: Сницкий Виктор | D74: =IFERROR(VLOOKUP(C74,Т1За!$C$45:$D$83,2,0),0) -> 3021.25 | E74: =IFERROR(VLOOKUP(C74,Т1За!$C$45:$E$83,3,0),0) -> 1 | F74: =IFERROR(VLOOKUP(C74,Т1Зб!$C$45:$D$83,2,0),0) -> 0 | G74: =IFERROR(VLOOKUP(C74,Т1Зб!$C$45:$E$83,3,0),0) -> 0 | H74: =IFERROR(VLOOKUP(C74,Т2За!$C$45:$D$83,2,0),0) -> 0 | I74: =IFERROR(VLOOKUP(C74,Т2За!$C$45:$E$83,3,0),0) -> 0 | J74: =IFERROR(VLOOKUP(C74,Т2Зб!$C$45:$D$83,2,0),0) -> 1047.4325 | K74: =IFERROR(VLOOKUP(C74,Т2Зб!$C$45:$E$83,3,0),0) -> 4 | L74: =D74+F74+H74+J74 -> 4068.6825 | M74: =E74+G74+I74+K74 -> 5 | N74: 2 | O74: =L74+L75 -> 5177.2725 | P74: =M74+M75 -> 46 | Q74: =RANK(P74,$P$4:$P$82,1) -> 7
A75: =A74+1 -> 72 | B75: Кооператив ХИЩНИК | C75: Сницкий Владимир | D75: =IFERROR(VLOOKUP(C75,Т1За!$C$45:$D$83,2,0),0) -> 0 | E75: =IFERROR(VLOOKUP(C75,Т1За!$C$45:$E$83,3,0),0) -> 0 | F75: =IFERROR(VLOOKUP(C75,Т1Зб!$C$45:$D$83,2,0),0) -> 193.09 | G75: =IFERROR(VLOOKUP(C75,Т1Зб!$C$45:$E$83,3,0),0) -> 32 | H75: =IFERROR(VLOOKUP(C75,Т2За!$C$45:$D$83,2,0),0) -> 915.5 | I75: =IFERROR(VLOOKUP(C75,Т2За!$C$45:$E$83,3,0),0) -> 9 | J75: =IFERROR(VLOOKUP(C75,Т2Зб!$C$45:$D$83,2,0),0) -> 0 | K75: =IFERROR(VLOOKUP(C75,Т2Зб!$C$45:$E$83,3,0),0) -> 0 | L75: =D75+F75+H75+J75 -> 1108.59 | M75: =E75+G75+I75+K75 -> 41 | N75: =RANK(M75,$M$4:$M$82,1) -> 39
A76: =A75+1 -> 73 | B76: FishUp Team | C76: Волосевич Виталий | D76: =IFERROR(VLOOKUP(C76,Т1За!$C$45:$D$83,2,0),0) -> 0 | E76: =IFERROR(VLOOKUP(C76,Т1За!$C$45:$E$83,3,0),0) -> 0 | F76: =IFERROR(VLOOKUP(C76,Т1Зб!$C$45:$D$83,2,0),0) -> 1591.22 | G76: =IFERROR(VLOOKUP(C76,Т1Зб!$C$45:$E$83,3,0),0) -> 3 | H76: =IFERROR(VLOOKUP(C76,Т2За!$C$45:$D$83,2,0),0) -> 315.0625 | I76: =IFERROR(VLOOKUP(C76,Т2За!$C$45:$E$83,3,0),0) -> 23 | J76: =IFERROR(VLOOKUP(C76,Т2Зб!$C$45:$D$83,2,0),0) -> 0 | K76: =IFERROR(VLOOKUP(C76,Т2Зб!$C$45:$E$83,3,0),0) -> 0 | L76: =D76+F76+H76+J76 -> 1906.2825 | M76: =E76+G76+I76+K76 -> 26 | N76: =RANK(M76,$M$4:$M$82,1) -> 23 | O76: =L76+L77 -> 3097.0925 | P76: =M76+M77 -> 59 | Q76: =RANK(P76,$P$4:$P$82,1) -> 9
A77: =A76+1 -> 74 | B77: FishUp Team | C77: Крук Денис | D77: =IFERROR(VLOOKUP(C77,Т1За!$C$45:$D$83,2,0),0) -> 537.81 | E77: =IFERROR(VLOOKUP(C77,Т1За!$C$45:$E$83,3,0),0) -> 25 | F77: =IFERROR(VLOOKUP(C77,Т1Зб!$C$45:$D$83,2,0),0) -> 0 | G77: =IFERROR(VLOOKUP(C77,Т1Зб!$C$45:$E$83,3,0),0) -> 0 | H77: =IFERROR(VLOOKUP(C77,Т2За!$C$45:$D$83,2,0),0) -> 0 | I77: =IFERROR(VLOOKUP(C77,Т2За!$C$45:$E$83,3,0),0) -> 0 | J77: =IFERROR(VLOOKUP(C77,Т2Зб!$C$45:$D$83,2,0),0) -> 653 | K77: =IFERROR(VLOOKUP(C77,Т2Зб!$C$45:$E$83,3,0),0) -> 8 | L77: =D77+F77+H77+J77 -> 1190.81 | M77: =E77+G77+I77+K77 -> 33 | N77: =RANK(M77,$M$4:$M$82,1) -> 30
A78: =A77+1 -> 75 | B78: S'B-FISHING | C78: Болбас Тимофей | D78: =IFERROR(VLOOKUP(C78,Т1За!$C$45:$D$83,2,0),0) -> 0 | E78: =IFERROR(VLOOKUP(C78,Т1За!$C$45:$E$83,3,0),0) -> 0 | F78: =IFERROR(VLOOKUP(C78,Т1Зб!$C$45:$D$83,2,0),0) -> 665.98 | G78: =IFERROR(VLOOKUP(C78,Т1Зб!$C$45:$E$83,3,0),0) -> 14 | H78: =IFERROR(VLOOKUP(C78,Т2За!$C$45:$D$83,2,0),0) -> 981.84 | I78: =IFERROR(VLOOKUP(C78,Т2За!$C$45:$E$83,3,0),0) -> 8 | J78: =IFERROR(VLOOKUP(C78,Т2Зб!$C$45:$D$83,2,0),0) -> 0 | K78: =IFERROR(VLOOKUP(C78,Т2Зб!$C$45:$E$83,3,0),0) -> 0 | L78: =D78+F78+H78+J78 -> 1647.82 | M78: =E78+G78+I78+K78 -> 22 | N78: 18 | O78: =L78+L79 -> 3804.08 | P78: =M78+M79 -> 40 | Q78: 5
A79: =A78+1 -> 76 | B79: S'B-FISHING | C79: Сапроненков Евгений | D79: =IFERROR(VLOOKUP(C79,Т1За!$C$45:$D$83,2,0),0) -> 1435 | E79: =IFERROR(VLOOKUP(C79,Т1За!$C$45:$E$83,3,0),0) -> 12 | F79: =IFERROR(VLOOKUP(C79,Т1Зб!$C$45:$D$83,2,0),0) -> 0 | G79: =IFERROR(VLOOKUP(C79,Т1Зб!$C$45:$E$83,3,0),0) -> 0 | H79: =IFERROR(VLOOKUP(C79,Т2За!$C$45:$D$83,2,0),0) -> 0 | I79: =IFERROR(VLOOKUP(C79,Т2За!$C$45:$E$83,3,0),0) -> 0 | J79: =IFERROR(VLOOKUP(C79,Т2Зб!$C$45:$D$83,2,0),0) -> 721.26 | K79: =IFERROR(VLOOKUP(C79,Т2Зб!$C$45:$E$83,3,0),0) -> 6 | L79: =D79+F79+H79+J79 -> 2156.26 | M79: =E79+G79+I79+K79 -> 18 | N79: 11
A80: =A79+1 -> 77 | B80: Perch Legends | C80: Лабанок Александр | D80: =IFERROR(VLOOKUP(C80,Т1За!$C$45:$D$83,2,0),0) -> 0 | E80: =IFERROR(VLOOKUP(C80,Т1За!$C$45:$E$83,3,0),0) -> 0 | F80: =IFERROR(VLOOKUP(C80,Т1Зб!$C$45:$D$83,2,0),0) -> 918.01 | G80: =IFERROR(VLOOKUP(C80,Т1Зб!$C$45:$E$83,3,0),0) -> 8 | H80: =IFERROR(VLOOKUP(C80,Т2За!$C$45:$D$83,2,0),0) -> 582.1 | I80: =IFERROR(VLOOKUP(C80,Т2За!$C$45:$E$83,3,0),0) -> 15 | J80: =IFERROR(VLOOKUP(C80,Т2Зб!$C$45:$D$83,2,0),0) -> 0 | K80: =IFERROR(VLOOKUP(C80,Т2Зб!$C$45:$E$83,3,0),0) -> 0 | L80: =D80+F80+H80+J80 -> 1500.11 | M80: =E80+G80+I80+K80 -> 23 | N80: 20 | O80: =L80+L81+L82 -> 2133.88 | P80: =E82+G80+I80+K81 -> 69 | Q80: 14
A81: =A80+1 -> 78 | B81: Perch Legends | C81: Каменец Алексей | D81: =IFERROR(VLOOKUP(C81,Т1За!$C$45:$D$83,2,0),0) -> 0 | E81: 40 | F81: =IFERROR(VLOOKUP(C81,Т1Зб!$C$45:$D$83,2,0),0) -> 0 | G81: =IFERROR(VLOOKUP(C81,Т1Зб!$C$45:$E$83,3,0),0) -> 0 | H81: =IFERROR(VLOOKUP(C81,Т2За!$C$45:$D$83,2,0),0) -> 0 | I81: =IFERROR(VLOOKUP(C81,Т2За!$C$45:$E$83,3,0),0) -> 0 | J81: =IFERROR(VLOOKUP(C82,Т2Зб!$C$45:$D$83,2,0),0) -> 268.96 | K81: =IFERROR(VLOOKUP(C82,Т2Зб!$C$45:$E$83,3,0),0) -> 16 | L81: =D81+F81+H81+J81 -> 268.96 | M81: =E81+G81+I81+K81 -> 56 | N81: =RANK(M81,$M$4:$M$82,1) -> 59
A82: =A81+1 -> 79 | B82: Perch Legends | C82: Корней Валентин | D82: =IFERROR(VLOOKUP(C82,Т1За!$C$45:$D$83,2,0),0) -> 364.81 | E82: =IFERROR(VLOOKUP(C82,Т1За!$C$45:$E$83,3,0),0) -> 30 | F82: =IFERROR(VLOOKUP(C82,Т1Зб!$C$45:$D$83,2,0),0) -> 0 | G82: =IFERROR(VLOOKUP(C82,Т1Зб!$C$45:$E$83,3,0),0) -> 0 | H82: =IFERROR(VLOOKUP(C82,Т2За!$C$45:$D$83,2,0),0) -> 0 | I82: =IFERROR(VLOOKUP(C82,Т2За!$C$45:$E$83,3,0),0) -> 0 | J82: =IFERROR(VLOOKUP(C83,Т2Зб!$C$45:$D$83,2,0),0) -> 0 | K82: 40 | L82: =D82+F82+H82+J82 -> 364.81 | M82: =E82+G82+I82+K82 -> 70 | N82: =RANK(M82,$M$4:$M$82,1) -> 70
A85: Средний размер окуня, см: | C85: =(Т1За!F42+Т1Зб!F42+Т2За!F42+Т2Зб!F42)/4 -> 14.093779
A86: Средний размер щуки, см: | C86: =(Т1За!V42+Т1Зб!N42+Т2За!Q42+Т2Зб!M42)/4 -> 37.448214
