Workbook

Sheet Т1За
A1: № | B1: команда | C1: участник | D1: сумма баллов | E1: место | F1: окунь | V1: щука
F2: размер, см
A3: 1 | B3: Peacock Bass | C3: Сенчуров Иван | D3: =D45 -> 979.21 | E3: =E45 -> 16 | F3: 12 | G3: 28.9
A4: =A3+1 -> 2 | B4: FISHINGSTOCK BELARUS | C4: Бобриков Алексей | D4: =D46 -> 187.69 | E4: =E46 -> 33 | F4: 13.7
A5: =A4+1 -> 3 | B5: West Fishing | C5: Непомнящий Виктор | D5: =D47 -> 2711.77 | E5: =E47 -> 2 | F5: 13.4 | G5: 17.7 | H5: 16.8 | I5: 19.8 | J5: 15.3 | K5: 21.9 | L5: 16.3 | M5: 12.6 | N5: 12.2 | O5: 11.3 | P5: 11.4
A6: =A5+1 -> 4 | B6: UL Hooligans | C6: Уютов Кирилл | D6: =D48 -> 284.98 | E6: =E48 -> 32 | F6: 8.3 | G6: 14.7
A7: =A6+1 -> 5 | B7: Rockfish | C7: Силивончик Павел | D7: =D49 -> 161.29 | E7: =E49 -> 35 | F7: 12.7
A8: =A7+1 -> 6 | B8: Крутой берег | C8: Желтов Евгений | D8: =D50 -> 0 | E8: =E50 -> 40
A9: =A8+1 -> 7 | B9: Pike death TEAM | C9: Круглянин Сергей | D9: =D51 -> 585 | E9: =E51 -> 23 | F9: 17.4 | G9: 16.8
A10: =A9+1 -> 8 | B10: Трудовые резервы | C10: Баранок Артём | D10: =D52 -> 415.44 | E10: =E52 -> 29 | F10: 13.8 | G10: 15
A11: =A10+1 -> 9 | B11: К&М | C11: Мельников Юрий | D11: =D53 -> 169 | E11: =E53 -> 34 | F11: 13
A12: =A11+1 -> 10 | B12: Пятнистый кукан | C12: Хилько Артем | D12: =D54 -> 666.4 | E12: =E54 -> 21 | F12: 16.8 | G12: 19.6
A13: =A12+1 -> 11 | B13: Black River Team | C13: Рабушко Василий | D13: =D55 -> 1005.97 | E13: =E55 -> 14 | F13: 11.9 | G13: 29.4
A14: =A13+1 -> 12 | B14: Дачники | C14: Тищенко Павел | D14: =D56 -> 1004.89 | E14: =E56 -> 15 | F14: 31.7
A15: =A14+1 -> 13 | B15: Amateurs | C15: Куликовский Виталий | D15: =D57 -> 1565.61 | E15: =E57 -> 8 | F15: 10.5 | G15: 20.1 | H15: 12.3 | I15: 10.6 | J15: 10.8 | K15: 11 | L15: 17.1 | M15: 11.4 | N15: 11.3
A16: =A15+1 -> 14 | B16: Против Течениия | C16: Карпеев Тимофей | D16: =D58 -> 811.98 | E16: =E58 -> 18 | F16: 21 | G16: 11.7 | H16: 15.3
A17: =A16+1 -> 15 | B17: ASpinnTeam | C17: Вашкевич Александр | D17: =D59 -> 156.25 | E17: =E59 -> 36 | F17: 12.5
A18: =A17+1 -> 16 | B18: Poseidon | C18: Строк Павел | D18: =D60 -> 1547.23 | E18: =E60 -> 9 | F18: 12.1 | G18: 12.8 | H18: 11.7 | I18: 12.2 | J18: 24.9 | V18: 36.4
A19: =A18+1 -> 17 | B19: Bona Кобрин | C19: Марковский Максим | D19: =D61 -> 2589.37 | E19: =E61 -> 3 | F19: 13.8 | G19: 23.1 | H19: 27.1 | I19: 25.2 | J19: 12.5 | K19: 12.1 | L19: 13.9
A20: =A19+1 -> 18 | B20: ЕК | C20: Ковалёв Евгений | D20: =D62 -> 449.44 | E20: =E62 -> 27 | F20: 21.2
A21: =A20+1 -> 19 | B21: ПВ | C21: Воробьев Павел | D21: =D63 -> 0 | E21: =E63 -> 40
A22: =A21+1 -> 20 | B22: Fanatik Belarus | C22: Шевчук Дмитрий | D22: =D64 -> 2259.79 | E22: =E64 -> 5 | F22: 12.5 | G22: 12 | H22: 12.4 | I22: 12.2 | J22: 11.6 | K22: 12.1 | L22: 11.8 | M22: 11.7 | N22: 11.7 | O22: 12.9 | P22: 12.3 | Q22: 11.4 | R22: 22.7
A23: =A22+1 -> 21 | B23: Bass Hunters | C23: Кириевский Андрей | D23: =D65 -> 2514.28 | E23: =E65 -> 4 | F23: 16.8 | G23: 19.6 | H23: 11.6 | I23: 11.1 | J23: 12.1 | K23: 12.5 | L23: 11.2 | M23: 10.3 | N23: 11.1 | O23: 12.4 | P23: 12.5 | Q23: 13.7 | R23: 11.5 | S23: 12 | T23: 12.6
A24: =A23+1 -> 22 | B24: Alutech Team | C24: Янкович Сергей | D24: =D66 -> 733.33 | E24: =E66 -> 19 | F24: 23.3 | G24: 13.8
A25: =A24+1 -> 23 | B25: Бритый Карась | C25: Герасимович Сергей | D25: =D67 -> 0 | E25: =E67 -> 40
A26: =A25+1 -> 24 | B26: Undercurrent | C26: Ешман Сергей | D26: =D68 -> 450.25 | E26: =E68 -> 26 | F26: 17.5 | G26: 12
A27: =A26+1 -> 25 | B27: XULi-ULi | C27: Лавренчук Станислав | D27: =D69 -> 296.09 | E27: =E69 -> 31 | F27: 11.5 | G27: 12.8
A28: =A27+1 -> 26 | B28: WFT Minsk | C28: Тулупов Александр | D28: =D70 -> 1286.33 | E28: =E70 -> 13 | F28: 11.8 | G28: 10.5 | H28: 32.2
A29: =A28+1 -> 27 | B29: Фарватер | C29: Цыганок Михаил | D29: =D71 -> 439.49 | E29: =E71 -> 28 | F29: 11.8 | G29: 12 | H29: 12.5
A30: =A29+1 -> 28 | B30: Bait Breath Team | C30: Зубко Сергей | D30: =D72 -> 1941.56 | E30: =E72 -> 6 | F30: 12.1 | G30: 24.5 | H30: 11.7 | I30: 11 | J30: 11.1 | K30: 14.8 | L30: 12.4 | M30: 21
A31: =A30+1 -> 29 | B31: Lexass PRO | C31: Булойчик Илья | D31: =D73 -> 614.89 | E31: =E73 -> 22 | F31: 13.5 | G31: 20.8
A32: =A31+1 -> 30 | B32: Dream Team | C32: Тысевич Сергей | D32: =D74 -> 711.02 | E32: =E74 -> 20 | F32: 12.5 | G32: 19.9 | H32: 12.6
A33: =A32+1 -> 31 | B33: nanobass | C33: Бычик Роман | D33: =D75 -> 1488.5 | E33: =E75 -> 11 | F33: 21.7 | G33: 31.9
A34: =A33+1 -> 32 | B34: Mad Perch | C34: Павлючик Андрей | D34: =D76 -> 557.28 | E34: =E76 -> 24 | F34: 11.8 | G34: 11.8 | H34: 11.4 | I34: 12.2
A35: =A34+1 -> 33 | B35: Old Roads Fishing | C35: Синовец Роман | D35: =D77 -> 840.98 | E35: =E77 -> 17 | F35: 17.8 | G35: 12.3 | H35: 15.8 | I35: 11.1
A36: =A35+1 -> 34 | B36: Gefest | C36: Радчук Юрий | D36: =D78 -> 1865.09 | E36: =E78 -> 7 | F36: 25.4 | G36: 12.2 | H36: 12.3 | I36: 13 | J36: 10.5 | K36: 11.9 | L36: 11.7 | M36: 13.8 | N36: 13.1
A37: =A36+1 -> 35 | B37: Legion | C37: Микулов Владимир | D37: =D79 -> 1540.88 | E37: =E79 -> 10 | F37: 11.3 | G37: 14.1 | H37: 18.1 | I37: 12.2 | J37: 13.2 | K37: 17.4 | L37: 14.2 | M37: 7.7
A38: =A37+1 -> 36 | B38: Кооператив ХИЩНИК | C38: Сницкий Виктор | D38: =D80 -> 3021.25 | E38: =E80 -> 1 | F38: 20.5 | V38: 51
A39: =A38+1 -> 37 | B39: FishUp Team | C39: Крук Денис | D39: =D81 -> 537.81 | E39: =E81 -> 25 | F39: 16.6 | G39: 11.6 | H39: 11.3
A40: =A39+1 -> 38 | B40: S'B-FISHING | C40: Сапроненков Евгений | D40: =D82 -> 1435 | E40: =E82 -> 12 | F40: 12.5 | G40: 11.9 | H40: 11.9 | I40: 14.2 | J40: 14.2 | K40: 13.6 | V40: 24.6 | W40: 32
...

Sheet Т1Зб
A1: № | B1: команда | C1: участник | D1: сумма баллов | E1: место | F1: окунь | N1: щука
F2: размер, см
A3: 1 | B3: Peacock Bass | C3: Дроздов Виталий | D3: =D45 -> 601.5 | E3: =E45 -> 16 | F3: 12 | G3: 13 | H3: 11.5 | I3: 12.5
A4: =A3+1 -> 2 | B4: FISHINGSTOCK BELARUS | C4: Лунякин Олег | D4: =D46 -> 572.26 | E4: =E46 -> 19 | F4: 11.6 | G4: 11.5 | H4: 11.9 | I4: 12.8
A5: =A4+1 -> 3 | B5: West Fishing | C5: Золотарь Андрей | D5: =D47 -> 141.61 | E5: =E47 -> 34 | F5: 11.9
A6: =A5+1 -> 4 | B6: UL Hooligans | C6: Дешкевич Виталий | D6: =D48 -> 414.49 | E6: =E48 -> 24 | F6: 15.5 | G6: 13.2
A7: =A6+1 -> 5 | B7: Rockfish | C7: Лазарчик Евгений | D7: =D49 -> 340.85 | E7: =E49 -> 28 | F7: 13.4 | G7: 12.7
A8: =A7+1 -> 6 | B8: Крутой берег | C8: Желтов Игорь | D8: =D50 -> 0 | E8: =E50 -> 40
A9: =A8+1 -> 7 | B9: Pike death TEAM | C9: Ставер Дмитрий | D9: =D51 -> 424.4 | E9: =E51 -> 23 | F9: 16.6 | G9: 12.2
A10: =A9+1 -> 8 | B10: Трудовые резервы | C10: Пожарский Константин | D10: =D52 -> 588.6 | E10: =E52 -> 18 | F10: 11.1 | G10: 10.1 | H10: 11.5 | I10: 10.7 | J10: 10.8
A11: =A10+1 -> 9 | B11: К&М | C11: Казаченко Владимир | D11: =D53 -> 591.32 | E11: =E53 -> 17 | F11: 11.7 | G11: 12.7 | H11: 11.7 | I11: 12.5
A12: =A11+1 -> 10 | B12: Пятнистый кукан | C12: Анпилов Андрей | D12: =D54 -> 394.69 | E12: =E54 -> 26 | F12: 11.5 | G12: 16.2
A13: =A12+1 -> 11 | B13: Black River Team | C13: Ворон Павел | D13: =D55 -> 196 | E13: =E55 -> 31 | F13: 14
A14: =A13+1 -> 12 | B14: Дачники | C14: Сапун Станислав | D14: =D56 -> 207.36 | E14: =E56 -> 30 | F14: 14.4
A15: =A14+1 -> 13 | B15: Amateurs | C15: Соколов Кирилл | D15: =D57 -> 1554.82 | E15: =E57 -> 4 | F15: 12.5 | G15: 12.5 | H15: 12.1 | I15: 12.5 | J15: 15.8 | K15: 10.9 | L15: 23.9
A16: =A15+1 -> 14 | B16: Против Течениия | C16: Ананич Геннадий | D16: =D58 -> 620.5 | E16: =E58 -> 15 | F16: 12.4 | G16: 11.6 | H16: 11.3 | N16: 28.6
A17: =A16+1 -> 15 | B17: ASpinnTeam | C17: Нугуманов Артём | D17: =D59 -> 700.2 | E17: =E59 -> 13 | F17: 22.2 | G17: 14.4
A18: =A17+1 -> 16 | B18: Poseidon | C18: Чижонок Сергей | D18: =D60 -> 2405.23 | E18: =E60 -> 2 | F18: 31.2 | G18: 11.5 | H18: 12.1 | I18: 14.2 | J18: 11.8 | K18: 28.5
A19: =A18+1 -> 17 | B19: Bona Кобрин | C19: Барташук Александр | D19: =D61 -> 859.35 | E19: =E61 -> 10 | F19: 12 | G19: 12.3 | H19: 17 | I19: 10.9 | J19: 12.5
A20: =A19+1 -> 18 | B20: ЕК | C20: Казанцев Евгений | D20: =D62 -> 3782.25 | E20: =E62 -> 1 | N20: 61.5
A21: =A20+1 -> 19 | B21: ПВ | C21: Пластун Вячеслав | D21: =D63 -> 543.46 | E21: =E63 -> 20 | F21: 11.3 | G21: 12.2 | H21: 11.8 | I21: 11.3
A22: =A21+1 -> 20 | B22: Fanatik Belarus | C22: Рулинский Александр | D22: =D64 -> 327.68 | E22: =E64 -> 29 | F22: 12.8 | G22: 12.8
A23: =A22+1 -> 21 | B23: Bass Hunters | C23: Шевко Виталий | D23: =D65 -> 1233.61 | E23: =E65 -> 7 | F23: 12.8 | G23: 12.4 | H23: 11.5 | I23: 25 | J23: 12.6
A24: =A23+1 -> 22 | B24: Alutech Team | C24: Купрейчик Сергей | D24: =D66 -> 487.85 | E24: =E66 -> 22 | F24: 12.5 | G24: 11.4 | H24: 14.2
A25: =A24+1 -> 23 | B25: Бритый Карась | C25: Левандовский Дмитрий | D25: =D67 -> 169 | E25: =E67 -> 33 | F25: 13
A26: =A25+1 -> 24 | B26: Undercurrent | C26: Хоухлянцев Дмитрий | D26: =D68 -> 401.89 | E26: =E68 -> 25 | F26: 11.7 | G26: 12 | H26: 11
A27: =A26+1 -> 25 | B27: XULi-ULi | C27: Воробьёв Андрей | D27: =D69 -> 0 | E27: =E69 -> 40
A28: =A27+1 -> 26 | B28: WFT Minsk | C28: Каморников Евгений | D28: =D70 -> 0 | E28: =E70 -> 40
A29: =A28+1 -> 27 | B29: Фарватер | C29: Попельский Максим | D29: =D71 -> 898.69 | E29: =E71 -> 9 | F29: 13 | G29: 17 | H29: 11.3 | I29: 12 | J29: 13
A30: =A29+1 -> 28 | B30: Bait Breath Team | C30: Бахур Александр | D30: =D72 -> 752.93 | E30: =E72 -> 12 | F30: 10.8 | G30: 11 | H30: 22.7
A31: =A30+1 -> 29 | B31: Lexass PRO | C31: Санюк Алексей | D31: =D73 -> 377.14 | E31: =E73 -> 27 | F31: 15.5 | G31: 11.7
A32: =A31+1 -> 30 | B32: Dream Team | C32: Золотухин Александр | D32: =D74 -> 841.5 | E32: =E74 -> 11 | F32: 11.9 | G32: 12.2 | H32: 10.8 | I32: 12 | J32: 12.1 | K32: 12
A33: =A32+1 -> 31 | B33: nanobass | C33: Мартынчук Михаил | D33: =D75 -> 0 | E33: =E75 -> 40
A34: =A33+1 -> 32 | B34: Mad Perch | C34: Масюк Павел | D34: =D76 -> 1296.55 | E34: =E76 -> 6 | F34: 13.2 | G34: 11.4 | H34: 12.2 | I34: 14.5 | J34: 12.6 | K34: 18.5 | L34: 11.5
A35: =A34+1 -> 33 | B35: Old Roads Fishing | C35: Чернышёв Егор | D35: =D77 -> 0 | E35: =E77 -> 40
A36: =A35+1 -> 34 | B36: Gefest | C36: Саган Сергей | D36: =D78 -> 1341.61 | E36: =E78 -> 5 | F36: 11.5 | G36: 11.8 | H36: 12.3 | I36: 10.9 | J36: 10.9 | K36: 26.1
A37: =A36+1 -> 35 | B37: Legion | C37: Бойко Сергей | D37: =D79 -> 508.25 | E37: =E79 -> 21 | F37: 14.5 | G37: 12.6 | H37: 11.8
A38: =A37+1 -> 36 | B38: Кооператив ХИЩНИК | C38: Сницкий Владимир | D38: =D80 -> 193.09 | E38: =E80 -> 32 | F38: 11.5 | G38: 7.8
A39: =A38+1 -> 37 | B39: FishUp Team | C39: Волосевич Виталий | D39: =D81 -> 1591.22 | E39: =E81 -> 3 | F39: 13.2 | G39: 12.4 | H39: 11.5 | I39: 12.1 | J39: 12 | K39: 23.4 | L39: 11.8 | M39: 12.4
A40: =A39+1 -> 38 | B40: S'B-FISHING | C40: Болбас Тимофей | D40: =D82 -> 665.98 | E40: =E82 -> 14 | F40: 11.7 | G40: 12.2 | H40: 19.5
...

Sheet Т2За
A1: № | B1: команда | C1: участник | D1: сумма баллов | E1: место | F1: окунь | Q1: щука
F2: размер, см
A3: 1 | B3: Peacock Bass | C3: Дроздов Виталий | D3: =D45 -> 1580.26 | E3: =E45 -> 5 | F3: 13.6 | G3: 12.8 | H3: 11.6 | I3: 11.6 | J3: 12.3 | K3: 12 | L3: 11.8 | M3: 12 | N3: 11 | O3: 12 | P3: 10.9
A4: =A3+1 -> 2 | B4: FISHINGSTOCK BELARUS | C4: Лунякин Олег | D4: =D46 -> 734.88 | E4: =E46 -> 12 | F4: 14 | G4: 12 | H4: 11.2 | I4: 12 | J4: 11.2
A5: =A4+1 -> 3 | B5: West Fishing | C5: Золотарь Андрей | D5: =D47 -> 182.25 | E5: =E47 -> 27 | F5: 13.5
A6: =A5+1 -> 4 | B6: UL Hooligans | C6: Дешкевич Виталий | D6: =D48 -> 374.85 | E6: =E48 -> 21 | F6: 12.6 | G6: 14.7
A7: =A6+1 -> 5 | B7: Rockfish | C7: Лазарчик Евгений | D7: =D49 -> 121 | E7: =E49 -> 30 | F7: 11
A8: =A7+1 -> 6 | B8: Крутой берег | C8: Желтов Игорь | D8: =D50 -> 0 | E8: =E50 -> 40
A9: =A8+1 -> 7 | B9: Pike death TEAM | C9: Ставер Дмитрий | D9: =D51 -> 190.44 | E9: =E51 -> 26 | F9: 13.8
A10: =A9+1 -> 8 | B10: Трудовые резервы | C10: Пожарский Константин | D10: =D52 -> 557.64 | E10: =E52 -> 16 | F10: 21 | G10: 10.8
A11: =A10+1 -> 9 | B11: К&М | C11: Казаченко Владимир | D11: =D53 -> 148.84 | E11: =E53 -> 28 | F11: 12.2
A12: =A11+1 -> 10 | B12: Пятнистый кукан | C12: Анпилов Андрей | D12: =D54 -> 338.98 | E12: =E54 -> 22 | F12: 12.3 | Q12: 27.4
A13: =A12+1 -> 11 | B13: Black River Team | C13: Ворон Павел | D13: =D55 -> 0 | E13: =E55 -> 40
A14: =A13+1 -> 12 | B14: Дачники | C14: Сапун Станислав | D14: =D56 -> 132.25 | E14: =E56 -> 29 | F14: 11.5
A15: =A14+1 -> 13 | B15: Amateurs | C15: Соколов Кирилл | D15: =D57 -> 1610.2 | E15: =E57 -> 4 | F15: 11.3 | G15: 11.5 | H15: 11.9 | I15: 13.5 | J15: 12.3 | K15: 11.9 | L15: 11 | M15: 21.7 | N15: 11.9
A16: =A15+1 -> 14 | B16: Против Течениия | C16: Ананич Геннадий | D16: =D58 -> 421.78 | E16: =E58 -> 20 | F16: 13.7 | G16: 15.3
A17: =A16+1 -> 15 | B17: ASpinnTeam | C17: Нугуманов Артём | D17: =D59 -> 256 | E17: =E59 -> 25 | F17: 16
A18: =A17+1 -> 16 | B18: Poseidon | C18: Чижонок Сергей | D18: =D60 -> 1957.6325 | E18: =E60 -> 3 | F18: 21.2 | G18: 12.5 | H18: 13 | I18: 12.2 | J18: 12.1 | K18: 7.9 | L18: 18.8 | M18: 12.8 | Q18: 35.1
A19: =A18+1 -> 17 | B19: Bona Кобрин | C19: Барташук Александр | D19: =D61 -> 881.21 | E19: =E61 -> 10 | F19: 11.5 | G19: 12.6 | H19: 12.1 | I19: 8.9 | Q19: 27.4 | R19: 26.6
A20: =A19+1 -> 18 | B20: ЕК | C20: Казанцев Евгений | D20: =D62 -> 469.05 | E20: =E62 -> 19 | F20: 11 | G20: 12.1 | Q20: 28.4
A21: =A20+1 -> 19 | B21: ПВ | C21: Пластун Вячеслав | D21: =D63 -> 0 | E21: =E63 -> 40
A22: =A21+1 -> 20 | B22: Fanatik Belarus | C22: Рулинский Александр | D22: =D64 -> 295.49 | E22: =E64 -> 24 | F22: 12.5 | G22: 11.8
A23: =A22+1 -> 21 | B23: Bass Hunters | C23: Шевко Виталий | D23: =D65 -> 656.82 | E23: =E65 -> 13 | F23: 11.1 | G23: 23.1
A24: =A23+1 -> 22 | B24: Alutech Team | C24: Купрейчик Сергей | D24: =D66 -> 53.29 | E24: =E66 -> 31 | F24: 7.3
A25: =A24+1 -> 23 | B25: Бритый Карась | C25: Левандовский Дмитрий | D25: =D67 -> 0 | E25: =E67 -> 40
A26: =A25+1 -> 24 | B26: Undercurrent | C26: Хоухлянцев Дмитрий | D26: =D68 -> 1104.59 | E26: =E68 -> 7 | F26: 11.5 | G26: 11.4 | H26: 12.4 | I26: 12.7 | J26: 19.7 | K26: 11.8
A27: =A26+1 -> 25 | B27: XULi-ULi | C27: Воробьёв Андрей | D27: =D69 -> 0 | E27: =E69 -> 40
A28: =A27+1 -> 26 | B28: WFT Minsk | C28: Каморников Евгений | D28: =D70 -> 0 | E28: =E70 -> 40
A29: =A28+1 -> 27 | B29: Фарватер | C29: Попельский Максим | D29: =D71 -> 0 | E29: =E71 -> 40
A30: =A29+1 -> 28 | B30: Bait Breath Team | C30: Бахур Александр | D30: =D72 -> 2381.86 | E30: =E72 -> 2 | F30: 11.9 | G30: 29.4 | H30: 12.7 | I30: 20.2 | J30: 28.4
A31: =A30+1 -> 29 | B31: Lexass PRO | C31: Санюк Алексей | D31: =D73 -> 0 | E31: =E73 -> 40
A32: =A31+1 -> 30 | B32: Dream Team | C32: Золотухин Александр | D32: =D74 -> 622.56 | E32: =E74 -> 14 | F32: 18.8 | G32: 11.6 | H32: 11.6
A33: =A32+1 -> 31 | B33: nanobass | C33: Мартынчук Михаил | D33: =D75 -> 520.65 | E33: =E75 -> 18 | F33: 14.4 | G33: 17.7
A34: =A33+1 -> 32 | B34: Mad Perch | C34: Масюк Павел | D34: =D76 -> 556.78 | E34: =E76 -> 17 | F34: 15.1 | G34: 14.1 | H34: 11.4
A35: =A34+1 -> 33 | B35: Old Roads Fishing | C35: Чернышёв Егор | D35: =D77 -> 864.36 | E35: =E77 -> 11 | F35: 29.4
A36: =A35+1 -> 34 | B36: Gefest | C36: Саган Сергей | D36: =D78 -> 3029.93 | E36: =E78 -> 1 | F36: 7.8 | G36: 11.6 | H36: 12.3 | Q36: 51.8
A37: =A36+1 -> 35 | B37: Legion | C37: Бойко Сергей | D37: =D79 -> 1426.74 | E37: =E79 -> 6 | F37: 22.6 | G37: 11.7 | H37: 13 | I37: 24.7
A38: =A37+1 -> 36 | B38: Кооператив ХИЩНИК | C38: Сницкий Владимир | D38: =D80 -> 915.5 | E38: =E80 -> 9 | F38: 15.1 | G38: 21 | H38: 15.7
A39: =A38+1 -> 37 | B39: FishUp Team | C39: Волосевич Виталий | D39: =D81 -> 315.0625 | E39: =E81 -> 23 | Q39: 35.5
A40: =A39+1 -> 38 | B40: S'B-FISHING | C40: Болбас Тимофей | D40: =D82 -> 981.84 | E40: =E82 -> 8 | F40: 12.9 | G40: 12 | H40: 11.4 | I40: 8.3 | J40: 13.1 | K40: 11.6 | L40: 12.9
...

Sheet Т2Зб
A1: № | B1: команда | C1: участник | D1: сумма баллов | E1: место | F1: окунь | M1: щука
F2: размер, см
A3: 1 | B3: Peacock Bass | C3: Сенчуров Иван | D3: =D45 -> 123.21 | E3: =E45 -> 29 | F3: 11.1
A4: =A3+1 -> 2 | B4: FISHINGSTOCK BELARUS | C4: Бобриков Алексей | D4: =D46 -> 743.21 | E4: =E46 -> 5 | F4: 16.1 | G4: 22
A5: =A4+1 -> 3 | B5: West Fishing | C5: Непомнящий Виктор | D5: =D47 -> 713.54 | E5: =E47 -> 7 | F5: 8.2 | G5: 11.7 | H5: 16.5 | I5: 15.4
A6: =A5+1 -> 4 | B6: UL Hooligans | C6: Уютов Кирилл | D6: =D48 -> 0 | E6: =E48 -> 40
A7: =A6+1 -> 5 | B7: Rockfish | C7: Силивончик Павел | D7: =D49 -> 1352.04 | E7: =E49 -> 3 | F7: 11.2 | G7: 32.6 | H7: 12.8
A8: =A7+1 -> 6 | B8: Крутой берег | C8: Желтов Евгений | D8: =D50 -> 0 | E8: =E50 -> 40
A9: =A8+1 -> 7 | B9: Pike death TEAM | C9: Круглянин Сергей | D9: =D51 -> 262.44 | E9: =E51 -> 17 | F9: 16.2
A10: =A9+1 -> 8 | B10: Трудовые резервы | C10: Баранок Артём | D10: =D52 -> 0 | E10: =E52 -> 40
A11: =A10+1 -> 9 | B11: К&М | C11: Мельников Юрий | D11: =D53 -> 342.25 | E11: =E53 -> 14 | M11: 37
A12: =A11+1 -> 10 | B12: Пятнистый кукан | C12: Хилько Артем | D12: =D54 -> 207.36 | E12: =E54 -> 19 | F12: 14.4
A13: =A12+1 -> 11 | B13: Black River Team | C13: Рабушко Василий | D13: =D55 -> 0 | E13: =E55 -> 40
A14: =A13+1 -> 12 | B14: Дачники | C14: Тищенко Павел | D14: =D56 -> 144 | E14: =E56 -> 25 | F14: 12
A15: =A14+1 -> 13 | B15: Amateurs | C15: Куликовский Виталий | D15: =D57 -> 146.41 | E15: =E57 -> 24 | F15: 12.1
A16: =A15+1 -> 14 | B16: Против Течениия | C16: Карпеев Тимофей | D16: =D58 -> 501.76 | E16: =E58 -> 10 | F16: 22.4
A17: =A16+1 -> 15 | B17: ASpinnTeam | C17: Вашкевич Александр | D17: =D59 -> 290.41 | E17: =E59 -> 15 | F17: 12 | G17: 12.1
A18: =A17+1 -> 16 | B18: Poseidon | C18: Строк Павел | D18: =D60 -> 190.44 | E18: =E60 -> 20 | F18: 13.8
A19: =A18+1 -> 17 | B19: Bona Кобрин | C19: Марковский Максим | D19: =D61 -> 179.56 | E19: =E61 -> 21 | F19: 13.4
A20: =A19+1 -> 18 | B20: ЕК | C20: Ковалёв Евгений | D20: =D62 -> 0 | E20: =E62 -> 40
A21: =A20+1 -> 19 | B21: ПВ | C21: Воробьев Павел | D21: =D63 -> 0 | E21: =E63 -> 40
A22: =A21+1 -> 20 | B22: Fanatik Belarus | C22: Шевчук Дмитрий | D22: =D64 -> 358.25 | E22: =E64 -> 13 | F22: 12.4 | G22: 14.3
A23: =A22+1 -> 21 | B23: Bass Hunters | C23: Кириевский Андрей | D23: =D65 -> 0 | E23: =E65 -> 40
A24: =A23+1 -> 22 | B24: Alutech Team | C24: Янкович Сергей | D24: =D66 -> 148.84 | E24: =E66 -> 23 | F24: 12.2
A25: =A24+1 -> 23 | B25: Бритый Карась | C25: Герасимович Сергей | D25: =D67 -> 0 | E25: =E67 -> 40
A26: =A25+1 -> 24 | B26: Undercurrent | C26: Ешман Сергей | D26: =D68 -> 0 | E26: =E68 -> 40
A27: =A26+1 -> 25 | B27: XULi-ULi | C27: Лавренчук Станислав | D27: =D69 -> 156.25 | E27: =E69 -> 22 | F27: 12.5
A28: =A27+1 -> 26 | B28: WFT Minsk | C28: Тулупов Александр | D28: =D70 -> 520.0225 | E28: =E70 -> 9 | F28: 8.6 | G28: 12.6 | M28: 33.9
A29: =A28+1 -> 27 | B29: Фарватер | C29: Цыганок Михаил | D29: =D71 -> 243.86 | E29: =E71 -> 18 | F29: 8.5 | G29: 13.1
A30: =A29+1 -> 28 | B30: Bait Breath Team | C30: Зубко Сергей | D30: =D72 -> 365.61 | E30: =E72 -> 12 | F30: 11 | G30: 11.5 | M30: 21.2
A31: =A30+1 -> 29 | B31: Lexass PRO | C31: Булойчик Илья | D31: =D73 -> 132.25 | E31: =E73 -> 28 | F31: 11.5
A32: =A31+1 -> 30 | B32: Dream Team | C32: Тысевич Сергей | D32: =D74 -> 139.24 | E32: =E74 -> 26 | F32: 11.8
A33: =A32+1 -> 31 | B33: nanobass | C33: Бычик Роман | D33: =D75 -> 4040 | E33: =E75 -> 1 | F33: 30.8 | M33: 55.6
A34: =A33+1 -> 32 | B34: Mad Perch | C34: Павлючик Андрей | D34: =D76 -> 136.89 | E34: =E76 -> 27 | F34: 11.7
A35: =A34+1 -> 33 | B35: Old Roads Fishing | C35: Синовец Роман | D35: =D77 -> 0 | E35: =E77 -> 40
A36: =A35+1 -> 34 | B36: Gefest | C36: Радчук Юрий | D36: =D78 -> 1391.1 | E36: =E78 -> 2 | F36: 21 | G36: 11.6 | H36: 13.2 | I36: 12.7 | J36: 12 | K36: 12.4 | L36: 13.5
A37: =A36+1 -> 35 | B37: Legion | C37: Микулов Владимир | D37: =D79 -> 499.28 | E37: =E79 -> 11 | F37: 15.8 | G37: 15.8
A38: =A37+1 -> 36 | B38: Кооператив ХИЩНИК | C38: Сницкий Виктор | D38: =D80 -> 1047.4325 | E38: =E80 -> 4 | F38: 15.2 | G38: 11.7 | H38: 15 | I38: 13.8 | M38: 32.5
A39: =A38+1 -> 37 | B39: FishUp Team | C39: Крук Денис | D39: =D81 -> 653 | E39: =E81 -> 8 | F39: 22 | G39: 13
A40: =A39+1 -> 38 | B40: S'B-FISHING | C40: Сапроненков Евгений | D40: =D82 -> 721.26 | E40: =E82 -> 6 | F40: 14.3 | G40: 8.6 | H40: 10.9 | M40: 36
...

Sheet FuzzyLookup_AddIn_Undo_Sheet
A1: № | B1: Команды | C1: Участники | D1: Тур 1 | H1: Тур 2 | L1: Личный зачет | O1: Командный зачет
D2: Зона А | F2: Зона Б | H2: Зона А | J2: Зона Б
D3: баллы | E3: место | F3: баллы | G3: место | H3: баллы | I3: место | J3: баллы | K3: место | L3: баллы | M3: сумма мест | N3: место | O3: баллы | P3: сумма мест | Q3: место
A4: 1 | B4: Cast-Fishing | C4: Лихачев Максим | L4: =D4+F4+H4+J4 -> 0 | M4: =E4+G4+I4+K4 -> 0 | O4: =L4+L5 -> 0 | P4: =M4+M5 -> 0
C5: Ковальчук Дмитрий | L5: =D5+F5+H5+J5 -> 0 | M5: =E5+G5+I5+K5 -> 0
A6: 2 | B6: Peacock Bass | C6: Сенчуров Иван | L6: =D6+F6+H6+J6 -> 0 | M6: =E6+G6+I6+K6 -> 0 | O6: =L6+L7 -> 0 | P6: =M6+M7 -> 0
C7: Дроздов Виталий | L7: =D7+F7+H7+J7 -> 0 | M7: =E7+G7+I7+K7 -> 0
A8: 3 | B8: Adventurers | C8: Бахур Александр | D8: 196 | L8: =D8+F8+H8+J8 -> 196 | M8: =E8+G8+I8+K8 -> 0 | O8: =L8+L9 -> 196 | P8: =M8+M9 -> 0
C9: Зубко Сергей | L9: =D9+F9+H9+J9 -> 0 | M9: =E9+G9+I9+K9 -> 0
A10: 4 | B10: MicroKiller | C10: Купрейчик Сергей | L10: =D10+F10+H10+J10 -> 0 | M10: =E10+G10+I10+K10 -> 0 | O10: =L10+L11 -> 81 | P10: =M10+M11 -> 0
C11: Янкович Сергей | D11: 81 | L11: =D11+F11+H11+J11 -> 81 | M11: =E11+G11+I11+K11 -> 0
A12: 5 | B12: Per4 | C12: Лунякин Олег | L12: =D12+F12+H12+J12 -> 0 | M12: =E12+G12+I12+K12 -> 0 | O12: =L12+L13 -> 36 | P12: =M12+M13 -> 0
C13: Каменец Алексей | D13: 36 | L13: =D13+F13+H13+J13 -> 36 | M13: =E13+G13+I13+K13 -> 0
A14: 6 | B14: Poseidon | C14: Чижонок Сергей | D14: 121 | L14: =D14+F14+H14+J14 -> 121 | M14: =E14+G14+I14+K14 -> 0 | O14: =L14+L15 -> 121 | P14: =M14+M15 -> 0
C15: Строк Павел | L15: =D15+F15+H15+J15 -> 0 | M15: =E15+G15+I15+K15 -> 0
A16: 7 | B16: West Fishing | C16: Непомнящий Виктор | L16: =D16+F16+H16+J16 -> 0 | M16: =E16+G16+I16+K16 -> 0 | O16: =L16+L17 -> 0 | P16: =M16+M17 -> 0
C17: Золотарь Андрей | L17: =D17+F17+H17+J17 -> 0 | M17: =E17+G17+I17+K17 -> 0
A18: 8 | B18: nanobass | C18: Бычик Роман | D18: 100 | L18: =D18+F18+H18+J18 -> 100 | M18: =E18+G18+I18+K18 -> 0 | O18: =L18+L19 -> 100 | P18: =M18+M19 -> 0
C19: Шевко Виталий | L19: =D19+F19+H19+J19 -> 0 | M19: =E19+G19+I19+K19 -> 0
A20: 9 | B20: Трудовые резервы | C20: Пожарский Константин | L20: =D20+F20+H20+J20 -> 0 | M20: =E20+G20+I20+K20 -> 0 | O20: =L20+L21 -> 49 | P20: =M20+M21 -> 0
C21: Бобриков Алексей | D21: 49 | L21: =D21+F21+H21+J21 -> 49 | M21: =E21+G21+I21+K21 -> 0
A22: 10 | B22: Lunker Tail | C22: Козел Вячеслав | L22: =D22+F22+H22+J22 -> 0 | M22: =E22+G22+I22+K22 -> 0 | O22: =L22+L23 -> 64 | P22: =M22+M23 -> 0
C23: Кириевский Андрей | D23: 64 | L23: =D23+F23+H23+J23 -> 64 | M23: =E23+G23+I23+K23 -> 0
A24: 11 | B24: Против Течения | C24: Ананич Геннадий | L24: =D24+F24+H24+J24 -> 0 | M24: =E24+G24+I24+K24 -> 0 | O24: =L24+L25 -> 0 | P24: =M24+M25 -> 0
C25: Кириенко Кирилл | L25: =D25+F25+H25+J25 -> 0 | M25: =E25+G25+I25+K25 -> 0
A26: 12 | B26: ЕК | C26: Ковалев Евгений | D26: 169 | L26: =D26+F26+H26+J26 -> 169 | M26: =E26+G26+I26+K26 -> 0 | O26: =L26+L27 -> 169 | P26: =M26+M27 -> 0
C27: Казанцев Евгений | L27: =D27+F27+H27+J27 -> 0 | M27: =E27+G27+I27+K27 -> 0
A28: 13 | B28: Legion | C28: Бойко Сергей | L28: =D28+F28+H28+J28 -> 0 | M28: =E28+G28+I28+K28 -> 0 | O28: =L28+L29 -> 225 | P28: =M28+M29 -> 0
C29: Микулов Владимир | D29: 225 | L29: =D29+F29+H29+J29 -> 225 | M29: =E29+G29+I29+K29 -> 0
A30: 14 | B30: Степ Гарант | C30: Мельников Ю. В. | D30: 144 | L30: =D30+F30+H30+J30 -> 144 | M30: =E30+G30+I30+K30 -> 0 | O30: =L30+L31 -> 144 | P30: =M30+M31 -> 0
C31: Кравченко И. П. | L31: =D31+F31+H31+J31 -> 0 | M31: =E31+G31+I31+K31 -> 0

Sheet Итоги
A1: № | B1: Команды | C1: Участники | D1: Тур 1 | H1: Тур 2 | L1: Личный зачет | O1: Командный зачет
D2: Зона А | F2: Зона Б | H2: Зона А | J2: Зона Б
D3: баллы | E3: меcто | F3: баллы | G3: место | H3: баллы | I3: место | J3: баллы | K3: место | L3: баллы | M3: сумма мест | N3: место | O3: баллы | P3: сумма мест | Q3: место
A4: 1 | B4: Peacock Bass | C4: Сенчуров Иван | D4: =IFERROR(VLOOKUP(C4,Т1За!$C$45:$D$83,2,0),0) -> 979.21 | E4: =IFERROR(VLOOKUP(C4,Т1За!$C$45:$E$83,3,0),0) -> 16 | F4: =IFERROR(VLOOKUP(C4,Т1Зб!$C$45:$D$83,2,0),0) -> 0 | G4: =IFERROR(VLOOKUP(C4,Т1Зб!$C$45:$E$83,3,0),0) -> 0 | H4: =IFERROR(VLOOKUP(C4,Т2За!$C$45:$D$83,2,0),0) -> 0 | I4: =IFERROR(VLOOKUP(C4,Т2За!$C$45:$E$83,3,0),0) -> 0 | J4: =IFERROR(VLOOKUP(C4,Т2Зб!$C$45:$D$83,2,0),0) -> 123.21 | K4: =IFERROR(VLOOKUP(C4,Т2Зб!$C$45:$E$83,3,0),0) -> 29 | L4: =D4+F4+H4+J4 -> 1102.42 | M4: =E4+G4+I4+K4 -> 45 | N4: =RANK(M4,$M$4:$M$82,1) -> 42 | O4: =L4+L5 -> 3284.18 | P4: =M4+M5 -> 66 | Q4: =RANK(P4,$P$4:$P$82,1) -> 12
A5: =A4+1 -> 2 | B5: Peacock Bass | C5: Дроздов Виталий | D5: =IFERROR(VLOOKUP(C5,Т1За!$C$45:$D$83,2,0),0) -> 0 | E5: =IFERROR(VLOOKUP(C5,Т1За!$C$45:$E$83,3,0),0) -> 0 | F5: =IFERROR(VLOOKUP(C5,Т1Зб!$C$45:$D$83,2,0),0) -> 601.5 | G5: =IFERROR(VLOOKUP(C5,Т1Зб!$C$45:$E$83,3,0),0) -> 16 | H5: =IFERROR(VLOOKUP(C5,Т2За!$C$45:$D$83,2,0),0) -> 1580.26 | I5: =IFERROR(VLOOKUP(C5,Т2За!$C$45:$E$83,3,0),0) -> 5 | J5: =IFERROR(VLOOKUP(C5,Т2Зб!$C$45:$D$83,2,0),0) -> 0 | K5: =IFERROR(VLOOKUP(C5,Т2Зб!$C$45:$E$83,3,0),0) -> 0 | L5: =D5+F5+H5+J5 -> 2181.76 | M5: =E5+G5+I5+K5 -> 21 | N5: =RANK(M5,$M$4:$M$82,1) -> 15
A6: =A5+1 -> 3 | B6: FISHINGSTOCK BELARUS | C6: Лунякин Олег | D6: =IFERROR(VLOOKUP(C6,Т1За!$C$45:$D$83,2,0),0) -> 0 | E6: =IFERROR(VLOOKUP(C6,Т1За!$C$45:$E$83,3,0),0) -> 0 | F6: =IFERROR(VLOOKUP(C6,Т1Зб!$C$45:$D$83,2,0),0) -> 572.26 | G6: =IFERROR(VLOOKUP(C6,Т1Зб!$C$45:$E$83,3,0),0) -> 19 | H6: =IFERROR(VLOOKUP(C6,Т2За!$C$45:$D$83,2,0),0) -> 734.88 | I6: =IFERROR(VLOOKUP(C6,Т2За!$C$45:$E$83,3,0),0) -> 12 | J6: =IFERROR(VLOOKUP(C6,Т2Зб!$C$45:$D$83,2,0),0) -> 0 | K6: =IFERROR(VLOOKUP(C6,Т2Зб!$C$45:$E$83,3,0),0) -> 0 | L6: =D6+F6+H6+J6 -> 1307.14 | M6: =E6+G6+I6+K6 -> 31 | N6: =RANK(M6,$M$4:$M$82,1) -> 27 | O6: =L6+L7 -> 2238.04 | P6: =M6+M7 -> 69 | Q6: =RANK(P6,$P$4:$P$82,1) -> 13
A7: =A6+1 -> 4 | B7: FISHINGSTOCK BELARUS | C7: Бобриков Алексей | D7: =IFERROR(VLOOKUP(C7,Т1За!$C$45:$D$83,2,0),0) -> 187.69 | E7: =IFERROR(VLOOKUP(C7,Т1За!$C$45:$E$83,3,0),0) -> 33 | F7: =IFERROR(VLOOKUP(C7,Т1Зб!$C$45:$D$83,2,0),0) -> 0 | G7: =IFERROR(VLOOKUP(C7,Т1Зб!$C$45:$E$83,3,0),0) -> 0 | H7: =IFERROR(VLOOKUP(C7,Т2За!$C$45:$D$83,2,0),0) -> 0 | I7: =IFERROR(VLOOKUP(C7,Т2За!$C$45:$E$83,3,0),0) -> 0 | J7: =IFERROR(VLOOKUP(C7,Т2Зб!$C$45:$D$83,2,0),0) -> 743.21 | K7: =IFERROR(VLOOKUP(C7,Т2Зб!$C$45:$E$83,3,0),0) -> 5 | L7: =D7+F7+H7+J7 -> 930.9 | M7: =E7+G7+I7+K7 -> 38 | N7: 35
A8: =A7+1 -> 5 | B8: West Fishing | C8: Непомнящий Виктор | D8: =IFERROR(VLOOKUP(C8,Т1За!$C$45:$D$83,2,0),0) -> 2711.77 | E8: =IFERROR(VLOOKUP(C8,Т1За!$C$45:$E$83,3,0),0) -> 2 | F8: =IFERROR(VLOOKUP(C8,Т1Зб!$C$45:$D$83,2,0),0) -> 0 | G8: =IFERROR(VLOOKUP(C8,Т1Зб!$C$45:$E$83,3,0),0) -> 0 | H8: =IFERROR(VLOOKUP(C8,Т2За!$C$45:$D$83,2,0),0) -> 0 | I8: =IFERROR(VLOOKUP(C8,Т2За!$C$45:$E$83,3,0),0) -> 0 | J8: =IFERROR(VLOOKUP(C8,Т2Зб!$C$45:$D$83,2,0),0) -> 713.54 | K8: =IFERROR(VLOOKUP(C8,Т2Зб!$C$45:$E$83,3,0),0) -> 7 | L8: =D8+F8+H8+J8 -> 3425.31 | M8: =E8+G8+I8+K8 -> 9 | N8: =RANK(M8,$M$4:$M$82,1) -> 5 | O8: =L8+L9 -> 3749.17 | P8: =M8+M9 -> 70 | Q8: 16
A9: =A8+1 -> 6 | B9: West Fishing | C9: Золотарь Андрей | D9: =IFERROR(VLOOKUP(C9,Т1За!$C$45:$D$83,2,0),0) -> 0 | E9: =IFERROR(VLOOKUP(C9,Т1За!$C$45:$E$83,3,0),0) -> 0 | F9: =IFERROR(VLOOKUP(C9,Т1Зб!$C$45:$D$83,2,0),0) -> 141.61 | G9: =IFERROR(VLOOKUP(C9,Т1Зб!$C$45:$E$83,3,0),0) -> 34 | H9: =IFERROR(VLOOKUP(C9,Т2За!$C$45:$D$83,2,0),0) -> 182.25 | I9: =IFERROR(VLOOKUP(C9,Т2За!$C$45:$E$83,3,0),0) -> 27 | J9: =IFERROR(VLOOKUP(C9,Т2Зб!$C$45:$D$83,2,0),0) -> 0 | K9: =IFERROR(VLOOKUP(C9,Т2Зб!$C$45:$E$83,3,0),0) -> 0 | L9: =D9+F9+H9+J9 -> 323.86 | M9: =E9+G9+I9+K9 -> 61 | N9: =RANK(M9,$M$4:$M$82,1) -> 65
A10: =A9+1 -> 7 | B10: UL Hooligans | C10: Дешкевич Виталий | D10: =IFERROR(VLOOKUP(C10,Т1За!$C$45:$D$83,2,0),0) -> 0 | E10: =IFERROR(VLOOKUP(C10,Т1За!$C$45:$E$83,3,0),0) -> 0 | F10: =IFERROR(VLOOKUP(C10,Т1Зб!$C$45:$D$83,2,0),0) -> 414.49 | G10: =IFERROR(VLOOKUP(C10,Т1Зб!$C$45:$E$83,3,0),0) -> 24 | H10: =IFERROR(VLOOKUP(C10,Т2За!$C$45:$D$83,2,0),0) -> 374.85 | I10: =IFERROR(VLOOKUP(C10,Т2За!$C$45:$E$83,3,0),0) -> 21 | J10: =IFERROR(VLOOKUP(C10,Т2Зб!$C$45:$D$83,2,0),0) -> 0 | K10: =IFERROR(VLOOKUP(C10,Т2Зб!$C$45:$E$83,3,0),0) -> 0 | L10: =D10+F10+H10+J10 -> 789.34 | M10: =E10+G10+I10+K10 -> 45 | N10: 43 | O10: =L10+L11 -> 1074.32 | P10: =M10+M11 -> 117 | Q10: 34
A11: =A10+1 -> 8 | B11: UL Hooligans | C11: Уютов Кирилл | D11: =IFERROR(VLOOKUP(C11,Т1За!$C$45:$D$83,2,0),0) -> 284.98 | E11: =IFERROR(VLOOKUP(C11,Т1За!$C$45:$E$83,3,0),0) -> 32 | F11: =IFERROR(VLOOKUP(C11,Т1Зб!$C$45:$D$83,2,0),0) -> 0 | G11: =IFERROR(VLOOKUP(C11,Т1Зб!$C$45:$E$83,3,0),0) -> 0 | H11: =IFERROR(VLOOKUP(C11,Т2За!$C$45:$D$83,2,0),0) -> 0 | I11: =IFERROR(VLOOKUP(C11,Т2За!$C$45:$E$83,3,0),0) -> 0 | J11: =IFERROR(VLOOKUP(C11,Т2Зб!$C$45:$D$83,2,0),0) -> 0 | K11: =IFERROR(VLOOKUP(C11,Т2Зб!$C$45:$E$83,3,0),0) -> 40 | L11: =D11+F11+H11+J11 -> 284.98 | M11: =E11+G11+I11+K11 -> 72 | N11: =RANK(M11,$M$4:$M$82,1) -> 72
A12: =A11+1 -> 9 | B12: Rockfish | C12: Лазарчик Евгений | D12: =IFERROR(VLOOKUP(C12,Т1За!$C$45:$D$83,2,0),0) -> 0 | E12: =IFERROR(VLOOKUP(C12,Т1За!$C$45:$E$83,3,0),0) -> 0 | F12: =IFERROR(VLOOKUP(C12,Т1Зб!$C$45:$D$83,2,0),0) -> 340.85 | G12: =IFERROR(VLOOKUP(C12,Т1Зб!$C$45:$E$83,3,0),0) -> 28 | H12: =IFERROR(VLOOKUP(C12,Т2За!$C$45:$D$83,2,0),0) -> 121 | I12: =IFERROR(VLOOKUP(C12,Т2За!$C$45:$E$83,3,0),0) -> 30 | J12: =IFERROR(VLOOKUP(C12,Т2Зб!$C$45:$D$83,2,0),0) -> 0 | K12: =IFERROR(VLOOKUP(C12,Т2Зб!$C$45:$E$83,3,0),0) -> 0 | L12: =D12+F12+H12+J12 -> 461.85 | M12: =E12+G12+I12+K12 -> 58 | N12: 62 | O12: =L12+L13 -> 1975.18 | P12: =M12+M13 -> 96 | Q12: =RANK(P12,$P$4:$P$82,1) -> 27
A13: =A12+1 -> 10 | B13: Rockfish | C13: Силивончик Павел | D13: =IFERROR(VLOOKUP(C13,Т1За!$C$45:$D$83,2,0),0) -> 161.29 | E13: =IFERROR(VLOOKUP(C13,Т1За!$C$45:$E$83,3,0),0) -> 35 | F13: =IFERROR(VLOOKUP(C13,Т1Зб!$C$45:$D$83,2,0),0) -> 0 | G13: =IFERROR(VLOOKUP(C13,Т1Зб!$C$45:$E$83,3,0),0) -> 0 | H13: =IFERROR(VLOOKUP(C13,Т2За!$C$45:$D$83,2,0),0) -> 0 | I13: =IFERROR(VLOOKUP(C13,Т2За!$C$45:$E$83,3,0),0) -> 0 | J13: =IFERROR(VLOOKUP(C13,Т2Зб!$C$45:$D$83,2,0),0) -> 1352.04 | K13: =IFERROR(VLOOKUP(C13,Т2Зб!$C$45:$E$83,3,0),0) -> 3 | L13: =D13+F13+H13+J13 -> 1513.33 | M13: =E13+G13+I13+K13 -> 38 | N13: 33
A14: =A13+1 -> 11 | B14: Крутой берег | C14: Желтов Игорь | D14: =IFERROR(VLOOKUP(C14,Т1За!$C$45:$D$83,2,0),0) -> 0 | E14: =IFERROR(VLOOKUP(C14,Т1За!$C$45:$E$83,3,0),0) -> 0 | F14: =IFERROR(VLOOKUP(C14,Т1Зб!$C$45:$D$83,2,0),0) -> 0 | G14: =IFERROR(VLOOKUP(C14,Т1Зб!$C$45:$E$83,3,0),0) -> 40 | H14: =IFERROR(VLOOKUP(C14,Т2За!$C$45:$D$83,2,0),0) -> 0 | I14: =IFERROR(VLOOKUP(C14,Т2За!$C$45:$E$83,3,0),0) -> 40 | J14: =IFERROR(VLOOKUP(C14,Т2Зб!$C$45:$D$83,2,0),0) -> 0 | K14: =IFERROR(VLOOKUP(C14,Т2Зб!$C$45:$E$83,3,0),0) -> 0 | L14: =D14+F14+H14+J14 -> 0 | M14: =E14+G14+I14+K14 -> 80 | N14: 79 | O14: =L14+L15 -> 0 | P14: =M14+M15 -> 160 | Q14: 40
A15: =A14+1 -> 12 | B15: Крутой берег | C15: Желтов Евгений | D15: =IFERROR(VLOOKUP(C15,Т1За!$C$45:$D$83,2,0),0) -> 0 | E15: =IFERROR(VLOOKUP(C15,Т1За!$C$45:$E$83,3,0),0) -> 40 | F15: =IFERROR(VLOOKUP(C15,Т1Зб!$C$45:$D$83,2,0),0) -> 0 | G15: =IFERROR(VLOOKUP(C15,Т1Зб!$C$45:$E$83,3,0),0) -> 0 | H15: =IFERROR(VLOOKUP(C15,Т2За!$C$45:$D$83,2,0),0) -> 0 | I15: =IFERROR(VLOOKUP(C15,Т2За!$C$45:$E$83,3,0),0) -> 0 | J15: =IFERROR(VLOOKUP(C15,Т2Зб!$C$45:$D$83,2,0),0) -> 0 | K15: =IFERROR(VLOOKUP(C15,Т2Зб!$C$45:$E$83,3,0),0) -> 40 | L15: =D15+F15+H15+J15 -> 0 | M15: =E15+G15+I15+K15 -> 80 | N15: 79
A16: =A15+1 -> 13 | B16: Pike death TEAM | C16: Круглянин Сергей | D16: =IFERROR(VLOOKUP(C16,Т1За!$C$45:$D$83,2,0),0) -> 585 | E16: =IFERROR(VLOOKUP(C16,Т1За!$C$45:$E$83,3,0),0) -> 23 | F16: =IFERROR(VLOOKUP(C16,Т1Зб!$C$45:$D$83,2,0),0) -> 0 | G16: =IFERROR(VLOOKUP(C16,Т1Зб!$C$45:$E$83,3,0),0) -> 0 | H16: =IFERROR(VLOOKUP(C16,Т2За!$C$45:$D$83,2,0),0) -> 0 | I16: =IFERROR(VLOOKUP(C16,Т2За!$C$45:$E$83,3,0),0) -> 0 | J16: =IFERROR(VLOOKUP(C16,Т2Зб!$C$45:$D$83,2,0),0) -> 262.44 | K16: =IFERROR(VLOOKUP(C16,Т2Зб!$C$45:$E$83,3,0),0) -> 17 | L16: =D16+F16+H16+J16 -> 847.44 | M16: =E16+G16+I16+K16 -> 40 | N16: 38 | O16: =L16+L17 -> 1462.28 | P16: =M16+M17 -> 89 | Q16: =RANK(P16,$P$4:$P$82,1) -> 22
A17: =A16+1 -> 14 | B17: Pike death TEAM | C17: Ставер Дмитрий | D17: =IFERROR(VLOOKUP(C17,Т1За!$C$45:$D$83,2,0),0) -> 0 | E17: =IFERROR(VLOOKUP(C17,Т1За!$C$45:$E$83,3,0),0) -> 0 | F17: =IFERROR(VLOOKUP(C17,Т1Зб!$C$45:$D$83,2,0),0) -> 424.4 | G17: =IFERROR(VLOOKUP(C17,Т1Зб!$C$45:$E$83,3,0),0) -> 23 | H17: =IFERROR(VLOOKUP(C17,Т2За!$C$45:$D$83,2,0),0) -> 190.44 | I17: =IFERROR(VLOOKUP(C17,Т2За!$C$45:$E$83,3,0),0) -> 26 | J17: =IFERROR(VLOOKUP(C17,Т2Зб!$C$45:$D$83,2,0),0) -> 0 | K17: =IFERROR(VLOOKUP(C17,Т2Зб!$C$45:$E$83,3,0),0) -> 0 | L17: =D17+F17+H17+J17 -> 614.84 | M17: =E17+G17+I17+K17 -> 49 | N17: 50
A18: =A17+1 -> 15 | B18: Трудовые резервы | C18: Баранок Артём | D18: =IFERROR(VLOOKUP(C18,Т1За!$C$45:$D$83,2,0),0) -> 415.44 | E18: =IFERROR(VLOOKUP(C18,Т1За!$C$45:$E$83,3,0),0) -> 29 | F18: =IFERROR(VLOOKUP(C18,Т1Зб!$C$45:$D$83,2,0),0) -> 0 | G18: =IFERROR(VLOOKUP(C18,Т1Зб!$C$45:$E$83,3,0),0) -> 0 | H18: =IFERROR(VLOOKUP(C18,Т2За!$C$45:$D$83,2,0),0) -> 0 | I18: =IFERROR(VLOOKUP(C18,Т2За!$C$45:$E$83,3,0),0) -> 0 | J18: =IFERROR(VLOOKUP(C18,Т2Зб!$C$45:$D$83,2,0),0) -> 0 | K18: =IFERROR(VLOOKUP(C18,Т2Зб!$C$45:$E$83,3,0),0) -> 40 | L18: =D18+F18+H18+J18 -> 415.44 | M18: =E18+G18+I18+K18 -> 69 | N18: =RANK(M18,$M$4:$M$82,1) -> 69 | O18: =L18+L19 -> 1561.68 | P18: =M18+M19 -> 103 | Q18: =RANK(P18,$P$4:$P$82,1) -> 31
A19: =A18+1 -> 16 | B19: Трудовые резервы | C19: Пожарский Константин | D19: =IFERROR(VLOOKUP(C19,Т1За!$C$45:$D$83,2,0),0) -> 0 | E19: =IFERROR(VLOOKUP(C19,Т1За!$C$45:$E$83,3,0),0) -> 0 | F19: =IFERROR(VLOOKUP(C19,Т1Зб!$C$45:$D$83,2,0),0) -> 588.6 | G19: =IFERROR(VLOOKUP(C19,Т1Зб!$C$45:$E$83,3,0),0) -> 18 | H19: =IFERROR(VLOOKUP(C19,Т2За!$C$45:$D$83,2,0),0) -> 557.64 | I19: =IFERROR(VLOOKUP(C19,Т2За!$C$45:$E$83,3,0),0) -> 16 | J19: =IFERROR(VLOOKUP(C19,Т2Зб!$C$45:$D$83,2,0),0) -> 0 | K19: =IFERROR(VLOOKUP(C19,Т2Зб!$C$45:$E$83,3,0),0) -> 0 | L19: =D19+F19+H19+J19 -> 1146.24 | M19: =E19+G19+I19+K19 -> 34 | N19: =RANK(M19,$M$4:$M$82,1) -> 31
A20: =A19+1 -> 17 | B20: К&М | C20: Мельников Юрий | D20: =IFERROR(VLOOKUP(C20,Т1За!$C$45:$D$83,2,0),0) -> 169 | E20: =IFERROR(VLOOKUP(C20,Т1За!$C$45:$E$83,3,0),0) -> 34 | F20: =IFERROR(VLOOKUP(C20,Т1Зб!$C$45:$D$83,2,0),0) -> 0 | G20: =IFERROR(VLOOKUP(C20,Т1Зб!$C$45:$E$83,3,0),0) -> 0 | H20: =IFERROR(VLOOKUP(C20,Т2За!$C$45:$D$83,2,0),0) -> 0 | I20: =IFERROR(VLOOKUP(C20,Т2За!$C$45:$E$83,3,0),0) -> 0 | J20: =IFERROR(VLOOKUP(C20,Т2Зб!$C$45:$D$83,2,0),0) -> 342.25 | K20: =IFERROR(VLOOKUP(C20,Т2Зб!$C$45:$E$83,3,0),0) -> 14 | L20: =D20+F20+H20+J20 -> 511.25 | M20: =E20+G20+I20+K20 -> 48 | N20: 48 | O20: =L20+L21 -> 1251.41 | P20: =M20+M21 -> 93 | Q20: =RANK(P20,$P$4:$P$82,1) -> 24
A21: =A20+1 -> 18 | B21: К&М | C21: Казаченко Владимир | D21: =IFERROR(VLOOKUP(C21,Т1За!$C$45:$D$83,2,0),0) -> 0 | E21: =IFERROR(VLOOKUP(C21,Т1За!$C$45:$E$83,3,0),0) -> 0 | F21: =IFERROR(VLOOKUP(C21,Т1Зб!$C$45:$D$83,2,0),0) -> 591.32 | G21: =IFERROR(VLOOKUP(C21,Т1Зб!$C$45:$E$83,3,0),0) -> 17 | H21: =IFERROR(VLOOKUP(C21,Т2За!$C$45:$D$83,2,0),0) -> 148.84 | I21: =IFERROR(VLOOKUP(C21,Т2За!$C$45:$E$83,3,0),0) -> 28 | J21: =IFERROR(VLOOKUP(C21,Т2Зб!$C$45:$D$83,2,0),0) -> 0 | K21: =IFERROR(VLOOKUP(C21,Т2Зб!$C$45:$E$83,3,0),0) -> 0 | L21: =D21+F21+H21+J21 -> 740.16 | M21: =E21+G21+I21+K21 -> 45 | N21: 44
A22: =A21+1 -> 19 | B22: Пятнистый кукан | C22: Хилько Артем | D22: =IFERROR(VLOOKUP(C22,Т1За!$C$45:$D$83,2,0),0) -> 666.4 | E22: =IFERROR(VLOOKUP(C22,Т1За!$C$45:$E$83,3,0),0) -> 21 | F22: =IFERROR(VLOOKUP(C22,Т1Зб!$C$45:$D$83,2,0),0) -> 0 | G22: =IFERROR(VLOOKUP(C22,Т1Зб!$C$45:$E$83,3,0),0) -> 0 | H22: =IFERROR(VLOOKUP(C22,Т2За!$C$45:$D$83,2,0),0) -> 0 | I22: =IFERROR(VLOOKUP(C22,Т2За!$C$45:$E$83,3,0),0) -> 0 | J22: =IFERROR(VLOOKUP(C22,Т2Зб!$C$45:$D$83,2,0),0) -> 207.36 | K22: =IFERROR(VLOOKUP(C22,Т2Зб!$C$45:$E$83,3,0),0) -> 19 | L22: =D22+F22+H22+J22 -> 873.76 | M22: =E22+G22+I22+K22 -> 40 | N22: 37 | O22: =L22+L23 -> 1607.43 | P22: =M22+M23 -> 88 | Q22: =RANK(P22,$P$4:$P$82,1) -> 21
A23: =A22+1 -> 20 | B23: Пятнистый кукан | C23: Анпилов Андрей | D23: =IFERROR(VLOOKUP(C23,Т1За!$C$45:$D$83,2,0),0) -> 0 | E23: =IFERROR(VLOOKUP(C23,Т1За!$C$45:$E$83,3,0),0) -> 0 | F23: =IFERROR(VLOOKUP(C23,Т1Зб!$C$45:$D$83,2,0),0) -> 394.69 | G23: =IFERROR(VLOOKUP(C23,Т1Зб!$C$45:$E$83,3,0),0) -> 26 | H23: =IFERROR(VLOOKUP(C23,Т2За!$C$45:$D$83,2,0),0) -> 338.98 | I23: =IFERROR(VLOOKUP(C23,Т2За!$C$45:$E$83,3,0),0) -> 22 | J23: =IFERROR(VLOOKUP(C23,Т2Зб!$C$45:$D$83,2,0),0) -> 0 | K23: =IFERROR(VLOOKUP(C23,Т2Зб!$C$45:$E$83,3,0),0) -> 0 | L23: =D23+F23+H23+J23 -> 733.67 | M23: =E23+G23+I23+K23 -> 48 | N23: =RANK(M23,$M$4:$M$82,1) -> 47
A24: =A23+1 -> 21 | B24: Black River Team | C24: Ворон Павел | D24: =IFERROR(VLOOKUP(C24,Т1За!$C$45:$D$83,2,0),0) -> 0 | E24: =IFERROR(VLOOKUP(C24,Т1За!$C$45:$E$83,3,0),0) -> 0 | F24: =IFERROR(VLOOKUP(C24,Т1Зб!$C$45:$D$83,2,0),0) -> 196 | G24: =IFERROR(VLOOKUP(C24,Т1Зб!$C$45:$E$83,3,0),0) -> 31 | H24: =IFERROR(VLOOKUP(C24,Т2За!$C$45:$D$83,2,0),0) -> 0 | I24: =IFERROR(VLOOKUP(C24,Т2За!$C$45:$E$83,3,0),0) -> 40 | J24: =IFERROR(VLOOKUP(C24,Т2Зб!$C$45:$D$83,2,0),0) -> 0 | K24: =IFERROR(VLOOKUP(C24,Т2Зб!$C$45:$E$83,3,0),0) -> 0 | L24: =D24+F24+H24+J24 -> 196 | M24: =E24+G24+I24+K24 -> 71 | N24: =RANK(M24,$M$4:$M$82,1) -> 71 | O24: =L24+L25 -> 1201.97 | P24: =M24+M25 -> 125 | Q24: =RANK(P24,$P$4:$P$82,1) -> 35
A25: =A24+1 -> 22 | B25: Black River Team | C25: Рабушко Василий | D25: =IFERROR(VLOOKUP(C25,Т1За!$C$45:$D$83,2,0),0) -> 1005.97 | E25: =IFERROR(VLOOKUP(C25,Т1За!$C$45:$E$83,3,0),0) -> 14 | F25: =IFERROR(VLOOKUP(C25,Т1Зб!$C$45:$D$83,2,0),0) -> 0 | G25: =IFERROR(VLOOKUP(C25,Т1Зб!$C$45:$E$83,3,0),0) -> 0 | H25: =IFERROR(VLOOKUP(C25,Т2За!$C$45:$D$83,2,0),0) -> 0 | I25: =IFERROR(VLOOKUP(C25,Т2За!$C$45:$E$83,3,0),0) -> 0 | J25: =IFERROR(VLOOKUP(C25,Т2Зб!$C$45:$D$83,2,0),0) -> 0 | K25: =IFERROR(VLOOKUP(C25,Т2Зб!$C$45:$E$83,3,0),0) -> 40 | L25: =D25+F25+H25+J25 -> 1005.97 | M25: =E25+G25+I25+K25 -> 54 | N25: =RANK(M25,$M$4:$M$82,1) -> 58
A26: =A25+1 -> 23 | B26: Дачники | C26: Тищенко Павел | D26: =IFERROR(VLOOKUP(C26,Т1За!$C$45:$D$83,2,0),0) -> 1004.89 | E26: =IFERROR(VLOOKUP(C26,Т1За!$C$45:$E$83,3,0),0) -> 15 | F26: =IFERROR(VLOOKUP(C26,Т1Зб!$C$45:$D$83,2,0),0) -> 0 | G26: =IFERROR(VLOOKUP(C26,Т1Зб!$C$45:$E$83,3,0),0) -> 0 | H26: =IFERROR(VLOOKUP(C26,Т2За!$C$45:$D$83,2,0),0) -> 0 | I26: =IFERROR(VLOOKUP(C26,Т2За!$C$45:$E$83,3,0),0) -> 0 | J26: =IFERROR(VLOOKUP(C26,Т2Зб!$C$45:$D$83,2,0),0) -> 144 | K26: =IFERROR(VLOOKUP(C26,Т2Зб!$C$45:$E$83,3,0),0) -> 25 | L26: =D26+F26+H26+J26 -> 1148.89 | M26: =E26+G26+I26+K26 -> 40 | N26: =RANK(M26,$M$4:$M$82,1) -> 36 | O26: =L26+L27 -> 1488.5 | P26: =M26+M27 -> 99 | Q26: =RANK(P26,$P$4:$P$82,1) -> 29
A27: =A26+1 -> 24 | B27: Дачники | C27: Сапун Станислав | D27: =IFERROR(VLOOKUP(C27,Т1За!$C$45:$D$83,2,0),0) -> 0 | E27: =IFERROR(VLOOKUP(C27,Т1За!$C$45:$E$83,3,0),0) -> 0 | F27: =IFERROR(VLOOKUP(C27,Т1Зб!$C$45:$D$83,2,0),0) -> 207.36 | G27: =IFERROR(VLOOKUP(C27,Т1Зб!$C$45:$E$83,3,0),0) -> 30 | H27: =IFERROR(VLOOKUP(C27,Т2За!$C$45:$D$83,2,0),0) -> 132.25 | I27: =IFERROR(VLOOKUP(C27,Т2За!$C$45:$E$83,3,0),0) -> 29 | J27: =IFERROR(VLOOKUP(C27,Т2Зб!$C$45:$D$83,2,0),0) -> 0 | K27: =IFERROR(VLOOKUP(C27,Т2Зб!$C$45:$E$83,3,0),0) -> 0 | L27: =D27+F27+H27+J27 -> 339.61 | M27: =E27+G27+I27+K27 -> 59 | N27: =RANK(M27,$M$4:$M$82,1) -> 63
A28: =A27+1 -> 25 | B28: Amateurs | C28: Куликовский Виталий | D28: =IFERROR(VLOOKUP(C28,Т1За!$C$45:$D$83,2,0),0) -> 1565.61 | E28: =IFERROR(VLOOKUP(C28,Т1За!$C$45:$E$83,3,0),0) -> 8 | F28: =IFERROR(VLOOKUP(C28,Т1Зб!$C$45:$D$83,2,0),0) -> 0 | G28: =IFERROR(VLOOKUP(C28,Т1Зб!$C$45:$E$83,3,0),0) -> 0 | H28: =IFERROR(VLOOKUP(C28,Т2За!$C$45:$D$83,2,0),0) -> 0 | I28: =IFERROR(VLOOKUP(C28,Т2За!$C$45:$E$83,3,0),0) -> 0 | J28: =IFERROR(VLOOKUP(C28,Т2Зб!$C$45:$D$83,2,0),0) -> 146.41 | K28: =IFERROR(VLOOKUP(C28,Т2Зб!$C$45:$E$83,3,0),0) -> 24 | L28: =D28+F28+H28+J28 -> 1712.02 | M28: =E28+G28+I28+K28 -> 32 | N28: =RANK(M28,$M$4:$M$82,1) -> 28 | O28: =L28+L29 -> 4877.04 | P28: =M28+M29 -> 40 | Q28: =RANK(P28,$P$4:$P$82,1) -> 4
A29: =A28+1 -> 26 | B29: Amateurs | C29: Соколов Кирилл | D29: =IFERROR(VLOOKUP(C29,Т1За!$C$45:$D$83,2,0),0) -> 0 | E29: =IFERROR(VLOOKUP(C29,Т1За!$C$45:$E$83,3,0),0) -> 0 | F29: =IFERROR(VLOOKUP(C29,Т1Зб!$C$45:$D$83,2,0),0) -> 1554.82 | G29: =IFERROR(VLOOKUP(C29,Т1Зб!$C$45:$E$83,3,0),0) -> 4 | H29: =IFERROR(VLOOKUP(C29,Т2За!$C$45:$D$83,2,0),0) -> 1610.2 | I29: =IFERROR(VLOOKUP(C29,Т2За!$C$45:$E$83,3,0),0) -> 4 | J29: =IFERROR(VLOOKUP(C29,Т2Зб!$C$45:$D$83,2,0),0) -> 0 | K29: =IFERROR(VLOOKUP(C29,Т2Зб!$C$45:$E$83,3,0),0) -> 0 | L29: =D29+F29+H29+J29 -> 3165.02 | M29: =E29+G29+I29+K29 -> 8 | N29: =RANK(M29,$M$4:$M$82,1) -> 4
A30: =A29+1 -> 27 | B30: Против Течениия | C30: Ананич Геннадий | D30: =IFERROR(VLOOKUP(C30,Т1За!$C$45:$D$83,2,0),0) -> 0 | E30: =IFERROR(VLOOKUP(C30,Т1За!$C$45:$E$83,3,0),0) -> 0 | F30: =IFERROR(VLOOKUP(C30,Т1Зб!$C$45:$D$83,2,0),0) -> 620.5 | G30: =IFERROR(VLOOKUP(C30,Т1Зб!$C$45:$E$83,3,0),0) -> 15 | H30: =IFERROR(VLOOKUP(C30,Т2За!$C$45:$D$83,2,0),0) -> 421.78 | I30: =IFERROR(VLOOKUP(C30,Т2За!$C$45:$E$83,3,0),0) -> 20 | J30: =IFERROR(VLOOKUP(C30,Т2Зб!$C$45:$D$83,2,0),0) -> 0 | K30: =IFERROR(VLOOKUP(C30,Т2Зб!$C$45:$E$83,3,0),0) -> 0 | L30: =D30+F30+H30+J30 -> 1042.28 | M30: =E30+G30+I30+K30 -> 35 | N30: =RANK(M30,$M$4:$M$82,1) -> 32 | O30: =L30+L31 -> 2356.02 | P30: =M30+M31 -> 63 | Q30: =RANK(P30,$P$4:$P$82,1) -> 10
A31: =A30+1 -> 28 | B31: Против Течениия | C31: Карпеев Тимофей | D31: =IFERROR(VLOOKUP(C31,Т1За!$C$45:$D$83,2,0),0) -> 811.98 | E31: =IFERROR(VLOOKUP(C31,Т1За!$C$45:$E$83,3,0),0) -> 18 | F31: =IFERROR(VLOOKUP(C31,Т1Зб!$C$45:$D$83,2,0),0) -> 0 | G31: =IFERROR(VLOOKUP(C31,Т1Зб!$C$45:$E$83,3,0),0) -> 0 | H31: =IFERROR(VLOOKUP(C31,Т2За!$C$45:$D$83,2,0),0) -> 0 | I31: =IFERROR(VLOOKUP(C31,Т2За!$C$45:$E$83,3,0),0) -> 0 | J31: =IFERROR(VLOOKUP(C31,Т2Зб!$C$45:$D$83,2,0),0) -> 501.76 | K31: =IFERROR(VLOOKUP(C31,Т2Зб!$C$45:$E$83,3,0),0) -> 10 | L31: =D31+F31+H31+J31 -> 1313.74 | M31: =E31+G31+I31+K31 -> 28 | N31: =RANK(M31,$M$4:$M$82,1) -> 25
A32: =A31+1 -> 29 | B32: ASpinnTeam | C32: Нугуманов Артём | D32: =IFERROR(VLOOKUP(C32,Т1За!$C$45:$D$83,2,0),0) -> 0 | E32: =IFERROR(VLOOKUP(C32,Т1За!$C$45:$E$83,3,0),0) -> 0 | F32: =IFERROR(VLOOKUP(C32,Т1Зб!$C$45:$D$83,2,0),0) -> 700.2 | G32: =IFERROR(VLOOKUP(C32,Т1Зб!$C$45:$E$83,3,0),0) -> 13 | H32: =IFERROR(VLOOKUP(C32,Т2За!$C$45:$D$83,2,0),0) -> 256 | I32: =IFERROR(VLOOKUP(C32,Т2За!$C$45:$E$83,3,0),0) -> 25 | J32: =IFERROR(VLOOKUP(C32,Т2Зб!$C$45:$D$83,2,0),0) -> 0 | K32: =IFERROR(VLOOKUP(C32,Т2Зб!$C$45:$E$83,3,0),0) -> 0 | L32: =D32+F32+H32+J32 -> 956.2 | M32: =E32+G32+I32+K32 -> 38 | N32: 34 | O32: =L32+L33 -> 1402.86 | P32: =M32+M33 -> 89 | Q32: 23
A33: =A32+1 -> 30 | B33: ASpinnTeam | C33: Вашкевич Александр | D33: =IFERROR(VLOOKUP(C33,Т1За!$C$45:$D$83,2,0),0) -> 156.25 | E33: =IFERROR(VLOOKUP(C33,Т1За!$C$45:$E$83,3,0),0) -> 36 | F33: =IFERROR(VLOOKUP(C33,Т1Зб!$C$45:$D$83,2,0),0) -> 0 | G33: =IFERROR(VLOOKUP(C33,Т1Зб!$C$45:$E$83,3,0),0) -> 0 | H33: =IFERROR(VLOOKUP(C33,Т2За!$C$45:$D$83,2,0),0) -> 0 | I33: =IFERROR(VLOOKUP(C33,Т2За!$C$45:$E$83,3,0),0) -> 0 | J33: =IFERROR(VLOOKUP(C33,Т2Зб!$C$45:$D$83,2,0),0) -> 290.41 | K33: =IFERROR(VLOOKUP(C33,Т2Зб!$C$45:$E$83,3,0),0) -> 15 | L33: =D33+F33+H33+J33 -> 446.66 | M33: =E33+G33+I33+K33 -> 51 | N33: 54
A34: =A33+1 -> 31 | B34: Poseidon | C34: Чижонок Сергей | D34: =IFERROR(VLOOKUP(C34,Т1За!$C$45:$D$83,2,0),0) -> 0 | E34: =IFERROR(VLOOKUP(C34,Т1За!$C$45:$E$83,3,0),0) -> 0 | F34: =IFERROR(VLOOKUP(C34,Т1Зб!$C$45:$D$83,2,0),0) -> 2405.23 | G34: =IFERROR(VLOOKUP(C34,Т1Зб!$C$45:$E$83,3,0),0) -> 2 | H34: =IFERROR(VLOOKUP(C34,Т2За!$C$45:$D$83,2,0),0) -> 1957.6325 | I34: =IFERROR(VLOOKUP(C34,Т2За!$C$45:$E$83,3,0),0) -> 3 | J34: =IFERROR(VLOOKUP(C34,Т2Зб!$C$45:$D$83,2,0),0) -> 0 | K34: =IFERROR(VLOOKUP(C34,Т2Зб!$C$45:$E$83,3,0),0) -> 0 | L34: =D34+F34+H34+J34 -> 4362.8625 | M34: =E34+G34+I34+K34 -> 5 | N34: =RANK(M34,$M$4:$M$82,1) -> 1 | O34: =L34+L35 -> 6100.5325 | P34: =M34+M35 -> 34 | Q34: =RANK(P34,$P$4:$P$82,1) -> 3
A35: =A34+1 -> 32 | B35: Poseidon | C35: Строк Павел | D35: =IFERROR(VLOOKUP(C35,Т1За!$C$45:$D$83,2,0),0) -> 1547.23 | E35: =IFERROR(VLOOKUP(C35,Т1За!$C$45:$E$83,3,0),0) -> 9 | F35: =IFERROR(VLOOKUP(C35,Т1Зб!$C$45:$D$83,2,0),0) -> 0 | G35: =IFERROR(VLOOKUP(C35,Т1Зб!$C$45:$E$83,3,0),0) -> 0 | H35: =IFERROR(VLOOKUP(C35,Т2За!$C$45:$D$83,2,0),0) -> 0 | I35: =IFERROR(VLOOKUP(C35,Т2За!$C$45:$E$83,3,0),0) -> 0 | J35: =IFERROR(VLOOKUP(C35,Т2Зб!$C$45:$D$83,2,0),0) -> 190.44 | K35: =IFERROR(VLOOKUP(C35,Т2Зб!$C$45:$E$83,3,0),0) -> 20 | L35: =D35+F35+H35+J35 -> 1737.67 | M35: =E35+G35+I35+K35 -> 29 | N35: =RANK(M35,$M$4:$M$82,1) -> 26
A36: =A35+1 -> 33 | B36: Bona Кобрин | C36: Марковский Максим | D36: =IFERROR(VLOOKUP(C36,Т1За!$C$45:$D$83,2,0),0) -> 2589.37 | E36: =IFERROR(VLOOKUP(C36,Т1За!$C$45:$E$83,3,0),0) -> 3 | F36: =IFERROR(VLOOKUP(C36,Т1Зб!$C$45:$D$83,2,0),0) -> 0 | G36: =IFERROR(VLOOKUP(C36,Т1Зб!$C$45:$E$83,3,0),0) -> 0 | H36: =IFERROR(VLOOKUP(C36,Т2За!$C$45:$D$83,2,0),0) -> 0 | I36: =IFERROR(VLOOKUP(C36,Т2За!$C$45:$E$83,3,0),0) -> 0 | J36: =IFERROR(VLOOKUP(C36,Т2Зб!$C$45:$D$83,2,0),0) -> 179.56 | K36: =IFERROR(VLOOKUP(C36,Т2Зб!$C$45:$E$83,3,0),0) -> 21 | L36: =D36+F36+H36+J36 -> 2768.93 | M36: =E36+G36+I36+K36 -> 24 | N36: =RANK(M36,$M$4:$M$82,1) -> 21 | O36: =L36+L37 -> 4509.49 | P36: =M36+M37 -> 44 | Q36: =RANK(P36,$P$4:$P$82,1) -> 6
A37: =A36+1 -> 34 | B37: Bona Кобрин | C37: Барташук Александр | D37: =IFERROR(VLOOKUP(C37,Т1За!$C$45:$D$83,2,0),0) -> 0 | E37: =IFERROR(VLOOKUP(C37,Т1За!$C$45:$E$83,3,0),0) -> 0 | F37: =IFERROR(VLOOKUP(C37,Т1Зб!$C$45:$D$83,2,0),0) -> 859.35 | G37: =IFERROR(VLOOKUP(C37,Т1Зб!$C$45:$E$83,3,0),0) -> 10 | H37: =IFERROR(VLOOKUP(C37,Т2За!$C$45:$D$83,2,0),0) -> 881.21 | I37: =IFERROR(VLOOKUP(C37,Т2За!$C$45:$E$83,3,0),0) -> 10 | J37: =IFERROR(VLOOKUP(C37,Т2Зб!$C$45:$D$83,2,0),0) -> 0 | K37: =IFERROR(VLOOKUP(C37,Т2Зб!$C$45:$E$83,3,0),0) -> 0 | L37: =D37+F37+H37+J37 -> 1740.56 | M37: =E37+G37+I37+K37 -> 20 | N37: 14
A38: =A37+1 -> 35 | B38: ЕК | C38: Казанцев Евгений | D38: =IFERROR(VLOOKUP(C38,Т1За!$C$45:$D$83,2,0),0) -> 0 | E38: =IFERROR(VLOOKUP(C38,Т1За!$C$45:$E$83,3,0),0) -> 0 | F38: =IFERROR(VLOOKUP(C38,Т1Зб!$C$45:$D$83,2,0),0) -> 3782.25 | G38: =IFERROR(VLOOKUP(C38,Т1Зб!$C$45:$E$83,3,0),0) -> 1 | H38: =IFERROR(VLOOKUP(C38,Т2За!$C$45:$D$83,2,0),0) -> 469.05 | I38: =IFERROR(VLOOKUP(C38,Т2За!$C$45:$E$83,3,0),0) -> 19 | J38: =IFERROR(VLOOKUP(C38,Т2Зб!$C$45:$D$83,2,0),0) -> 0 | K38: =IFERROR(VLOOKUP(C38,Т2Зб!$C$45:$E$83,3,0),0) -> 0 | L38: =D38+F38+H38+J38 -> 4251.3 | M38: =E38+G38+I38+K38 -> 20 | N38: =RANK(M38,$M$4:$M$82,1) -> 12 | O38: =L38+L39 -> 4700.74 | P38: =M38+M39 -> 87 | Q38: =RANK(P38,$P$4:$P$82,1) -> 20
A39: =A38+1 -> 36 | B39: ЕК | C39: Ковалёв Евгений | D39: =IFERROR(VLOOKUP(C39,Т1За!$C$45:$D$83,2,0),0) -> 449.44 | E39: =IFERROR(VLOOKUP(C39,Т1За!$C$45:$E$83,3,0),0) -> 27 | F39: =IFERROR(VLOOKUP(C39,Т1Зб!$C$45:$D$83,2,0),0) -> 0 | G39: =IFERROR(VLOOKUP(C39,Т1Зб!$C$45:$E$83,3,0),0) -> 0 | H39: =IFERROR(VLOOKUP(C39,Т2За!$C$45:$D$83,2,0),0) -> 0 | I39: =IFERROR(VLOOKUP(C39,Т2За!$C$45:$E$83,3,0),0) -> 0 | J39: =IFERROR(VLOOKUP(C39,Т2Зб!$C$45:$D$83,2,0),0) -> 0 | K39: =IFERROR(VLOOKUP(C39,Т2Зб!$C$45:$E$83,3,0),0) -> 40 | L39: =D39+F39+H39+J39 -> 449.44 | M39: =E39+G39+I39+K39 -> 67 | N39: =RANK(M39,$M$4:$M$82,1) -> 67
A40: =A39+1 -> 37 | B40: ПВ | C40: Пластун Вячеслав | D40: =IFERROR(VLOOKUP(C40,Т1За!$C$45:$D$83,2,0),0) -> 0 | E40: =IFERROR(VLOOKUP(C40,Т1За!$C$45:$E$83,3,0),0) -> 0 | F40: =IFERROR(VLOOKUP(C40,Т1Зб!$C$45:$D$83,2,0),0) -> 543.46 | G40: =IFERROR(VLOOKUP(C40,Т1Зб!$C$45:$E$83,3,0),0) -> 20 | H40: =IFERROR(VLOOKUP(C40,Т2За!$C$45:$D$83,2,0),0) -> 0 | I40: =IFERROR(VLOOKUP(C40,Т2За!$C$45:$E$83,3,0),0) -> 40 | J40: =IFERROR(VLOOKUP(C40,Т2Зб!$C$45:$D$83,2,0),0) -> 0 | K40: =IFERROR(VLOOKUP(C40,Т2Зб!$C$45:$E$83,3,0),0) -> 0 | L40: =D40+F40+H40+J40 -> 543.46 | M40: =E40+G40+I40+K40 -> 60 | N40: =RANK(M40,$M$4:$M$82,1) -> 64 | O40: =L40+L41 -> 543.46 | P40: =M40+M41 -> 140 | Q40: =RANK(P40,$P$4:$P$82,1) -> 37
...
