Workbook

Sheet реглист
A1: 2 этап Чемпионата РБ по спортивной ловле рыбы спиннингом с берега | E1: 42560
A2: Регистрационный лист
A3: № | B3: Команда | C3: Спортсмен | D3: Стартовая зона | E3: Страховка
A5: 1 | B5: Alutech Team | C5: Купрейчик Сергей | D5: Б | E5: +
A6: =A5+1 -> 2 | B6: Alutech Team | C6: Янкович Сергей | D6: А | E6: +
A7: =A6+1 -> 3 | B7: Pike Death TEAM | C7: Круглянин Сергей | D7: Б | E7: +
A8: =A7+1 -> 4 | B8: Pike Death TEAM | C8: Ставер Дмитрий | D8: А | E8: +
A9: =A8+1 -> 5 | B9: Peacock Bass | C9: Сенчуров Иван | D9: А | E9: +
A10: =A9+1 -> 6 | B10: Peacock Bass | C10: Вычиков Павел | D10: Б | E10: +
A11: =A10+1 -> 7 | B11: Bass Hunters | C11: Кириевский Андрей | D11: Б | E11: +
A12: =A11+1 -> 8 | B12: Bass Hunters | C12: Шевко Виталий | D12: А | E12: +
A13: =A12+1 -> 9 | B13: Poseidon | C13: Чижонок Сергей | D13: А | E13: +
A14: =A13+1 -> 10 | B14: Poseidon | C14: Строк Павел | D14: Б | E14: +
A15: =A14+1 -> 11 | B15: FISHINGSTOCK BELARUS | C15: Лунякин Олег | D15: А | E15: +
A16: =A15+1 -> 12 | B16: FISHINGSTOCK BELARUS | C16: Бобриков Алексей | D16: Б | E16: +
A17: =A16+1 -> 13 | B17: West Fishing | C17: Непомнящий Виктор | D17: А | E17: +
... A60: =A59+1 -> 56 | B60: Кооператив Хищник | C60: Сницкий Владимир | D60: Б | E60: +
B62: Количество команд: | C62: 28

Sheet Т1За
A1: № | B1: команда | C1: участник | D1: сумма баллов | E1: место | F1: окунь | K1: щука
F2: размер, см
A3: 1 | B3: =IF(реглист!C5="А",реглист!B5,реглист!B6) -> Alutech Team | C3: =IF(реглист!D5="А",реглист!C5,реглист!C6) -> Янкович Сергей | D3: =D34 -> 495.55 | E3: =E34 -> 13 | F3: 14.1 | G3: 13.5 | H3: 10.7
A4: =A3+1 -> 2 | B4: =IF(реглист!C7="А",реглист!B7,реглист!B8) -> Pike Death TEAM | C4: =IF(реглист!D7="А",реглист!C7,реглист!C8) -> Ставер Дмитрий | D4: =D35 -> 475.24 | E4: =E35 -> 17 | F4: 21.8
A5: =A4+1 -> 3 | B5: =IF(реглист!C9="А",реглист!B9,реглист!B10) -> Peacock Bass | C5: =IF(реглист!D9="А",реглист!C9,реглист!C10) -> Сенчуров Иван | D5: =D36 -> 452 | E5: =E36 -> 18 | F5: 16 | K5: 28
A6: =A5+1 -> 4 | B6: =IF(реглист!C11="А",реглист!B11,реглист!B12) -> Bass Hunters | C6: =IF(реглист!D11="А",реглист!C11,реглист!C12) -> Шевко Виталий | D6: =D37 -> 761.78 | E6: =E37 -> 5 | F6: 15.7 | G6: 22.7
A7: =A6+1 -> 5 | B7: =IF(реглист!C13="А",реглист!B13,реглист!B14) -> Poseidon | C7: =IF(реглист!D13="А",реглист!C13,реглист!C14) -> Чижонок Сергей | D7: =D38 -> 718.16 | E7: =E38 -> 6 | F7: 15 | G7: 16 | H7: 15.4
A8: =A7+1 -> 6 | B8: =IF(реглист!C15="А",реглист!B15,реглист!B16) -> FISHINGSTOCK BELARUS | C8: =IF(реглист!D15="А",реглист!C15,реглист!C16) -> Лунякин Олег | D8: =D39 -> 144 | E8: =E39 -> 26 | F8: 12
A9: =A8+1 -> 7 | B9: =IF(реглист!C17="А",реглист!B17,реглист!B18) -> West Fishing | C9: =IF(реглист!D17="А",реглист!C17,реглист!C18) -> Непомнящий Виктор | D9: =D40 -> 491.84 | E9: =E40 -> 14 | F9: 14 | G9: 17.2
A10: =A9+1 -> 8 | B10: =IF(реглист!C19="А",реглист!B19,реглист!B20) -> Gefest | C10: =IF(реглист!D19="А",реглист!C19,реглист!C20) -> Саган Сергей | D10: =D41 -> 219.04 | E10: =E41 -> 22 | F10: 14.8
A11: =A10+1 -> 9 | B11: =IF(реглист!C21="А",реглист!B21,реглист!B22) -> Bona Кобрин | C11: =IF(реглист!D21="А",реглист!C21,реглист!C22) -> Марковский Максим | D11: =D42 -> 479.41 | E11: =E42 -> 15 | F11: 11.1 | G11: 14.4 | H11: 12.2
A12: =A11+1 -> 10 | B12: =IF(реглист!C23="А",реглист!B23,реглист!B24) -> Трудовые резервы | C12: =IF(реглист!D23="А",реглист!C23,реглист!C24) -> Пожарский Константин | D12: =D43 -> 951.71 | E12: =E43 -> 3 | F12: 16.7 | G12: 21.9 | H12: 13.9
A13: =A12+1 -> 11 | B13: =IF(реглист!C25="А",реглист!B25,реглист!B26) -> Perch Legends | C13: =IF(реглист!D25="А",реглист!C25,реглист!C26) -> Лабанок Александр | D13: =D44 -> 148.84 | E13: =E44 -> 25 | F13: 12.2
A14: =A13+1 -> 12 | B14: =IF(реглист!C27="А",реглист!B27,реглист!B28) -> Bait Breath Team | C14: =IF(реглист!D27="А",реглист!C27,реглист!C28) -> Зубко Сергей | D14: =D45 -> 564.25 | E14: =E45 -> 9 | F14: 15.5 | G14: 18
A15: =A14+1 -> 13 | B15: =IF(реглист!C29="А",реглист!B29,реглист!B30) -> FishUp Team | C15: =IF(реглист!D29="А",реглист!C29,реглист!C30) -> Волосевич Виталий | D15: =D46 -> 272.25 | E15: =E46 -> 20 | F15: 16.5
A16: =A15+1 -> 14 | B16: =IF(реглист!C31="А",реглист!B31,реглист!B32) -> Amateurs | C16: =IF(реглист!D31="А",реглист!C31,реглист!C32) -> Соколов Кирилл | D16: =D47 -> 0 | E16: =E47 -> 29
A17: =A16+1 -> 15 | B17: =IF(реглист!C33="А",реглист!B33,реглист!B34) -> RockFish | C17: =IF(реглист!D33="А",реглист!C33,реглист!C34) -> Силивончик Павел | D17: =D48 -> 529 | E17: =E48 -> 10 | F17: 23
A18: =A17+1 -> 16 | B18: =IF(реглист!C35="А",реглист!B35,реглист!B36) -> Против Течения | C18: =IF(реглист!D35="А",реглист!C35,реглист!C36) -> Кириенко Кирилл | D18: =D49 -> 620.81 | E18: =E49 -> 8 | F18: 19.1 | G18: 16
A19: =A18+1 -> 17 | B19: =IF(реглист!C37="А",реглист!B37,реглист!B38) -> ASpinnTeam | C19: =IF(реглист!D37="А",реглист!C37,реглист!C38) -> Нугуманов Артём | D19: =D50 -> 515.015 | E19: =E50 -> 12 | F19: 17.7 | K19: 12.1 | L19: 25.7
A20: =A19+1 -> 18 | B20: =IF(реглист!C39="А",реглист!B39,реглист!B40) -> Fanatic Belarus | C20: =IF(реглист!D39="А",реглист!C39,реглист!C40) -> Рулинский Александр | D20: =D51 -> 222.01 | E20: =E51 -> 21 | F20: 14.9
A21: =A20+1 -> 19 | B21: =IF(реглист!C41="А",реглист!B41,реглист!B42) -> SB-FISHING | C21: =IF(реглист!D41="А",реглист!C41,реглист!C42) -> Болбас Тимофей | D21: =D52 -> 1078.03 | E21: =E52 -> 2 | F21: 11.3 | G21: 12.5 | H21: 18 | I21: 12.8 | J21: 17.5
A22: =A21+1 -> 20 | B22: =IF(реглист!C43="А",реглист!B43,реглист!B44) -> Фарватер | C22: =IF(реглист!D43="А",реглист!C43,реглист!C44) -> Цыганок Михаил | D22: =D53 -> 302.76 | E22: =E53 -> 19 | F22: 17.4
A23: =A22+1 -> 21 | B23: =IF(реглист!C45="А",реглист!B45,реглист!B46) -> Old Roads Fishing | C23: =IF(реглист!D45="А",реглист!C45,реглист!C46) -> Чернышёв Егор | D23: =D54 -> 897.8125 | E23: =E54 -> 4 | K23: 43.8 | L23: 40.9
A24: =A23+1 -> 22 | B24: =IF(реглист!C47="А",реглист!B47,реглист!B48) -> Dream Team | C24: =IF(реглист!D47="А",реглист!C47,реглист!C48) -> Тысевич Сергей | D24: =D55 -> 153.76 | E24: =E55 -> 24 | K24: 24.8
A25: =A24+1 -> 23 | B25: =IF(реглист!C49="А",реглист!B49,реглист!B50) -> UL Hooligans | C25: =IF(реглист!D49="А",реглист!C49,реглист!C50) -> Уютов Кирилл | D25: =D56 -> 691.02 | E25: =E56 -> 7 | F25: 16.6 | G25: 12.5 | H25: 16.1
A26: =A25+1 -> 24 | B26: =IF(реглист!C51="А",реглист!B51,реглист!B52) -> Black River Team | C26: =IF(реглист!D51="А",реглист!C51,реглист!C52) -> Ворон Павел | D26: =D57 -> 0 | E26: =E57 -> 29
A27: =A26+1 -> 25 | B27: =IF(реглист!C53="А",реглист!B53,реглист!B54) -> Legion | C27: =IF(реглист!D53="А",реглист!C53,реглист!C54) -> Микулов Владимир | D27: =D58 -> 2823.38 | E27: =E58 -> 1 | F27: 15.9 | G27: 15.1 | K27: 48.4
A28: =A27+1 -> 26 | B28: =IF(реглист!C55="А",реглист!B55,реглист!B56) -> nanobass | C28: =IF(реглист!D55="А",реглист!C55,реглист!C56) -> Бычик Роман | D28: =D59 -> 169 | E28: =E59 -> 23 | F28: 13
A29: =A28+1 -> 27 | B29: =IF(реглист!C57="А",реглист!B57,реглист!B58) -> XULi-Uli | C29: =IF(реглист!D57="А",реглист!C57,реглист!C58) -> Лавренчук Станислав | D29: =D60 -> 476.05 | E29: =E60 -> 16 | F29: 16.9 | G29: 13.8
A30: =A29+1 -> 28 | B30: =IF(реглист!C59="А",реглист!B59,реглист!B60) -> Кооператив Хищник | C30: =IF(реглист!D59="А",реглист!C59,реглист!C60) -> Сницкий Виктор | D30: =D61 -> 519.7 | E30: =E61 -> 11 | F30: 15.3 | G30: 16.9
C31: средняя длина рыб по виду: | F31: =AVERAGE(F3:J30) -> 15.635556 | K31: =AVERAGE(K3:M30) -> 31.957143
A32: № | B32: команда | C32: участник | D32: сумма баллов | E32: место | F32: баллы
A34: 1 | B34: =B3 -> Alutech Team | C34: =C3 -> Янкович Сергей | D34: =SUM(F34:M34) -> 495.55 | E34: =IF(D34>0,RANK(D34,$D$34:$D$61),реглист!$C$62+1) -> 13 | F34: =POWER(F3,2) -> 198.81 | G34: =POWER(G3,2) -> 182.25 | H34: =POWER(H3,2) -> 114.49 | I34: =POWER(I3,2) -> 0 | J34: =POWER(J3,2) -> 0 | K34: =IF(K3>=45,POWER(K3,2),POWER(K3/2,2)) -> 0 | L34: =IF(L3>=45,POWER(L3,2),POWER(L3/2,2)) -> 0 | M34: =IF(M3>=45,POWER(M3,2),POWER(M3/2,2)) -> 0
A35: =A34+1 -> 2 | B35: =B4 -> Pike Death TEAM | C35: =C4 -> Ставер Дмитрий | D35: =SUM(F35:M35) -> 475.24 | E35: =IF(D35>0,RANK(D35,$D$34:$D$61),реглист!$C$62+1) -> 17 | F35: =POWER(F4,2) -> 475.24 | G35: =POWER(G4,2) -> 0 | H35: =POWER(H4,2) -> 0 | I35: =POWER(I4,2) -> 0 | J35: =POWER(J4,2) -> 0 | K35: =IF(K4>=45,POWER(K4,2),POWER(K4/2,2)) -> 0 | L35: =IF(L4>=45,POWER(L4,2),POWER(L4/2,2)) -> 0 | M35: =IF(M4>=45,POWER(M4,2),POWER(M4/2,2)) -> 0
A36: =A35+1 -> 3 | B36: =B5 -> Peacock Bass | C36: =C5 -> Сенчуров Иван | D36: =SUM(F36:M36) -> 452 | E36: =IF(D36>0,RANK(D36,$D$34:$D$61),реглист!$C$62+1) -> 18 | F36: =POWER(F5,2) -> 256 | G36: =POWER(G5,2) -> 0 | H36: =POWER(H5,2) -> 0 | I36: =POWER(I5,2) -> 0 | J36: =POWER(J5,2) -> 0 | K36: =IF(K5>=45,POWER(K5,2),POWER(K5/2,2)) -> 196 | L36: =IF(L5>=45,POWER(L5,2),POWER(L5/2,2)) -> 0 | M36: =IF(M5>=45,POWER(M5,2),POWER(M5/2,2)) -> 0
A37: =A36+1 -> 4 | B37: =B6 -> Bass Hunters | C37: =C6 -> Шевко Виталий | D37: =SUM(F37:M37) -> 761.78 | E37: =IF(D37>0,RANK(D37,$D$34:$D$61),реглист!$C$62+1) -> 5 | F37: =POWER(F6,2) -> 246.49 | G37: =POWER(G6,2) -> 515.29 | H37: =POWER(H6,2) -> 0 | I37: =POWER(I6,2) -> 0 | J37: =POWER(J6,2) -> 0 | K37: =IF(K6>=45,POWER(K6,2),POWER(K6/2,2)) -> 0 | L37: =IF(L6>=45,POWER(L6,2),POWER(L6/2,2)) -> 0 | M37: =IF(M6>=45,POWER(M6,2),POWER(M6/2,2)) -> 0
A38: =A37+1 -> 5 | B38: =B7 -> Poseidon | C38: =C7 -> Чижонок Сергей | D38: =SUM(F38:M38) -> 718.16 | E38: =IF(D38>0,RANK(D38,$D$34:$D$61),реглист!$C$62+1) -> 6 | F38: =POWER(F7,2) -> 225 | G38: =POWER(G7,2) -> 256 | H38: =POWER(H7,2) -> 237.16 | I38: =POWER(I7,2) -> 0 | J38: =POWER(J7,2) -> 0 | K38: =IF(K7>=45,POWER(K7,2),POWER(K7/2,2)) -> 0 | L38: =IF(L7>=45,POWER(L7,2),POWER(L7/2,2)) -> 0 | M38: =IF(M7>=45,POWER(M7,2),POWER(M7/2,2)) -> 0
A39: =A38+1 -> 6 | B39: =B8 -> FISHINGSTOCK BELARUS | C39: =C8 -> Лунякин Олег | D39: =SUM(F39:M39) -> 144 | E39: =IF(D39>0,RANK(D39,$D$34:$D$61),реглист!$C$62+1) -> 26 | F39: =POWER(F8,2) -> 144 | G39: =POWER(G8,2) -> 0 | H39: =POWER(H8,2) -> 0 | I39: =POWER(I8,2) -> 0 | J39: =POWER(J8,2) -> 0 | K39: =IF(K8>=45,POWER(K8,2),POWER(K8/2,2)) -> 0 | L39: =IF(L8>=45,POWER(L8,2),POWER(L8/2,2)) -> 0 | M39: =IF(M8>=45,POWER(M8,2),POWER(M8/2,2)) -> 0
A40: =A39+1 -> 7 | B40: =B9 -> West Fishing | C40: =C9 -> Непомнящий Виктор | D40: =SUM(F40:M40) -> 491.84 | E40: =IF(D40>0,RANK(D40,$D$34:$D$61),реглист!$C$62+1) -> 14 | F40: =POWER(F9,2) -> 196 | G40: =POWER(G9,2) -> 295.84 | H40: =POWER(H9,2) -> 0 | I40: =POWER(I9,2) -> 0 | J40: =POWER(J9,2) -> 0 | K40: =IF(K9>=45,POWER(K9,2),POWER(K9/2,2)) -> 0 | L40: =IF(L9>=45,POWER(L9,2),POWER(L9/2,2)) -> 0 | M40: =IF(M9>=45,POWER(M9,2),POWER(M9/2,2)) -> 0
A41: =A40+1 -> 8 | B41: =B10 -> Gefest | C41: =C10 -> Саган Сергей | D41: =SUM(F41:M41) -> 219.04 | E41: =IF(D41>0,RANK(D41,$D$34:$D$61),реглист!$C$62+1) -> 22 | F41: =POWER(F10,2) -> 219.04 | G41: =POWER(G10,2) -> 0 | H41: =POWER(H10,2) -> 0 | I41: =POWER(I10,2) -> 0 | J41: =POWER(J10,2) -> 0 | K41: =IF(K10>=45,POWER(K10,2),POWER(K10/2,2)) -> 0 | L41: =IF(L10>=45,POWER(L10,2),POWER(L10/2,2)) -> 0 | M41: =IF(M10>=45,POWER(M10,2),POWER(M10/2,2)) -> 0
A42: =A41+1 -> 9 | B42: =B11 -> Bona Кобрин | C42: =C11 -> Марковский Максим | D42: =SUM(F42:M42) -> 479.41 | E42: =IF(D42>0,RANK(D42,$D$34:$D$61),реглист!$C$62+1) -> 15 | F42: =POWER(F11,2) -> 123.21 | G42: =POWER(G11,2) -> 207.36 | H42: =POWER(H11,2) -> 148.84 | I42: =POWER(I11,2) -> 0 | J42: =POWER(J11,2) -> 0 | K42: =IF(K11>=45,POWER(K11,2),POWER(K11/2,2)) -> 0 | L42: =IF(L11>=45,POWER(L11,2),POWER(L11/2,2)) -> 0 | M42: =IF(M11>=45,POWER(M11,2),POWER(M11/2,2)) -> 0
A43: =A42+1 -> 10 | B43: =B12 -> Трудовые резервы | C43: =C12 -> Пожарский Константин | D43: =SUM(F43:M43) -> 951.71 | E43: =IF(D43>0,RANK(D43,$D$34:$D$61),реглист!$C$62+1) -> 3 | F43: =POWER(F12,2) -> 278.89 | G43: =POWER(G12,2) -> 479.61 | H43: =POWER(H12,2) -> 193.21 | I43: =POWER(I12,2) -> 0 | J43: =POWER(J12,2) -> 0 | K43: =IF(K12>=45,POWER(K12,2),POWER(K12/2,2)) -> 0 | L43: =IF(L12>=45,POWER(L12,2),POWER(L12/2,2)) -> 0 | M43: =IF(M12>=45,POWER(M12,2),POWER(M12/2,2)) -> 0
A44: =A43+1 -> 11 | B44: =B13 -> Perch Legends | C44: =C13 -> Лабанок Александр | D44: =SUM(F44:M44) -> 148.84 | E44: =IF(D44>0,RANK(D44,$D$34:$D$61),реглист!$C$62+1) -> 25 | F44: =POWER(F13,2) -> 148.84 | G44: =POWER(G13,2) -> 0 | H44: =POWER(H13,2) -> 0 | I44: =POWER(I13,2) -> 0 | J44: =POWER(J13,2) -> 0 | K44: =IF(K13>=45,POWER(K13,2),POWER(K13/2,2)) -> 0 | L44: =IF(L13>=45,POWER(L13,2),POWER(L13/2,2)) -> 0 | M44: =IF(M13>=45,POWER(M13,2),POWER(M13/2,2)) -> 0
A45: =A44+1 -> 12 | B45: =B14 -> Bait Breath Team | C45: =C14 -> Зубко Сергей | D45: =SUM(F45:M45) -> 564.25 | E45: =IF(D45>0,RANK(D45,$D$34:$D$61),реглист!$C$62+1) -> 9 | F45: =POWER(F14,2) -> 240.25 | G45: =POWER(G14,2) -> 324 | H45: =POWER(H14,2) -> 0 | I45: =POWER(I14,2) -> 0 | J45: =POWER(J14,2) -> 0 | K45: =IF(K14>=45,POWER(K14,2),POWER(K14/2,2)) -> 0 | L45: =IF(L14>=45,POWER(L14,2),POWER(L14/2,2)) -> 0 | M45: =IF(M14>=45,POWER(M14,2),POWER(M14/2,2)) -> 0
A46: =A45+1 -> 13 | B46: =B15 -> FishUp Team | C46: =C15 -> Волосевич Виталий | D46: =SUM(F46:M46) -> 272.25 | E46: =IF(D46>0,RANK(D46,$D$34:$D$61),реглист!$C$62+1) -> 20 | F46: =POWER(F15,2) -> 272.25 | G46: =POWER(G15,2) -> 0 | H46: =POWER(H15,2) -> 0 | I46: =POWER(I15,2) -> 0 | J46: =POWER(J15,2) -> 0 | K46: =IF(K15>=45,POWER(K15,2),POWER(K15/2,2)) -> 0 | L46: =IF(L15>=45,POWER(L15,2),POWER(L15/2,2)) -> 0 | M46: =IF(M15>=45,POWER(M15,2),POWER(M15/2,2)) -> 0
... A61: =A60+1 -> 28 | B61: =B30 -> Кооператив Хищник | C61: =C30 -> Сницкий Виктор | D61: =SUM(F61:M61) -> 519.7 | E61: =IF(D61>0,RANK(D61,$D$34:$D$61),реглист!$C$62+1) -> 11 | F61: =POWER(F30,2) -> 234.09 | G61: =POWER(G30,2) -> 285.61 | H61: =POWER(H30,2) -> 0 | I61: =POWER(I30,2) -> 0 | J61: =POWER(J30,2) -> 0 | K61: =IF(K30>=45,POWER(K30,2),POWER(K30/2,2)) -> 0 | L61: =IF(L30>=45,POWER(L30,2),POWER(L30/2,2)) -> 0 | M61: =IF(M30>=45,POWER(M30,2),POWER(M30/2,2)) -> 0

Sheet Т1Зб
A1: № | B1: команда | C1: участник | D1: сумма баллов | E1: место | F1: окунь | S1: щука | V1: жерех
F2: размер, см
A3: 1 | B3: =IF(реглист!C5="Б",реглист!B5,реглист!B6) -> Alutech Team | C3: =IF(реглист!D5="Б",реглист!C5,реглист!C6) -> Купрейчик Сергей | D3: =D34 -> 1206.48 | E3: =E34 -> 7 | F3: 18.9 | G3: 13.7 | H3: 13 | I3: 14.4 | J3: 14.1 | S3: 12 | T3: 14.2
A4: =A3+1 -> 2 | B4: =IF(реглист!C7="Б",реглист!B7,реглист!B8) -> Pike Death TEAM | C4: =IF(реглист!D7="Б",реглист!C7,реглист!C8) -> Круглянин Сергей | D4: =D35 -> 2972.4925 | E4: =E35 -> 2 | S4: 50.7 | T4: 40.1
A5: =A4+1 -> 3 | B5: =IF(реглист!C9="Б",реглист!B9,реглист!B10) -> Peacock Bass | C5: =IF(реглист!D9="Б",реглист!C9,реглист!C10) -> Вычиков Павел | D5: =D36 -> 1132.77 | E5: =E36 -> 8 | F5: 17.4 | G5: 13.1 | H5: 14.8 | I5: 15.6 | J5: 14
A6: =A5+1 -> 4 | B6: =IF(реглист!C11="Б",реглист!B11,реглист!B12) -> Bass Hunters | C6: =IF(реглист!D11="Б",реглист!C11,реглист!C12) -> Кириевский Андрей | D6: =D37 -> 0 | E6: =E37 -> 29
A7: =A6+1 -> 5 | B7: =IF(реглист!C13="Б",реглист!B13,реглист!B14) -> Poseidon | C7: =IF(реглист!D13="Б",реглист!C13,реглист!C14) -> Строк Павел | D7: =D38 -> 207.36 | E7: =E38 -> 23 | F7: 14.4
A8: =A7+1 -> 6 | B8: =IF(реглист!C15="Б",реглист!B15,реглист!B16) -> FISHINGSTOCK BELARUS | C8: =IF(реглист!D15="Б",реглист!C15,реглист!C16) -> Бобриков Алексей | D8: =D39 -> 1284.19 | E8: =E39 -> 6 | F8: 11.6 | G8: 11.7 | H8: 12.3 | I8: 17.8 | J8: 15.6 | K8: 13 | L8: 11.5
A9: =A8+1 -> 7 | B9: =IF(реглист!C17="Б",реглист!B17,реглист!B18) -> West Fishing | C9: =IF(реглист!D17="Б",реглист!C17,реглист!C18) -> Золотарь Андрей | D9: =D40 -> 622.34 | E9: =E40 -> 12 | F9: 14 | G9: 14.5 | H9: 14.7
A10: =A9+1 -> 8 | B10: =IF(реглист!C19="Б",реглист!B19,реглист!B20) -> Gefest | C10: =IF(реглист!D19="Б",реглист!C19,реглист!C20) -> Радчук Юрий | D10: =D41 -> 3192.66 | E10: =E41 -> 1 | F10: 15.4 | G10: 18 | H10: 11.6 | I10: 18 | J10: 12.8 | K10: 17.9 | L10: 17.2 | M10: 13.8 | N10: 11.2 | O10: 15.1 | P10: 16 | Q10: 16.4 | R10: 18
A11: =A10+1 -> 9 | B11: =IF(реглист!C21="Б",реглист!B21,реглист!B22) -> Bona Кобрин | C11: =IF(реглист!D21="Б",реглист!C21,реглист!C22) -> Барташук Александр | D11: =D42 -> 476.3725 | E11: =E42 -> 14 | F11: 13.5 | S11: 34.3
A12: =A11+1 -> 10 | B12: =IF(реглист!C23="Б",реглист!B23,реглист!B24) -> Трудовые резервы | C12: =IF(реглист!D23="Б",реглист!C23,реглист!C24) -> Баранок Артём | D12: =D43 -> 469.16 | E12: =E43 -> 15 | F12: 14.6 | G12: 16
A13: =A12+1 -> 11 | B13: =IF(реглист!C25="Б",реглист!B25,реглист!B26) -> Perch Legends | C13: =IF(реглист!D25="Б",реглист!C25,реглист!C26) -> Каменец Алексей | D13: =D44 -> 605.69 | E13: =E44 -> 13 | F13: 12.5 | G13: 21.2
A14: =A13+1 -> 12 | B14: =IF(реглист!C27="Б",реглист!B27,реглист!B28) -> Bait Breath Team | C14: =IF(реглист!D27="Б",реглист!C27,реглист!C28) -> Бахур Александр | D14: =D45 -> 1641.86 | E14: =E45 -> 3 | F14: 15.8 | G14: 21 | H14: 16.4 | I14: 16.1 | J14: 12.8 | K14: 16.1
A15: =A14+1 -> 13 | B15: =IF(реглист!C29="Б",реглист!B29,реглист!B30) -> FishUp Team | C15: =IF(реглист!D29="Б",реглист!C29,реглист!C30) -> Крук Денис | D15: =D46 -> 454.43 | E15: =E46 -> 16 | F15: 11.7 | G15: 12.7 | H15: 12.5
A16: =A15+1 -> 14 | B16: =IF(реглист!C31="Б",реглист!B31,реглист!B32) -> Amateurs | C16: =IF(реглист!D31="Б",реглист!C31,реглист!C32) -> Куликовский Виталий | D16: =D47 -> 1397.9825 | E16: =E47 -> 4 | F16: 12.1 | G16: 12 | H16: 11.9 | I16: 15.8 | J16: 16.9 | K16: 14.7 | S16: 29.3
A17: =A16+1 -> 15 | B17: =IF(реглист!C33="Б",реглист!B33,реглист!B34) -> RockFish | C17: =IF(реглист!D33="Б",реглист!C33,реглист!C34) -> Лазарчик Евгений | D17: =D48 -> 445.21 | E17: =E48 -> 17 | F17: 21.1
A18: =A17+1 -> 16 | B18: =IF(реглист!C35="Б",реглист!B35,реглист!B36) -> Против Течения | C18: =IF(реглист!D35="Б",реглист!C35,реглист!C36) -> Ананич Геннадий | D18: =D49 -> 282.24 | E18: =E49 -> 21 | F18: 16.8
A19: =A18+1 -> 17 | B19: =IF(реглист!C37="Б",реглист!B37,реглист!B38) -> ASpinnTeam | C19: =IF(реглист!D37="Б",реглист!C37,реглист!C38) -> Вашкевич Александр | D19: =D50 -> 231.04 | E19: =E50 -> 22 | F19: 15.2
A20: =A19+1 -> 18 | B20: =IF(реглист!C39="Б",реглист!B39,реглист!B40) -> Fanatic Belarus | C20: =IF(реглист!D39="Б",реглист!C39,реглист!C40) -> Шевчук Дмитрий | D20: =D51 -> 394 | E20: =E51 -> 19 | F20: 15 | G20: 13
A21: =A20+1 -> 19 | B21: =IF(реглист!C41="Б",реглист!B41,реглист!B42) -> SB-FISHING | C21: =IF(реглист!D41="Б",реглист!C41,реглист!C42) -> Сапроненков Евгений | D21: =D52 -> 1295.1 | E21: =E52 -> 5 | F21: 14.8 | G21: 12.9 | H21: 13.8 | I21: 16.4 | J21: 12 | K21: 17.5
A22: =A21+1 -> 20 | B22: =IF(реглист!C43="Б",реглист!B43,реглист!B44) -> Фарватер | C22: =IF(реглист!D43="Б",реглист!C43,реглист!C44) -> Попельский Максим | D22: =D53 -> 938.09 | E22: =E53 -> 10 | F22: 22.2 | G22: 13.4 | H22: 16.3
A23: =A22+1 -> 21 | B23: =IF(реглист!C45="Б",реглист!B45,реглист!B46) -> Old Roads Fishing | C23: =IF(реглист!D45="Б",реглист!C45,реглист!C46) -> Синовец Роман | D23: =D54 -> 859.09 | E23: =E54 -> 11 | F23: 15.3 | G23: 25
A24: =A23+1 -> 22 | B24: =IF(реглист!C47="Б",реглист!B47,реглист!B48) -> Dream Team | C24: =IF(реглист!D47="Б",реглист!C47,реглист!C48) -> Золотухин Александр | D24: =D55 -> 194.08 | E24: =E55 -> 24 | F24: 10.8 | S24: 17.6
A25: =A24+1 -> 23 | B25: =IF(реглист!C49="Б",реглист!B49,реглист!B50) -> UL Hooligans | C25: =IF(реглист!D49="Б",реглист!C49,реглист!C50) -> Дешкевич Виталий | D25: =D56 -> 0 | E25: =E56 -> 29
A26: =A25+1 -> 24 | B26: =IF(реглист!C51="Б",реглист!B51,реглист!B52) -> Black River Team | C26: =IF(реглист!D51="Б",реглист!C51,реглист!C52) -> Рабушко Василий | D26: =D57 -> 0 | E26: =E57 -> 29
A27: =A26+1 -> 25 | B27: =IF(реглист!C53="Б",реглист!B53,реглист!B54) -> Legion | C27: =IF(реглист!D53="Б",реглист!C53,реглист!C54) -> Бойко Сергей | D27: =D58 -> 1007.4525 | E27: =E58 -> 9 | F27: 14.5 | G27: 16.8 | H27: 15.6 | I27: 14.8 | V27: 14.5
A28: =A27+1 -> 26 | B28: =IF(реглист!C55="Б",реглист!B55,реглист!B56) -> nanobass | C28: =IF(реглист!D55="Б",реглист!C55,реглист!C56) -> Мартынчук Михаил | D28: =D59 -> 158.76 | E28: =E59 -> 25 | F28: 12.6
A29: =A28+1 -> 27 | B29: =IF(реглист!C57="Б",реглист!B57,реглист!B58) -> XULi-Uli | C29: =IF(реглист!D57="Б",реглист!C57,реглист!C58) -> Дубровский Вадим | D29: =D60 -> 283.24 | E29: =E60 -> 20 | F29: 12 | S29: 23.6
A30: =A29+1 -> 28 | B30: =IF(реглист!C59="Б",реглист!B59,реглист!B60) -> Кооператив Хищник | C30: =IF(реглист!D59="Б",реглист!C59,реглист!C60) -> Сницкий Владимир | D30: =D61 -> 429.2 | E30: =E61 -> 18 | F30: 13.4 | G30: 15.8
C31: средняя длина рыб по виду: | F31: =AVERAGE(F3:R30) -> 14.997468 | S31: =AVERAGE(S3:U30) -> 27.725 | V31: =AVERAGE(V3:X30) -> 14.5
A32: № | B32: команда | C32: участник | D32: сумма баллов | E32: место | F32: баллы
A34: 1 | B34: =B3 -> Alutech Team | C34: =C3 -> Купрейчик Сергей | D34: =SUM(F34:X34) -> 1206.48 | E34: =IF(D34>0,RANK(D34,$D$34:$D$61),реглист!$C$62+1) -> 7 | F34: =POWER(F3,2) -> 357.21 | G34: =POWER(G3,2) -> 187.69 | H34: =POWER(H3,2) -> 169 | I34: =POWER(I3,2) -> 207.36 | J34: =POWER(J3,2) -> 198.81 | K34: =POWER(K3,2) -> 0 | L34: =POWER(L3,2) -> 0 | M34: =POWER(M3,2) -> 0 | ... R34: =POWER(R3,2) -> 0 | S34: =IF(S3>=45,POWER(S3,2),POWER(S3/2,2)) -> 36 | T34: =IF(T3>=45,POWER(T3,2),POWER(T3/2,2)) -> 50.41 | U34: =IF(U3>=45,POWER(U3,2),POWER(U3/2,2)) -> 0 | V34: =IF(V3>=40,POWER(V3,2),POWER(V3/2,2)) -> 0 | W34: =IF(W3>=40,POWER(W3,2),POWER(W3/2,2)) -> 0 | X34: =IF(X3>=40,POWER(X3,2),POWER(X3/2,2)) -> 0
A35: =A34+1 -> 2 | B35: =B4 -> Pike Death TEAM | C35: =C4 -> Круглянин Сергей | D35: =SUM(F35:X35) -> 2972.4925 | E35: =IF(D35>0,RANK(D35,$D$34:$D$61),реглист!$C$62+1) -> 2 | F35: =POWER(F4,2) -> 0 | G35: =POWER(G4,2) -> 0 | H35: =POWER(H4,2) -> 0 | I35: =POWER(I4,2) -> 0 | J35: =POWER(J4,2) -> 0 | K35: =POWER(K4,2) -> 0 | L35: =POWER(L4,2) -> 0 | M35: =POWER(M4,2) -> 0 | ... R35: =POWER(R4,2) -> 0 | S35: =IF(S4>=45,POWER(S4,2),POWER(S4/2,2)) -> 2570.49 | T35: =IF(T4>=45,POWER(T4,2),POWER(T4/2,2)) -> 402.0025 | U35: =IF(U4>=45,POWER(U4,2),POWER(U4/2,2)) -> 0 | V35: =IF(V4>=40,POWER(V4,2),POWER(V4/2,2)) -> 0 | W35: =IF(W4>=40,POWER(W4,2),POWER(W4/2,2)) -> 0 | X35: =IF(X4>=40,POWER(X4,2),POWER(X4/2,2)) -> 0
A36: =A35+1 -> 3 | B36: =B5 -> Peacock Bass | C36: =C5 -> Вычиков Павел | D36: =SUM(F36:X36) -> 1132.77 | E36: =IF(D36>0,RANK(D36,$D$34:$D$61),реглист!$C$62+1) -> 8 | F36: =POWER(F5,2) -> 302.76 | G36: =POWER(G5,2) -> 171.61 | H36: =POWER(H5,2) -> 219.04 | I36: =POWER(I5,2) -> 243.36 | J36: =POWER(J5,2) -> 196 | K36: =POWER(K5,2) -> 0 | L36: =POWER(L5,2) -> 0 | M36: =POWER(M5,2) -> 0 | ... R36: =POWER(R5,2) -> 0 | S36: =IF(S5>=45,POWER(S5,2),POWER(S5/2,2)) -> 0 | T36: =IF(T5>=45,POWER(T5,2),POWER(T5/2,2)) -> 0 | U36: =IF(U5>=45,POWER(U5,2),POWER(U5/2,2)) -> 0 | V36: =IF(V5>=40,POWER(V5,2),POWER(V5/2,2)) -> 0 | W36: =IF(W5>=40,POWER(W5,2),POWER(W5/2,2)) -> 0 | X36: =IF(X5>=40,POWER(X5,2),POWER(X5/2,2)) -> 0
A37: =A36+1 -> 4 | B37: =B6 -> Bass Hunters | C37: =C6 -> Кириевский Андрей | D37: =SUM(F37:X37) -> 0 | E37: =IF(D37>0,RANK(D37,$D$34:$D$61),реглист!$C$62+1) -> 29 | F37: =POWER(F6,2) -> 0 | G37: =POWER(G6,2) -> 0 | H37: =POWER(H6,2) -> 0 | I37: =POWER(I6,2) -> 0 | J37: =POWER(J6,2) -> 0 | K37: =POWER(K6,2) -> 0 | L37: =POWER(L6,2) -> 0 | M37: =POWER(M6,2) -> 0 | ... R37: =POWER(R6,2) -> 0 | S37: =IF(S6>=45,POWER(S6,2),POWER(S6/2,2)) -> 0 | T37: =IF(T6>=45,POWER(T6,2),POWER(T6/2,2)) -> 0 | U37: =IF(U6>=45,POWER(U6,2),POWER(U6/2,2)) -> 0 | V37: =IF(V6>=40,POWER(V6,2),POWER(V6/2,2)) -> 0 | W37: =IF(W6>=40,POWER(W6,2),POWER(W6/2,2)) -> 0 | X37: =IF(X6>=40,POWER(X6,2),POWER(X6/2,2)) -> 0
A38: =A37+1 -> 5 | B38: =B7 -> Poseidon | C38: =C7 -> Строк Павел | D38: =SUM(F38:X38) -> 207.36 | E38: =IF(D38>0,RANK(D38,$D$34:$D$61),реглист!$C$62+1) -> 23 | F38: =POWER(F7,2) -> 207.36 | G38: =POWER(G7,2) -> 0 | H38: =POWER(H7,2) -> 0 | I38: =POWER(I7,2) -> 0 | J38: =POWER(J7,2) -> 0 | K38: =POWER(K7,2) -> 0 | L38: =POWER(L7,2) -> 0 | M38: =POWER(M7,2) -> 0 | ... R38: =POWER(R7,2) -> 0 | S38: =IF(S7>=45,POWER(S7,2),POWER(S7/2,2)) -> 0 | T38: =IF(T7>=45,POWER(T7,2),POWER(T7/2,2)) -> 0 | U38: =IF(U7>=45,POWER(U7,2),POWER(U7/2,2)) -> 0 | V38: =IF(V7>=40,POWER(V7,2),POWER(V7/2,2)) -> 0 | W38: =IF(W7>=40,POWER(W7,2),POWER(W7/2,2)) -> 0 | X38: =IF(X7>=40,POWER(X7,2),POWER(X7/2,2)) -> 0
A39: =A38+1 -> 6 | B39: =B8 -> FISHINGSTOCK BELARUS | C39: =C8 -> Бобриков Алексей | D39: =SUM(F39:X39) -> 1284.19 | E39: =IF(D39>0,RANK(D39,$D$34:$D$61),реглист!$C$62+1) -> 6 | F39: =POWER(F8,2) -> 134.56 | G39: =POWER(G8,2) -> 136.89 | H39: =POWER(H8,2) -> 151.29 | I39: =POWER(I8,2) -> 316.84 | J39: =POWER(J8,2) -> 243.36 | K39: =POWER(K8,2) -> 169 | L39: =POWER(L8,2) -> 132.25 | M39: =POWER(M8,2) -> 0 | ... R39: =POWER(R8,2) -> 0 | S39: =IF(S8>=45,POWER(S8,2),POWER(S8/2,2)) -> 0 | T39: =IF(T8>=45,POWER(T8,2),POWER(T8/2,2)) -> 0 | U39: =IF(U8>=45,POWER(U8,2),POWER(U8/2,2)) -> 0 | V39: =IF(V8>=40,POWER(V8,2),POWER(V8/2,2)) -> 0 | W39: =IF(W8>=40,POWER(W8,2),POWER(W8/2,2)) -> 0 | X39: =IF(X8>=40,POWER(X8,2),POWER(X8/2,2)) -> 0
A40: =A39+1 -> 7 | B40: =B9 -> West Fishing | C40: =C9 -> Золотарь Андрей | D40: =SUM(F40:X40) -> 622.34 | E40: =IF(D40>0,RANK(D40,$D$34:$D$61),реглист!$C$62+1) -> 12 | F40: =POWER(F9,2) -> 196 | G40: =POWER(G9,2) -> 210.25 | H40: =POWER(H9,2) -> 216.09 | I40: =POWER(I9,2) -> 0 | J40: =POWER(J9,2) -> 0 | K40: =POWER(K9,2) -> 0 | L40: =POWER(L9,2) -> 0 | M40: =POWER(M9,2) -> 0 | ... R40: =POWER(R9,2) -> 0 | S40: =IF(S9>=45,POWER(S9,2),POWER(S9/2,2)) -> 0 | T40: =IF(T9>=45,POWER(T9,2),POWER(T9/2,2)) -> 0 | U40: =IF(U9>=45,POWER(U9,2),POWER(U9/2,2)) -> 0 | V40: =IF(V9>=40,POWER(V9,2),POWER(V9/2,2)) -> 0 | W40: =IF(W9>=40,POWER(W9,2),POWER(W9/2,2)) -> 0 | X40: =IF(X9>=40,POWER(X9,2),POWER(X9/2,2)) -> 0
A41: =A40+1 -> 8 | B41: =B10 -> Gefest | C41: =C10 -> Радчук Юрий | D41: =SUM(F41:X41) -> 3192.66 | E41: =IF(D41>0,RANK(D41,$D$34:$D$61),реглист!$C$62+1) -> 1 | F41: =POWER(F10,2) -> 237.16 | G41: =POWER(G10,2) -> 324 | H41: =POWER(H10,2) -> 134.56 | I41: =POWER(I10,2) -> 324 | J41: =POWER(J10,2) -> 163.84 | K41: =POWER(K10,2) -> 320.41 | L41: =POWER(L10,2) -> 295.84 | M41: =POWER(M10,2) -> 190.44 | ... R41: =POWER(R10,2) -> 324 | S41: =IF(S10>=45,POWER(S10,2),POWER(S10/2,2)) -> 0 | T41: =IF(T10>=45,POWER(T10,2),POWER(T10/2,2)) -> 0 | U41: =IF(U10>=45,POWER(U10,2),POWER(U10/2,2)) -> 0 | V41: =IF(V10>=40,POWER(V10,2),POWER(V10/2,2)) -> 0 | W41: =IF(W10>=40,POWER(W10,2),POWER(W10/2,2)) -> 0 | X41: =IF(X10>=40,POWER(X10,2),POWER(X10/2,2)) -> 0
A42: =A41+1 -> 9 | B42: =B11 -> Bona Кобрин | C42: =C11 -> Барташук Александр | D42: =SUM(F42:X42) -> 476.3725 | E42: =IF(D42>0,RANK(D42,$D$34:$D$61),реглист!$C$62+1) -> 14 | F42: =POWER(F11,2) -> 182.25 | G42: =POWER(G11,2) -> 0 | H42: =POWER(H11,2) -> 0 | I42: =POWER(I11,2) -> 0 | J42: =POWER(J11,2) -> 0 | K42: =POWER(K11,2) -> 0 | L42: =POWER(L11,2) -> 0 | M42: =POWER(M11,2) -> 0 | ... R42: =POWER(R11,2) -> 0 | S42: =IF(S11>=45,POWER(S11,2),POWER(S11/2,2)) -> 294.1225 | T42: =IF(T11>=45,POWER(T11,2),POWER(T11/2,2)) -> 0 | U42: =IF(U11>=45,POWER(U11,2),POWER(U11/2,2)) -> 0 | V42: =IF(V11>=40,POWER(V11,2),POWER(V11/2,2)) -> 0 | W42: =IF(W11>=40,POWER(W11,2),POWER(W11/2,2)) -> 0 | X42: =IF(X11>=40,POWER(X11,2),POWER(X11/2,2)) -> 0
A43: =A42+1 -> 10 | B43: =B12 -> Трудовые резервы | C43: =C12 -> Баранок Артём | D43: =SUM(F43:X43) -> 469.16 | E43: =IF(D43>0,RANK(D43,$D$34:$D$61),реглист!$C$62+1) -> 15 | F43: =POWER(F12,2) -> 213.16 | G43: =POWER(G12,2) -> 256 | H43: =POWER(H12,2) -> 0 | I43: =POWER(I12,2) -> 0 | J43: =POWER(J12,2) -> 0 | K43: =POWER(K12,2) -> 0 | L43: =POWER(L12,2) -> 0 | M43: =POWER(M12,2) -> 0 | ... R43: =POWER(R12,2) -> 0 | S43: =IF(S12>=45,POWER(S12,2),POWER(S12/2,2)) -> 0 | T43: =IF(T12>=45,POWER(T12,2),POWER(T12/2,2)) -> 0 | U43: =IF(U12>=45,POWER(U12,2),POWER(U12/2,2)) -> 0 | V43: =IF(V12>=40,POWER(V12,2),POWER(V12/2,2)) -> 0 | W43: =IF(W12>=40,POWER(W12,2),POWER(W12/2,2)) -> 0 | X43: =IF(X12>=40,POWER(X12,2),POWER(X12/2,2)) -> 0
A44: =A43+1 -> 11 | B44: =B13 -> Perch Legends | C44: =C13 -> Каменец Алексей | D44: =SUM(F44:X44) -> 605.69 | E44: =IF(D44>0,RANK(D44,$D$34:$D$61),реглист!$C$62+1) -> 13 | F44: =POWER(F13,2) -> 156.25 | G44: =POWER(G13,2) -> 449.44 | H44: =POWER(H13,2) -> 0 | I44: =POWER(I13,2) -> 0 | J44: =POWER(J13,2) -> 0 | K44: =POWER(K13,2) -> 0 | L44: =POWER(L13,2) -> 0 | M44: =POWER(M13,2) -> 0 | ... R44: =POWER(R13,2) -> 0 | S44: =IF(S13>=45,POWER(S13,2),POWER(S13/2,2)) -> 0 | T44: =IF(T13>=45,POWER(T13,2),POWER(T13/2,2)) -> 0 | U44: =IF(U13>=45,POWER(U13,2),POWER(U13/2,2)) -> 0 | V44: =IF(V13>=40,POWER(V13,2),POWER(V13/2,2)) -> 0 | W44: =IF(W13>=40,POWER(W13,2),POWER(W13/2,2)) -> 0 | X44: =IF(X13>=40,POWER(X13,2),POWER(X13/2,2)) -> 0
A45: =A44+1 -> 12 | B45: =B14 -> Bait Breath Team | C45: =C14 -> Бахур Александр | D45: =SUM(F45:X45) -> 1641.86 | E45: =IF(D45>0,RANK(D45,$D$34:$D$61),реглист!$C$62+1) -> 3 | F45: =POWER(F14,2) -> 249.64 | G45: =POWER(G14,2) -> 441 | H45: =POWER(H14,2) -> 268.96 | I45: =POWER(I14,2) -> 259.21 | J45: =POWER(J14,2) -> 163.84 | K45: =POWER(K14,2) -> 259.21 | L45: =POWER(L14,2) -> 0 | M45: =POWER(M14,2) -> 0 | ... R45: =POWER(R14,2) -> 0 | S45: =IF(S14>=45,POWER(S14,2),POWER(S14/2,2)) -> 0 | T45: =IF(T14>=45,POWER(T14,2),POWER(T14/2,2)) -> 0 | U45: =IF(U14>=45,POWER(U14,2),POWER(U14/2,2)) -> 0 | V45: =IF(V14>=40,POWER(V14,2),POWER(V14/2,2)) -> 0 | W45: =IF(W14>=40,POWER(W14,2),POWER(W14/2,2)) -> 0 | X45: =IF(X14>=40,POWER(X14,2),POWER(X14/2,2)) -> 0
A46: =A45+1 -> 13 | B46: =B15 -> FishUp Team | C46: =C15 -> Крук Денис | D46: =SUM(F46:X46) -> 454.43 | E46: =IF(D46>0,RANK(D46,$D$34:$D$61),реглист!$C$62+1) -> 16 | F46: =POWER(F15,2) -> 136.89 | G46: =POWER(G15,2) -> 161.29 | H46: =POWER(H15,2) -> 156.25 | I46: =POWER(I15,2) -> 0 | J46: =POWER(J15,2) -> 0 | K46: =POWER(K15,2) -> 0 | L46: =POWER(L15,2) -> 0 | M46: =POWER(M15,2) -> 0 | ... R46: =POWER(R15,2) -> 0 | S46: =IF(S15>=45,POWER(S15,2),POWER(S15/2,2)) -> 0 | T46: =IF(T15>=45,POWER(T15,2),POWER(T15/2,2)) -> 0 | U46: =IF(U15>=45,POWER(U15,2),POWER(U15/2,2)) -> 0 | V46: =IF(V15>=40,POWER(V15,2),POWER(V15/2,2)) -> 0 | W46: =IF(W15>=40,POWER(W15,2),POWER(W15/2,2)) -> 0 | X46: =IF(X15>=40,POWER(X15,2),POWER(X15/2,2)) -> 0
... A61: =A60+1 -> 28 | B61: =B30 -> Кооператив Хищник | C61: =C30 -> Сницкий Владимир | D61: =SUM(F61:X61) -> 429.2 | E61: =IF(D61>0,RANK(D61,$D$34:$D$61),реглист!$C$62+1) -> 18 | F61: =POWER(F30,2) -> 179.56 | G61: =POWER(G30,2) -> 249.64 | H61: =POWER(H30,2) -> 0 | I61: =POWER(I30,2) -> 0 | J61: =POWER(J30,2) -> 0 | K61: =POWER(K30,2) -> 0 | L61: =POWER(L30,2) -> 0 | M61: =POWER(M30,2) -> 0 | ... R61: =POWER(R30,2) -> 0 | S61: =IF(S30>=45,POWER(S30,2),POWER(S30/2,2)) -> 0 | T61: =IF(T30>=45,POWER(T30,2),POWER(T30/2,2)) -> 0 | U61: =IF(U30>=45,POWER(U30,2),POWER(U30/2,2)) -> 0 | V61: =IF(V30>=40,POWER(V30,2),POWER(V30/2,2)) -> 0 | W61: =IF(W30>=40,POWER(W30,2),POWER(W30/2,2)) -> 0 | X61: =IF(X30>=40,POWER(X30,2),POWER(X30/2,2)) -> 0

Sheet Т2За
A1: № | B1: команда | C1: участник | D1: сумма баллов | E1: место | F1: окунь | K1: щука | O1: жерех
F2: размер, см
A3: 1 | B3: =Т1Зб!B3 -> Alutech Team | C3: =Т1Зб!C3 -> Купрейчик Сергей | D3: =D34 -> 360.09 | E3: =E34 -> 12 | F3: 14.7 | G3: 12
A4: =A3+1 -> 2 | B4: =Т1Зб!B4 -> Pike Death TEAM | C4: =Т1Зб!C4 -> Круглянин Сергей | D4: =D35 -> 522.34 | E4: =E35 -> 7 | F4: 17.5 | G4: 14.7
A5: =A4+1 -> 3 | B5: =Т1Зб!B5 -> Peacock Bass | C5: =Т1Зб!C5 -> Вычиков Павел | D5: =D36 -> 490.25 | E5: =E36 -> 8 | F5: 15.2 | G5: 16.1
A6: =A5+1 -> 4 | B6: =Т1Зб!B6 -> Bass Hunters | C6: =Т1Зб!C6 -> Кириевский Андрей | D6: =D37 -> 921.04 | E6: =E37 -> 4 | F6: 19.8 | G6: 23
A7: =A6+1 -> 5 | B7: =Т1Зб!B7 -> Poseidon | C7: =Т1Зб!C7 -> Строк Павел | D7: =D38 -> 0 | E7: =E38 -> 29
A8: =A7+1 -> 6 | B8: =Т1Зб!B8 -> FISHINGSTOCK BELARUS | C8: =Т1Зб!C8 -> Бобриков Алексей | D8: =D39 -> 0 | E8: =E39 -> 29
A9: =A8+1 -> 7 | B9: =Т1Зб!B9 -> West Fishing | C9: =Т1Зб!C9 -> Золотарь Андрей | D9: =D40 -> 1162.92 | E9: =E40 -> 3 | F9: 14.9 | G9: 17.7 | H9: 12.5 | I9: 15.6 | J9: 15.1
A10: =A9+1 -> 8 | B10: =Т1Зб!B10 -> Gefest | C10: =Т1Зб!C10 -> Радчук Юрий | D10: =D41 -> 123.21 | E10: =E41 -> 19 | F10: 11.1
A11: =A10+1 -> 9 | B11: =Т1Зб!B11 -> Bona Кобрин | C11: =Т1Зб!C11 -> Барташук Александр | D11: =D42 -> 425.21 | E11: =E42 -> 10 | F11: 12.5 | G11: 16.4
A12: =A11+1 -> 10 | B12: =Т1Зб!B12 -> Трудовые резервы | C12: =Т1Зб!C12 -> Баранок Артём | D12: =D43 -> 0 | E12: =E43 -> 29
A13: =A12+1 -> 11 | B13: =Т1Зб!B13 -> Perch Legends | C13: =Т1Зб!C13 -> Каменец Алексей | D13: =D44 -> 97.0225 | E13: =E44 -> 20 | K13: 19.7
A14: =A13+1 -> 12 | B14: =Т1Зб!B14 -> Bait Breath Team | C14: =Т1Зб!C14 -> Бахур Александр | D14: =D45 -> 282.24 | E14: =E45 -> 13 | F14: 16.8
A15: =A14+1 -> 13 | B15: =Т1Зб!B15 -> FishUp Team | C15: =Т1Зб!C15 -> Крук Денис | D15: =D46 -> 0 | E15: =E46 -> 29
A16: =A15+1 -> 14 | B16: =Т1Зб!B16 -> Amateurs | C16: =Т1Зб!C16 -> Куликовский Виталий | D16: =D47 -> 0 | E16: =E47 -> 29
A17: =A16+1 -> 15 | B17: =Т1Зб!B17 -> RockFish | C17: =Т1Зб!C17 -> Лазарчик Евгений | D17: =D48 -> 0 | E17: =E48 -> 29
A18: =A17+1 -> 16 | B18: =Т1Зб!B18 -> Против Течения | C18: =Т1Зб!C18 -> Ананич Геннадий | D18: =D49 -> 648.04 | E18: =E49 -> 6 | F18: 16 | G18: 19.8
A19: =A18+1 -> 17 | B19: =Т1Зб!B19 -> ASpinnTeam | C19: =Т1Зб!C19 -> Вашкевич Александр | D19: =D50 -> 240.25 | E19: =E50 -> 16 | F19: 15.5
A20: =A19+1 -> 18 | B20: =Т1Зб!B20 -> Fanatic Belarus | C20: =Т1Зб!C20 -> Шевчук Дмитрий | D20: =D51 -> 2756.25 | E20: =E51 -> 2 | K20: 52.5
A21: =A20+1 -> 19 | B21: =Т1Зб!B21 -> SB-FISHING | C21: =Т1Зб!C21 -> Сапроненков Евгений | D21: =D52 -> 453.69 | E21: =E52 -> 9 | F21: 21.3
A22: =A21+1 -> 20 | B22: =Т1Зб!B22 -> Фарватер | C22: =Т1Зб!C22 -> Попельский Максим | D22: =D53 -> 256 | E22: =E53 -> 15 | F22: 16
A23: =A22+1 -> 21 | B23: =Т1Зб!B23 -> Old Roads Fishing | C23: =Т1Зб!C23 -> Синовец Роман | D23: =D54 -> 3666.775 | E23: =E54 -> 1 | K23: 52 | L23: 30.5 | M23: 31.1 | N23: 44.2
A24: =A23+1 -> 22 | B24: =Т1Зб!B24 -> Dream Team | C24: =Т1Зб!C24 -> Золотухин Александр | D24: =D55 -> 395.5225 | E24: =E55 -> 11 | F24: 16.4 | O24: 22.5
A25: =A24+1 -> 23 | B25: =Т1Зб!B25 -> UL Hooligans | C25: =Т1Зб!C25 -> Дешкевич Виталий | D25: =D56 -> 278.89 | E25: =E56 -> 14 | F25: 16.7
A26: =A25+1 -> 24 | B26: =Т1Зб!B26 -> Black River Team | C26: =Т1Зб!C26 -> Рабушко Василий | D26: =D57 -> 0 | E26: =E57 -> 29
A27: =A26+1 -> 25 | B27: =Т1Зб!B27 -> Legion | C27: =Т1Зб!C27 -> Бойко Сергей | D27: =D58 -> 839.5925 | E27: =E58 -> 5 | F27: 14.7 | G27: 16.2 | H27: 16 | K27: 20.5
A28: =A27+1 -> 26 | B28: =Т1Зб!B28 -> nanobass | C28: =Т1Зб!C28 -> Мартынчук Михаил | D28: =D59 -> 234.09 | E28: =E59 -> 17 | F28: 15.3
A29: =A28+1 -> 27 | B29: =Т1Зб!B29 -> XULi-Uli | C29: =Т1Зб!C29 -> Дубровский Вадим | D29: =D60 -> 0 | E29: =E60 -> 29
A30: =A29+1 -> 28 | B30: =Т1Зб!B30 -> Кооператив Хищник | C30: =Т1Зб!C30 -> Сницкий Владимир | D30: =D61 -> 196 | E30: =E61 -> 18 | O30: 28
C31: средняя длина рыб по виду: | F31: =AVERAGE(F3:J30) -> 16.053571 | K31: =AVERAGE(K3:N30) -> 35.785714 | O31: =AVERAGE(O3:P30) -> 25.25
A32: № | B32: команда | C32: участник | D32: сумма баллов | E32: место | F32: баллы
A34: 1 | B34: =B3 -> Alutech Team | C34: =C3 -> Купрейчик Сергей | D34: =SUM(F34:P34) -> 360.09 | E34: =IF(D34>0,RANK(D34,$D$34:$D$61),реглист!$C$62+1) -> 12 | F34: =POWER(F3,2) -> 216.09 | G34: =POWER(G3,2) -> 144 | H34: =POWER(H3,2) -> 0 | I34: =POWER(I3,2) -> 0 | J34: =POWER(J3,2) -> 0 | K34: =IF(K3>=45,POWER(K3,2),POWER(K3/2,2)) -> 0 | L34: =IF(L3>=45,POWER(L3,2),POWER(L3/2,2)) -> 0 | M34: =IF(M3>=45,POWER(M3,2),POWER(M3/2,2)) -> 0 | N34: =IF(N3>=45,POWER(N3,2),POWER(N3/2,2)) -> 0 | O34: =IF(O3>=40,POWER(O3,2),POWER(O3/2,2)) -> 0 | P34: =IF(P3>=40,POWER(P3,2),POWER(P3/2,2)) -> 0
A35: =A34+1 -> 2 | B35: =B4 -> Pike Death TEAM | C35: =C4 -> Круглянин Сергей | D35: =SUM(F35:P35) -> 522.34 | E35: =IF(D35>0,RANK(D35,$D$34:$D$61),реглист!$C$62+1) -> 7 | F35: =POWER(F4,2) -> 306.25 | G35: =POWER(G4,2) -> 216.09 | H35: =POWER(H4,2) -> 0 | I35: =POWER(I4,2) -> 0 | J35: =POWER(J4,2) -> 0 | K35: =IF(K4>=45,POWER(K4,2),POWER(K4/2,2)) -> 0 | L35: =IF(L4>=45,POWER(L4,2),POWER(L4/2,2)) -> 0 | M35: =IF(M4>=45,POWER(M4,2),POWER(M4/2,2)) -> 0 | N35: =IF(N4>=45,POWER(N4,2),POWER(N4/2,2)) -> 0 | O35: =IF(O4>=40,POWER(O4,2),POWER(O4/2,2)) -> 0 | P35: =IF(P4>=40,POWER(P4,2),POWER(P4/2,2)) -> 0
A36: =A35+1 -> 3 | B36: =B5 -> Peacock Bass | C36: =C5 -> Вычиков Павел | D36: =SUM(F36:P36) -> 490.25 | E36: =IF(D36>0,RANK(D36,$D$34:$D$61),реглист!$C$62+1) -> 8 | F36: =POWER(F5,2) -> 231.04 | G36: =POWER(G5,2) -> 259.21 | H36: =POWER(H5,2) -> 0 | I36: =POWER(I5,2) -> 0 | J36: =POWER(J5,2) -> 0 | K36: =IF(K5>=45,POWER(K5,2),POWER(K5/2,2)) -> 0 | L36: =IF(L5>=45,POWER(L5,2),POWER(L5/2,2)) -> 0 | M36: =IF(M5>=45,POWER(M5,2),POWER(M5/2,2)) -> 0 | N36: =IF(N5>=45,POWER(N5,2),POWER(N5/2,2)) -> 0 | O36: =IF(O5>=40,POWER(O5,2),POWER(O5/2,2)) -> 0 | P36: =IF(P5>=40,POWER(P5,2),POWER(P5/2,2)) -> 0
A37: =A36+1 -> 4 | B37: =B6 -> Bass Hunters | C37: =C6 -> Кириевский Андрей | D37: =SUM(F37:P37) -> 921.04 | E37: =IF(D37>0,RANK(D37,$D$34:$D$61),реглист!$C$62+1) -> 4 | F37: =POWER(F6,2) -> 392.04 | G37: =POWER(G6,2) -> 529 | H37: =POWER(H6,2) -> 0 | I37: =POWER(I6,2) -> 0 | J37: =POWER(J6,2) -> 0 | K37: =IF(K6>=45,POWER(K6,2),POWER(K6/2,2)) -> 0 | L37: =IF(L6>=45,POWER(L6,2),POWER(L6/2,2)) -> 0 | M37: =IF(M6>=45,POWER(M6,2),POWER(M6/2,2)) -> 0 | N37: =IF(N6>=45,POWER(N6,2),POWER(N6/2,2)) -> 0 | O37: =IF(O6>=40,POWER(O6,2),POWER(O6/2,2)) -> 0 | P37: =IF(P6>=40,POWER(P6,2),POWER(P6/2,2)) -> 0
A38: =A37+1 -> 5 | B38: =B7 -> Poseidon | C38: =C7 -> Строк Павел | D38: =SUM(F38:P38) -> 0 | E38: =IF(D38>0,RANK(D38,$D$34:$D$61),реглист!$C$62+1) -> 29 | F38: =POWER(F7,2) -> 0 | G38: =POWER(G7,2) -> 0 | H38: =POWER(H7,2) -> 0 | I38: =POWER(I7,2) -> 0 | J38: =POWER(J7,2) -> 0 | K38: =IF(K7>=45,POWER(K7,2),POWER(K7/2,2)) -> 0 | L38: =IF(L7>=45,POWER(L7,2),POWER(L7/2,2)) -> 0 | M38: =IF(M7>=45,POWER(M7,2),POWER(M7/2,2)) -> 0 | N38: =IF(N7>=45,POWER(N7,2),POWER(N7/2,2)) -> 0 | O38: =IF(O7>=40,POWER(O7,2),POWER(O7/2,2)) -> 0 | P38: =IF(P7>=40,POWER(P7,2),POWER(P7/2,2)) -> 0
A39: =A38+1 -> 6 | B39: =B8 -> FISHINGSTOCK BELARUS | C39: =C8 -> Бобриков Алексей | D39: =SUM(F39:P39) -> 0 | E39: =IF(D39>0,RANK(D39,$D$34:$D$61),реглист!$C$62+1) -> 29 | F39: =POWER(F8,2) -> 0 | G39: =POWER(G8,2) -> 0 | H39: =POWER(H8,2) -> 0 | I39: =POWER(I8,2) -> 0 | J39: =POWER(J8,2) -> 0 | K39: =IF(K8>=45,POWER(K8,2),POWER(K8/2,2)) -> 0 | L39: =IF(L8>=45,POWER(L8,2),POWER(L8/2,2)) -> 0 | M39: =IF(M8>=45,POWER(M8,2),POWER(M8/2,2)) -> 0 | N39: =IF(N8>=45,POWER(N8,2),POWER(N8/2,2)) -> 0 | O39: =IF(O8>=40,POWER(O8,2),POWER(O8/2,2)) -> 0 | P39: =IF(P8>=40,POWER(P8,2),POWER(P8/2,2)) -> 0
A40: =A39+1 -> 7 | B40: =B9 -> West Fishing | C40: =C9 -> Золотарь Андрей | D40: =SUM(F40:P40) -> 1162.92 | E40: =IF(D40>0,RANK(D40,$D$34:$D$61),реглист!$C$62+1) -> 3 | F40: =POWER(F9,2) -> 222.01 | G40: =POWER(G9,2) -> 313.29 | H40: =POWER(H9,2) -> 156.25 | I40: =POWER(I9,2) -> 243.36 | J40: =POWER(J9,2) -> 228.01 | K40: =IF(K9>=45,POWER(K9,2),POWER(K9/2,2)) -> 0 | L40: =IF(L9>=45,POWER(L9,2),POWER(L9/2,2)) -> 0 | M40: =IF(M9>=45,POWER(M9,2),POWER(M9/2,2)) -> 0 | N40: =IF(N9>=45,POWER(N9,2),POWER(N9/2,2)) -> 0 | O40: =IF(O9>=40,POWER(O9,2),POWER(O9/2,2)) -> 0 | P40: =IF(P9>=40,POWER(P9,2),POWER(P9/2,2)) -> 0
A41: =A40+1 -> 8 | B41: =B10 -> Gefest | C41: =C10 -> Радчук Юрий | D41: =SUM(F41:P41) -> 123.21 | E41: =IF(D41>0,RANK(D41,$D$34:$D$61),реглист!$C$62+1) -> 19 | F41: =POWER(F10,2) -> 123.21 | G41: =POWER(G10,2) -> 0 | H41: =POWER(H10,2) -> 0 | I41: =POWER(I10,2) -> 0 | J41: =POWER(J10,2) -> 0 | K41: =IF(K10>=45,POWER(K10,2),POWER(K10/2,2)) -> 0 | L41: =IF(L10>=45,POWER(L10,2),POWER(L10/2,2)) -> 0 | M41: =IF(M10>=45,POWER(M10,2),POWER(M10/2,2)) -> 0 | N41: =IF(N10>=45,POWER(N10,2),POWER(N10/2,2)) -> 0 | O41: =IF(O10>=40,POWER(O10,2),POWER(O10/2,2)) -> 0 | P41: =IF(P10>=40,POWER(P10,2),POWER(P10/2,2)) -> 0
A42: =A41+1 -> 9 | B42: =B11 -> Bona Кобрин | C42: =C11 -> Барташук Александр | D42: =SUM(F42:P42) -> 425.21 | E42: =IF(D42>0,RANK(D42,$D$34:$D$61),реглист!$C$62+1) -> 10 | F42: =POWER(F11,2) -> 156.25 | G42: =POWER(G11,2) -> 268.96 | H42: =POWER(H11,2) -> 0 | I42: =POWER(I11,2) -> 0 | J42: =POWER(J11,2) -> 0 | K42: =IF(K11>=45,POWER(K11,2),POWER(K11/2,2)) -> 0 | L42: =IF(L11>=45,POWER(L11,2),POWER(L11/2,2)) -> 0 | M42: =IF(M11>=45,POWER(M11,2),POWER(M11/2,2)) -> 0 | N42: =IF(N11>=45,POWER(N11,2),POWER(N11/2,2)) -> 0 | O42: =IF(O11>=40,POWER(O11,2),POWER(O11/2,2)) -> 0 | P42: =IF(P11>=40,POWER(P11,2),POWER(P11/2,2)) -> 0
A43: =A42+1 -> 10 | B43: =B12 -> Трудовые резервы | C43: =C12 -> Баранок Артём | D43: =SUM(F43:P43) -> 0 | E43: =IF(D43>0,RANK(D43,$D$34:$D$61),реглист!$C$62+1) -> 29 | F43: =POWER(F12,2) -> 0 | G43: =POWER(G12,2) -> 0 | H43: =POWER(H12,2) -> 0 | I43: =POWER(I12,2) -> 0 | J43: =POWER(J12,2) -> 0 | K43: =IF(K12>=45,POWER(K12,2),POWER(K12/2,2)) -> 0 | L43: =IF(L12>=45,POWER(L12,2),POWER(L12/2,2)) -> 0 | M43: =IF(M12>=45,POWER(M12,2),POWER(M12/2,2)) -> 0 | N43: =IF(N12>=45,POWER(N12,2),POWER(N12/2,2)) -> 0 | O43: =IF(O12>=40,POWER(O12,2),POWER(O12/2,2)) -> 0 | P43: =IF(P12>=40,POWER(P12,2),POWER(P12/2,2)) -> 0
A44: =A43+1 -> 11 | B44: =B13 -> Perch Legends | C44: =C13 -> Каменец Алексей | D44: =SUM(F44:P44) -> 97.0225 | E44: =IF(D44>0,RANK(D44,$D$34:$D$61),реглист!$C$62+1) -> 20 | F44: =POWER(F13,2) -> 0 | G44: =POWER(G13,2) -> 0 | H44: =POWER(H13,2) -> 0 | I44: =POWER(I13,2) -> 0 | J44: =POWER(J13,2) -> 0 | K44: =IF(K13>=45,POWER(K13,2),POWER(K13/2,2)) -> 97.0225 | L44: =IF(L13>=45,POWER(L13,2),POWER(L13/2,2)) -> 0 | M44: =IF(M13>=45,POWER(M13,2),POWER(M13/2,2)) -> 0 | N44: =IF(N13>=45,POWER(N13,2),POWER(N13/2,2)) -> 0 | O44: =IF(O13>=40,POWER(O13,2),POWER(O13/2,2)) -> 0 | P44: =IF(P13>=40,POWER(P13,2),POWER(P13/2,2)) -> 0
A45: =A44+1 -> 12 | B45: =B14 -> Bait Breath Team | C45: =C14 -> Бахур Александр | D45: =SUM(F45:P45) -> 282.24 | E45: =IF(D45>0,RANK(D45,$D$34:$D$61),реглист!$C$62+1) -> 13 | F45: =POWER(F14,2) -> 282.24 | G45: =POWER(G14,2) -> 0 | H45: =POWER(H14,2) -> 0 | I45: =POWER(I14,2) -> 0 | J45: =POWER(J14,2) -> 0 | K45: =IF(K14>=45,POWER(K14,2),POWER(K14/2,2)) -> 0 | L45: =IF(L14>=45,POWER(L14,2),POWER(L14/2,2)) -> 0 | M45: =IF(M14>=45,POWER(M14,2),POWER(M14/2,2)) -> 0 | N45: =IF(N14>=45,POWER(N14,2),POWER(N14/2,2)) -> 0 | O45: =IF(O14>=40,POWER(O14,2),POWER(O14/2,2)) -> 0 | P45: =IF(P14>=40,POWER(P14,2),POWER(P14/2,2)) -> 0
A46: =A45+1 -> 13 | B46: =B15 -> FishUp Team | C46: =C15 -> Крук Денис | D46: =SUM(F46:P46) -> 0 | E46: =IF(D46>0,RANK(D46,$D$34:$D$61),реглист!$C$62+1) -> 29 | F46: =POWER(F15,2) -> 0 | G46: =POWER(G15,2) -> 0 | H46: =POWER(H15,2) -> 0 | I46: =POWER(I15,2) -> 0 | J46: =POWER(J15,2) -> 0 | K46: =IF(K15>=45,POWER(K15,2),POWER(K15/2,2)) -> 0 | L46: =IF(L15>=45,POWER(L15,2),POWER(L15/2,2)) -> 0 | M46: =IF(M15>=45,POWER(M15,2),POWER(M15/2,2)) -> 0 | N46: =IF(N15>=45,POWER(N15,2),POWER(N15/2,2)) -> 0 | O46: =IF(O15>=40,POWER(O15,2),POWER(O15/2,2)) -> 0 | P46: =IF(P15>=40,POWER(P15,2),POWER(P15/2,2)) -> 0
... A61: =A60+1 -> 28 | B61: =B30 -> Кооператив Хищник | C61: =C30 -> Сницкий Владимир | D61: =SUM(F61:P61) -> 196 | E61: =IF(D61>0,RANK(D61,$D$34:$D$61),реглист!$C$62+1) -> 18 | F61: =POWER(F30,2) -> 0 | G61: =POWER(G30,2) -> 0 | H61: =POWER(H30,2) -> 0 | I61: =POWER(I30,2) -> 0 | J61: =POWER(J30,2) -> 0 | K61: =IF(K30>=45,POWER(K30,2),POWER(K30/2,2)) -> 0 | L61: =IF(L30>=45,POWER(L30,2),POWER(L30/2,2)) -> 0 | M61: =IF(M30>=45,POWER(M30,2),POWER(M30/2,2)) -> 0 | N61: =IF(N30>=45,POWER(N30,2),POWER(N30/2,2)) -> 0 | O61: =IF(O30>=40,POWER(O30,2),POWER(O30/2,2)) -> 196 | P61: =IF(P30>=40,POWER(P30,2),POWER(P30/2,2)) -> 0

Sheet Т2Зб
A1: № | B1: команда | C1: участник | D1: сумма баллов | E1: место | F1: окунь | J1: щука | M1: жерех | O1: голавль
F2: размер, см
A3: 1 | B3: =Т1За!B3 -> Alutech Team | C3: =Т1За!C3 -> Янкович Сергей | D3: =D34 -> 297.32 | E3: =E34 -> 14 | F3: 10.6 | G3: 13.6
A4: =A3+1 -> 2 | B4: =Т1За!B4 -> Pike Death TEAM | C4: =Т1За!C4 -> Ставер Дмитрий | D4: =D35 -> 148.84 | E4: =E35 -> 19 | F4: 12.2
A5: =A4+1 -> 3 | B5: =Т1За!B5 -> Peacock Bass | C5: =Т1За!C5 -> Сенчуров Иван | D5: =D36 -> 368.2625 | E5: =E36 -> 9 | F5: 15.4 | J5: 22.9
A6: =A5+1 -> 4 | B6: =Т1За!B6 -> Bass Hunters | C6: =Т1За!C6 -> Шевко Виталий | D6: =D37 -> 711.44 | E6: =E37 -> 4 | F6: 13.4 | G6: 15.8 | H6: 16.8
A7: =A6+1 -> 5 | B7: =Т1За!B7 -> Poseidon | C7: =Т1За!C7 -> Чижонок Сергей | D7: =D38 -> 477.45 | E7: =E38 -> 7 | F7: 15.6 | G7: 15.3
A8: =A7+1 -> 6 | B8: =Т1За!B8 -> FISHINGSTOCK BELARUS | C8: =Т1За!C8 -> Лунякин Олег | D8: =D39 -> 193.21 | E8: =E39 -> 17 | F8: 13.9
A9: =A8+1 -> 7 | B9: =Т1За!B9 -> West Fishing | C9: =Т1За!C9 -> Непомнящий Виктор | D9: =D40 -> 763.65 | E9: =E40 -> 3 | F9: 13.6 | G9: 15.4 | H9: 11.2 | I9: 14.7
A10: =A9+1 -> 8 | B10: =Т1За!B10 -> Gefest | C10: =Т1За!C10 -> Саган Сергей | D10: =D41 -> 1250.02 | E10: =E41 -> 2 | F10: 25.1 | G10: 24.9
A11: =A10+1 -> 9 | B11: =Т1За!B11 -> Bona Кобрин | C11: =Т1За!C11 -> Марковский Максим | D11: =D42 -> 0 | E11: =E42 -> 29
A12: =A11+1 -> 10 | B12: =Т1За!B12 -> Трудовые резервы | C12: =Т1За!C12 -> Пожарский Константин | D12: =D43 -> 0 | E12: =E43 -> 29
A13: =A12+1 -> 11 | B13: =Т1За!B13 -> Perch Legends | C13: =Т1За!C13 -> Лабанок Александр | D13: =D44 -> 166.41 | E13: =E44 -> 18 | F13: 12.9
A14: =A13+1 -> 12 | B14: =Т1За!B14 -> Bait Breath Team | C14: =Т1За!C14 -> Зубко Сергей | D14: =D45 -> 327.07 | E14: =E45 -> 13 | F14: 14.1 | J14: 19.8 | O14: 11
A15: =A14+1 -> 13 | B15: =Т1За!B15 -> FishUp Team | C15: =Т1За!C15 -> Волосевич Виталий | D15: =D46 -> 225 | E15: =E46 -> 16 | F15: 15
A16: =A15+1 -> 14 | B16: =Т1За!B16 -> Amateurs | C16: =Т1За!C16 -> Соколов Кирилл | D16: =D47 -> 0 | E16: =E47 -> 29
A17: =A16+1 -> 15 | B17: =Т1За!B17 -> RockFish | C17: =Т1За!C17 -> Силивончик Павел | D17: =D48 -> 349.69 | E17: =E48 -> 12 | F17: 18.7
A18: =A17+1 -> 16 | B18: =Т1За!B18 -> Против Течения | C18: =Т1За!C18 -> Кириенко Кирилл | D18: =D49 -> 522.25 | E18: =E49 -> 5 | F18: 16.7 | G18: 15.6
A19: =A18+1 -> 17 | B19: =Т1За!B19 -> ASpinnTeam | C19: =Т1За!C19 -> Нугуманов Артём | D19: =D50 -> 0 | E19: =E50 -> 29
A20: =A19+1 -> 18 | B20: =Т1За!B20 -> Fanatic Belarus | C20: =Т1За!C20 -> Рулинский Александр | D20: =D51 -> 89.3025 | E20: =E51 -> 20 | M20: 18.9
A21: =A20+1 -> 19 | B21: =Т1За!B21 -> SB-FISHING | C21: =Т1За!C21 -> Болбас Тимофей | D21: =D52 -> 2579.43 | E21: =E52 -> 1 | F21: 13.7 | G21: 13.5 | H21: 11.8 | J21: 45.5
A22: =A21+1 -> 20 | B22: =Т1За!B22 -> Фарватер | C22: =Т1За!C22 -> Цыганок Михаил | D22: =D53 -> 234.09 | E22: =E53 -> 15 | F22: 15.3
A23: =A22+1 -> 21 | B23: =Т1За!B23 -> Old Roads Fishing | C23: =Т1За!C23 -> Чернышёв Егор | D23: =D54 -> 432.585 | E23: =E54 -> 8 | J23: 28.5 | K23: 30.3
A24: =A23+1 -> 22 | B24: =Т1За!B24 -> Dream Team | C24: =Т1За!C24 -> Тысевич Сергей | D24: =D55 -> 0 | E24: =E55 -> 29
A25: =A24+1 -> 23 | B25: =Т1За!B25 -> UL Hooligans | C25: =Т1За!C25 -> Уютов Кирилл | D25: =D56 -> 0 | E25: =E56 -> 29
A26: =A25+1 -> 24 | B26: =Т1За!B26 -> Black River Team | C26: =Т1За!C26 -> Ворон Павел | D26: =D57 -> 0 | E26: =E57 -> 29
A27: =A26+1 -> 25 | B27: =Т1За!B27 -> Legion | C27: =Т1За!C27 -> Микулов Владимир | D27: =D58 -> 352.6425 | E27: =E58 -> 11 | J27: 21.8 | K27: 18.7 | M27: 24.2
A28: =A27+1 -> 26 | B28: =Т1За!B28 -> nanobass | C28: =Т1За!C28 -> Бычик Роман | D28: =D59 -> 0 | E28: =E59 -> 29
A29: =A28+1 -> 27 | B29: =Т1За!B29 -> XULi-Uli | C29: =Т1За!C29 -> Лавренчук Станислав | D29: =D60 -> 359.12 | E29: =E60 -> 10 | F29: 13.4 | M29: 26.8
A30: =A29+1 -> 28 | B30: =Т1За!B30 -> Кооператив Хищник | C30: =Т1За!C30 -> Сницкий Виктор | D30: =D61 -> 497.9 | E30: =E61 -> 6 | F30: 15.5 | G30: 11.4 | J30: 22.6
C31: средняя длина рыб по виду: | F31: =AVERAGE(F3:I30) -> 15.003448 | J31: =AVERAGE(J3:L30) -> 26.2625 | M31: =AVERAGE(M3:N30) -> 23.3 | O31: =AVERAGE(O3:P30) -> 11
A32: № | B32: команда | C32: участник | D32: сумма баллов | E32: место | F32: баллы
A34: 1 | B34: =B3 -> Alutech Team | C34: =C3 -> Янкович Сергей | D34: =SUM(F34:P34) -> 297.32 | E34: =IF(D34>0,RANK(D34,$D$34:$D$61),реглист!$C$62+1) -> 14 | F34: =POWER(F3,2) -> 112.36 | G34: =POWER(G3,2) -> 184.96 | H34: =POWER(H3,2) -> 0 | I34: =POWER(I3,2) -> 0 | J34: =IF(J3>=45,POWER(J3,2),POWER(J3/2,2)) -> 0 | K34: =IF(K3>=45,POWER(K3,2),POWER(K3/2,2)) -> 0 | L34: =IF(L3>=45,POWER(L3,2),POWER(L3/2,2)) -> 0 | M34: =IF(M3>=40,POWER(M3,2),POWER(M3/2,2)) -> 0 | N34: =IF(N3>=40,POWER(N3,2),POWER(N3/2,2)) -> 0 | O34: =IF(O3>=30,POWER(O3,2),POWER(O3/2,2)) -> 0 | P34: =IF(P3>=30,POWER(P3,2),POWER(P3/2,2)) -> 0
A35: =A34+1 -> 2 | B35: =B4 -> Pike Death TEAM | C35: =C4 -> Ставер Дмитрий | D35: =SUM(F35:P35) -> 148.84 | E35: =IF(D35>0,RANK(D35,$D$34:$D$61),реглист!$C$62+1) -> 19 | F35: =POWER(F4,2) -> 148.84 | G35: =POWER(G4,2) -> 0 | H35: =POWER(H4,2) -> 0 | I35: =POWER(I4,2) -> 0 | J35: =IF(J4>=45,POWER(J4,2),POWER(J4/2,2)) -> 0 | K35: =IF(K4>=45,POWER(K4,2),POWER(K4/2,2)) -> 0 | L35: =IF(L4>=45,POWER(L4,2),POWER(L4/2,2)) -> 0 | M35: =IF(M4>=40,POWER(M4,2),POWER(M4/2,2)) -> 0 | N35: =IF(N4>=40,POWER(N4,2),POWER(N4/2,2)) -> 0 | O35: =IF(O4>=30,POWER(O4,2),POWER(O4/2,2)) -> 0 | P35: =IF(P4>=30,POWER(P4,2),POWER(P4/2,2)) -> 0
A36: =A35+1 -> 3 | B36: =B5 -> Peacock Bass | C36: =C5 -> Сенчуров Иван | D36: =SUM(F36:P36) -> 368.2625 | E36: =IF(D36>0,RANK(D36,$D$34:$D$61),реглист!$C$62+1) -> 9 | F36: =POWER(F5,2) -> 237.16 | G36: =POWER(G5,2) -> 0 | H36: =POWER(H5,2) -> 0 | I36: =POWER(I5,2) -> 0 | J36: =IF(J5>=45,POWER(J5,2),POWER(J5/2,2)) -> 131.1025 | K36: =IF(K5>=45,POWER(K5,2),POWER(K5/2,2)) -> 0 | L36: =IF(L5>=45,POWER(L5,2),POWER(L5/2,2)) -> 0 | M36: =IF(M5>=40,POWER(M5,2),POWER(M5/2,2)) -> 0 | N36: =IF(N5>=40,POWER(N5,2),POWER(N5/2,2)) -> 0 | O36: =IF(O5>=30,POWER(O5,2),POWER(O5/2,2)) -> 0 | P36: =IF(P5>=30,POWER(P5,2),POWER(P5/2,2)) -> 0
A37: =A36+1 -> 4 | B37: =B6 -> Bass Hunters | C37: =C6 -> Шевко Виталий | D37: =SUM(F37:P37) -> 711.44 | E37: =IF(D37>0,RANK(D37,$D$34:$D$61),реглист!$C$62+1) -> 4 | F37: =POWER(F6,2) -> 179.56 | G37: =POWER(G6,2) -> 249.64 | H37: =POWER(H6,2) -> 282.24 | I37: =POWER(I6,2) -> 0 | J37: =IF(J6>=45,POWER(J6,2),POWER(J6/2,2)) -> 0 | K37: =IF(K6>=45,POWER(K6,2),POWER(K6/2,2)) -> 0 | L37: =IF(L6>=45,POWER(L6,2),POWER(L6/2,2)) -> 0 | M37: =IF(M6>=40,POWER(M6,2),POWER(M6/2,2)) -> 0 | N37: =IF(N6>=40,POWER(N6,2),POWER(N6/2,2)) -> 0 | O37: =IF(O6>=30,POWER(O6,2),POWER(O6/2,2)) -> 0 | P37: =IF(P6>=30,POWER(P6,2),POWER(P6/2,2)) -> 0
A38: =A37+1 -> 5 | B38: =B7 -> Poseidon | C38: =C7 -> Чижонок Сергей | D38: =SUM(F38:P38) -> 477.45 | E38: =IF(D38>0,RANK(D38,$D$34:$D$61),реглист!$C$62+1) -> 7 | F38: =POWER(F7,2) -> 243.36 | G38: =POWER(G7,2) -> 234.09 | H38: =POWER(H7,2) -> 0 | I38: =POWER(I7,2) -> 0 | J38: =IF(J7>=45,POWER(J7,2),POWER(J7/2,2)) -> 0 | K38: =IF(K7>=45,POWER(K7,2),POWER(K7/2,2)) -> 0 | L38: =IF(L7>=45,POWER(L7,2),POWER(L7/2,2)) -> 0 | M38: =IF(M7>=40,POWER(M7,2),POWER(M7/2,2)) -> 0 | N38: =IF(N7>=40,POWER(N7,2),POWER(N7/2,2)) -> 0 | O38: =IF(O7>=30,POWER(O7,2),POWER(O7/2,2)) -> 0 | P38: =IF(P7>=30,POWER(P7,2),POWER(P7/2,2)) -> 0
A39: =A38+1 -> 6 | B39: =B8 -> FISHINGSTOCK BELARUS | C39: =C8 -> Лунякин Олег | D39: =SUM(F39:P39) -> 193.21 | E39: =IF(D39>0,RANK(D39,$D$34:$D$61),реглист!$C$62+1) -> 17 | F39: =POWER(F8,2) -> 193.21 | G39: =POWER(G8,2) -> 0 | H39: =POWER(H8,2) -> 0 | I39: =POWER(I8,2) -> 0 | J39: =IF(J8>=45,POWER(J8,2),POWER(J8/2,2)) -> 0 | K39: =IF(K8>=45,POWER(K8,2),POWER(K8/2,2)) -> 0 | L39: =IF(L8>=45,POWER(L8,2),POWER(L8/2,2)) -> 0 | M39: =IF(M8>=40,POWER(M8,2),POWER(M8/2,2)) -> 0 | N39: =IF(N8>=40,POWER(N8,2),POWER(N8/2,2)) -> 0 | O39: =IF(O8>=30,POWER(O8,2),POWER(O8/2,2)) -> 0 | P39: =IF(P8>=30,POWER(P8,2),POWER(P8/2,2)) -> 0
A40: =A39+1 -> 7 | B40: =B9 -> West Fishing | C40: =C9 -> Непомнящий Виктор | D40: =SUM(F40:P40) -> 763.65 | E40: =IF(D40>0,RANK(D40,$D$34:$D$61),реглист!$C$62+1) -> 3 | F40: =POWER(F9,2) -> 184.96 | G40: =POWER(G9,2) -> 237.16 | H40: =POWER(H9,2) -> 125.44 | I40: =POWER(I9,2) -> 216.09 | J40: =IF(J9>=45,POWER(J9,2),POWER(J9/2,2)) -> 0 | K40: =IF(K9>=45,POWER(K9,2),POWER(K9/2,2)) -> 0 | L40: =IF(L9>=45,POWER(L9,2),POWER(L9/2,2)) -> 0 | M40: =IF(M9>=40,POWER(M9,2),POWER(M9/2,2)) -> 0 | N40: =IF(N9>=40,POWER(N9,2),POWER(N9/2,2)) -> 0 | O40: =IF(O9>=30,POWER(O9,2),POWER(O9/2,2)) -> 0 | P40: =IF(P9>=30,POWER(P9,2),POWER(P9/2,2)) -> 0
A41: =A40+1 -> 8 | B41: =B10 -> Gefest | C41: =C10 -> Саган Сергей | D41: =SUM(F41:P41) -> 1250.02 | E41: =IF(D41>0,RANK(D41,$D$34:$D$61),реглист!$C$62+1) -> 2 | F41: =POWER(F10,2) -> 630.01 | G41: =POWER(G10,2) -> 620.01 | H41: =POWER(H10,2) -> 0 | I41: =POWER(I10,2) -> 0 | J41: =IF(J10>=45,POWER(J10,2),POWER(J10/2,2)) -> 0 | K41: =IF(K10>=45,POWER(K10,2),POWER(K10/2,2)) -> 0 | L41: =IF(L10>=45,POWER(L10,2),POWER(L10/2,2)) -> 0 | M41: =IF(M10>=40,POWER(M10,2),POWER(M10/2,2)) -> 0 | N41: =IF(N10>=40,POWER(N10,2),POWER(N10/2,2)) -> 0 | O41: =IF(O10>=30,POWER(O10,2),POWER(O10/2,2)) -> 0 | P41: =IF(P10>=30,POWER(P10,2),POWER(P10/2,2)) -> 0
A42: =A41+1 -> 9 | B42: =B11 -> Bona Кобрин | C42: =C11 -> Марковский Максим | D42: =SUM(F42:P42) -> 0 | E42: =IF(D42>0,RANK(D42,$D$34:$D$61),реглист!$C$62+1) -> 29 | F42: =POWER(F11,2) -> 0 | G42: =POWER(G11,2) -> 0 | H42: =POWER(H11,2) -> 0 | I42: =POWER(I11,2) -> 0 | J42: =IF(J11>=45,POWER(J11,2),POWER(J11/2,2)) -> 0 | K42: =IF(K11>=45,POWER(K11,2),POWER(K11/2,2)) -> 0 | L42: =IF(L11>=45,POWER(L11,2),POWER(L11/2,2)) -> 0 | M42: =IF(M11>=40,POWER(M11,2),POWER(M11/2,2)) -> 0 | N42: =IF(N11>=40,POWER(N11,2),POWER(N11/2,2)) -> 0 | O42: =IF(O11>=30,POWER(O11,2),POWER(O11/2,2)) -> 0 | P42: =IF(P11>=30,POWER(P11,2),POWER(P11/2,2)) -> 0
A43: =A42+1 -> 10 | B43: =B12 -> Трудовые резервы | C43: =C12 -> Пожарский Константин | D43: =SUM(F43:P43) -> 0 | E43: =IF(D43>0,RANK(D43,$D$34:$D$61),реглист!$C$62+1) -> 29 | F43: =POWER(F12,2) -> 0 | G43: =POWER(G12,2) -> 0 | H43: =POWER(H12,2) -> 0 | I43: =POWER(I12,2) -> 0 | J43: =IF(J12>=45,POWER(J12,2),POWER(J12/2,2)) -> 0 | K43: =IF(K12>=45,POWER(K12,2),POWER(K12/2,2)) -> 0 | L43: =IF(L12>=45,POWER(L12,2),POWER(L12/2,2)) -> 0 | M43: =IF(M12>=40,POWER(M12,2),POWER(M12/2,2)) -> 0 | N43: =IF(N12>=40,POWER(N12,2),POWER(N12/2,2)) -> 0 | O43: =IF(O12>=30,POWER(O12,2),POWER(O12/2,2)) -> 0 | P43: =IF(P12>=30,POWER(P12,2),POWER(P12/2,2)) -> 0
A44: =A43+1 -> 11 | B44: =B13 -> Perch Legends | C44: =C13 -> Лабанок Александр | D44: =SUM(F44:P44) -> 166.41 | E44: =IF(D44>0,RANK(D44,$D$34:$D$61),реглист!$C$62+1) -> 18 | F44: =POWER(F13,2) -> 166.41 | G44: =POWER(G13,2) -> 0 | H44: =POWER(H13,2) -> 0 | I44: =POWER(I13,2) -> 0 | J44: =IF(J13>=45,POWER(J13,2),POWER(J13/2,2)) -> 0 | K44: =IF(K13>=45,POWER(K13,2),POWER(K13/2,2)) -> 0 | L44: =IF(L13>=45,POWER(L13,2),POWER(L13/2,2)) -> 0 | M44: =IF(M13>=40,POWER(M13,2),POWER(M13/2,2)) -> 0 | N44: =IF(N13>=40,POWER(N13,2),POWER(N13/2,2)) -> 0 | O44: =IF(O13>=30,POWER(O13,2),POWER(O13/2,2)) -> 0 | P44: =IF(P13>=30,POWER(P13,2),POWER(P13/2,2)) -> 0
A45: =A44+1 -> 12 | B45: =B14 -> Bait Breath Team | C45: =C14 -> Зубко Сергей | D45: =SUM(F45:P45) -> 327.07 | E45: =IF(D45>0,RANK(D45,$D$34:$D$61),реглист!$C$62+1) -> 13 | F45: =POWER(F14,2) -> 198.81 | G45: =POWER(G14,2) -> 0 | H45: =POWER(H14,2) -> 0 | I45: =POWER(I14,2) -> 0 | J45: =IF(J14>=45,POWER(J14,2),POWER(J14/2,2)) -> 98.01 | K45: =IF(K14>=45,POWER(K14,2),POWER(K14/2,2)) -> 0 | L45: =IF(L14>=45,POWER(L14,2),POWER(L14/2,2)) -> 0 | M45: =IF(M14>=40,POWER(M14,2),POWER(M14/2,2)) -> 0 | N45: =IF(N14>=40,POWER(N14,2),POWER(N14/2,2)) -> 0 | O45: =IF(O14>=30,POWER(O14,2),POWER(O14/2,2)) -> 30.25 | P45: =IF(P14>=30,POWER(P14,2),POWER(P14/2,2)) -> 0
A46: =A45+1 -> 13 | B46: =B15 -> FishUp Team | C46: =C15 -> Волосевич Виталий | D46: =SUM(F46:P46) -> 225 | E46: =IF(D46>0,RANK(D46,$D$34:$D$61),реглист!$C$62+1) -> 16 | F46: =POWER(F15,2) -> 225 | G46: =POWER(G15,2) -> 0 | H46: =POWER(H15,2) -> 0 | I46: =POWER(I15,2) -> 0 | J46: =IF(J15>=45,POWER(J15,2),POWER(J15/2,2)) -> 0 | K46: =IF(K15>=45,POWER(K15,2),POWER(K15/2,2)) -> 0 | L46: =IF(L15>=45,POWER(L15,2),POWER(L15/2,2)) -> 0 | M46: =IF(M15>=40,POWER(M15,2),POWER(M15/2,2)) -> 0 | N46: =IF(N15>=40,POWER(N15,2),POWER(N15/2,2)) -> 0 | O46: =IF(O15>=30,POWER(O15,2),POWER(O15/2,2)) -> 0 | P46: =IF(P15>=30,POWER(P15,2),POWER(P15/2,2)) -> 0
... A61: =A60+1 -> 28 | B61: =B30 -> Кооператив Хищник | C61: =C30 -> Сницкий Виктор | D61: =SUM(F61:P61) -> 497.9 | E61: =IF(D61>0,RANK(D61,$D$34:$D$61),реглист!$C$62+1) -> 6 | F61: =POWER(F30,2) -> 240.25 | G61: =POWER(G30,2) -> 129.96 | H61: =POWER(H30,2) -> 0 | I61: =POWER(I30,2) -> 0 | J61: =IF(J30>=45,POWER(J30,2),POWER(J30/2,2)) -> 127.69 | K61: =IF(K30>=45,POWER(K30,2),POWER(K30/2,2)) -> 0 | L61: =IF(L30>=45,POWER(L30,2),POWER(L30/2,2)) -> 0 | M61: =IF(M30>=40,POWER(M30,2),POWER(M30/2,2)) -> 0 | N61: =IF(N30>=40,POWER(N30,2),POWER(N30/2,2)) -> 0 | O61: =IF(O30>=30,POWER(O30,2),POWER(O30/2,2)) -> 0 | P61: =IF(P30>=30,POWER(P30,2),POWER(P30/2,2)) -> 0

Sheet FuzzyLookup_AddIn_Undo_Sheet
A1: № | B1: Команды | C1: Участники | D1: Тур 1 | H1: Тур 2 | L1: Личный зачет | O1: Командный зачет
D2: Зона А | F2: Зона Б | H2: Зона А | J2: Зона Б
D3: баллы | E3: место | F3: баллы | G3: место | H3: баллы | I3: место | J3: баллы | K3: место | L3: баллы | M3: сумма мест | N3: место | O3: баллы | P3: сумма мест | Q3: место
A4: 1 | B4: Cast-Fishing | C4: Лихачев Максим | L4: =D4+F4+H4+J4 -> 0 | M4: =E4+G4+I4+K4 -> 0 | O4: =L4+L5 -> 0 | P4: =M4+M5 -> 0
C5: Ковальчук Дмитрий | L5: =D5+F5+H5+J5 -> 0 | M5: =E5+G5+I5+K5 -> 0
A6: 2 | B6: Peacock Bass | C6: Сенчуров Иван | L6: =D6+F6+H6+J6 -> 0 | M6: =E6+G6+I6+K6 -> 0 | O6: =L6+L7 -> 0 | P6: =M6+M7 -> 0
C7: Дроздов Виталий | L7: =D7+F7+H7+J7 -> 0 | M7: =E7+G7+I7+K7 -> 0
A8: 3 | B8: Adventurers | C8: Бахур Александр | D8: 196 | L8: =D8+F8+H8+J8 -> 196 | M8: =E8+G8+I8+K8 -> 0 | O8: =L8+L9 -> 196 | P8: =M8+M9 -> 0
C9: Зубко Сергей | L9: =D9+F9+H9+J9 -> 0 | M9: =E9+G9+I9+K9 -> 0
A10: 4 | B10: MicroKiller | C10: Купрейчик Сергей | L10: =D10+F10+H10+J10 -> 0 | M10: =E10+G10+I10+K10 -> 0 | O10: =L10+L11 -> 81 | P10: =M10+M11 -> 0
C11: Янкович Сергей | D11: 81 | L11: =D11+F11+H11+J11 -> 81 | M11: =E11+G11+I11+K11 -> 0
A12: 5 | B12: Per4 | C12: Лунякин Олег | L12: =D12+F12+H12+J12 -> 0 | M12: =E12+G12+I12+K12 -> 0 | O12: =L12+L13 -> 36 | P12: =M12+M13 -> 0
C13: Каменец Алексей | D13: 36 | L13: =D13+F13+H13+J13 -> 36 | M13: =E13+G13+I13+K13 -> 0
A14: 6 | B14: Poseidon | C14: Чижонок Сергей | D14: 121 | L14: =D14+F14+H14+J14 -> 121 | M14: =E14+G14+I14+K14 -> 0 | O14: =L14+L15 -> 121 | P14: =M14+M15 -> 0
C15: Строк Павел | L15: =D15+F15+H15+J15 -> 0 | M15: =E15+G15+I15+K15 -> 0
A16: 7 | B16: West Fishing | C16: Непомнящий Виктор | L16: =D16+F16+H16+J16 -> 0 | M16: =E16+G16+I16+K16 -> 0 | O16: =L16+L17 -> 0 | P16: =M16+M17 -> 0
C17: Золотарь Андрей | L17: =D17+F17+H17+J17 -> 0 | M17: =E17+G17+I17+K17 -> 0
A18: 8 | B18: nanobass | C18: Бычик Роман | D18: 100 | L18: =D18+F18+H18+J18 -> 100 | M18: =E18+G18+I18+K18 -> 0 | O18: =L18+L19 -> 100 | P18: =M18+M19 -> 0
C19: Шевко Виталий | L19: =D19+F19+H19+J19 -> 0 | M19: =E19+G19+I19+K19 -> 0
A20: 9 | B20: Трудовые резервы | C20: Пожарский Константин | L20: =D20+F20+H20+J20 -> 0 | M20: =E20+G20+I20+K20 -> 0 | O20: =L20+L21 -> 49 | P20: =M20+M21 -> 0
C21: Бобриков Алексей | D21: 49 | L21: =D21+F21+H21+J21 -> 49 | M21: =E21+G21+I21+K21 -> 0
A22: 10 | B22: Lunker Tail | C22: Козел Вячеслав | L22: =D22+F22+H22+J22 -> 0 | M22: =E22+G22+I22+K22 -> 0 | O22: =L22+L23 -> 64 | P22: =M22+M23 -> 0
C23: Кириевский Андрей | D23: 64 | L23: =D23+F23+H23+J23 -> 64 | M23: =E23+G23+I23+K23 -> 0
A24: 11 | B24: Против Течения | C24: Ананич Геннадий | L24: =D24+F24+H24+J24 -> 0 | M24: =E24+G24+I24+K24 -> 0 | O24: =L24+L25 -> 0 | P24: =M24+M25 -> 0
C25: Кириенко Кирилл | L25: =D25+F25+H25+J25 -> 0 | M25: =E25+G25+I25+K25 -> 0
A26: 12 | B26: ЕК | C26: Ковалев Евгений | D26: 169 | L26: =D26+F26+H26+J26 -> 169 | M26: =E26+G26+I26+K26 -> 0 | O26: =L26+L27 -> 169 | P26: =M26+M27 -> 0
C27: Казанцев Евгений | L27: =D27+F27+H27+J27 -> 0 | M27: =E27+G27+I27+K27 -> 0
A28: 13 | B28: Legion | C28: Бойко Сергей | L28: =D28+F28+H28+J28 -> 0 | M28: =E28+G28+I28+K28 -> 0 | O28: =L28+L29 -> 225 | P28: =M28+M29 -> 0
C29: Микулов Владимир | D29: 225 | L29: =D29+F29+H29+J29 -> 225 | M29: =E29+G29+I29+K29 -> 0
A30: 14 | B30: Степ Гарант | C30: Мельников Ю. В. | D30: 144 | L30: =D30+F30+H30+J30 -> 144 | M30: =E30+G30+I30+K30 -> 0 | O30: =L30+L31 -> 144 | P30: =M30+M31 -> 0
C31: Кравченко И. П. | L31: =D31+F31+H31+J31 -> 0 | M31: =E31+G31+I31+K31 -> 0

Sheet Итоги
A1: № | B1: Команды | C1: Участники | D1: Тур 1 | H1: Тур 2 | L1: Личный зачет | O1: Командный зачет
D2: Зона А | F2: Зона Б | H2: Зона А | J2: Зона Б
D3: баллы | E3: меcто | F3: баллы | G3: место | H3: баллы | I3: место | J3: баллы | K3: место | L3: баллы | M3: сумма мест | N3: место | O3: баллы | P3: сумма мест | Q3: место
A4: 1 | B4: =реглист!B5 -> Alutech Team | C4: =реглист!C5 -> Купрейчик Сергей | D4: =IFERROR(VLOOKUP(C4,Т1За!$C$3:$D$31,2,0),0) -> 0 | E4: =IFERROR(VLOOKUP(C4,Т1За!$C$3:$E$31,3,0),0) -> 0 | F4: =IFERROR(VLOOKUP(C4,Т1Зб!$C$3:$D$31,2,0),0) -> 1206.48 | G4: =IFERROR(VLOOKUP(C4,Т1Зб!$C$3:$E$31,3,0),0) -> 7 | H4: =IFERROR(VLOOKUP(C4,Т2За!$C$3:$D$31,2,0),0) -> 360.09 | I4: =IFERROR(VLOOKUP(C4,Т2За!$C$3:$E$31,3,0),0) -> 12 | J4: =IFERROR(VLOOKUP(C4,Т2Зб!$C$3:$D$31,2,0),0) -> 0 | K4: =IFERROR(VLOOKUP(C4,Т2Зб!$C$3:$E$31,3,0),0) -> 0 | L4: =D4+F4+H4+J4 -> 1566.57 | M4: =IF(L4=0,реглист!$C$62*2+2,E4+G4+I4+K4) -> 19 | N4: 16 | O4: =L4+L5 -> 2359.44 | P4: =IF(O4=0,реглист!$C$62*4+4,M4+M5) -> 46 | Q4: =IF(P4=реглист!$C$62*4+4,реглист!$C$62+1,RANK(P4,$P$4:$P$59,1)) -> 11
A5: =A4+1 -> 2 | B5: =реглист!B6 -> Alutech Team | C5: =реглист!C6 -> Янкович Сергей | D5: =IFERROR(VLOOKUP(C5,Т1За!$C$3:$D$31,2,0),0) -> 495.55 | E5: =IFERROR(VLOOKUP(C5,Т1За!$C$3:$E$31,3,0),0) -> 13 | F5: =IFERROR(VLOOKUP(C5,Т1Зб!$C$3:$D$31,2,0),0) -> 0 | G5: =IFERROR(VLOOKUP(C5,Т1Зб!$C$3:$E$31,3,0),0) -> 0 | H5: =IFERROR(VLOOKUP(C5,Т2За!$C$3:$D$31,2,0),0) -> 0 | I5: =IFERROR(VLOOKUP(C5,Т2За!$C$3:$E$31,3,0),0) -> 0 | J5: =IFERROR(VLOOKUP(C5,Т2Зб!$C$3:$D$31,2,0),0) -> 297.32 | K5: =IFERROR(VLOOKUP(C5,Т2Зб!$C$3:$E$31,3,0),0) -> 14 | L5: =D5+F5+H5+J5 -> 792.87 | M5: =IF(L5=0,реглист!$C$62*2+2,E5+G5+I5+K5) -> 27 | N5: 27
A6: =A5+1 -> 3 | B6: =реглист!B7 -> Pike Death TEAM | C6: =реглист!C7 -> Круглянин Сергей | D6: =IFERROR(VLOOKUP(C6,Т1За!$C$3:$D$31,2,0),0) -> 0 | E6: =IFERROR(VLOOKUP(C6,Т1За!$C$3:$E$31,3,0),0) -> 0 | F6: =IFERROR(VLOOKUP(C6,Т1Зб!$C$3:$D$31,2,0),0) -> 2972.4925 | G6: =IFERROR(VLOOKUP(C6,Т1Зб!$C$3:$E$31,3,0),0) -> 2 | H6: =IFERROR(VLOOKUP(C6,Т2За!$C$3:$D$31,2,0),0) -> 522.34 | I6: =IFERROR(VLOOKUP(C6,Т2За!$C$3:$E$31,3,0),0) -> 7 | J6: =IFERROR(VLOOKUP(C6,Т2Зб!$C$3:$D$31,2,0),0) -> 0 | K6: =IFERROR(VLOOKUP(C6,Т2Зб!$C$3:$E$31,3,0),0) -> 0 | L6: =D6+F6+H6+J6 -> 3494.8325 | M6: =IF(L6=0,реглист!$C$62*2+2,E6+G6+I6+K6) -> 9 | N6: 2 | O6: =L6+L7 -> 4118.9125 | P6: =IF(O6=0,реглист!$C$62*4+4,M6+M7) -> 45 | Q6: =IF(P6=реглист!$C$62*4+4,реглист!$C$62+1,RANK(P6,$P$4:$P$59,1)) -> 10
A7: =A6+1 -> 4 | B7: =реглист!B8 -> Pike Death TEAM | C7: =реглист!C8 -> Ставер Дмитрий | D7: =IFERROR(VLOOKUP(C7,Т1За!$C$3:$D$31,2,0),0) -> 475.24 | E7: =IFERROR(VLOOKUP(C7,Т1За!$C$3:$E$31,3,0),0) -> 17 | F7: =IFERROR(VLOOKUP(C7,Т1Зб!$C$3:$D$31,2,0),0) -> 0 | G7: =IFERROR(VLOOKUP(C7,Т1Зб!$C$3:$E$31,3,0),0) -> 0 | H7: =IFERROR(VLOOKUP(C7,Т2За!$C$3:$D$31,2,0),0) -> 0 | I7: =IFERROR(VLOOKUP(C7,Т2За!$C$3:$E$31,3,0),0) -> 0 | J7: =IFERROR(VLOOKUP(C7,Т2Зб!$C$3:$D$31,2,0),0) -> 148.84 | K7: =IFERROR(VLOOKUP(C7,Т2Зб!$C$3:$E$31,3,0),0) -> 19 | L7: =D7+F7+H7+J7 -> 624.08 | M7: =IF(L7=0,реглист!$C$62*2+2,E7+G7+I7+K7) -> 36 | N7: 37
A8: =A7+1 -> 5 | B8: =реглист!B9 -> Peacock Bass | C8: =реглист!C9 -> Сенчуров Иван | D8: =IFERROR(VLOOKUP(C8,Т1За!$C$3:$D$31,2,0),0) -> 452 | E8: =IFERROR(VLOOKUP(C8,Т1За!$C$3:$E$31,3,0),0) -> 18 | F8: =IFERROR(VLOOKUP(C8,Т1Зб!$C$3:$D$31,2,0),0) -> 0 | G8: =IFERROR(VLOOKUP(C8,Т1Зб!$C$3:$E$31,3,0),0) -> 0 | H8: =IFERROR(VLOOKUP(C8,Т2За!$C$3:$D$31,2,0),0) -> 0 | I8: =IFERROR(VLOOKUP(C8,Т2За!$C$3:$E$31,3,0),0) -> 0 | J8: =IFERROR(VLOOKUP(C8,Т2Зб!$C$3:$D$31,2,0),0) -> 368.2625 | K8: =IFERROR(VLOOKUP(C8,Т2Зб!$C$3:$E$31,3,0),0) -> 9 | L8: =D8+F8+H8+J8 -> 820.2625 | M8: =IF(L8=0,реглист!$C$62*2+2,E8+G8+I8+K8) -> 27 | N8: 26 | O8: =L8+L9 -> 2443.2825 | P8: =IF(O8=0,реглист!$C$62*4+4,M8+M9) -> 43 | Q8: =IF(P8=реглист!$C$62*4+4,реглист!$C$62+1,RANK(P8,$P$4:$P$59,1)) -> 8
A9: =A8+1 -> 6 | B9: =реглист!B10 -> Peacock Bass | C9: =реглист!C10 -> Вычиков Павел | D9: =IFERROR(VLOOKUP(C9,Т1За!$C$3:$D$31,2,0),0) -> 0 | E9: =IFERROR(VLOOKUP(C9,Т1За!$C$3:$E$31,3,0),0) -> 0 | F9: =IFERROR(VLOOKUP(C9,Т1Зб!$C$3:$D$31,2,0),0) -> 1132.77 | G9: =IFERROR(VLOOKUP(C9,Т1Зб!$C$3:$E$31,3,0),0) -> 8 | H9: =IFERROR(VLOOKUP(C9,Т2За!$C$3:$D$31,2,0),0) -> 490.25 | I9: =IFERROR(VLOOKUP(C9,Т2За!$C$3:$E$31,3,0),0) -> 8 | J9: =IFERROR(VLOOKUP(C9,Т2Зб!$C$3:$D$31,2,0),0) -> 0 | K9: =IFERROR(VLOOKUP(C9,Т2Зб!$C$3:$E$31,3,0),0) -> 0 | L9: =D9+F9+H9+J9 -> 1623.02 | M9: =IF(L9=0,реглист!$C$62*2+2,E9+G9+I9+K9) -> 16 | N9: 13
A10: =A9+1 -> 7 | B10: =реглист!B11 -> Bass Hunters | C10: =реглист!C11 -> Кириевский Андрей | D10: =IFERROR(VLOOKUP(C10,Т1За!$C$3:$D$31,2,0),0) -> 0 | E10: =IFERROR(VLOOKUP(C10,Т1За!$C$3:$E$31,3,0),0) -> 0 | F10: =IFERROR(VLOOKUP(C10,Т1Зб!$C$3:$D$31,2,0),0) -> 0 | G10: =IFERROR(VLOOKUP(C10,Т1Зб!$C$3:$E$31,3,0),0) -> 29 | H10: =IFERROR(VLOOKUP(C10,Т2За!$C$3:$D$31,2,0),0) -> 921.04 | I10: =IFERROR(VLOOKUP(C10,Т2За!$C$3:$E$31,3,0),0) -> 4 | J10: =IFERROR(VLOOKUP(C10,Т2Зб!$C$3:$D$31,2,0),0) -> 0 | K10: =IFERROR(VLOOKUP(C10,Т2Зб!$C$3:$E$31,3,0),0) -> 0 | L10: =D10+F10+H10+J10 -> 921.04 | M10: =IF(L10=0,реглист!$C$62*2+2,E10+G10+I10+K10) -> 33 | N10: 30 | O10: =L10+L11 -> 2394.26 | P10: =IF(O10=0,реглист!$C$62*4+4,M10+M11) -> 42 | Q10: =IF(P10=реглист!$C$62*4+4,реглист!$C$62+1,RANK(P10,$P$4:$P$59,1)) -> 7
A11: =A10+1 -> 8 | B11: =реглист!B12 -> Bass Hunters | C11: =реглист!C12 -> Шевко Виталий | D11: =IFERROR(VLOOKUP(C11,Т1За!$C$3:$D$31,2,0),0) -> 761.78 | E11: =IFERROR(VLOOKUP(C11,Т1За!$C$3:$E$31,3,0),0) -> 5 | F11: =IFERROR(VLOOKUP(C11,Т1Зб!$C$3:$D$31,2,0),0) -> 0 | G11: =IFERROR(VLOOKUP(C11,Т1Зб!$C$3:$E$31,3,0),0) -> 0 | H11: =IFERROR(VLOOKUP(C11,Т2За!$C$3:$D$31,2,0),0) -> 0 | I11: =IFERROR(VLOOKUP(C11,Т2За!$C$3:$E$31,3,0),0) -> 0 | J11: =IFERROR(VLOOKUP(C11,Т2Зб!$C$3:$D$31,2,0),0) -> 711.44 | K11: =IFERROR(VLOOKUP(C11,Т2Зб!$C$3:$E$31,3,0),0) -> 4 | L11: =D11+F11+H11+J11 -> 1473.22 | M11: =IF(L11=0,реглист!$C$62*2+2,E11+G11+I11+K11) -> 9 | N11: 3
A12: =A11+1 -> 9 | B12: =реглист!B13 -> Poseidon | C12: =реглист!C13 -> Чижонок Сергей | D12: =IFERROR(VLOOKUP(C12,Т1За!$C$3:$D$31,2,0),0) -> 718.16 | E12: =IFERROR(VLOOKUP(C12,Т1За!$C$3:$E$31,3,0),0) -> 6 | F12: =IFERROR(VLOOKUP(C12,Т1Зб!$C$3:$D$31,2,0),0) -> 0 | G12: =IFERROR(VLOOKUP(C12,Т1Зб!$C$3:$E$31,3,0),0) -> 0 | H12: =IFERROR(VLOOKUP(C12,Т2За!$C$3:$D$31,2,0),0) -> 0 | I12: =IFERROR(VLOOKUP(C12,Т2За!$C$3:$E$31,3,0),0) -> 0 | J12: =IFERROR(VLOOKUP(C12,Т2Зб!$C$3:$D$31,2,0),0) -> 477.45 | K12: =IFERROR(VLOOKUP(C12,Т2Зб!$C$3:$E$31,3,0),0) -> 7 | L12: =D12+F12+H12+J12 -> 1195.61 | M12: =IF(L12=0,реглист!$C$62*2+2,E12+G12+I12+K12) -> 13 | N12: 7 | O12: =L12+L13 -> 1402.97 | P12: =IF(O12=0,реглист!$C$62*4+4,M12+M13) -> 65 | Q12: =IF(P12=реглист!$C$62*4+4,реглист!$C$62+1,RANK(P12,$P$4:$P$59,1)) -> 15
A13: =A12+1 -> 10 | B13: =реглист!B14 -> Poseidon | C13: =реглист!C14 -> Строк Павел | D13: =IFERROR(VLOOKUP(C13,Т1За!$C$3:$D$31,2,0),0) -> 0 | E13: =IFERROR(VLOOKUP(C13,Т1За!$C$3:$E$31,3,0),0) -> 0 | F13: =IFERROR(VLOOKUP(C13,Т1Зб!$C$3:$D$31,2,0),0) -> 207.36 | G13: =IFERROR(VLOOKUP(C13,Т1Зб!$C$3:$E$31,3,0),0) -> 23 | H13: =IFERROR(VLOOKUP(C13,Т2За!$C$3:$D$31,2,0),0) -> 0 | I13: =IFERROR(VLOOKUP(C13,Т2За!$C$3:$E$31,3,0),0) -> 29 | J13: =IFERROR(VLOOKUP(C13,Т2Зб!$C$3:$D$31,2,0),0) -> 0 | K13: =IFERROR(VLOOKUP(C13,Т2Зб!$C$3:$E$31,3,0),0) -> 0 | L13: =D13+F13+H13+J13 -> 207.36 | M13: =IF(L13=0,реглист!$C$62*2+2,E13+G13+I13+K13) -> 52 | N13: 51
A14: =A13+1 -> 11 | B14: =реглист!B15 -> FISHINGSTOCK BELARUS | C14: =реглист!C15 -> Лунякин Олег | D14: =IFERROR(VLOOKUP(C14,Т1За!$C$3:$D$31,2,0),0) -> 144 | E14: =IFERROR(VLOOKUP(C14,Т1За!$C$3:$E$31,3,0),0) -> 26 | F14: =IFERROR(VLOOKUP(C14,Т1Зб!$C$3:$D$31,2,0),0) -> 0 | G14: =IFERROR(VLOOKUP(C14,Т1Зб!$C$3:$E$31,3,0),0) -> 0 | H14: =IFERROR(VLOOKUP(C14,Т2За!$C$3:$D$31,2,0),0) -> 0 | I14: =IFERROR(VLOOKUP(C14,Т2За!$C$3:$E$31,3,0),0) -> 0 | J14: =IFERROR(VLOOKUP(C14,Т2Зб!$C$3:$D$31,2,0),0) -> 193.21 | K14: =IFERROR(VLOOKUP(C14,Т2Зб!$C$3:$E$31,3,0),0) -> 17 | L14: =D14+F14+H14+J14 -> 337.21 | M14: =IF(L14=0,реглист!$C$62*2+2,E14+G14+I14+K14) -> 43 | N14: 43 | O14: =L14+L15 -> 1621.4 | P14: =IF(O14=0,реглист!$C$62*4+4,M14+M15) -> 78 | Q14: =IF(P14=реглист!$C$62*4+4,реглист!$C$62+1,RANK(P14,$P$4:$P$59,1)) -> 21
A15: =A14+1 -> 12 | B15: =реглист!B16 -> FISHINGSTOCK BELARUS | C15: =реглист!C16 -> Бобриков Алексей | D15: =IFERROR(VLOOKUP(C15,Т1За!$C$3:$D$31,2,0),0) -> 0 | E15: =IFERROR(VLOOKUP(C15,Т1За!$C$3:$E$31,3,0),0) -> 0 | F15: =IFERROR(VLOOKUP(C15,Т1Зб!$C$3:$D$31,2,0),0) -> 1284.19 | G15: =IFERROR(VLOOKUP(C15,Т1Зб!$C$3:$E$31,3,0),0) -> 6 | H15: =IFERROR(VLOOKUP(C15,Т2За!$C$3:$D$31,2,0),0) -> 0 | I15: =IFERROR(VLOOKUP(C15,Т2За!$C$3:$E$31,3,0),0) -> 29 | J15: =IFERROR(VLOOKUP(C15,Т2Зб!$C$3:$D$31,2,0),0) -> 0 | K15: =IFERROR(VLOOKUP(C15,Т2Зб!$C$3:$E$31,3,0),0) -> 0 | L15: =D15+F15+H15+J15 -> 1284.19 | M15: =IF(L15=0,реглист!$C$62*2+2,E15+G15+I15+K15) -> 35 | N15: 33
A16: =A15+1 -> 13 | B16: =реглист!B17 -> West Fishing | C16: =реглист!C17 -> Непомнящий Виктор | D16: =IFERROR(VLOOKUP(C16,Т1За!$C$3:$D$31,2,0),0) -> 491.84 | E16: =IFERROR(VLOOKUP(C16,Т1За!$C$3:$E$31,3,0),0) -> 14 | F16: =IFERROR(VLOOKUP(C16,Т1Зб!$C$3:$D$31,2,0),0) -> 0 | G16: =IFERROR(VLOOKUP(C16,Т1Зб!$C$3:$E$31,3,0),0) -> 0 | H16: =IFERROR(VLOOKUP(C16,Т2За!$C$3:$D$31,2,0),0) -> 0 | I16: =IFERROR(VLOOKUP(C16,Т2За!$C$3:$E$31,3,0),0) -> 0 | J16: =IFERROR(VLOOKUP(C16,Т2Зб!$C$3:$D$31,2,0),0) -> 763.65 | K16: =IFERROR(VLOOKUP(C16,Т2Зб!$C$3:$E$31,3,0),0) -> 3 | L16: =D16+F16+H16+J16 -> 1255.49 | M16: =IF(L16=0,реглист!$C$62*2+2,E16+G16+I16+K16) -> 17 | N16: 14 | O16: =L16+L17 -> 3040.75 | P16: =IF(O16=0,реглист!$C$62*4+4,M16+M17) -> 32 | Q16: =IF(P16=реглист!$C$62*4+4,реглист!$C$62+1,RANK(P16,$P$4:$P$59,1)) -> 4
A17: =A16+1 -> 14 | B17: =реглист!B18 -> West Fishing | C17: =реглист!C18 -> Золотарь Андрей | D17: =IFERROR(VLOOKUP(C17,Т1За!$C$3:$D$31,2,0),0) -> 0 | E17: =IFERROR(VLOOKUP(C17,Т1За!$C$3:$E$31,3,0),0) -> 0 | F17: =IFERROR(VLOOKUP(C17,Т1Зб!$C$3:$D$31,2,0),0) -> 622.34 | G17: =IFERROR(VLOOKUP(C17,Т1Зб!$C$3:$E$31,3,0),0) -> 12 | H17: =IFERROR(VLOOKUP(C17,Т2За!$C$3:$D$31,2,0),0) -> 1162.92 | I17: =IFERROR(VLOOKUP(C17,Т2За!$C$3:$E$31,3,0),0) -> 3 | J17: =IFERROR(VLOOKUP(C17,Т2Зб!$C$3:$D$31,2,0),0) -> 0 | K17: =IFERROR(VLOOKUP(C17,Т2Зб!$C$3:$E$31,3,0),0) -> 0 | L17: =D17+F17+H17+J17 -> 1785.26 | M17: =IF(L17=0,реглист!$C$62*2+2,E17+G17+I17+K17) -> 15 | N17: 11
A18: =A17+1 -> 15 | B18: =реглист!B19 -> Gefest | C18: =реглист!C19 -> Саган Сергей | D18: =IFERROR(VLOOKUP(C18,Т1За!$C$3:$D$31,2,0),0) -> 219.04 | E18: =IFERROR(VLOOKUP(C18,Т1За!$C$3:$E$31,3,0),0) -> 22 | F18: =IFERROR(VLOOKUP(C18,Т1Зб!$C$3:$D$31,2,0),0) -> 0 | G18: =IFERROR(VLOOKUP(C18,Т1Зб!$C$3:$E$31,3,0),0) -> 0 | H18: =IFERROR(VLOOKUP(C18,Т2За!$C$3:$D$31,2,0),0) -> 0 | I18: =IFERROR(VLOOKUP(C18,Т2За!$C$3:$E$31,3,0),0) -> 0 | J18: =IFERROR(VLOOKUP(C18,Т2Зб!$C$3:$D$31,2,0),0) -> 1250.02 | K18: =IFERROR(VLOOKUP(C18,Т2Зб!$C$3:$E$31,3,0),0) -> 2 | L18: =D18+F18+H18+J18 -> 1469.06 | M18: =IF(L18=0,реглист!$C$62*2+2,E18+G18+I18+K18) -> 24 | N18: 21 | O18: =L18+L19 -> 4784.93 | P18: =IF(O18=0,реглист!$C$62*4+4,M18+M19) -> 44 | Q18: =IF(P18=реглист!$C$62*4+4,реглист!$C$62+1,RANK(P18,$P$4:$P$59,1)) -> 9
A19: =A18+1 -> 16 | B19: =реглист!B20 -> Gefest | C19: =реглист!C20 -> Радчук Юрий | D19: =IFERROR(VLOOKUP(C19,Т1За!$C$3:$D$31,2,0),0) -> 0 | E19: =IFERROR(VLOOKUP(C19,Т1За!$C$3:$E$31,3,0),0) -> 0 | F19: =IFERROR(VLOOKUP(C19,Т1Зб!$C$3:$D$31,2,0),0) -> 3192.66 | G19: =IFERROR(VLOOKUP(C19,Т1Зб!$C$3:$E$31,3,0),0) -> 1 | H19: =IFERROR(VLOOKUP(C19,Т2За!$C$3:$D$31,2,0),0) -> 123.21 | I19: =IFERROR(VLOOKUP(C19,Т2За!$C$3:$E$31,3,0),0) -> 19 | J19: =IFERROR(VLOOKUP(C19,Т2Зб!$C$3:$D$31,2,0),0) -> 0 | K19: =IFERROR(VLOOKUP(C19,Т2Зб!$C$3:$E$31,3,0),0) -> 0 | L19: =D19+F19+H19+J19 -> 3315.87 | M19: =IF(L19=0,реглист!$C$62*2+2,E19+G19+I19+K19) -> 20 | N19: 17
A20: =A19+1 -> 17 | B20: =реглист!B21 -> Bona Кобрин | C20: =реглист!C21 -> Марковский Максим | D20: =IFERROR(VLOOKUP(C20,Т1За!$C$3:$D$31,2,0),0) -> 479.41 | E20: =IFERROR(VLOOKUP(C20,Т1За!$C$3:$E$31,3,0),0) -> 15 | F20: =IFERROR(VLOOKUP(C20,Т1Зб!$C$3:$D$31,2,0),0) -> 0 | G20: =IFERROR(VLOOKUP(C20,Т1Зб!$C$3:$E$31,3,0),0) -> 0 | H20: =IFERROR(VLOOKUP(C20,Т2За!$C$3:$D$31,2,0),0) -> 0 | I20: =IFERROR(VLOOKUP(C20,Т2За!$C$3:$E$31,3,0),0) -> 0 | J20: =IFERROR(VLOOKUP(C20,Т2Зб!$C$3:$D$31,2,0),0) -> 0 | K20: =IFERROR(VLOOKUP(C20,Т2Зб!$C$3:$E$31,3,0),0) -> 29 | L20: =D20+F20+H20+J20 -> 479.41 | M20: =IF(L20=0,реглист!$C$62*2+2,E20+G20+I20+K20) -> 44 | N20: 46 | O20: =L20+L21 -> 1380.9925 | P20: =IF(O20=0,реглист!$C$62*4+4,M20+M21) -> 68 | Q20: =IF(P20=реглист!$C$62*4+4,реглист!$C$62+1,RANK(P20,$P$4:$P$59,1)) -> 16
A21: =A20+1 -> 18 | B21: =реглист!B22 -> Bona Кобрин | C21: =реглист!C22 -> Барташук Александр | D21: =IFERROR(VLOOKUP(C21,Т1За!$C$3:$D$31,2,0),0) -> 0 | E21: =IFERROR(VLOOKUP(C21,Т1За!$C$3:$E$31,3,0),0) -> 0 | F21: =IFERROR(VLOOKUP(C21,Т1Зб!$C$3:$D$31,2,0),0) -> 476.3725 | G21: =IFERROR(VLOOKUP(C21,Т1Зб!$C$3:$E$31,3,0),0) -> 14 | H21: =IFERROR(VLOOKUP(C21,Т2За!$C$3:$D$31,2,0),0) -> 425.21 | I21: =IFERROR(VLOOKUP(C21,Т2За!$C$3:$E$31,3,0),0) -> 10 | J21: =IFERROR(VLOOKUP(C21,Т2Зб!$C$3:$D$31,2,0),0) -> 0 | K21: =IFERROR(VLOOKUP(C21,Т2Зб!$C$3:$E$31,3,0),0) -> 0 | L21: =D21+F21+H21+J21 -> 901.5825 | M21: =IF(L21=0,реглист!$C$62*2+2,E21+G21+I21+K21) -> 24 | N21: 22
A22: =A21+1 -> 19 | B22: =реглист!B23 -> Трудовые резервы | C22: =реглист!C23 -> Баранок Артём | D22: =IFERROR(VLOOKUP(C22,Т1За!$C$3:$D$31,2,0),0) -> 0 | E22: =IFERROR(VLOOKUP(C22,Т1За!$C$3:$E$31,3,0),0) -> 0 | F22: =IFERROR(VLOOKUP(C22,Т1Зб!$C$3:$D$31,2,0),0) -> 469.16 | G22: =IFERROR(VLOOKUP(C22,Т1Зб!$C$3:$E$31,3,0),0) -> 15 | H22: =IFERROR(VLOOKUP(C22,Т2За!$C$3:$D$31,2,0),0) -> 0 | I22: =IFERROR(VLOOKUP(C22,Т2За!$C$3:$E$31,3,0),0) -> 29 | J22: =IFERROR(VLOOKUP(C22,Т2Зб!$C$3:$D$31,2,0),0) -> 0 | K22: =IFERROR(VLOOKUP(C22,Т2Зб!$C$3:$E$31,3,0),0) -> 0 | L22: =D22+F22+H22+J22 -> 469.16 | M22: =IF(L22=0,реглист!$C$62*2+2,E22+G22+I22+K22) -> 44 | N22: 47 | O22: =L22+L23 -> 1420.87 | P22: =IF(O22=0,реглист!$C$62*4+4,M22+M23) -> 76 | Q22: =IF(P22=реглист!$C$62*4+4,реглист!$C$62+1,RANK(P22,$P$4:$P$59,1)) -> 19
A23: =A22+1 -> 20 | B23: =реглист!B24 -> Трудовые резервы | C23: =реглист!C24 -> Пожарский Константин | D23: =IFERROR(VLOOKUP(C23,Т1За!$C$3:$D$31,2,0),0) -> 951.71 | E23: =IFERROR(VLOOKUP(C23,Т1За!$C$3:$E$31,3,0),0) -> 3 | F23: =IFERROR(VLOOKUP(C23,Т1Зб!$C$3:$D$31,2,0),0) -> 0 | G23: =IFERROR(VLOOKUP(C23,Т1Зб!$C$3:$E$31,3,0),0) -> 0 | H23: =IFERROR(VLOOKUP(C23,Т2За!$C$3:$D$31,2,0),0) -> 0 | I23: =IFERROR(VLOOKUP(C23,Т2За!$C$3:$E$31,3,0),0) -> 0 | J23: =IFERROR(VLOOKUP(C23,Т2Зб!$C$3:$D$31,2,0),0) -> 0 | K23: =IFERROR(VLOOKUP(C23,Т2Зб!$C$3:$E$31,3,0),0) -> 29 | L23: =D23+F23+H23+J23 -> 951.71 | M23: =IF(L23=0,реглист!$C$62*2+2,E23+G23+I23+K23) -> 32 | N23: 28
A24: =A23+1 -> 21 | B24: =реглист!B25 -> Perch Legends | C24: =реглист!C25 -> Лабанок Александр | D24: =IFERROR(VLOOKUP(C24,Т1За!$C$3:$D$31,2,0),0) -> 148.84 | E24: =IFERROR(VLOOKUP(C24,Т1За!$C$3:$E$31,3,0),0) -> 25 | F24: =IFERROR(VLOOKUP(C24,Т1Зб!$C$3:$D$31,2,0),0) -> 0 | G24: =IFERROR(VLOOKUP(C24,Т1Зб!$C$3:$E$31,3,0),0) -> 0 | H24: =IFERROR(VLOOKUP(C24,Т2За!$C$3:$D$31,2,0),0) -> 0 | I24: =IFERROR(VLOOKUP(C24,Т2За!$C$3:$E$31,3,0),0) -> 0 | J24: =IFERROR(VLOOKUP(C24,Т2Зб!$C$3:$D$31,2,0),0) -> 166.41 | K24: =IFERROR(VLOOKUP(C24,Т2Зб!$C$3:$E$31,3,0),0) -> 18 | L24: =D24+F24+H24+J24 -> 315.25 | M24: =IF(L24=0,реглист!$C$62*2+2,E24+G24+I24+K24) -> 43 | N24: 44 | O24: =L24+L25 -> 1017.9625 | P24: =IF(O24=0,реглист!$C$62*4+4,M24+M25) -> 76 | Q24: 20
A25: =A24+1 -> 22 | B25: =реглист!B26 -> Perch Legends | C25: =реглист!C26 -> Каменец Алексей | D25: =IFERROR(VLOOKUP(C25,Т1За!$C$3:$D$31,2,0),0) -> 0 | E25: =IFERROR(VLOOKUP(C25,Т1За!$C$3:$E$31,3,0),0) -> 0 | F25: =IFERROR(VLOOKUP(C25,Т1Зб!$C$3:$D$31,2,0),0) -> 605.69 | G25: =IFERROR(VLOOKUP(C25,Т1Зб!$C$3:$E$31,3,0),0) -> 13 | H25: =IFERROR(VLOOKUP(C25,Т2За!$C$3:$D$31,2,0),0) -> 97.0225 | I25: =IFERROR(VLOOKUP(C25,Т2За!$C$3:$E$31,3,0),0) -> 20 | J25: =IFERROR(VLOOKUP(C25,Т2Зб!$C$3:$D$31,2,0),0) -> 0 | K25: =IFERROR(VLOOKUP(C25,Т2Зб!$C$3:$E$31,3,0),0) -> 0 | L25: =D25+F25+H25+J25 -> 702.7125 | M25: =IF(L25=0,реглист!$C$62*2+2,E25+G25+I25+K25) -> 33 | N25: 31
A26: =A25+1 -> 23 | B26: =реглист!B27 -> Bait Breath Team | C26: =реглист!C27 -> Бахур Александр | D26: =IFERROR(VLOOKUP(C26,Т1За!$C$3:$D$31,2,0),0) -> 0 | E26: =IFERROR(VLOOKUP(C26,Т1За!$C$3:$E$31,3,0),0) -> 0 | F26: =IFERROR(VLOOKUP(C26,Т1Зб!$C$3:$D$31,2,0),0) -> 1641.86 | G26: =IFERROR(VLOOKUP(C26,Т1Зб!$C$3:$E$31,3,0),0) -> 3 | H26: =IFERROR(VLOOKUP(C26,Т2За!$C$3:$D$31,2,0),0) -> 282.24 | I26: =IFERROR(VLOOKUP(C26,Т2За!$C$3:$E$31,3,0),0) -> 13 | J26: =IFERROR(VLOOKUP(C26,Т2Зб!$C$3:$D$31,2,0),0) -> 0 | K26: =IFERROR(VLOOKUP(C26,Т2Зб!$C$3:$E$31,3,0),0) -> 0 | L26: =D26+F26+H26+J26 -> 1924.1 | M26: =IF(L26=0,реглист!$C$62*2+2,E26+G26+I26+K26) -> 16 | N26: 12 | O26: =L26+L27 -> 2815.42 | P26: =IF(O26=0,реглист!$C$62*4+4,M26+M27) -> 38 | Q26: =IF(P26=реглист!$C$62*4+4,реглист!$C$62+1,RANK(P26,$P$4:$P$59,1)) -> 5
A27: =A26+1 -> 24 | B27: =реглист!B28 -> Bait Breath Team | C27: =реглист!C28 -> Зубко Сергей | D27: =IFERROR(VLOOKUP(C27,Т1За!$C$3:$D$31,2,0),0) -> 564.25 | E27: =IFERROR(VLOOKUP(C27,Т1За!$C$3:$E$31,3,0),0) -> 9 | F27: =IFERROR(VLOOKUP(C27,Т1Зб!$C$3:$D$31,2,0),0) -> 0 | G27: =IFERROR(VLOOKUP(C27,Т1Зб!$C$3:$E$31,3,0),0) -> 0 | H27: =IFERROR(VLOOKUP(C27,Т2За!$C$3:$D$31,2,0),0) -> 0 | I27: =IFERROR(VLOOKUP(C27,Т2За!$C$3:$E$31,3,0),0) -> 0 | J27: =IFERROR(VLOOKUP(C27,Т2Зб!$C$3:$D$31,2,0),0) -> 327.07 | K27: =IFERROR(VLOOKUP(C27,Т2Зб!$C$3:$E$31,3,0),0) -> 13 | L27: =D27+F27+H27+J27 -> 891.32 | M27: =IF(L27=0,реглист!$C$62*2+2,E27+G27+I27+K27) -> 22 | N27: 19
A28: =A27+1 -> 25 | B28: =реглист!B29 -> FishUp Team | C28: =реглист!C29 -> Волосевич Виталий | D28: =IFERROR(VLOOKUP(C28,Т1За!$C$3:$D$31,2,0),0) -> 272.25 | E28: =IFERROR(VLOOKUP(C28,Т1За!$C$3:$E$31,3,0),0) -> 20 | F28: =IFERROR(VLOOKUP(C28,Т1Зб!$C$3:$D$31,2,0),0) -> 0 | G28: =IFERROR(VLOOKUP(C28,Т1Зб!$C$3:$E$31,3,0),0) -> 0 | H28: =IFERROR(VLOOKUP(C28,Т2За!$C$3:$D$31,2,0),0) -> 0 | I28: =IFERROR(VLOOKUP(C28,Т2За!$C$3:$E$31,3,0),0) -> 0 | J28: =IFERROR(VLOOKUP(C28,Т2Зб!$C$3:$D$31,2,0),0) -> 225 | K28: =IFERROR(VLOOKUP(C28,Т2Зб!$C$3:$E$31,3,0),0) -> 16 | L28: =D28+F28+H28+J28 -> 497.25 | M28: =IF(L28=0,реглист!$C$62*2+2,E28+G28+I28+K28) -> 36 | N28: 38 | O28: =L28+L29 -> 951.68 | P28: =IF(O28=0,реглист!$C$62*4+4,M28+M29) -> 81 | Q28: =IF(P28=реглист!$C$62*4+4,реглист!$C$62+1,RANK(P28,$P$4:$P$59,1)) -> 24
A29: =A28+1 -> 26 | B29: =реглист!B30 -> FishUp Team | C29: =реглист!C30 -> Крук Денис | D29: =IFERROR(VLOOKUP(C29,Т1За!$C$3:$D$31,2,0),0) -> 0 | E29: =IFERROR(VLOOKUP(C29,Т1За!$C$3:$E$31,3,0),0) -> 0 | F29: =IFERROR(VLOOKUP(C29,Т1Зб!$C$3:$D$31,2,0),0) -> 454.43 | G29: =IFERROR(VLOOKUP(C29,Т1Зб!$C$3:$E$31,3,0),0) -> 16 | H29: =IFERROR(VLOOKUP(C29,Т2За!$C$3:$D$31,2,0),0) -> 0 | I29: =IFERROR(VLOOKUP(C29,Т2За!$C$3:$E$31,3,0),0) -> 29 | J29: =IFERROR(VLOOKUP(C29,Т2Зб!$C$3:$D$31,2,0),0) -> 0 | K29: =IFERROR(VLOOKUP(C29,Т2Зб!$C$3:$E$31,3,0),0) -> 0 | L29: =D29+F29+H29+J29 -> 454.43 | M29: =IF(L29=0,реглист!$C$62*2+2,E29+G29+I29+K29) -> 45 | N29: 48
A30: =A29+1 -> 27 | B30: =реглист!B31 -> Amateurs | C30: =реглист!C31 -> Куликовский Виталий | D30: =IFERROR(VLOOKUP(C30,Т1За!$C$3:$D$31,2,0),0) -> 0 | E30: =IFERROR(VLOOKUP(C30,Т1За!$C$3:$E$31,3,0),0) -> 0 | F30: =IFERROR(VLOOKUP(C30,Т1Зб!$C$3:$D$31,2,0),0) -> 1397.9825 | G30: =IFERROR(VLOOKUP(C30,Т1Зб!$C$3:$E$31,3,0),0) -> 4 | H30: =IFERROR(VLOOKUP(C30,Т2За!$C$3:$D$31,2,0),0) -> 0 | I30: =IFERROR(VLOOKUP(C30,Т2За!$C$3:$E$31,3,0),0) -> 29 | J30: =IFERROR(VLOOKUP(C30,Т2Зб!$C$3:$D$31,2,0),0) -> 0 | K30: =IFERROR(VLOOKUP(C30,Т2Зб!$C$3:$E$31,3,0),0) -> 0 | L30: =D30+F30+H30+J30 -> 1397.9825 | M30: =IF(L30=0,реглист!$C$62*2+2,E30+G30+I30+K30) -> 33 | N30: 29 | O30: =L30+L31 -> 1397.9825 | P30: =IF(O30=0,реглист!$C$62*4+4,M30+M31) -> 91 | Q30: =IF(P30=реглист!$C$62*4+4,реглист!$C$62+1,RANK(P30,$P$4:$P$59,1)) -> 26
A31: =A30+1 -> 28 | B31: =реглист!B32 -> Amateurs | C31: =реглист!C32 -> Соколов Кирилл | D31: =IFERROR(VLOOKUP(C31,Т1За!$C$3:$D$31,2,0),0) -> 0 | E31: =IFERROR(VLOOKUP(C31,Т1За!$C$3:$E$31,3,0),0) -> 29 | F31: =IFERROR(VLOOKUP(C31,Т1Зб!$C$3:$D$31,2,0),0) -> 0 | G31: =IFERROR(VLOOKUP(C31,Т1Зб!$C$3:$E$31,3,0),0) -> 0 | H31: =IFERROR(VLOOKUP(C31,Т2За!$C$3:$D$31,2,0),0) -> 0 | I31: =IFERROR(VLOOKUP(C31,Т2За!$C$3:$E$31,3,0),0) -> 0 | J31: =IFERROR(VLOOKUP(C31,Т2Зб!$C$3:$D$31,2,0),0) -> 0 | K31: =IFERROR(VLOOKUP(C31,Т2Зб!$C$3:$E$31,3,0),0) -> 29 | L31: =D31+F31+H31+J31 -> 0 | M31: =IF(L31=0,реглист!$C$62*2+2,E31+G31+I31+K31) -> 58 | N31: 57
A32: =A31+1 -> 29 | B32: =реглист!B33 -> RockFish | C32: =реглист!C33 -> Лазарчик Евгений | D32: =IFERROR(VLOOKUP(C32,Т1За!$C$3:$D$31,2,0),0) -> 0 | E32: =IFERROR(VLOOKUP(C32,Т1За!$C$3:$E$31,3,0),0) -> 0 | F32: =IFERROR(VLOOKUP(C32,Т1Зб!$C$3:$D$31,2,0),0) -> 445.21 | G32: =IFERROR(VLOOKUP(C32,Т1Зб!$C$3:$E$31,3,0),0) -> 17 | H32: =IFERROR(VLOOKUP(C32,Т2За!$C$3:$D$31,2,0),0) -> 0 | I32: =IFERROR(VLOOKUP(C32,Т2За!$C$3:$E$31,3,0),0) -> 29 | J32: =IFERROR(VLOOKUP(C32,Т2Зб!$C$3:$D$31,2,0),0) -> 0 | K32: =IFERROR(VLOOKUP(C32,Т2Зб!$C$3:$E$31,3,0),0) -> 0 | L32: =D32+F32+H32+J32 -> 445.21 | M32: =IF(L32=0,реглист!$C$62*2+2,E32+G32+I32+K32) -> 46 | N32: 49 | O32: =L32+L33 -> 1323.9 | P32: =IF(O32=0,реглист!$C$62*4+4,M32+M33) -> 68 | Q32: 17
A33: =A32+1 -> 30 | B33: =реглист!B34 -> RockFish | C33: =реглист!C34 -> Силивончик Павел | D33: =IFERROR(VLOOKUP(C33,Т1За!$C$3:$D$31,2,0),0) -> 529 | E33: =IFERROR(VLOOKUP(C33,Т1За!$C$3:$E$31,3,0),0) -> 10 | F33: =IFERROR(VLOOKUP(C33,Т1Зб!$C$3:$D$31,2,0),0) -> 0 | G33: =IFERROR(VLOOKUP(C33,Т1Зб!$C$3:$E$31,3,0),0) -> 0 | H33: =IFERROR(VLOOKUP(C33,Т2За!$C$3:$D$31,2,0),0) -> 0 | I33: =IFERROR(VLOOKUP(C33,Т2За!$C$3:$E$31,3,0),0) -> 0 | J33: =IFERROR(VLOOKUP(C33,Т2Зб!$C$3:$D$31,2,0),0) -> 349.69 | K33: =IFERROR(VLOOKUP(C33,Т2Зб!$C$3:$E$31,3,0),0) -> 12 | L33: =D33+F33+H33+J33 -> 878.69 | M33: =IF(L33=0,реглист!$C$62*2+2,E33+G33+I33+K33) -> 22 | N33: 20
A34: =A33+1 -> 31 | B34: =реглист!B35 -> Против Течения | C34: =реглист!C35 -> Ананич Геннадий | D34: =IFERROR(VLOOKUP(C34,Т1За!$C$3:$D$31,2,0),0) -> 0 | E34: =IFERROR(VLOOKUP(C34,Т1За!$C$3:$E$31,3,0),0) -> 0 | F34: =IFERROR(VLOOKUP(C34,Т1Зб!$C$3:$D$31,2,0),0) -> 282.24 | G34: =IFERROR(VLOOKUP(C34,Т1Зб!$C$3:$E$31,3,0),0) -> 21 | H34: =IFERROR(VLOOKUP(C34,Т2За!$C$3:$D$31,2,0),0) -> 648.04 | I34: =IFERROR(VLOOKUP(C34,Т2За!$C$3:$E$31,3,0),0) -> 6 | J34: =IFERROR(VLOOKUP(C34,Т2Зб!$C$3:$D$31,2,0),0) -> 0 | K34: =IFERROR(VLOOKUP(C34,Т2Зб!$C$3:$E$31,3,0),0) -> 0 | L34: =D34+F34+H34+J34 -> 930.28 | M34: =IF(L34=0,реглист!$C$62*2+2,E34+G34+I34+K34) -> 27 | N34: 25 | O34: =L34+L35 -> 2073.34 | P34: =IF(O34=0,реглист!$C$62*4+4,M34+M35) -> 40 | Q34: =IF(P34=реглист!$C$62*4+4,реглист!$C$62+1,RANK(P34,$P$4:$P$59,1)) -> 6
A35: =A34+1 -> 32 | B35: =реглист!B36 -> Против Течения | C35: =реглист!C36 -> Кириенко Кирилл | D35: =IFERROR(VLOOKUP(C35,Т1За!$C$3:$D$31,2,0),0) -> 620.81 | E35: =IFERROR(VLOOKUP(C35,Т1За!$C$3:$E$31,3,0),0) -> 8 | F35: =IFERROR(VLOOKUP(C35,Т1Зб!$C$3:$D$31,2,0),0) -> 0 | G35: =IFERROR(VLOOKUP(C35,Т1Зб!$C$3:$E$31,3,0),0) -> 0 | H35: =IFERROR(VLOOKUP(C35,Т2За!$C$3:$D$31,2,0),0) -> 0 | I35: =IFERROR(VLOOKUP(C35,Т2За!$C$3:$E$31,3,0),0) -> 0 | J35: =IFERROR(VLOOKUP(C35,Т2Зб!$C$3:$D$31,2,0),0) -> 522.25 | K35: =IFERROR(VLOOKUP(C35,Т2Зб!$C$3:$E$31,3,0),0) -> 5 | L35: =D35+F35+H35+J35 -> 1143.06 | M35: =IF(L35=0,реглист!$C$62*2+2,E35+G35+I35+K35) -> 13 | N35: 8
A36: =A35+1 -> 33 | B36: =реглист!B37 -> ASpinnTeam | C36: =реглист!C37 -> Нугуманов Артём | D36: =IFERROR(VLOOKUP(C36,Т1За!$C$3:$D$31,2,0),0) -> 515.015 | E36: =IFERROR(VLOOKUP(C36,Т1За!$C$3:$E$31,3,0),0) -> 12 | F36: =IFERROR(VLOOKUP(C36,Т1Зб!$C$3:$D$31,2,0),0) -> 0 | G36: =IFERROR(VLOOKUP(C36,Т1Зб!$C$3:$E$31,3,0),0) -> 0 | H36: =IFERROR(VLOOKUP(C36,Т2За!$C$3:$D$31,2,0),0) -> 0 | I36: =IFERROR(VLOOKUP(C36,Т2За!$C$3:$E$31,3,0),0) -> 0 | J36: =IFERROR(VLOOKUP(C36,Т2Зб!$C$3:$D$31,2,0),0) -> 0 | K36: =IFERROR(VLOOKUP(C36,Т2Зб!$C$3:$E$31,3,0),0) -> 29 | L36: =D36+F36+H36+J36 -> 515.015 | M36: =IF(L36=0,реглист!$C$62*2+2,E36+G36+I36+K36) -> 41 | N36: 40 | O36: =L36+L37 -> 986.305 | P36: =IF(O36=0,реглист!$C$62*4+4,M36+M37) -> 79 | Q36: =IF(P36=реглист!$C$62*4+4,реглист!$C$62+1,RANK(P36,$P$4:$P$59,1)) -> 22
A37: =A36+1 -> 34 | B37: =реглист!B38 -> ASpinnTeam | C37: =реглист!C38 -> Вашкевич Александр | D37: =IFERROR(VLOOKUP(C37,Т1За!$C$3:$D$31,2,0),0) -> 0 | E37: =IFERROR(VLOOKUP(C37,Т1За!$C$3:$E$31,3,0),0) -> 0 | F37: =IFERROR(VLOOKUP(C37,Т1Зб!$C$3:$D$31,2,0),0) -> 231.04 | G37: =IFERROR(VLOOKUP(C37,Т1Зб!$C$3:$E$31,3,0),0) -> 22 | H37: =IFERROR(VLOOKUP(C37,Т2За!$C$3:$D$31,2,0),0) -> 240.25 | I37: =IFERROR(VLOOKUP(C37,Т2За!$C$3:$E$31,3,0),0) -> 16 | J37: =IFERROR(VLOOKUP(C37,Т2Зб!$C$3:$D$31,2,0),0) -> 0 | K37: =IFERROR(VLOOKUP(C37,Т2Зб!$C$3:$E$31,3,0),0) -> 0 | L37: =D37+F37+H37+J37 -> 471.29 | M37: =IF(L37=0,реглист!$C$62*2+2,E37+G37+I37+K37) -> 38 | N37: 39
A38: =A37+1 -> 35 | B38: =реглист!B39 -> Fanatic Belarus | C38: =реглист!C39 -> Рулинский Александр | D38: =IFERROR(VLOOKUP(C38,Т1За!$C$3:$D$31,2,0),0) -> 222.01 | E38: =IFERROR(VLOOKUP(C38,Т1За!$C$3:$E$31,3,0),0) -> 21 | F38: =IFERROR(VLOOKUP(C38,Т1Зб!$C$3:$D$31,2,0),0) -> 0 | G38: =IFERROR(VLOOKUP(C38,Т1Зб!$C$3:$E$31,3,0),0) -> 0 | H38: =IFERROR(VLOOKUP(C38,Т2За!$C$3:$D$31,2,0),0) -> 0 | I38: =IFERROR(VLOOKUP(C38,Т2За!$C$3:$E$31,3,0),0) -> 0 | J38: =IFERROR(VLOOKUP(C38,Т2Зб!$C$3:$D$31,2,0),0) -> 89.3025 | K38: =IFERROR(VLOOKUP(C38,Т2Зб!$C$3:$E$31,3,0),0) -> 20 | L38: =D38+F38+H38+J38 -> 311.3125 | M38: =IF(L38=0,реглист!$C$62*2+2,E38+G38+I38+K38) -> 41 | N38: 41 | O38: =L38+L39 -> 3461.5625 | P38: =IF(O38=0,реглист!$C$62*4+4,M38+M39) -> 62 | Q38: =IF(P38=реглист!$C$62*4+4,реглист!$C$62+1,RANK(P38,$P$4:$P$59,1)) -> 14
A39: =A38+1 -> 36 | B39: =реглист!B40 -> Fanatic Belarus | C39: =реглист!C40 -> Шевчук Дмитрий | D39: =IFERROR(VLOOKUP(C39,Т1За!$C$3:$D$31,2,0),0) -> 0 | E39: =IFERROR(VLOOKUP(C39,Т1За!$C$3:$E$31,3,0),0) -> 0 | F39: =IFERROR(VLOOKUP(C39,Т1Зб!$C$3:$D$31,2,0),0) -> 394 | G39: =IFERROR(VLOOKUP(C39,Т1Зб!$C$3:$E$31,3,0),0) -> 19 | H39: =IFERROR(VLOOKUP(C39,Т2За!$C$3:$D$31,2,0),0) -> 2756.25 | I39: =IFERROR(VLOOKUP(C39,Т2За!$C$3:$E$31,3,0),0) -> 2 | J39: =IFERROR(VLOOKUP(C39,Т2Зб!$C$3:$D$31,2,0),0) -> 0 | K39: =IFERROR(VLOOKUP(C39,Т2Зб!$C$3:$E$31,3,0),0) -> 0 | L39: =D39+F39+H39+J39 -> 3150.25 | M39: =IF(L39=0,реглист!$C$62*2+2,E39+G39+I39+K39) -> 21 | N39: 18
A40: =A39+1 -> 37 | B40: =реглист!B41 -> SB-FISHING | C40: =реглист!C41 -> Болбас Тимофей | D40: =IFERROR(VLOOKUP(C40,Т1За!$C$3:$D$31,2,0),0) -> 1078.03 | E40: =IFERROR(VLOOKUP(C40,Т1За!$C$3:$E$31,3,0),0) -> 2 | F40: =IFERROR(VLOOKUP(C40,Т1Зб!$C$3:$D$31,2,0),0) -> 0 | G40: =IFERROR(VLOOKUP(C40,Т1Зб!$C$3:$E$31,3,0),0) -> 0 | H40: =IFERROR(VLOOKUP(C40,Т2За!$C$3:$D$31,2,0),0) -> 0 | I40: =IFERROR(VLOOKUP(C40,Т2За!$C$3:$E$31,3,0),0) -> 0 | J40: =IFERROR(VLOOKUP(C40,Т2Зб!$C$3:$D$31,2,0),0) -> 2579.43 | K40: =IFERROR(VLOOKUP(C40,Т2Зб!$C$3:$E$31,3,0),0) -> 1 | L40: =D40+F40+H40+J40 -> 3657.46 | M40: =IF(L40=0,реглист!$C$62*2+2,E40+G40+I40+K40) -> 3 | N40: 1 | O40: =L40+L41 -> 5406.25 | P40: =IF(O40=0,реглист!$C$62*4+4,M40+M41) -> 17 | Q40: =IF(P40=реглист!$C$62*4+4,реглист!$C$62+1,RANK(P40,$P$4:$P$59,1)) -> 1
A41: =A40+1 -> 38 | B41: =реглист!B42 -> SB-FISHING | C41: =реглист!C42 -> Сапроненков Евгений | D41: =IFERROR(VLOOKUP(C41,Т1За!$C$3:$D$31,2,0),0) -> 0 | E41: =IFERROR(VLOOKUP(C41,Т1За!$C$3:$E$31,3,0),0) -> 0 | F41: =IFERROR(VLOOKUP(C41,Т1Зб!$C$3:$D$31,2,0),0) -> 1295.1 | G41: =IFERROR(VLOOKUP(C41,Т1Зб!$C$3:$E$31,3,0),0) -> 5 | H41: =IFERROR(VLOOKUP(C41,Т2За!$C$3:$D$31,2,0),0) -> 453.69 | I41: =IFERROR(VLOOKUP(C41,Т2За!$C$3:$E$31,3,0),0) -> 9 | J41: =IFERROR(VLOOKUP(C41,Т2Зб!$C$3:$D$31,2,0),0) -> 0 | K41: =IFERROR(VLOOKUP(C41,Т2Зб!$C$3:$E$31,3,0),0) -> 0 | L41: =D41+F41+H41+J41 -> 1748.79 | M41: =IF(L41=0,реглист!$C$62*2+2,E41+G41+I41+K41) -> 14 | N41: 10
A42: =A41+1 -> 39 | B42: =реглист!B43 -> Фарватер | C42: =реглист!C43 -> Цыганок Михаил | D42: =IFERROR(VLOOKUP(C42,Т1За!$C$3:$D$31,2,0),0) -> 302.76 | E42: =IFERROR(VLOOKUP(C42,Т1За!$C$3:$E$31,3,0),0) -> 19 | F42: =IFERROR(VLOOKUP(C42,Т1Зб!$C$3:$D$31,2,0),0) -> 0 | G42: =IFERROR(VLOOKUP(C42,Т1Зб!$C$3:$E$31,3,0),0) -> 0 | H42: =IFERROR(VLOOKUP(C42,Т2За!$C$3:$D$31,2,0),0) -> 0 | I42: =IFERROR(VLOOKUP(C42,Т2За!$C$3:$E$31,3,0),0) -> 0 | J42: =IFERROR(VLOOKUP(C42,Т2Зб!$C$3:$D$31,2,0),0) -> 234.09 | K42: =IFERROR(VLOOKUP(C42,Т2Зб!$C$3:$E$31,3,0),0) -> 15 | L42: =D42+F42+H42+J42 -> 536.85 | M42: =IF(L42=0,реглист!$C$62*2+2,E42+G42+I42+K42) -> 34 | N42: 32 | O42: =L42+L43 -> 1730.94 | P42: =IF(O42=0,реглист!$C$62*4+4,M42+M43) -> 59 | Q42: =IF(P42=реглист!$C$62*4+4,реглист!$C$62+1,RANK(P42,$P$4:$P$59,1)) -> 13
A43: =A42+1 -> 40 | B43: =реглист!B44 -> Фарватер | C43: =реглист!C44 -> Попельский Максим | D43: =IFERROR(VLOOKUP(C43,Т1За!$C$3:$D$31,2,0),0) -> 0 | E43: =IFERROR(VLOOKUP(C43,Т1За!$C$3:$E$31,3,0),0) -> 0 | F43: =IFERROR(VLOOKUP(C43,Т1Зб!$C$3:$D$31,2,0),0) -> 938.09 | G43: =IFERROR(VLOOKUP(C43,Т1Зб!$C$3:$E$31,3,0),0) -> 10 | H43: =IFERROR(VLOOKUP(C43,Т2За!$C$3:$D$31,2,0),0) -> 256 | I43: =IFERROR(VLOOKUP(C43,Т2За!$C$3:$E$31,3,0),0) -> 15 | J43: =IFERROR(VLOOKUP(C43,Т2Зб!$C$3:$D$31,2,0),0) -> 0 | K43: =IFERROR(VLOOKUP(C43,Т2Зб!$C$3:$E$31,3,0),0) -> 0 | L43: =D43+F43+H43+J43 -> 1194.09 | M43: =IF(L43=0,реглист!$C$62*2+2,E43+G43+I43+K43) -> 25 | N43: 23
A44: =A43+1 -> 41 | B44: =реглист!B45 -> Old Roads Fishing | C44: =реглист!C45 -> Синовец Роман | D44: =IFERROR(VLOOKUP(C44,Т1За!$C$3:$D$31,2,0),0) -> 0 | E44: =IFERROR(VLOOKUP(C44,Т1За!$C$3:$E$31,3,0),0) -> 0 | F44: =IFERROR(VLOOKUP(C44,Т1Зб!$C$3:$D$31,2,0),0) -> 859.09 | G44: =IFERROR(VLOOKUP(C44,Т1Зб!$C$3:$E$31,3,0),0) -> 11 | H44: =IFERROR(VLOOKUP(C44,Т2За!$C$3:$D$31,2,0),0) -> 3666.775 | I44: =IFERROR(VLOOKUP(C44,Т2За!$C$3:$E$31,3,0),0) -> 1 | J44: =IFERROR(VLOOKUP(C44,Т2Зб!$C$3:$D$31,2,0),0) -> 0 | K44: =IFERROR(VLOOKUP(C44,Т2Зб!$C$3:$E$31,3,0),0) -> 0 | L44: =D44+F44+H44+J44 -> 4525.865 | M44: =IF(L44=0,реглист!$C$62*2+2,E44+G44+I44+K44) -> 12 | N44: 4 | O44: =L44+L45 -> 5856.2625 | P44: =IF(O44=0,реглист!$C$62*4+4,M44+M45) -> 24 | Q44: =IF(P44=реглист!$C$62*4+4,реглист!$C$62+1,RANK(P44,$P$4:$P$59,1)) -> 2
A45: =A44+1 -> 42 | B45: =реглист!B46 -> Old Roads Fishing | C45: =реглист!C46 -> Чернышёв Егор | D45: =IFERROR(VLOOKUP(C45,Т1За!$C$3:$D$31,2,0),0) -> 897.8125 | E45: =IFERROR(VLOOKUP(C45,Т1За!$C$3:$E$31,3,0),0) -> 4 | F45: =IFERROR(VLOOKUP(C45,Т1Зб!$C$3:$D$31,2,0),0) -> 0 | G45: =IFERROR(VLOOKUP(C45,Т1Зб!$C$3:$E$31,3,0),0) -> 0 | H45: =IFERROR(VLOOKUP(C45,Т2За!$C$3:$D$31,2,0),0) -> 0 | I45: =IFERROR(VLOOKUP(C45,Т2За!$C$3:$E$31,3,0),0) -> 0 | J45: =IFERROR(VLOOKUP(C45,Т2Зб!$C$3:$D$31,2,0),0) -> 432.585 | K45: =IFERROR(VLOOKUP(C45,Т2Зб!$C$3:$E$31,3,0),0) -> 8 | L45: =D45+F45+H45+J45 -> 1330.3975 | M45: =IF(L45=0,реглист!$C$62*2+2,E45+G45+I45+K45) -> 12 | N45: 6
A46: =A45+1 -> 43 | B46: =реглист!B47 -> Dream Team | C46: =реглист!C47 -> Золотухин Александр | D46: =IFERROR(VLOOKUP(C46,Т1За!$C$3:$D$31,2,0),0) -> 0 | E46: =IFERROR(VLOOKUP(C46,Т1За!$C$3:$E$31,3,0),0) -> 0 | F46: =IFERROR(VLOOKUP(C46,Т1Зб!$C$3:$D$31,2,0),0) -> 194.08 | G46: =IFERROR(VLOOKUP(C46,Т1Зб!$C$3:$E$31,3,0),0) -> 24 | H46: =IFERROR(VLOOKUP(C46,Т2За!$C$3:$D$31,2,0),0) -> 395.5225 | I46: =IFERROR(VLOOKUP(C46,Т2За!$C$3:$E$31,3,0),0) -> 11 | J46: =IFERROR(VLOOKUP(C46,Т2Зб!$C$3:$D$31,2,0),0) -> 0 | K46: =IFERROR(VLOOKUP(C46,Т2Зб!$C$3:$E$31,3,0),0) -> 0 | L46: =D46+F46+H46+J46 -> 589.6025 | M46: =IF(L46=0,реглист!$C$62*2+2,E46+G46+I46+K46) -> 35 | N46: 34 | O46: =L46+L47 -> 743.3625 | P46: =IF(O46=0,реглист!$C$62*4+4,M46+M47) -> 88 | Q46: =IF(P46=реглист!$C$62*4+4,реглист!$C$62+1,RANK(P46,$P$4:$P$59,1)) -> 25
A47: =A46+1 -> 44 | B47: =реглист!B48 -> Dream Team | C47: =реглист!C48 -> Тысевич Сергей | D47: =IFERROR(VLOOKUP(C47,Т1За!$C$3:$D$31,2,0),0) -> 153.76 | E47: =IFERROR(VLOOKUP(C47,Т1За!$C$3:$E$31,3,0),0) -> 24 | F47: =IFERROR(VLOOKUP(C47,Т1Зб!$C$3:$D$31,2,0),0) -> 0 | G47: =IFERROR(VLOOKUP(C47,Т1Зб!$C$3:$E$31,3,0),0) -> 0 | H47: =IFERROR(VLOOKUP(C47,Т2За!$C$3:$D$31,2,0),0) -> 0 | I47: =IFERROR(VLOOKUP(C47,Т2За!$C$3:$E$31,3,0),0) -> 0 | J47: =IFERROR(VLOOKUP(C47,Т2Зб!$C$3:$D$31,2,0),0) -> 0 | K47: =IFERROR(VLOOKUP(C47,Т2Зб!$C$3:$E$31,3,0),0) -> 29 | L47: =D47+F47+H47+J47 -> 153.76 | M47: =IF(L47=0,реглист!$C$62*2+2,E47+G47+I47+K47) -> 53 | N47: 53
A48: =A47+1 -> 45 | B48: =реглист!B49 -> UL Hooligans | C48: =реглист!C49 -> Дешкевич Виталий | D48: =IFERROR(VLOOKUP(C48,Т1За!$C$3:$D$31,2,0),0) -> 0 | E48: =IFERROR(VLOOKUP(C48,Т1За!$C$3:$E$31,3,0),0) -> 0 | F48: =IFERROR(VLOOKUP(C48,Т1Зб!$C$3:$D$31,2,0),0) -> 0 | G48: =IFERROR(VLOOKUP(C48,Т1Зб!$C$3:$E$31,3,0),0) -> 29 | H48: =IFERROR(VLOOKUP(C48,Т2За!$C$3:$D$31,2,0),0) -> 278.89 | I48: =IFERROR(VLOOKUP(C48,Т2За!$C$3:$E$31,3,0),0) -> 14 | J48: =IFERROR(VLOOKUP(C48,Т2Зб!$C$3:$D$31,2,0),0) -> 0 | K48: =IFERROR(VLOOKUP(C48,Т2Зб!$C$3:$E$31,3,0),0) -> 0 | L48: =D48+F48+H48+J48 -> 278.89 | M48: =IF(L48=0,реглист!$C$62*2+2,E48+G48+I48+K48) -> 43 | N48: 45 | O48: =L48+L49 -> 969.91 | P48: =IF(O48=0,реглист!$C$62*4+4,M48+M49) -> 79 | Q48: 23
A49: =A48+1 -> 46 | B49: =реглист!B50 -> UL Hooligans | C49: =реглист!C50 -> Уютов Кирилл | D49: =IFERROR(VLOOKUP(C49,Т1За!$C$3:$D$31,2,0),0) -> 691.02 | E49: =IFERROR(VLOOKUP(C49,Т1За!$C$3:$E$31,3,0),0) -> 7 | F49: =IFERROR(VLOOKUP(C49,Т1Зб!$C$3:$D$31,2,0),0) -> 0 | G49: =IFERROR(VLOOKUP(C49,Т1Зб!$C$3:$E$31,3,0),0) -> 0 | H49: =IFERROR(VLOOKUP(C49,Т2За!$C$3:$D$31,2,0),0) -> 0 | I49: =IFERROR(VLOOKUP(C49,Т2За!$C$3:$E$31,3,0),0) -> 0 | J49: =IFERROR(VLOOKUP(C49,Т2Зб!$C$3:$D$31,2,0),0) -> 0 | K49: =IFERROR(VLOOKUP(C49,Т2Зб!$C$3:$E$31,3,0),0) -> 29 | L49: =D49+F49+H49+J49 -> 691.02 | M49: =IF(L49=0,реглист!$C$62*2+2,E49+G49+I49+K49) -> 36 | N49: 35
A50: =A49+1 -> 47 | B50: =реглист!B51 -> Black River Team | C50: =реглист!C51 -> Ворон Павел | D50: =IFERROR(VLOOKUP(C50,Т1За!$C$3:$D$31,2,0),0) -> 0 | E50: =IFERROR(VLOOKUP(C50,Т1За!$C$3:$E$31,3,0),0) -> 29 | F50: =IFERROR(VLOOKUP(C50,Т1Зб!$C$3:$D$31,2,0),0) -> 0 | G50: =IFERROR(VLOOKUP(C50,Т1Зб!$C$3:$E$31,3,0),0) -> 0 | H50: =IFERROR(VLOOKUP(C50,Т2За!$C$3:$D$31,2,0),0) -> 0 | I50: =IFERROR(VLOOKUP(C50,Т2За!$C$3:$E$31,3,0),0) -> 0 | J50: =IFERROR(VLOOKUP(C50,Т2Зб!$C$3:$D$31,2,0),0) -> 0 | K50: =IFERROR(VLOOKUP(C50,Т2Зб!$C$3:$E$31,3,0),0) -> 29 | L50: =D50+F50+H50+J50 -> 0 | M50: =IF(L50=0,реглист!$C$62*2+2,E50+G50+I50+K50) -> 58 | N50: 57 | O50: =L50+L51 -> 0 | P50: =IF(O50=0,реглист!$C$62*4+4,M50+M51) -> 116 | Q50: =IF(P50=реглист!$C$62*4+4,реглист!$C$62+1,RANK(P50,$P$4:$P$59,1)) -> 29
A51: =A50+1 -> 48 | B51: =реглист!B52 -> Black River Team | C51: =реглист!C52 -> Рабушко Василий | D51: =IFERROR(VLOOKUP(C51,Т1За!$C$3:$D$31,2,0),0) -> 0 | E51: =IFERROR(VLOOKUP(C51,Т1За!$C$3:$E$31,3,0),0) -> 0 | F51: =IFERROR(VLOOKUP(C51,Т1Зб!$C$3:$D$31,2,0),0) -> 0 | G51: =IFERROR(VLOOKUP(C51,Т1Зб!$C$3:$E$31,3,0),0) -> 29 | H51: =IFERROR(VLOOKUP(C51,Т2За!$C$3:$D$31,2,0),0) -> 0 | I51: =IFERROR(VLOOKUP(C51,Т2За!$C$3:$E$31,3,0),0) -> 29 | J51: =IFERROR(VLOOKUP(C51,Т2Зб!$C$3:$D$31,2,0),0) -> 0 | K51: =IFERROR(VLOOKUP(C51,Т2Зб!$C$3:$E$31,3,0),0) -> 0 | L51: =D51+F51+H51+J51 -> 0 | M51: =IF(L51=0,реглист!$C$62*2+2,E51+G51+I51+K51) -> 58 | N51: 57
A52: =A51+1 -> 49 | B52: =реглист!B53 -> Legion | C52: =реглист!C53 -> Бойко Сергей | D52: =IFERROR(VLOOKUP(C52,Т1За!$C$3:$D$31,2,0),0) -> 0 | E52: =IFERROR(VLOOKUP(C52,Т1За!$C$3:$E$31,3,0),0) -> 0 | F52: =IFERROR(VLOOKUP(C52,Т1Зб!$C$3:$D$31,2,0),0) -> 1007.4525 | G52: =IFERROR(VLOOKUP(C52,Т1Зб!$C$3:$E$31,3,0),0) -> 9 | H52: =IFERROR(VLOOKUP(C52,Т2За!$C$3:$D$31,2,0),0) -> 839.5925 | I52: =IFERROR(VLOOKUP(C52,Т2За!$C$3:$E$31,3,0),0) -> 5 | J52: =IFERROR(VLOOKUP(C52,Т2Зб!$C$3:$D$31,2,0),0) -> 0 | K52: =IFERROR(VLOOKUP(C52,Т2Зб!$C$3:$E$31,3,0),0) -> 0 | L52: =D52+F52+H52+J52 -> 1847.045 | M52: =IF(L52=0,реглист!$C$62*2+2,E52+G52+I52+K52) -> 14 | N52: 9 | O52: =L52+L53 -> 5023.0675 | P52: =IF(O52=0,реглист!$C$62*4+4,M52+M53) -> 26 | Q52: =IF(P52=реглист!$C$62*4+4,реглист!$C$62+1,RANK(P52,$P$4:$P$59,1)) -> 3
A53: =A52+1 -> 50 | B53: =реглист!B54 -> Legion | C53: =реглист!C54 -> Микулов Владимир | D53: =IFERROR(VLOOKUP(C53,Т1За!$C$3:$D$31,2,0),0) -> 2823.38 | E53: =IFERROR(VLOOKUP(C53,Т1За!$C$3:$E$31,3,0),0) -> 1 | F53: =IFERROR(VLOOKUP(C53,Т1Зб!$C$3:$D$31,2,0),0) -> 0 | G53: =IFERROR(VLOOKUP(C53,Т1Зб!$C$3:$E$31,3,0),0) -> 0 | H53: =IFERROR(VLOOKUP(C53,Т2За!$C$3:$D$31,2,0),0) -> 0 | I53: =IFERROR(VLOOKUP(C53,Т2За!$C$3:$E$31,3,0),0) -> 0 | J53: =IFERROR(VLOOKUP(C53,Т2Зб!$C$3:$D$31,2,0),0) -> 352.6425 | K53: =IFERROR(VLOOKUP(C53,Т2Зб!$C$3:$E$31,3,0),0) -> 11 | L53: =D53+F53+H53+J53 -> 3176.0225 | M53: =IF(L53=0,реглист!$C$62*2+2,E53+G53+I53+K53) -> 12 | N53: 5
A54: =A53+1 -> 51 | B54: =реглист!B55 -> nanobass | C54: =реглист!C55 -> Бычик Роман | D54: =IFERROR(VLOOKUP(C54,Т1За!$C$3:$D$31,2,0),0) -> 169 | E54: =IFERROR(VLOOKUP(C54,Т1За!$C$3:$E$31,3,0),0) -> 23 | F54: =IFERROR(VLOOKUP(C54,Т1Зб!$C$3:$D$31,2,0),0) -> 0 | G54: =IFERROR(VLOOKUP(C54,Т1Зб!$C$3:$E$31,3,0),0) -> 0 | H54: =IFERROR(VLOOKUP(C54,Т2За!$C$3:$D$31,2,0),0) -> 0 | I54: =IFERROR(VLOOKUP(C54,Т2За!$C$3:$E$31,3,0),0) -> 0 | J54: =IFERROR(VLOOKUP(C54,Т2Зб!$C$3:$D$31,2,0),0) -> 0 | K54: =IFERROR(VLOOKUP(C54,Т2Зб!$C$3:$E$31,3,0),0) -> 29 | L54: =D54+F54+H54+J54 -> 169 | M54: =IF(L54=0,реглист!$C$62*2+2,E54+G54+I54+K54) -> 52 | N54: 52 | O54: =L54+L55 -> 561.85 | P54: =IF(O54=0,реглист!$C$62*4+4,M54+M55) -> 94 | Q54: =IF(P54=реглист!$C$62*4+4,реглист!$C$62+1,RANK(P54,$P$4:$P$59,1)) -> 27
A55: =A54+1 -> 52 | B55: =реглист!B56 -> nanobass | C55: =реглист!C56 -> Мартынчук Михаил | D55: =IFERROR(VLOOKUP(C55,Т1За!$C$3:$D$31,2,0),0) -> 0 | E55: =IFERROR(VLOOKUP(C55,Т1За!$C$3:$E$31,3,0),0) -> 0 | F55: =IFERROR(VLOOKUP(C55,Т1Зб!$C$3:$D$31,2,0),0) -> 158.76 | G55: =IFERROR(VLOOKUP(C55,Т1Зб!$C$3:$E$31,3,0),0) -> 25 | H55: =IFERROR(VLOOKUP(C55,Т2За!$C$3:$D$31,2,0),0) -> 234.09 | I55: =IFERROR(VLOOKUP(C55,Т2За!$C$3:$E$31,3,0),0) -> 17 | J55: =IFERROR(VLOOKUP(C55,Т2Зб!$C$3:$D$31,2,0),0) -> 0 | K55: =IFERROR(VLOOKUP(C55,Т2Зб!$C$3:$E$31,3,0),0) -> 0 | L55: =D55+F55+H55+J55 -> 392.85 | M55: =IF(L55=0,реглист!$C$62*2+2,E55+G55+I55+K55) -> 42 | N55: 42
A56: =A55+1 -> 53 | B56: =реглист!B57 -> XULi-Uli | C56: =реглист!C57 -> Лавренчук Станислав | D56: =IFERROR(VLOOKUP(C56,Т1За!$C$3:$D$31,2,0),0) -> 476.05 | E56: =IFERROR(VLOOKUP(C56,Т1За!$C$3:$E$31,3,0),0) -> 16 | F56: =IFERROR(VLOOKUP(C56,Т1Зб!$C$3:$D$31,2,0),0) -> 0 | G56: =IFERROR(VLOOKUP(C56,Т1Зб!$C$3:$E$31,3,0),0) -> 0 | H56: =IFERROR(VLOOKUP(C56,Т2За!$C$3:$D$31,2,0),0) -> 0 | I56: =IFERROR(VLOOKUP(C56,Т2За!$C$3:$E$31,3,0),0) -> 0 | J56: =IFERROR(VLOOKUP(C56,Т2Зб!$C$3:$D$31,2,0),0) -> 359.12 | K56: =IFERROR(VLOOKUP(C56,Т2Зб!$C$3:$E$31,3,0),0) -> 10 | L56: =D56+F56+H56+J56 -> 835.17 | M56: =IF(L56=0,реглист!$C$62*2+2,E56+G56+I56+K56) -> 26 | N56: 24 | O56: =L56+L57 -> 1118.41 | P56: =IF(O56=0,реглист!$C$62*4+4,M56+M57) -> 75 | Q56: =IF(P56=реглист!$C$62*4+4,реглист!$C$62+1,RANK(P56,$P$4:$P$59,1)) -> 18
A57: =A56+1 -> 54 | B57: =реглист!B58 -> XULi-Uli | C57: =реглист!C58 -> Дубровский Вадим | D57: =IFERROR(VLOOKUP(C57,Т1За!$C$3:$D$31,2,0),0) -> 0 | E57: =IFERROR(VLOOKUP(C57,Т1За!$C$3:$E$31,3,0),0) -> 0 | F57: =IFERROR(VLOOKUP(C57,Т1Зб!$C$3:$D$31,2,0),0) -> 283.24 | G57: =IFERROR(VLOOKUP(C57,Т1Зб!$C$3:$E$31,3,0),0) -> 20 | H57: =IFERROR(VLOOKUP(C57,Т2За!$C$3:$D$31,2,0),0) -> 0 | I57: =IFERROR(VLOOKUP(C57,Т2За!$C$3:$E$31,3,0),0) -> 29 | J57: =IFERROR(VLOOKUP(C57,Т2Зб!$C$3:$D$31,2,0),0) -> 0 | K57: =IFERROR(VLOOKUP(C57,Т2Зб!$C$3:$E$31,3,0),0) -> 0 | L57: =D57+F57+H57+J57 -> 283.24 | M57: =IF(L57=0,реглист!$C$62*2+2,E57+G57+I57+K57) -> 49 | N57: 50
A58: =A57+1 -> 55 | B58: =реглист!B59 -> Кооператив Хищник | C58: =реглист!C59 -> Сницкий Виктор | D58: =IFERROR(VLOOKUP(C58,Т1За!$C$3:$D$31,2,0),0) -> 519.7 | E58: =IFERROR(VLOOKUP(C58,Т1За!$C$3:$E$31,3,0),0) -> 11 | F58: =IFERROR(VLOOKUP(C58,Т1Зб!$C$3:$D$31,2,0),0) -> 0 | G58: =IFERROR(VLOOKUP(C58,Т1Зб!$C$3:$E$31,3,0),0) -> 0 | H58: =IFERROR(VLOOKUP(C58,Т2За!$C$3:$D$31,2,0),0) -> 0 | I58: =IFERROR(VLOOKUP(C58,Т2За!$C$3:$E$31,3,0),0) -> 0 | J58: =IFERROR(VLOOKUP(C58,Т2Зб!$C$3:$D$31,2,0),0) -> 497.9 | K58: =IFERROR(VLOOKUP(C58,Т2Зб!$C$3:$E$31,3,0),0) -> 6 | L58: =D58+F58+H58+J58 -> 1017.6 | M58: =IF(L58=0,реглист!$C$62*2+2,E58+G58+I58+K58) -> 17 | N58: 15 | O58: =L58+L59 -> 1642.8 | P58: =IF(O58=0,реглист!$C$62*4+4,M58+M59) -> 53 | Q58: =IF(P58=реглист!$C$62*4+4,реглист!$C$62+1,RANK(P58,$P$4:$P$59,1)) -> 12
A59: =A58+1 -> 56 | B59: =реглист!B60 -> Кооператив Хищник | C59: =реглист!C60 -> Сницкий Владимир | D59: =IFERROR(VLOOKUP(C59,Т1За!$C$3:$D$31,2,0),0) -> 0 | E59: =IFERROR(VLOOKUP(C59,Т1За!$C$3:$E$31,3,0),0) -> 0 | F59: =IFERROR(VLOOKUP(C59,Т1Зб!$C$3:$D$31,2,0),0) -> 429.2 | G59: =IFERROR(VLOOKUP(C59,Т1Зб!$C$3:$E$31,3,0),0) -> 18 | H59: =IFERROR(VLOOKUP(C59,Т2За!$C$3:$D$31,2,0),0) -> 196 | I59: =IFERROR(VLOOKUP(C59,Т2За!$C$3:$E$31,3,0),0) -> 18 | J59: =IFERROR(VLOOKUP(C59,Т2Зб!$C$3:$D$31,2,0),0) -> 0 | K59: =IFERROR(VLOOKUP(C59,Т2Зб!$C$3:$E$31,3,0),0) -> 0 | L59: =D59+F59+H59+J59 -> 625.2 | M59: =IF(L59=0,реглист!$C$62*2+2,E59+G59+I59+K59) -> 36 | N59: 36
A61: Средний размер окуня, см: | C61: =(Т1За!F31+Т1Зб!F31+Т2За!F31+Т2Зб!F31)/4 -> 15.422511
A62: Средний размер щуки, см: | C62: =(Т1За!K31+Т1Зб!S31+Т2За!K31+Т2Зб!J31)/4 -> 30.432589
