Workbook

Sheet реглист
A1: 3 этап Чемпионата РБ по спортивной ловле рыбы спиннингом с берега | E1: 42630
A2: Регистрационный лист
A3: № | B3: Команда | C3: Спортсмен | D3: Стартовая зона | E3: Страховка
A5: 1 | B5: Vodomotorika TEAM | C5: Круглянин Сергей | D5: А
A6: =A5+1 -> 2 | B6: Vodomotorika TEAM | C6: Ставер Дмитрий | D6: Б
A7: =A6+1 -> 3 | B7: Трудовые резервы | C7: Баранок Артём | D7: Б
A8: =A7+1 -> 4 | B8: Трудовые резервы | C8: Пожарский Константин | D8: А
A9: =A8+1 -> 5 | B9: Poseidon | C9: Чижонок Сергей | D9: Б
A10: =A9+1 -> 6 | B10: Poseidon | C10: Строк Павел | D10: А
A11: =A10+1 -> 7 | B11: Peacock Bass | C11: Сенчуров Иван | D11: А
A12: =A11+1 -> 8 | B12: Peacock Bass | C12: Дроздов Виталий | D12: Б
A13: =A12+1 -> 9 | B13: Old Roads Fishing | C13: Синовец Роман | D13: А
A14: =A13+1 -> 10 | B14: Old Roads Fishing | C14: Чернышёв Егор | D14: Б
A15: =A14+1 -> 11 | B15: Gefest | C15: Саган Сергей | D15: Б | F15: Шумко Александр
A16: =A15+1 -> 12 | B16: Gefest | C16: Радчук Юрий | D16: А
A17: =A16+1 -> 13 | B17: West Fishing | C17: Непомнящий Виктор | D17: А
A18: =A17+1 -> 14 | B18: West Fishing | C18: Золотарь Андрей | D18: Б
A19: =A18+1 -> 15 | B19: Dream Team | C19: Золотухин Александр | D19: Б
A20: =A19+1 -> 16 | B20: Dream Team | C20: Тысевич Сергей | D20: А
A21: =A20+1 -> 17 | B21: Bona Кобрин | C21: Марковский Максим | D21: А
A22: =A21+1 -> 18 | B22: Bona Кобрин | C22: Барташук Александр | D22: Б
A23: =A22+1 -> 19 | B23: Фарватер | C23: Цыганок Михаил | D23: Б
A24: =A23+1 -> 20 | B24: Фарватер | C24: Попельский Максим | D24: А
A25: =A24+1 -> 21 | B25: XULi-ULi | C25: Дубровский Вадим | D25: Б
A26: =A25+1 -> 22 | B26: XULi-ULi | C26: Лавренчук Станислав | D26: А
A27: =A26+1 -> 23 | B27: Fanatik Belarus | C27: Янкович Сергей | D27: Б
... A45: =A44+1 -> 41 | B45: ASpinnTeam | C45: Нугуманов Артём | D45: А
A46: =A45+1 -> 42 | B46: ASpinnTeam | C46: Вашкевич Александр | D46: Б | F46: Мякинник Артем
A47: =A46+1 -> 43 | B47: nanobass | C47: Бычик Роман | D47: А
A48: =A47+1 -> 44 | B48: nanobass | C48: Мартынчук Михаил | D48: Б
A49: =A48+1 -> 45
A50: =A49+1 -> 46
A51: =A50+1 -> 47
A52: =A51+1 -> 48
A53: =A52+1 -> 49
A54: =A53+1 -> 50
A55: =A54+1 -> 51
A56: =A55+1 -> 52
A57: =A56+1 -> 53
A58: =A57+1 -> 54
A59: =A58+1 -> 55
A60: =A59+1 -> 56
... A82: =A81+1 -> 78
B88: Количество команд: | C88: 22

Sheet Т1За
A1: № | B1: команда | C1: участник | D1: сумма баллов | E1: место | F1: окунь | U1: щука | X1: судак | AA1: жерех | AD1: голавль | AG1: язь | AJ1: чехонь | AM1: сом
F2: размер, см
A3: 1 | B3: =IF(реглист!C5="А",реглист!B5,реглист!B6) -> Vodomotorika TEAM | C3: =IF(реглист!D5="А",реглист!C5,реглист!C6) -> Круглянин Сергей | D3: =D45 -> 1225.16 | E3: =E45 -> 2 | F3: 29 | U3: 39.2
A4: =A3+1 -> 2 | B4: =IF(реглист!C7="А",реглист!B7,реглист!B8) -> Трудовые резервы | C4: =IF(реглист!D7="А",реглист!C7,реглист!C8) -> Пожарский Константин | D4: =D46 -> 772.29 | E4: =E46 -> 3 | U4: 39 | V4: 39.6
A5: =A4+1 -> 3 | B5: =IF(реглист!C9="А",реглист!B9,реглист!B10) -> Poseidon | C5: =IF(реглист!D9="А",реглист!C9,реглист!C10) -> Строк Павел | D5: =D47 -> 380.25 | E5: =E47 -> 6 | U5: 39
A6: =A5+1 -> 4 | B6: =IF(реглист!C11="А",реглист!B11,реглист!B12) -> Peacock Bass | C6: =IF(реглист!D11="А",реглист!C11,реглист!C12) -> Сенчуров Иван | D6: =D48 -> 320.41 | E6: =E48 -> 8 | F6: 17.9
A7: =A6+1 -> 5 | B7: =IF(реглист!C13="А",реглист!B13,реглист!B14) -> Old Roads Fishing | C7: =IF(реглист!D13="А",реглист!C13,реглист!C14) -> Синовец Роман | D7: =D49 -> 278.89 | E7: =E49 -> 9 | F7: 16.7
A8: =A7+1 -> 6 | B8: =IF(реглист!C15="А",реглист!B15,реглист!B16) -> Gefest | C8: =IF(реглист!D15="А",реглист!C15,реглист!C16) -> Радчук Юрий | D8: =D50 -> 0 | E8: =E50 -> 23
A9: =A8+1 -> 7 | B9: =IF(реглист!C17="А",реглист!B17,реглист!B18) -> West Fishing | C9: =IF(реглист!D17="А",реглист!C17,реглист!C18) -> Непомнящий Виктор | D9: =D51 -> 639.81 | E9: =E51 -> 4 | F9: 21 | U9: 28.2
A10: =A9+1 -> 8 | B10: =IF(реглист!C19="А",реглист!B19,реглист!B20) -> Dream Team | C10: =IF(реглист!D19="А",реглист!C19,реглист!C20) -> Тысевич Сергей | D10: =D52 -> 324 | E10: =E52 -> 7 | F10: 18
A11: =A10+1 -> 9 | B11: =IF(реглист!C21="А",реглист!B21,реглист!B22) -> Bona Кобрин | C11: =IF(реглист!D21="А",реглист!C21,реглист!C22) -> Марковский Максим | D11: =D53 -> 0 | E11: =E53 -> 23
A12: =A11+1 -> 10 | B12: =IF(реглист!C23="А",реглист!B23,реглист!B24) -> Фарватер | C12: =IF(реглист!D23="А",реглист!C23,реглист!C24) -> Попельский Максим | D12: =D54 -> 0 | E12: =E54 -> 23
A13: =A12+1 -> 11 | B13: =IF(реглист!C25="А",реглист!B25,реглист!B26) -> XULi-ULi | C13: =IF(реглист!D25="А",реглист!C25,реглист!C26) -> Лавренчук Станислав | D13: =D55 -> 0 | E13: =E55 -> 23
A14: =A13+1 -> 12 | B14: =IF(реглист!C27="А",реглист!B27,реглист!B28) -> Fanatik Belarus | C14: =IF(реглист!D27="А",реглист!C27,реглист!C28) -> Шевчук Дмитрий | D14: =D56 -> 0 | E14: =E56 -> 23
A15: =A14+1 -> 13 | B15: =IF(реглист!C29="А",реглист!B29,реглист!B30) -> FISHINGSTOCK BELARUS | C15: =IF(реглист!D29="А",реглист!C29,реглист!C30) -> Лунякин Олег | D15: =D57 -> 0 | E15: =E57 -> 23
A16: =A15+1 -> 14 | B16: =IF(реглист!C31="А",реглист!B31,реглист!B32) -> Против Течениия | C16: =IF(реглист!D31="А",реглист!C31,реглист!C32) -> Кириенко Кирилл | D16: =D58 -> 0 | E16: =E58 -> 23
A17: =A16+1 -> 15 | B17: =IF(реглист!C33="А",реглист!B33,реглист!B34) -> Bait Breath Team | C17: =IF(реглист!D33="А",реглист!C33,реглист!C34) -> Зубко Сергей | D17: =D59 -> 0 | E17: =E59 -> 23
A18: =A17+1 -> 16 | B18: =IF(реглист!C35="А",реглист!B35,реглист!B36) -> Кооператив ХИЩНИК | C18: =IF(реглист!D35="А",реглист!C35,реглист!C36) -> Сницкий Виктор | D18: =D60 -> 0 | E18: =E60 -> 23
A19: =A18+1 -> 17 | B19: =IF(реглист!C37="А",реглист!B37,реглист!B38) -> Bass Hunters | C19: =IF(реглист!D37="А",реглист!C37,реглист!C38) -> Кириевский Андрей | D19: =D61 -> 0 | E19: =E61 -> 23
A20: =A19+1 -> 18 | B20: =IF(реглист!C39="А",реглист!B39,реглист!B40) -> TotalSpin | C20: =IF(реглист!D39="А",реглист!C39,реглист!C40) -> Масюк Павел | D20: =D62 -> 0 | E20: =E62 -> 23
A21: =A20+1 -> 19 | B21: =IF(реглист!C41="А",реглист!B41,реглист!B42) -> SB-FISHING | C21: =IF(реглист!D41="А",реглист!C41,реглист!C42) -> Сапраненков Евгений | D21: =D63 -> 529 | E21: =E63 -> 5 | F21: 23
A22: =A21+1 -> 20 | B22: =IF(реглист!C43="А",реглист!B43,реглист!B44) -> Legion | C22: =IF(реглист!D43="А",реглист!C43,реглист!C44) -> Микулов Владимир | D22: =D64 -> 0 | E22: =E64 -> 23
A23: =A22+1 -> 21 | B23: =IF(реглист!C45="А",реглист!B45,реглист!B46) -> ASpinnTeam | C23: =IF(реглист!D45="А",реглист!C45,реглист!C46) -> Нугуманов Артём | D23: =D65 -> 1253.5425 | E23: =E65 -> 1 | F23: 21.7 | U23: 38.5 | V23: 40.6
A24: =A23+1 -> 22 | B24: =IF(реглист!C47="А",реглист!B47,реглист!B48) -> nanobass | C24: =IF(реглист!D47="А",реглист!C47,реглист!C48) -> Бычик Роман | D24: =D66 -> 126.5625 | E24: =E66 -> 10 | U24: 22.5
A25: =A24+1 -> 23 | B25: =IF(реглист!C49="А",реглист!B49,реглист!B50) -> 0 | C25: =IF(реглист!D49="А",реглист!C49,реглист!C50) -> 0 | D25: =D67 -> 0 | E25: =E67 -> 23
A26: =A25+1 -> 24 | B26: =IF(реглист!C51="А",реглист!B51,реглист!B52) -> 0 | C26: =IF(реглист!D51="А",реглист!C51,реглист!C52) -> 0 | D26: =D68 -> 0 | E26: =E68 -> 23
A27: =A26+1 -> 25 | B27: =IF(реглист!C53="А",реглист!B53,реглист!B54) -> 0 | C27: =IF(реглист!D53="А",реглист!C53,реглист!C54) -> 0 | D27: =D69 -> 0 | E27: =E69 -> 23
A28: =A27+1 -> 26 | B28: =IF(реглист!C55="А",реглист!B55,реглист!B56) -> 0 | C28: =IF(реглист!D55="А",реглист!C55,реглист!C56) -> 0 | D28: =D70 -> 0 | E28: =E70 -> 23
A29: =A28+1 -> 27 | B29: =IF(реглист!C57="А",реглист!B57,реглист!B58) -> 0 | C29: =IF(реглист!D57="А",реглист!C57,реглист!C58) -> 0 | D29: =D71 -> 0 | E29: =E71 -> 23
A30: =A29+1 -> 28 | B30: =IF(реглист!C59="А",реглист!B59,реглист!B60) -> 0 | C30: =IF(реглист!D59="А",реглист!C59,реглист!C60) -> 0 | D30: =D72 -> 0 | E30: =E72 -> 23
A31: =A30+1 -> 29 | B31: =IF(реглист!C61="А",реглист!B61,реглист!B62) -> 0 | C31: =IF(реглист!D61="А",реглист!C61,реглист!C62) -> 0 | D31: =D73 -> 0 | E31: =E73 -> 23
A32: =A31+1 -> 30 | B32: =IF(реглист!C63="А",реглист!B63,реглист!B64) -> 0 | C32: =IF(реглист!D63="А",реглист!C63,реглист!C64) -> 0 | D32: =D74 -> 0 | E32: =E74 -> 23
A33: =A32+1 -> 31 | B33: =IF(реглист!C65="А",реглист!B65,реглист!B66) -> 0 | C33: =IF(реглист!D65="А",реглист!C65,реглист!C66) -> 0 | D33: =D75 -> 0 | E33: =E75 -> 23
A34: =A33+1 -> 32 | B34: =IF(реглист!C67="А",реглист!B67,реглист!B68) -> 0 | C34: =IF(реглист!D67="А",реглист!C67,реглист!C68) -> 0 | D34: =D76 -> 0 | E34: =E76 -> 23
A35: =A34+1 -> 33 | B35: =IF(реглист!C69="А",реглист!B69,реглист!B70) -> 0 | C35: =IF(реглист!D69="А",реглист!C69,реглист!C70) -> 0 | D35: =D77 -> 0 | E35: =E77 -> 23
A36: =A35+1 -> 34 | B36: =IF(реглист!C71="А",реглист!B71,реглист!B72) -> 0 | C36: =IF(реглист!D71="А",реглист!C71,реглист!C72) -> 0 | D36: =D78 -> 0 | E36: =E78 -> 23
A37: =A36+1 -> 35 | B37: =IF(реглист!C73="А",реглист!B73,реглист!B74) -> 0 | C37: =IF(реглист!D73="А",реглист!C73,реглист!C74) -> 0 | D37: =D79 -> 0 | E37: =E79 -> 23
A38: =A37+1 -> 36 | B38: =IF(реглист!C75="А",реглист!B75,реглист!B76) -> 0 | C38: =IF(реглист!D75="А",реглист!C75,реглист!C76) -> 0 | D38: =D80 -> 0 | E38: =E80 -> 23
A39: =A38+1 -> 37 | B39: =IF(реглист!C77="А",реглист!B77,реглист!B78) -> 0 | C39: =IF(реглист!D77="А",реглист!C77,реглист!C78) -> 0 | D39: =D81 -> 0 | E39: =E81 -> 23
A40: =A39+1 -> 38 | B40: =IF(реглист!C79="А",реглист!B79,реглист!B80) -> 0 | C40: =IF(реглист!D79="А",реглист!C79,реглист!C80) -> 0 | D40: =D82 -> 0 | E40: =E82 -> 23
A41: =A40+1 -> 39 | B41: =IF(реглист!C81="А",реглист!B81,реглист!B82) -> 0 | C41: =IF(реглист!D81="А",реглист!C81,реглист!C82) -> 0 | D41: =D83 -> 0 | E41: =E83 -> 23
C42: средняя длина рыб по виду: | F42: =AVERAGE(F3:O41) -> 21.042857 | U42: =AVERAGE(U3:W41) -> 35.825 | X42: =AVERAGE(X3:Z41) -> #DIV/0! | AA42: =AVERAGE(AA3:AC41) -> #DIV/0! | AD42: =AVERAGE(AD3:AF41) -> #DIV/0! | AG42: =AVERAGE(AG3:AI41) -> #DIV/0! | AJ42: =AVERAGE(AJ3:AL41) -> #DIV/0!
A43: № | B43: команда | C43: участник | D43: сумма баллов | E43: место | F43: баллы
A45: 1 | B45: =B3 -> Vodomotorika TEAM | C45: =C3 -> Круглянин Сергей | D45: =SUM(F45:AO45) -> 1225.16 | E45: =IF(D45>0,RANK(D45,$D$45:$D$83),реглист!$C$88+1) -> 2 | F45: =POWER(F3,2) -> 841 | G45: =POWER(G3,2) -> 0 | H45: =POWER(H3,2) -> 0 | I45: =POWER(I3,2) -> 0 | J45: =POWER(J3,2) -> 0 | K45: =POWER(K3,2) -> 0 | L45: =POWER(L3,2) -> 0 | M45: =POWER(M3,2) -> 0 | ... T45: =POWER(T3,2) -> 0 | U45: =IF(U3>=45,POWER(U3,2),POWER(U3/2,2)) -> 384.16 | V45: =IF(V3>=45,POWER(V3,2),POWER(V3/2,2)) -> 0 | W45: =IF(W3>=45,POWER(W3,2),POWER(W3/2,2)) -> 0 | X45: =IF(X3>=45,POWER(X3,2),POWER(X3/2,2)) -> 0 | Y45: =IF(Y3>=45,POWER(Y3,2),POWER(Y3/2,2)) -> 0 | Z45: =IF(Z3>=45,POWER(Z3,2),POWER(Z3/2,2)) -> 0 | AA45: =IF(AA3>=40,POWER(AA3,2),POWER(AA3/2,2)) -> 0 | AB45: =IF(AB3>=40,POWER(AB3,2),POWER(AB3/2,2)) -> 0 | AC45: =IF(AC3>=40,POWER(AC3,2),POWER(AC3/2,2)) -> 0 | AD45: =IF(AD3>=30,POWER(AD3,2),POWER(AD3/2,2)) -> 0 | AE45: =IF(AE3>=30,POWER(AE3,2),POWER(AE3/2,2)) -> 0 | AF45: =IF(AF3>=30,POWER(AF3,2),POWER(AF3/2,2)) -> 0 | AG45: =IF(AG3>=30,POWER(AG3,2),POWER(AG3/2,2)) -> 0 | AH45: =IF(AH3>=30,POWER(AH3,2),POWER(AH3/2,2)) -> 0 | AI45: =IF(AI3>=30,POWER(AI3,2),POWER(AI3/2,2)) -> 0 | AJ45: =IF(AJ3>=30,POWER(AJ3,2),POWER(AJ3/2,2)) -> 0 | AK45: =IF(AK3>=30,POWER(AK3,2),POWER(AK3/2,2)) -> 0 | AL45: =IF(AL3>=30,POWER(AL3,2),POWER(AL3/2,2)) -> 0 | AM45: =IF(AM3>=75,POWER(AM3,2),POWER(AM3/2,2)) -> 0 | AN45: =IF(AN3>=75,POWER(AN3,2),POWER(AN3/2,2)) -> 0 | AO45: =IF(AO3>=75,POWER(AO3,2),POWER(AO3/2,2)) -> 0
A46: =A45+1 -> 2 | B46: =B4 -> Трудовые резервы | C46: =C4 -> Пожарский Константин | D46: =SUM(F46:AO46) -> 772.29 | E46: =IF(D46>0,RANK(D46,$D$45:$D$83),реглист!$C$88+1) -> 3 | F46: =POWER(F4,2) -> 0 | G46: =POWER(G4,2) -> 0 | H46: =POWER(H4,2) -> 0 | I46: =POWER(I4,2) -> 0 | J46: =POWER(J4,2) -> 0 | K46: =POWER(K4,2) -> 0 | L46: =POWER(L4,2) -> 0 | M46: =POWER(M4,2) -> 0 | ... T46: =POWER(T4,2) -> 0 | U46: =IF(U4>=45,POWER(U4,2),POWER(U4/2,2)) -> 380.25 | V46: =IF(V4>=45,POWER(V4,2),POWER(V4/2,2)) -> 392.04 | W46: =IF(W4>=45,POWER(W4,2),POWER(W4/2,2)) -> 0 | X46: =IF(X4>=45,POWER(X4,2),POWER(X4/2,2)) -> 0 | Y46: =IF(Y4>=45,POWER(Y4,2),POWER(Y4/2,2)) -> 0 | Z46: =IF(Z4>=45,POWER(Z4,2),POWER(Z4/2,2)) -> 0 | AA46: =IF(AA4>=40,POWER(AA4,2),POWER(AA4/2,2)) -> 0 | AB46: =IF(AB4>=40,POWER(AB4,2),POWER(AB4/2,2)) -> 0 | AC46: =IF(AC4>=40,POWER(AC4,2),POWER(AC4/2,2)) -> 0 | AD46: =IF(AD4>=30,POWER(AD4,2),POWER(AD4/2,2)) -> 0 | AE46: =IF(AE4>=30,POWER(AE4,2),POWER(AE4/2,2)) -> 0 | AF46: =IF(AF4>=30,POWER(AF4,2),POWER(AF4/2,2)) -> 0 | AG46: =IF(AG4>=30,POWER(AG4,2),POWER(AG4/2,2)) -> 0 | AH46: =IF(AH4>=30,POWER(AH4,2),POWER(AH4/2,2)) -> 0 | AI46: =IF(AI4>=30,POWER(AI4,2),POWER(AI4/2,2)) -> 0 | AJ46: =IF(AJ4>=30,POWER(AJ4,2),POWER(AJ4/2,2)) -> 0 | AK46: =IF(AK4>=30,POWER(AK4,2),POWER(AK4/2,2)) -> 0 | AL46: =IF(AL4>=30,POWER(AL4,2),POWER(AL4/2,2)) -> 0 | AM46: =IF(AM4>=75,POWER(AM4,2),POWER(AM4/2,2)) -> 0 | AN46: =IF(AN4>=75,POWER(AN4,2),POWER(AN4/2,2)) -> 0 | AO46: =IF(AO4>=75,POWER(AO4,2),POWER(AO4/2,2)) -> 0
A47: =A46+1 -> 3 | B47: =B5 -> Poseidon | C47: =C5 -> Строк Павел | D47: =SUM(F47:AO47) -> 380.25 | E47: =IF(D47>0,RANK(D47,$D$45:$D$83),реглист!$C$88+1) -> 6 | F47: =POWER(F5,2) -> 0 | G47: =POWER(G5,2) -> 0 | H47: =POWER(H5,2) -> 0 | I47: =POWER(I5,2) -> 0 | J47: =POWER(J5,2) -> 0 | K47: =POWER(K5,2) -> 0 | L47: =POWER(L5,2) -> 0 | M47: =POWER(M5,2) -> 0 | ... T47: =POWER(T5,2) -> 0 | U47: =IF(U5>=45,POWER(U5,2),POWER(U5/2,2)) -> 380.25 | V47: =IF(V5>=45,POWER(V5,2),POWER(V5/2,2)) -> 0 | W47: =IF(W5>=45,POWER(W5,2),POWER(W5/2,2)) -> 0 | X47: =IF(X5>=45,POWER(X5,2),POWER(X5/2,2)) -> 0 | Y47: =IF(Y5>=45,POWER(Y5,2),POWER(Y5/2,2)) -> 0 | Z47: =IF(Z5>=45,POWER(Z5,2),POWER(Z5/2,2)) -> 0 | AA47: =IF(AA5>=40,POWER(AA5,2),POWER(AA5/2,2)) -> 0 | AB47: =IF(AB5>=40,POWER(AB5,2),POWER(AB5/2,2)) -> 0 | AC47: =IF(AC5>=40,POWER(AC5,2),POWER(AC5/2,2)) -> 0 | AD47: =IF(AD5>=30,POWER(AD5,2),POWER(AD5/2,2)) -> 0 | AE47: =IF(AE5>=30,POWER(AE5,2),POWER(AE5/2,2)) -> 0 | AF47: =IF(AF5>=30,POWER(AF5,2),POWER(AF5/2,2)) -> 0 | AG47: =IF(AG5>=30,POWER(AG5,2),POWER(AG5/2,2)) -> 0 | AH47: =IF(AH5>=30,POWER(AH5,2),POWER(AH5/2,2)) -> 0 | AI47: =IF(AI5>=30,POWER(AI5,2),POWER(AI5/2,2)) -> 0 | AJ47: =IF(AJ5>=30,POWER(AJ5,2),POWER(AJ5/2,2)) -> 0 | AK47: =IF(AK5>=30,POWER(AK5,2),POWER(AK5/2,2)) -> 0 | AL47: =IF(AL5>=30,POWER(AL5,2),POWER(AL5/2,2)) -> 0 | AM47: =IF(AM5>=75,POWER(AM5,2),POWER(AM5/2,2)) -> 0 | AN47: =IF(AN5>=75,POWER(AN5,2),POWER(AN5/2,2)) -> 0 | AO47: =IF(AO5>=75,POWER(AO5,2),POWER(AO5/2,2)) -> 0
A48: =A47+1 -> 4 | B48: =B6 -> Peacock Bass | C48: =C6 -> Сенчуров Иван | D48: =SUM(F48:AO48) -> 320.41 | E48: =IF(D48>0,RANK(D48,$D$45:$D$83),реглист!$C$88+1) -> 8 | F48: =POWER(F6,2) -> 320.41 | G48: =POWER(G6,2) -> 0 | H48: =POWER(H6,2) -> 0 | I48: =POWER(I6,2) -> 0 | J48: =POWER(J6,2) -> 0 | K48: =POWER(K6,2) -> 0 | L48: =POWER(L6,2) -> 0 | M48: =POWER(M6,2) -> 0 | ... T48: =POWER(T6,2) -> 0 | U48: =IF(U6>=45,POWER(U6,2),POWER(U6/2,2)) -> 0 | V48: =IF(V6>=45,POWER(V6,2),POWER(V6/2,2)) -> 0 | W48: =IF(W6>=45,POWER(W6,2),POWER(W6/2,2)) -> 0 | X48: =IF(X6>=45,POWER(X6,2),POWER(X6/2,2)) -> 0 | Y48: =IF(Y6>=45,POWER(Y6,2),POWER(Y6/2,2)) -> 0 | Z48: =IF(Z6>=45,POWER(Z6,2),POWER(Z6/2,2)) -> 0 | AA48: =IF(AA6>=40,POWER(AA6,2),POWER(AA6/2,2)) -> 0 | AB48: =IF(AB6>=40,POWER(AB6,2),POWER(AB6/2,2)) -> 0 | AC48: =IF(AC6>=40,POWER(AC6,2),POWER(AC6/2,2)) -> 0 | AD48: =IF(AD6>=30,POWER(AD6,2),POWER(AD6/2,2)) -> 0 | AE48: =IF(AE6>=30,POWER(AE6,2),POWER(AE6/2,2)) -> 0 | AF48: =IF(AF6>=30,POWER(AF6,2),POWER(AF6/2,2)) -> 0 | AG48: =IF(AG6>=30,POWER(AG6,2),POWER(AG6/2,2)) -> 0 | AH48: =IF(AH6>=30,POWER(AH6,2),POWER(AH6/2,2)) -> 0 | AI48: =IF(AI6>=30,POWER(AI6,2),POWER(AI6/2,2)) -> 0 | AJ48: =IF(AJ6>=30,POWER(AJ6,2),POWER(AJ6/2,2)) -> 0 | AK48: =IF(AK6>=30,POWER(AK6,2),POWER(AK6/2,2)) -> 0 | AL48: =IF(AL6>=30,POWER(AL6,2),POWER(AL6/2,2)) -> 0 | AM48: =IF(AM6>=75,POWER(AM6,2),POWER(AM6/2,2)) -> 0 | AN48: =IF(AN6>=75,POWER(AN6,2),POWER(AN6/2,2)) -> 0 | AO48: =IF(AO6>=75,POWER(AO6,2),POWER(AO6/2,2)) -> 0
A49: =A48+1 -> 5 | B49: =B7 -> Old Roads Fishing | C49: =C7 -> Синовец Роман | D49: =SUM(F49:AO49) -> 278.89 | E49: =IF(D49>0,RANK(D49,$D$45:$D$83),реглист!$C$88+1) -> 9 | F49: =POWER(F7,2) -> 278.89 | G49: =POWER(G7,2) -> 0 | H49: =POWER(H7,2) -> 0 | I49: =POWER(I7,2) -> 0 | J49: =POWER(J7,2) -> 0 | K49: =POWER(K7,2) -> 0 | L49: =POWER(L7,2) -> 0 | M49: =POWER(M7,2) -> 0 | ... T49: =POWER(T7,2) -> 0 | U49: =IF(U7>=45,POWER(U7,2),POWER(U7/2,2)) -> 0 | V49: =IF(V7>=45,POWER(V7,2),POWER(V7/2,2)) -> 0 | W49: =IF(W7>=45,POWER(W7,2),POWER(W7/2,2)) -> 0 | X49: =IF(X7>=45,POWER(X7,2),POWER(X7/2,2)) -> 0 | Y49: =IF(Y7>=45,POWER(Y7,2),POWER(Y7/2,2)) -> 0 | Z49: =IF(Z7>=45,POWER(Z7,2),POWER(Z7/2,2)) -> 0 | AA49: =IF(AA7>=40,POWER(AA7,2),POWER(AA7/2,2)) -> 0 | AB49: =IF(AB7>=40,POWER(AB7,2),POWER(AB7/2,2)) -> 0 | AC49: =IF(AC7>=40,POWER(AC7,2),POWER(AC7/2,2)) -> 0 | AD49: =IF(AD7>=30,POWER(AD7,2),POWER(AD7/2,2)) -> 0 | AE49: =IF(AE7>=30,POWER(AE7,2),POWER(AE7/2,2)) -> 0 | AF49: =IF(AF7>=30,POWER(AF7,2),POWER(AF7/2,2)) -> 0 | AG49: =IF(AG7>=30,POWER(AG7,2),POWER(AG7/2,2)) -> 0 | AH49: =IF(AH7>=30,POWER(AH7,2),POWER(AH7/2,2)) -> 0 | AI49: =IF(AI7>=30,POWER(AI7,2),POWER(AI7/2,2)) -> 0 | AJ49: =IF(AJ7>=30,POWER(AJ7,2),POWER(AJ7/2,2)) -> 0 | AK49: =IF(AK7>=30,POWER(AK7,2),POWER(AK7/2,2)) -> 0 | AL49: =IF(AL7>=30,POWER(AL7,2),POWER(AL7/2,2)) -> 0 | AM49: =IF(AM7>=75,POWER(AM7,2),POWER(AM7/2,2)) -> 0 | AN49: =IF(AN7>=75,POWER(AN7,2),POWER(AN7/2,2)) -> 0 | AO49: =IF(AO7>=75,POWER(AO7,2),POWER(AO7/2,2)) -> 0
A50: =A49+1 -> 6 | B50: =B8 -> Gefest | C50: =C8 -> Радчук Юрий | D50: =SUM(F50:AO50) -> 0 | E50: =IF(D50>0,RANK(D50,$D$45:$D$83),реглист!$C$88+1) -> 23 | F50: =POWER(F8,2) -> 0 | G50: =POWER(G8,2) -> 0 | H50: =POWER(H8,2) -> 0 | I50: =POWER(I8,2) -> 0 | J50: =POWER(J8,2) -> 0 | K50: =POWER(K8,2) -> 0 | L50: =POWER(L8,2) -> 0 | M50: =POWER(M8,2) -> 0 | ... T50: =POWER(T8,2) -> 0 | U50: =IF(U8>=45,POWER(U8,2),POWER(U8/2,2)) -> 0 | V50: =IF(V8>=45,POWER(V8,2),POWER(V8/2,2)) -> 0 | W50: =IF(W8>=45,POWER(W8,2),POWER(W8/2,2)) -> 0 | X50: =IF(X8>=45,POWER(X8,2),POWER(X8/2,2)) -> 0 | Y50: =IF(Y8>=45,POWER(Y8,2),POWER(Y8/2,2)) -> 0 | Z50: =IF(Z8>=45,POWER(Z8,2),POWER(Z8/2,2)) -> 0 | AA50: =IF(AA8>=40,POWER(AA8,2),POWER(AA8/2,2)) -> 0 | AB50: =IF(AB8>=40,POWER(AB8,2),POWER(AB8/2,2)) -> 0 | AC50: =IF(AC8>=40,POWER(AC8,2),POWER(AC8/2,2)) -> 0 | AD50: =IF(AD8>=30,POWER(AD8,2),POWER(AD8/2,2)) -> 0 | AE50: =IF(AE8>=30,POWER(AE8,2),POWER(AE8/2,2)) -> 0 | AF50: =IF(AF8>=30,POWER(AF8,2),POWER(AF8/2,2)) -> 0 | AG50: =IF(AG8>=30,POWER(AG8,2),POWER(AG8/2,2)) -> 0 | AH50: =IF(AH8>=30,POWER(AH8,2),POWER(AH8/2,2)) -> 0 | AI50: =IF(AI8>=30,POWER(AI8,2),POWER(AI8/2,2)) -> 0 | AJ50: =IF(AJ8>=30,POWER(AJ8,2),POWER(AJ8/2,2)) -> 0 | AK50: =IF(AK8>=30,POWER(AK8,2),POWER(AK8/2,2)) -> 0 | AL50: =IF(AL8>=30,POWER(AL8,2),POWER(AL8/2,2)) -> 0 | AM50: =IF(AM8>=75,POWER(AM8,2),POWER(AM8/2,2)) -> 0 | AN50: =IF(AN8>=75,POWER(AN8,2),POWER(AN8/2,2)) -> 0 | AO50: =IF(AO8>=75,POWER(AO8,2),POWER(AO8/2,2)) -> 0
A51: =A50+1 -> 7 | B51: =B9 -> West Fishing | C51: =C9 -> Непомнящий Виктор | D51: =SUM(F51:AO51) -> 639.81 | E51: =IF(D51>0,RANK(D51,$D$45:$D$83),реглист!$C$88+1) -> 4 | F51: =POWER(F9,2) -> 441 | G51: =POWER(G9,2) -> 0 | H51: =POWER(H9,2) -> 0 | I51: =POWER(I9,2) -> 0 | J51: =POWER(J9,2) -> 0 | K51: =POWER(K9,2) -> 0 | L51: =POWER(L9,2) -> 0 | M51: =POWER(M9,2) -> 0 | ... T51: =POWER(T9,2) -> 0 | U51: =IF(U9>=45,POWER(U9,2),POWER(U9/2,2)) -> 198.81 | V51: =IF(V9>=45,POWER(V9,2),POWER(V9/2,2)) -> 0 | W51: =IF(W9>=45,POWER(W9,2),POWER(W9/2,2)) -> 0 | X51: =IF(X9>=45,POWER(X9,2),POWER(X9/2,2)) -> 0 | Y51: =IF(Y9>=45,POWER(Y9,2),POWER(Y9/2,2)) -> 0 | Z51: =IF(Z9>=45,POWER(Z9,2),POWER(Z9/2,2)) -> 0 | AA51: =IF(AA9>=40,POWER(AA9,2),POWER(AA9/2,2)) -> 0 | AB51: =IF(AB9>=40,POWER(AB9,2),POWER(AB9/2,2)) -> 0 | AC51: =IF(AC9>=40,POWER(AC9,2),POWER(AC9/2,2)) -> 0 | AD51: =IF(AD9>=30,POWER(AD9,2),POWER(AD9/2,2)) -> 0 | AE51: =IF(AE9>=30,POWER(AE9,2),POWER(AE9/2,2)) -> 0 | AF51: =IF(AF9>=30,POWER(AF9,2),POWER(AF9/2,2)) -> 0 | AG51: =IF(AG9>=30,POWER(AG9,2),POWER(AG9/2,2)) -> 0 | AH51: =IF(AH9>=30,POWER(AH9,2),POWER(AH9/2,2)) -> 0 | AI51: =IF(AI9>=30,POWER(AI9,2),POWER(AI9/2,2)) -> 0 | AJ51: =IF(AJ9>=30,POWER(AJ9,2),POWER(AJ9/2,2)) -> 0 | AK51: =IF(AK9>=30,POWER(AK9,2),POWER(AK9/2,2)) -> 0 | AL51: =IF(AL9>=30,POWER(AL9,2),POWER(AL9/2,2)) -> 0 | AM51: =IF(AM9>=75,POWER(AM9,2),POWER(AM9/2,2)) -> 0 | AN51: =IF(AN9>=75,POWER(AN9,2),POWER(AN9/2,2)) -> 0 | AO51: =IF(AO9>=75,POWER(AO9,2),POWER(AO9/2,2)) -> 0
A52: =A51+1 -> 8 | B52: =B10 -> Dream Team | C52: =C10 -> Тысевич Сергей | D52: =SUM(F52:AO52) -> 324 | E52: =IF(D52>0,RANK(D52,$D$45:$D$83),реглист!$C$88+1) -> 7 | F52: =POWER(F10,2) -> 324 | G52: =POWER(G10,2) -> 0 | H52: =POWER(H10,2) -> 0 | I52: =POWER(I10,2) -> 0 | J52: =POWER(J10,2) -> 0 | K52: =POWER(K10,2) -> 0 | L52: =POWER(L10,2) -> 0 | M52: =POWER(M10,2) -> 0 | ... T52: =POWER(T10,2) -> 0 | U52: =IF(U10>=45,POWER(U10,2),POWER(U10/2,2)) -> 0 | V52: =IF(V10>=45,POWER(V10,2),POWER(V10/2,2)) -> 0 | W52: =IF(W10>=45,POWER(W10,2),POWER(W10/2,2)) -> 0 | X52: =IF(X10>=45,POWER(X10,2),POWER(X10/2,2)) -> 0 | Y52: =IF(Y10>=45,POWER(Y10,2),POWER(Y10/2,2)) -> 0 | Z52: =IF(Z10>=45,POWER(Z10,2),POWER(Z10/2,2)) -> 0 | AA52: =IF(AA10>=40,POWER(AA10,2),POWER(AA10/2,2)) -> 0 | AB52: =IF(AB10>=40,POWER(AB10,2),POWER(AB10/2,2)) -> 0 | AC52: =IF(AC10>=40,POWER(AC10,2),POWER(AC10/2,2)) -> 0 | AD52: =IF(AD10>=30,POWER(AD10,2),POWER(AD10/2,2)) -> 0 | AE52: =IF(AE10>=30,POWER(AE10,2),POWER(AE10/2,2)) -> 0 | AF52: =IF(AF10>=30,POWER(AF10,2),POWER(AF10/2,2)) -> 0 | AG52: =IF(AG10>=30,POWER(AG10,2),POWER(AG10/2,2)) -> 0 | AH52: =IF(AH10>=30,POWER(AH10,2),POWER(AH10/2,2)) -> 0 | AI52: =IF(AI10>=30,POWER(AI10,2),POWER(AI10/2,2)) -> 0 | AJ52: =IF(AJ10>=30,POWER(AJ10,2),POWER(AJ10/2,2)) -> 0 | AK52: =IF(AK10>=30,POWER(AK10,2),POWER(AK10/2,2)) -> 0 | AL52: =IF(AL10>=30,POWER(AL10,2),POWER(AL10/2,2)) -> 0 | AM52: =IF(AM10>=75,POWER(AM10,2),POWER(AM10/2,2)) -> 0 | AN52: =IF(AN10>=75,POWER(AN10,2),POWER(AN10/2,2)) -> 0 | AO52: =IF(AO10>=75,POWER(AO10,2),POWER(AO10/2,2)) -> 0
A53: =A52+1 -> 9 | B53: =B11 -> Bona Кобрин | C53: =C11 -> Марковский Максим | D53: =SUM(F53:AO53) -> 0 | E53: =IF(D53>0,RANK(D53,$D$45:$D$83),реглист!$C$88+1) -> 23 | F53: =POWER(F11,2) -> 0 | G53: =POWER(G11,2) -> 0 | H53: =POWER(H11,2) -> 0 | I53: =POWER(I11,2) -> 0 | J53: =POWER(J11,2) -> 0 | K53: =POWER(K11,2) -> 0 | L53: =POWER(L11,2) -> 0 | M53: =POWER(M11,2) -> 0 | ... T53: =POWER(T11,2) -> 0 | U53: =IF(U11>=45,POWER(U11,2),POWER(U11/2,2)) -> 0 | V53: =IF(V11>=45,POWER(V11,2),POWER(V11/2,2)) -> 0 | W53: =IF(W11>=45,POWER(W11,2),POWER(W11/2,2)) -> 0 | X53: =IF(X11>=45,POWER(X11,2),POWER(X11/2,2)) -> 0 | Y53: =IF(Y11>=45,POWER(Y11,2),POWER(Y11/2,2)) -> 0 | Z53: =IF(Z11>=45,POWER(Z11,2),POWER(Z11/2,2)) -> 0 | AA53: =IF(AA11>=40,POWER(AA11,2),POWER(AA11/2,2)) -> 0 | AB53: =IF(AB11>=40,POWER(AB11,2),POWER(AB11/2,2)) -> 0 | AC53: =IF(AC11>=40,POWER(AC11,2),POWER(AC11/2,2)) -> 0 | AD53: =IF(AD11>=30,POWER(AD11,2),POWER(AD11/2,2)) -> 0 | AE53: =IF(AE11>=30,POWER(AE11,2),POWER(AE11/2,2)) -> 0 | AF53: =IF(AF11>=30,POWER(AF11,2),POWER(AF11/2,2)) -> 0 | AG53: =IF(AG11>=30,POWER(AG11,2),POWER(AG11/2,2)) -> 0 | AH53: =IF(AH11>=30,POWER(AH11,2),POWER(AH11/2,2)) -> 0 | AI53: =IF(AI11>=30,POWER(AI11,2),POWER(AI11/2,2)) -> 0 | AJ53: =IF(AJ11>=30,POWER(AJ11,2),POWER(AJ11/2,2)) -> 0 | AK53: =IF(AK11>=30,POWER(AK11,2),POWER(AK11/2,2)) -> 0 | AL53: =IF(AL11>=30,POWER(AL11,2),POWER(AL11/2,2)) -> 0 | AM53: =IF(AM11>=75,POWER(AM11,2),POWER(AM11/2,2)) -> 0 | AN53: =IF(AN11>=75,POWER(AN11,2),POWER(AN11/2,2)) -> 0 | AO53: =IF(AO11>=75,POWER(AO11,2),POWER(AO11/2,2)) -> 0
A54: =A53+1 -> 10 | B54: =B12 -> Фарватер | C54: =C12 -> Попельский Максим | D54: =SUM(F54:AO54) -> 0 | E54: =IF(D54>0,RANK(D54,$D$45:$D$83),реглист!$C$88+1) -> 23 | F54: =POWER(F12,2) -> 0 | G54: =POWER(G12,2) -> 0 | H54: =POWER(H12,2) -> 0 | I54: =POWER(I12,2) -> 0 | J54: =POWER(J12,2) -> 0 | K54: =POWER(K12,2) -> 0 | L54: =POWER(L12,2) -> 0 | M54: =POWER(M12,2) -> 0 | ... T54: =POWER(T12,2) -> 0 | U54: =IF(U12>=45,POWER(U12,2),POWER(U12/2,2)) -> 0 | V54: =IF(V12>=45,POWER(V12,2),POWER(V12/2,2)) -> 0 | W54: =IF(W12>=45,POWER(W12,2),POWER(W12/2,2)) -> 0 | X54: =IF(X12>=45,POWER(X12,2),POWER(X12/2,2)) -> 0 | Y54: =IF(Y12>=45,POWER(Y12,2),POWER(Y12/2,2)) -> 0 | Z54: =IF(Z12>=45,POWER(Z12,2),POWER(Z12/2,2)) -> 0 | AA54: =IF(AA12>=40,POWER(AA12,2),POWER(AA12/2,2)) -> 0 | AB54: =IF(AB12>=40,POWER(AB12,2),POWER(AB12/2,2)) -> 0 | AC54: =IF(AC12>=40,POWER(AC12,2),POWER(AC12/2,2)) -> 0 | AD54: =IF(AD12>=30,POWER(AD12,2),POWER(AD12/2,2)) -> 0 | AE54: =IF(AE12>=30,POWER(AE12,2),POWER(AE12/2,2)) -> 0 | AF54: =IF(AF12>=30,POWER(AF12,2),POWER(AF12/2,2)) -> 0 | AG54: =IF(AG12>=30,POWER(AG12,2),POWER(AG12/2,2)) -> 0 | AH54: =IF(AH12>=30,POWER(AH12,2),POWER(AH12/2,2)) -> 0 | AI54: =IF(AI12>=30,POWER(AI12,2),POWER(AI12/2,2)) -> 0 | AJ54: =IF(AJ12>=30,POWER(AJ12,2),POWER(AJ12/2,2)) -> 0 | AK54: =IF(AK12>=30,POWER(AK12,2),POWER(AK12/2,2)) -> 0 | AL54: =IF(AL12>=30,POWER(AL12,2),POWER(AL12/2,2)) -> 0 | AM54: =IF(AM12>=75,POWER(AM12,2),POWER(AM12/2,2)) -> 0 | AN54: =IF(AN12>=75,POWER(AN12,2),POWER(AN12/2,2)) -> 0 | AO54: =IF(AO12>=75,POWER(AO12,2),POWER(AO12/2,2)) -> 0
A55: =A54+1 -> 11 | B55: =B13 -> XULi-ULi | C55: =C13 -> Лавренчук Станислав | D55: =SUM(F55:AO55) -> 0 | E55: =IF(D55>0,RANK(D55,$D$45:$D$83),реглист!$C$88+1) -> 23 | F55: =POWER(F13,2) -> 0 | G55: =POWER(G13,2) -> 0 | H55: =POWER(H13,2) -> 0 | I55: =POWER(I13,2) -> 0 | J55: =POWER(J13,2) -> 0 | K55: =POWER(K13,2) -> 0 | L55: =POWER(L13,2) -> 0 | M55: =POWER(M13,2) -> 0 | ... T55: =POWER(T13,2) -> 0 | U55: =IF(U13>=45,POWER(U13,2),POWER(U13/2,2)) -> 0 | V55: =IF(V13>=45,POWER(V13,2),POWER(V13/2,2)) -> 0 | W55: =IF(W13>=45,POWER(W13,2),POWER(W13/2,2)) -> 0 | X55: =IF(X13>=45,POWER(X13,2),POWER(X13/2,2)) -> 0 | Y55: =IF(Y13>=45,POWER(Y13,2),POWER(Y13/2,2)) -> 0 | Z55: =IF(Z13>=45,POWER(Z13,2),POWER(Z13/2,2)) -> 0 | AA55: =IF(AA13>=40,POWER(AA13,2),POWER(AA13/2,2)) -> 0 | AB55: =IF(AB13>=40,POWER(AB13,2),POWER(AB13/2,2)) -> 0 | AC55: =IF(AC13>=40,POWER(AC13,2),POWER(AC13/2,2)) -> 0 | AD55: =IF(AD13>=30,POWER(AD13,2),POWER(AD13/2,2)) -> 0 | AE55: =IF(AE13>=30,POWER(AE13,2),POWER(AE13/2,2)) -> 0 | AF55: =IF(AF13>=30,POWER(AF13,2),POWER(AF13/2,2)) -> 0 | AG55: =IF(AG13>=30,POWER(AG13,2),POWER(AG13/2,2)) -> 0 | AH55: =IF(AH13>=30,POWER(AH13,2),POWER(AH13/2,2)) -> 0 | AI55: =IF(AI13>=30,POWER(AI13,2),POWER(AI13/2,2)) -> 0 | AJ55: =IF(AJ13>=30,POWER(AJ13,2),POWER(AJ13/2,2)) -> 0 | AK55: =IF(AK13>=30,POWER(AK13,2),POWER(AK13/2,2)) -> 0 | AL55: =IF(AL13>=30,POWER(AL13,2),POWER(AL13/2,2)) -> 0 | AM55: =IF(AM13>=75,POWER(AM13,2),POWER(AM13/2,2)) -> 0 | AN55: =IF(AN13>=75,POWER(AN13,2),POWER(AN13/2,2)) -> 0 | AO55: =IF(AO13>=75,POWER(AO13,2),POWER(AO13/2,2)) -> 0
A56: =A55+1 -> 12 | B56: =B14 -> Fanatik Belarus | C56: =C14 -> Шевчук Дмитрий | D56: =SUM(F56:AO56) -> 0 | E56: =IF(D56>0,RANK(D56,$D$45:$D$83),реглист!$C$88+1) -> 23 | F56: =POWER(F14,2) -> 0 | G56: =POWER(G14,2) -> 0 | H56: =POWER(H14,2) -> 0 | I56: =POWER(I14,2) -> 0 | J56: =POWER(J14,2) -> 0 | K56: =POWER(K14,2) -> 0 | L56: =POWER(L14,2) -> 0 | M56: =POWER(M14,2) -> 0 | ... T56: =POWER(T14,2) -> 0 | U56: =IF(U14>=45,POWER(U14,2),POWER(U14/2,2)) -> 0 | V56: =IF(V14>=45,POWER(V14,2),POWER(V14/2,2)) -> 0 | W56: =IF(W14>=45,POWER(W14,2),POWER(W14/2,2)) -> 0 | X56: =IF(X14>=45,POWER(X14,2),POWER(X14/2,2)) -> 0 | Y56: =IF(Y14>=45,POWER(Y14,2),POWER(Y14/2,2)) -> 0 | Z56: =IF(Z14>=45,POWER(Z14,2),POWER(Z14/2,2)) -> 0 | AA56: =IF(AA14>=40,POWER(AA14,2),POWER(AA14/2,2)) -> 0 | AB56: =IF(AB14>=40,POWER(AB14,2),POWER(AB14/2,2)) -> 0 | AC56: =IF(AC14>=40,POWER(AC14,2),POWER(AC14/2,2)) -> 0 | AD56: =IF(AD14>=30,POWER(AD14,2),POWER(AD14/2,2)) -> 0 | AE56: =IF(AE14>=30,POWER(AE14,2),POWER(AE14/2,2)) -> 0 | AF56: =IF(AF14>=30,POWER(AF14,2),POWER(AF14/2,2)) -> 0 | AG56: =IF(AG14>=30,POWER(AG14,2),POWER(AG14/2,2)) -> 0 | AH56: =IF(AH14>=30,POWER(AH14,2),POWER(AH14/2,2)) -> 0 | AI56: =IF(AI14>=30,POWER(AI14,2),POWER(AI14/2,2)) -> 0 | AJ56: =IF(AJ14>=30,POWER(AJ14,2),POWER(AJ14/2,2)) -> 0 | AK56: =IF(AK14>=30,POWER(AK14,2),POWER(AK14/2,2)) -> 0 | AL56: =IF(AL14>=30,POWER(AL14,2),POWER(AL14/2,2)) -> 0 | AM56: =IF(AM14>=75,POWER(AM14,2),POWER(AM14/2,2)) -> 0 | AN56: =IF(AN14>=75,POWER(AN14,2),POWER(AN14/2,2)) -> 0 | AO56: =IF(AO14>=75,POWER(AO14,2),POWER(AO14/2,2)) -> 0
A57: =A56+1 -> 13 | B57: =B15 -> FISHINGSTOCK BELARUS | C57: =C15 -> Лунякин Олег | D57: =SUM(F57:AO57) -> 0 | E57: =IF(D57>0,RANK(D57,$D$45:$D$83),реглист!$C$88+1) -> 23 | F57: =POWER(F15,2) -> 0 | G57: =POWER(G15,2) -> 0 | H57: =POWER(H15,2) -> 0 | I57: =POWER(I15,2) -> 0 | J57: =POWER(J15,2) -> 0 | K57: =POWER(K15,2) -> 0 | L57: =POWER(L15,2) -> 0 | M57: =POWER(M15,2) -> 0 | ... T57: =POWER(T15,2) -> 0 | U57: =IF(U15>=45,POWER(U15,2),POWER(U15/2,2)) -> 0 | V57: =IF(V15>=45,POWER(V15,2),POWER(V15/2,2)) -> 0 | W57: =IF(W15>=45,POWER(W15,2),POWER(W15/2,2)) -> 0 | X57: =IF(X15>=45,POWER(X15,2),POWER(X15/2,2)) -> 0 | Y57: =IF(Y15>=45,POWER(Y15,2),POWER(Y15/2,2)) -> 0 | Z57: =IF(Z15>=45,POWER(Z15,2),POWER(Z15/2,2)) -> 0 | AA57: =IF(AA15>=40,POWER(AA15,2),POWER(AA15/2,2)) -> 0 | AB57: =IF(AB15>=40,POWER(AB15,2),POWER(AB15/2,2)) -> 0 | AC57: =IF(AC15>=40,POWER(AC15,2),POWER(AC15/2,2)) -> 0 | AD57: =IF(AD15>=30,POWER(AD15,2),POWER(AD15/2,2)) -> 0 | AE57: =IF(AE15>=30,POWER(AE15,2),POWER(AE15/2,2)) -> 0 | AF57: =IF(AF15>=30,POWER(AF15,2),POWER(AF15/2,2)) -> 0 | AG57: =IF(AG15>=30,POWER(AG15,2),POWER(AG15/2,2)) -> 0 | AH57: =IF(AH15>=30,POWER(AH15,2),POWER(AH15/2,2)) -> 0 | AI57: =IF(AI15>=30,POWER(AI15,2),POWER(AI15/2,2)) -> 0 | AJ57: =IF(AJ15>=30,POWER(AJ15,2),POWER(AJ15/2,2)) -> 0 | AK57: =IF(AK15>=30,POWER(AK15,2),POWER(AK15/2,2)) -> 0 | AL57: =IF(AL15>=30,POWER(AL15,2),POWER(AL15/2,2)) -> 0 | AM57: =IF(AM15>=75,POWER(AM15,2),POWER(AM15/2,2)) -> 0 | AN57: =IF(AN15>=75,POWER(AN15,2),POWER(AN15/2,2)) -> 0 | AO57: =IF(AO15>=75,POWER(AO15,2),POWER(AO15/2,2)) -> 0
... A83: =A82+1 -> 39 | B83: =B41 -> 0 | C83: =C41 -> 0 | D83: =SUM(F83:AO83) -> 0 | E83: =IF(D83>0,RANK(D83,$D$45:$D$83),реглист!$C$88+1) -> 23 | F83: =POWER(F41,2) -> 0 | G83: =POWER(G41,2) -> 0 | H83: =POWER(H41,2) -> 0 | I83: =POWER(I41,2) -> 0 | J83: =POWER(J41,2) -> 0 | K83: =POWER(K41,2) -> 0 | L83: =POWER(L41,2) -> 0 | M83: =POWER(M41,2) -> 0 | ... T83: =POWER(T41,2) -> 0 | U83: =IF(U41>=45,POWER(U41,2),POWER(U41/2,2)) -> 0 | V83: =IF(V41>=45,POWER(V41,2),POWER(V41/2,2)) -> 0 | W83: =IF(W41>=45,POWER(W41,2),POWER(W41/2,2)) -> 0 | X83: =IF(X41>=45,POWER(X41,2),POWER(X41/2,2)) -> 0 | Y83: =IF(Y41>=45,POWER(Y41,2),POWER(Y41/2,2)) -> 0 | Z83: =IF(Z41>=45,POWER(Z41,2),POWER(Z41/2,2)) -> 0 | AA83: =IF(AA41>=40,POWER(AA41,2),POWER(AA41/2,2)) -> 0 | AB83: =IF(AB41>=40,POWER(AB41,2),POWER(AB41/2,2)) -> 0 | AC83: =IF(AC41>=40,POWER(AC41,2),POWER(AC41/2,2)) -> 0 | AD83: =IF(AD41>=30,POWER(AD41,2),POWER(AD41/2,2)) -> 0 | AE83: =IF(AE41>=30,POWER(AE41,2),POWER(AE41/2,2)) -> 0 | AF83: =IF(AF41>=30,POWER(AF41,2),POWER(AF41/2,2)) -> 0 | AG83: =IF(AG41>=30,POWER(AG41,2),POWER(AG41/2,2)) -> 0 | AH83: =IF(AH41>=30,POWER(AH41,2),POWER(AH41/2,2)) -> 0 | AI83: =IF(AI41>=30,POWER(AI41,2),POWER(AI41/2,2)) -> 0 | AJ83: =IF(AJ41>=30,POWER(AJ41,2),POWER(AJ41/2,2)) -> 0 | AK83: =IF(AK41>=30,POWER(AK41,2),POWER(AK41/2,2)) -> 0 | AL83: =IF(AL41>=30,POWER(AL41,2),POWER(AL41/2,2)) -> 0 | AM83: =IF(AM41>=75,POWER(AM41,2),POWER(AM41/2,2)) -> 0 | AN83: =IF(AN41>=75,POWER(AN41,2),POWER(AN41/2,2)) -> 0 | AO83: =IF(AO41>=75,POWER(AO41,2),POWER(AO41/2,2)) -> 0

Sheet Т1Зб
A1: № | B1: команда | C1: участник | D1: сумма баллов | E1: место | F1: окунь | U1: щука | Z1: судак | AC1: жерех | AF1: голавль | AI1: язь | AL1: чехонь | AO1: сом
F2: размер, см
A3: 1 | B3: =IF(реглист!C5="Б",реглист!B5,реглист!B6) -> Vodomotorika TEAM | C3: =IF(реглист!D5="Б",реглист!C5,реглист!C6) -> Ставер Дмитрий | D3: =D45 -> 0 | E3: =E45 -> 23
A4: =A3+1 -> 2 | B4: =IF(реглист!C7="Б",реглист!B7,реглист!B8) -> Трудовые резервы | C4: =IF(реглист!D7="Б",реглист!C7,реглист!C8) -> Баранок Артём | D4: =D46 -> 225 | E4: =E46 -> 8 | U4: 30
A5: =A4+1 -> 3 | B5: =IF(реглист!C9="Б",реглист!B9,реглист!B10) -> Poseidon | C5: =IF(реглист!D9="Б",реглист!C9,реглист!C10) -> Чижонок Сергей | D5: =D47 -> 268.96 | E5: =E47 -> 6 | F5: 16.4
A6: =A5+1 -> 4 | B6: =IF(реглист!C11="Б",реглист!B11,реглист!B12) -> Peacock Bass | C6: =IF(реглист!D11="Б",реглист!C11,реглист!C12) -> Дроздов Виталий | D6: =D48 -> 514.73 | E6: =E48 -> 3 | F6: 12.7 | G6: 18.8
A7: =A6+1 -> 5 | B7: =IF(реглист!C13="Б",реглист!B13,реглист!B14) -> Old Roads Fishing | C7: =IF(реглист!D13="Б",реглист!C13,реглист!C14) -> Чернышёв Егор | D7: =D49 -> 0 | E7: =E49 -> 23
A8: =A7+1 -> 6 | B8: =IF(реглист!C15="Б",реглист!B15,реглист!B16) -> Gefest | C8: =IF(реглист!D15="Б",реглист!C15,реглист!C16) -> Саган Сергей | D8: =D50 -> 425.89 | E8: =E50 -> 4 | F8: 17 | G8: 11.7
A9: =A8+1 -> 7 | B9: =IF(реглист!C17="Б",реглист!B17,реглист!B18) -> West Fishing | C9: =IF(реглист!D17="Б",реглист!C17,реглист!C18) -> Золотарь Андрей | D9: =D51 -> 0 | E9: =E51 -> 23
A10: =A9+1 -> 8 | B10: =IF(реглист!C19="Б",реглист!B19,реглист!B20) -> Dream Team | C10: =IF(реглист!D19="Б",реглист!C19,реглист!C20) -> Золотухин Александр | D10: =D52 -> 0 | E10: =E52 -> 23
A11: =A10+1 -> 9 | B11: =IF(реглист!C21="Б",реглист!B21,реглист!B22) -> Bona Кобрин | C11: =IF(реглист!D21="Б",реглист!C21,реглист!C22) -> Барташук Александр | D11: =D53 -> 944.45 | E11: =E53 -> 2 | F11: 25.4 | G11: 17.3
A12: =A11+1 -> 10 | B12: =IF(реглист!C23="Б",реглист!B23,реглист!B24) -> Фарватер | C12: =IF(реглист!D23="Б",реглист!C23,реглист!C24) -> Цыганок Михаил | D12: =D54 -> 256 | E12: =E54 -> 7 | F12: 16
A13: =A12+1 -> 11 | B13: =IF(реглист!C25="Б",реглист!B25,реглист!B26) -> XULi-ULi | C13: =IF(реглист!D25="Б",реглист!C25,реглист!C26) -> Дубровский Вадим | D13: =D55 -> 71.4025 | E13: =E55 -> 10 | U13: 16.9
A14: =A13+1 -> 12 | B14: =IF(реглист!C27="Б",реглист!B27,реглист!B28) -> Fanatik Belarus | C14: =IF(реглист!D27="Б",реглист!C27,реглист!C28) -> Янкович Сергей | D14: =D56 -> 1249.8625 | E14: =E56 -> 1 | F14: 18.1 | G14: 12.1 | U14: 18.5 | V14: 33.6 | W14: 44.4 | X14: 36.9 | Y14: 40.4
A15: =A14+1 -> 13 | B15: =IF(реглист!C29="Б",реглист!B29,реглист!B30) -> FISHINGSTOCK BELARUS | C15: =IF(реглист!D29="Б",реглист!C29,реглист!C30) -> Бобриков Алексей | D15: =D57 -> 0 | E15: =E57 -> 23
A16: =A15+1 -> 14 | B16: =IF(реглист!C31="Б",реглист!B31,реглист!B32) -> Против Течениия | C16: =IF(реглист!D31="Б",реглист!C31,реглист!C32) -> Ананич Геннадий | D16: =D58 -> 0 | E16: =E58 -> 23
A17: =A16+1 -> 15 | B17: =IF(реглист!C33="Б",реглист!B33,реглист!B34) -> Bait Breath Team | C17: =IF(реглист!D33="Б",реглист!C33,реглист!C34) -> Бахур Александр | D17: =D59 -> 0 | E17: =E59 -> 23
A18: =A17+1 -> 16 | B18: =IF(реглист!C35="Б",реглист!B35,реглист!B36) -> Кооператив ХИЩНИК | C18: =IF(реглист!D35="Б",реглист!C35,реглист!C36) -> Сницкий Владимир | D18: =D60 -> 0 | E18: =E60 -> 23
A19: =A18+1 -> 17 | B19: =IF(реглист!C37="Б",реглист!B37,реглист!B38) -> Bass Hunters | C19: =IF(реглист!D37="Б",реглист!C37,реглист!C38) -> Шевко Виталий | D19: =D61 -> 121 | E19: =E61 -> 9 | F19: 11
A20: =A19+1 -> 18 | B20: =IF(реглист!C39="Б",реглист!B39,реглист!B40) -> TotalSpin | C20: =IF(реглист!D39="Б",реглист!C39,реглист!C40) -> Жуковский Александр | D20: =D62 -> 333.0625 | E20: =E62 -> 5 | U20: 36.5
A21: =A20+1 -> 19 | B21: =IF(реглист!C41="Б",реглист!B41,реглист!B42) -> SB-FISHING | C21: =IF(реглист!D41="Б",реглист!C41,реглист!C42) -> Болбас Тимофей | D21: =D63 -> 0 | E21: =E63 -> 23
A22: =A21+1 -> 20 | B22: =IF(реглист!C43="Б",реглист!B43,реглист!B44) -> Legion | C22: =IF(реглист!D43="Б",реглист!C43,реглист!C44) -> Бойко Сергей | D22: =D64 -> 0 | E22: =E64 -> 23
A23: =A22+1 -> 21 | B23: =IF(реглист!C45="Б",реглист!B45,реглист!B46) -> ASpinnTeam | C23: =IF(реглист!D45="Б",реглист!C45,реглист!C46) -> Вашкевич Александр | D23: =D65 -> 0 | E23: =E65 -> 23
A24: =A23+1 -> 22 | B24: =IF(реглист!C47="Б",реглист!B47,реглист!B48) -> nanobass | C24: =IF(реглист!D47="Б",реглист!C47,реглист!C48) -> Мартынчук Михаил | D24: =D66 -> 0 | E24: =E66 -> 23
A25: =A24+1 -> 23 | B25: =IF(реглист!C49="Б",реглист!B49,реглист!B50) -> 0 | C25: =IF(реглист!D49="Б",реглист!C49,реглист!C50) -> 0 | D25: =D67 -> 0 | E25: =E67 -> 23
A26: =A25+1 -> 24 | B26: =IF(реглист!C51="Б",реглист!B51,реглист!B52) -> 0 | C26: =IF(реглист!D51="Б",реглист!C51,реглист!C52) -> 0 | D26: =D68 -> 0 | E26: =E68 -> 23
A27: =A26+1 -> 25 | B27: =IF(реглист!C53="Б",реглист!B53,реглист!B54) -> 0 | C27: =IF(реглист!D53="Б",реглист!C53,реглист!C54) -> 0 | D27: =D69 -> 0 | E27: =E69 -> 23
A28: =A27+1 -> 26 | B28: =IF(реглист!C55="Б",реглист!B55,реглист!B56) -> 0 | C28: =IF(реглист!D55="Б",реглист!C55,реглист!C56) -> 0 | D28: =D70 -> 0 | E28: =E70 -> 23
A29: =A28+1 -> 27 | B29: =IF(реглист!C57="Б",реглист!B57,реглист!B58) -> 0 | C29: =IF(реглист!D57="Б",реглист!C57,реглист!C58) -> 0 | D29: =D71 -> 0 | E29: =E71 -> 23
A30: =A29+1 -> 28 | B30: =IF(реглист!C59="Б",реглист!B59,реглист!B60) -> 0 | C30: =IF(реглист!D59="Б",реглист!C59,реглист!C60) -> 0 | D30: =D72 -> 0 | E30: =E72 -> 23
A31: =A30+1 -> 29 | B31: =IF(реглист!C61="Б",реглист!B61,реглист!B62) -> 0 | C31: =IF(реглист!D61="Б",реглист!C61,реглист!C62) -> 0 | D31: =D73 -> 0 | E31: =E73 -> 23
A32: =A31+1 -> 30 | B32: =IF(реглист!C63="Б",реглист!B63,реглист!B64) -> 0 | C32: =IF(реглист!D63="Б",реглист!C63,реглист!C64) -> 0 | D32: =D74 -> 0 | E32: =E74 -> 23
A33: =A32+1 -> 31 | B33: =IF(реглист!C65="Б",реглист!B65,реглист!B66) -> 0 | C33: =IF(реглист!D65="Б",реглист!C65,реглист!C66) -> 0 | D33: =D75 -> 0 | E33: =E75 -> 23
A34: =A33+1 -> 32 | B34: =IF(реглист!C67="Б",реглист!B67,реглист!B68) -> 0 | C34: =IF(реглист!D67="Б",реглист!C67,реглист!C68) -> 0 | D34: =D76 -> 0 | E34: =E76 -> 23
A35: =A34+1 -> 33 | B35: =IF(реглист!C69="Б",реглист!B69,реглист!B70) -> 0 | C35: =IF(реглист!D69="Б",реглист!C69,реглист!C70) -> 0 | D35: =D77 -> 0 | E35: =E77 -> 23
A36: =A35+1 -> 34 | B36: =IF(реглист!C71="Б",реглист!B71,реглист!B72) -> 0 | C36: =IF(реглист!D71="Б",реглист!C71,реглист!C72) -> 0 | D36: =D78 -> 0 | E36: =E78 -> 23
A37: =A36+1 -> 35 | B37: =IF(реглист!C73="Б",реглист!B73,реглист!B74) -> 0 | C37: =IF(реглист!D73="Б",реглист!C73,реглист!C74) -> 0 | D37: =D79 -> 0 | E37: =E79 -> 23
A38: =A37+1 -> 36 | B38: =IF(реглист!C75="Б",реглист!B75,реглист!B76) -> 0 | C38: =IF(реглист!D75="Б",реглист!C75,реглист!C76) -> 0 | D38: =D80 -> 0 | E38: =E80 -> 23
A39: =A38+1 -> 37 | B39: =IF(реглист!C77="Б",реглист!B77,реглист!B78) -> 0 | C39: =IF(реглист!D77="Б",реглист!C77,реглист!C78) -> 0 | D39: =D81 -> 0 | E39: =E81 -> 23
A40: =A39+1 -> 38 | B40: =IF(реглист!C79="Б",реглист!B79,реглист!B80) -> 0 | C40: =IF(реглист!D79="Б",реглист!C79,реглист!C80) -> 0 | D40: =D82 -> 0 | E40: =E82 -> 23
A41: =A40+1 -> 39 | B41: =IF(реглист!C81="Б",реглист!B81,реглист!B82) -> 0 | C41: =IF(реглист!D81="Б",реглист!C81,реглист!C82) -> 0 | D41: =D83 -> 0 | E41: =E83 -> 23
C42: средняя длина рыб по виду: | F42: =AVERAGE(F3:O41) -> 16.045455 | U42: =AVERAGE(U3:Y41) -> 32.15 | Z42: =AVERAGE(Z3:AB41) -> #DIV/0! | AC42: =AVERAGE(AC3:AE41) -> #DIV/0! | AF42: =AVERAGE(AF3:AH41) -> #DIV/0! | AI42: =AVERAGE(AI3:AK41) -> #DIV/0! | AL42: =AVERAGE(AL3:AN41) -> #DIV/0!
A43: № | B43: команда | C43: участник | D43: сумма баллов | E43: место | F43: баллы
A45: 1 | B45: =B3 -> Vodomotorika TEAM | C45: =C3 -> Ставер Дмитрий | D45: =SUM(F45:AQ45) -> 0 | E45: =IF(D45>0,RANK(D45,$D$45:$D$83),реглист!$C$88+1) -> 23 | F45: =POWER(F3,2) -> 0 | G45: =POWER(G3,2) -> 0 | H45: =POWER(H3,2) -> 0 | I45: =POWER(I3,2) -> 0 | J45: =POWER(J3,2) -> 0 | K45: =POWER(K3,2) -> 0 | L45: =POWER(L3,2) -> 0 | M45: =POWER(M3,2) -> 0 | ... T45: =POWER(T3,2) -> 0 | U45: =IF(U3>=45,POWER(U3,2),POWER(U3/2,2)) -> 0 | V45: =IF(V3>=45,POWER(V3,2),POWER(V3/2,2)) -> 0 | Y45: =IF(Y3>=45,POWER(Y3,2),POWER(Y3/2,2)) -> 0 | Z45: =IF(Z3>=45,POWER(Z3,2),POWER(Z3/2,2)) -> 0 | AA45: =IF(AA3>=45,POWER(AA3,2),POWER(AA3/2,2)) -> 0 | AB45: =IF(AB3>=45,POWER(AB3,2),POWER(AB3/2,2)) -> 0 | AC45: =IF(AC3>=40,POWER(AC3,2),POWER(AC3/2,2)) -> 0 | AD45: =IF(AD3>=40,POWER(AD3,2),POWER(AD3/2,2)) -> 0 | AE45: =IF(AE3>=40,POWER(AE3,2),POWER(AE3/2,2)) -> 0 | AF45: =IF(AF3>=30,POWER(AF3,2),POWER(AF3/2,2)) -> 0 | AG45: =IF(AG3>=30,POWER(AG3,2),POWER(AG3/2,2)) -> 0 | AH45: =IF(AH3>=30,POWER(AH3,2),POWER(AH3/2,2)) -> 0 | AI45: =IF(AI3>=30,POWER(AI3,2),POWER(AI3/2,2)) -> 0 | AJ45: =IF(AJ3>=30,POWER(AJ3,2),POWER(AJ3/2,2)) -> 0 | AK45: =IF(AK3>=30,POWER(AK3,2),POWER(AK3/2,2)) -> 0 | AL45: =IF(AL3>=30,POWER(AL3,2),POWER(AL3/2,2)) -> 0 | AM45: =IF(AM3>=30,POWER(AM3,2),POWER(AM3/2,2)) -> 0 | AN45: =IF(AN3>=30,POWER(AN3,2),POWER(AN3/2,2)) -> 0 | AO45: =IF(AO3>=75,POWER(AO3,2),POWER(AO3/2,2)) -> 0 | AP45: =IF(AP3>=75,POWER(AP3,2),POWER(AP3/2,2)) -> 0 | AQ45: =IF(AQ3>=75,POWER(AQ3,2),POWER(AQ3/2,2)) -> 0
A46: =A45+1 -> 2 | B46: =B4 -> Трудовые резервы | C46: =C4 -> Баранок Артём | D46: =SUM(F46:AQ46) -> 225 | E46: =IF(D46>0,RANK(D46,$D$45:$D$83),реглист!$C$88+1) -> 8 | F46: =POWER(F4,2) -> 0 | G46: =POWER(G4,2) -> 0 | H46: =POWER(H4,2) -> 0 | I46: =POWER(I4,2) -> 0 | J46: =POWER(J4,2) -> 0 | K46: =POWER(K4,2) -> 0 | L46: =POWER(L4,2) -> 0 | M46: =POWER(M4,2) -> 0 | ... T46: =POWER(T4,2) -> 0 | U46: =IF(U4>=45,POWER(U4,2),POWER(U4/2,2)) -> 225 | V46: =IF(V4>=45,POWER(V4,2),POWER(V4/2,2)) -> 0 | Y46: =IF(Y4>=45,POWER(Y4,2),POWER(Y4/2,2)) -> 0 | Z46: =IF(Z4>=45,POWER(Z4,2),POWER(Z4/2,2)) -> 0 | AA46: =IF(AA4>=45,POWER(AA4,2),POWER(AA4/2,2)) -> 0 | AB46: =IF(AB4>=45,POWER(AB4,2),POWER(AB4/2,2)) -> 0 | AC46: =IF(AC4>=40,POWER(AC4,2),POWER(AC4/2,2)) -> 0 | AD46: =IF(AD4>=40,POWER(AD4,2),POWER(AD4/2,2)) -> 0 | AE46: =IF(AE4>=40,POWER(AE4,2),POWER(AE4/2,2)) -> 0 | AF46: =IF(AF4>=30,POWER(AF4,2),POWER(AF4/2,2)) -> 0 | AG46: =IF(AG4>=30,POWER(AG4,2),POWER(AG4/2,2)) -> 0 | AH46: =IF(AH4>=30,POWER(AH4,2),POWER(AH4/2,2)) -> 0 | AI46: =IF(AI4>=30,POWER(AI4,2),POWER(AI4/2,2)) -> 0 | AJ46: =IF(AJ4>=30,POWER(AJ4,2),POWER(AJ4/2,2)) -> 0 | AK46: =IF(AK4>=30,POWER(AK4,2),POWER(AK4/2,2)) -> 0 | AL46: =IF(AL4>=30,POWER(AL4,2),POWER(AL4/2,2)) -> 0 | AM46: =IF(AM4>=30,POWER(AM4,2),POWER(AM4/2,2)) -> 0 | AN46: =IF(AN4>=30,POWER(AN4,2),POWER(AN4/2,2)) -> 0 | AO46: =IF(AO4>=75,POWER(AO4,2),POWER(AO4/2,2)) -> 0 | AP46: =IF(AP4>=75,POWER(AP4,2),POWER(AP4/2,2)) -> 0 | AQ46: =IF(AQ4>=75,POWER(AQ4,2),POWER(AQ4/2,2)) -> 0
A47: =A46+1 -> 3 | B47: =B5 -> Poseidon | C47: =C5 -> Чижонок Сергей | D47: =SUM(F47:AQ47) -> 268.96 | E47: =IF(D47>0,RANK(D47,$D$45:$D$83),реглист!$C$88+1) -> 6 | F47: =POWER(F5,2) -> 268.96 | G47: =POWER(G5,2) -> 0 | H47: =POWER(H5,2) -> 0 | I47: =POWER(I5,2) -> 0 | J47: =POWER(J5,2) -> 0 | K47: =POWER(K5,2) -> 0 | L47: =POWER(L5,2) -> 0 | M47: =POWER(M5,2) -> 0 | ... T47: =POWER(T5,2) -> 0 | U47: =IF(U5>=45,POWER(U5,2),POWER(U5/2,2)) -> 0 | V47: =IF(V5>=45,POWER(V5,2),POWER(V5/2,2)) -> 0 | Y47: =IF(Y5>=45,POWER(Y5,2),POWER(Y5/2,2)) -> 0 | Z47: =IF(Z5>=45,POWER(Z5,2),POWER(Z5/2,2)) -> 0 | AA47: =IF(AA5>=45,POWER(AA5,2),POWER(AA5/2,2)) -> 0 | AB47: =IF(AB5>=45,POWER(AB5,2),POWER(AB5/2,2)) -> 0 | AC47: =IF(AC5>=40,POWER(AC5,2),POWER(AC5/2,2)) -> 0 | AD47: =IF(AD5>=40,POWER(AD5,2),POWER(AD5/2,2)) -> 0 | AE47: =IF(AE5>=40,POWER(AE5,2),POWER(AE5/2,2)) -> 0 | AF47: =IF(AF5>=30,POWER(AF5,2),POWER(AF5/2,2)) -> 0 | AG47: =IF(AG5>=30,POWER(AG5,2),POWER(AG5/2,2)) -> 0 | AH47: =IF(AH5>=30,POWER(AH5,2),POWER(AH5/2,2)) -> 0 | AI47: =IF(AI5>=30,POWER(AI5,2),POWER(AI5/2,2)) -> 0 | AJ47: =IF(AJ5>=30,POWER(AJ5,2),POWER(AJ5/2,2)) -> 0 | AK47: =IF(AK5>=30,POWER(AK5,2),POWER(AK5/2,2)) -> 0 | AL47: =IF(AL5>=30,POWER(AL5,2),POWER(AL5/2,2)) -> 0 | AM47: =IF(AM5>=30,POWER(AM5,2),POWER(AM5/2,2)) -> 0 | AN47: =IF(AN5>=30,POWER(AN5,2),POWER(AN5/2,2)) -> 0 | AO47: =IF(AO5>=75,POWER(AO5,2),POWER(AO5/2,2)) -> 0 | AP47: =IF(AP5>=75,POWER(AP5,2),POWER(AP5/2,2)) -> 0 | AQ47: =IF(AQ5>=75,POWER(AQ5,2),POWER(AQ5/2,2)) -> 0
A48: =A47+1 -> 4 | B48: =B6 -> Peacock Bass | C48: =C6 -> Дроздов Виталий | D48: =SUM(F48:AQ48) -> 514.73 | E48: =IF(D48>0,RANK(D48,$D$45:$D$83),реглист!$C$88+1) -> 3 | F48: =POWER(F6,2) -> 161.29 | G48: =POWER(G6,2) -> 353.44 | H48: =POWER(H6,2) -> 0 | I48: =POWER(I6,2) -> 0 | J48: =POWER(J6,2) -> 0 | K48: =POWER(K6,2) -> 0 | L48: =POWER(L6,2) -> 0 | M48: =POWER(M6,2) -> 0 | ... T48: =POWER(T6,2) -> 0 | U48: =IF(U6>=45,POWER(U6,2),POWER(U6/2,2)) -> 0 | V48: =IF(V6>=45,POWER(V6,2),POWER(V6/2,2)) -> 0 | Y48: =IF(Y6>=45,POWER(Y6,2),POWER(Y6/2,2)) -> 0 | Z48: =IF(Z6>=45,POWER(Z6,2),POWER(Z6/2,2)) -> 0 | AA48: =IF(AA6>=45,POWER(AA6,2),POWER(AA6/2,2)) -> 0 | AB48: =IF(AB6>=45,POWER(AB6,2),POWER(AB6/2,2)) -> 0 | AC48: =IF(AC6>=40,POWER(AC6,2),POWER(AC6/2,2)) -> 0 | AD48: =IF(AD6>=40,POWER(AD6,2),POWER(AD6/2,2)) -> 0 | AE48: =IF(AE6>=40,POWER(AE6,2),POWER(AE6/2,2)) -> 0 | AF48: =IF(AF6>=30,POWER(AF6,2),POWER(AF6/2,2)) -> 0 | AG48: =IF(AG6>=30,POWER(AG6,2),POWER(AG6/2,2)) -> 0 | AH48: =IF(AH6>=30,POWER(AH6,2),POWER(AH6/2,2)) -> 0 | AI48: =IF(AI6>=30,POWER(AI6,2),POWER(AI6/2,2)) -> 0 | AJ48: =IF(AJ6>=30,POWER(AJ6,2),POWER(AJ6/2,2)) -> 0 | AK48: =IF(AK6>=30,POWER(AK6,2),POWER(AK6/2,2)) -> 0 | AL48: =IF(AL6>=30,POWER(AL6,2),POWER(AL6/2,2)) -> 0 | AM48: =IF(AM6>=30,POWER(AM6,2),POWER(AM6/2,2)) -> 0 | AN48: =IF(AN6>=30,POWER(AN6,2),POWER(AN6/2,2)) -> 0 | AO48: =IF(AO6>=75,POWER(AO6,2),POWER(AO6/2,2)) -> 0 | AP48: =IF(AP6>=75,POWER(AP6,2),POWER(AP6/2,2)) -> 0 | AQ48: =IF(AQ6>=75,POWER(AQ6,2),POWER(AQ6/2,2)) -> 0
A49: =A48+1 -> 5 | B49: =B7 -> Old Roads Fishing | C49: =C7 -> Чернышёв Егор | D49: =SUM(F49:AQ49) -> 0 | E49: =IF(D49>0,RANK(D49,$D$45:$D$83),реглист!$C$88+1) -> 23 | F49: =POWER(F7,2) -> 0 | G49: =POWER(G7,2) -> 0 | H49: =POWER(H7,2) -> 0 | I49: =POWER(I7,2) -> 0 | J49: =POWER(J7,2) -> 0 | K49: =POWER(K7,2) -> 0 | L49: =POWER(L7,2) -> 0 | M49: =POWER(M7,2) -> 0 | ... T49: =POWER(T7,2) -> 0 | U49: =IF(U7>=45,POWER(U7,2),POWER(U7/2,2)) -> 0 | V49: =IF(V7>=45,POWER(V7,2),POWER(V7/2,2)) -> 0 | Y49: =IF(Y7>=45,POWER(Y7,2),POWER(Y7/2,2)) -> 0 | Z49: =IF(Z7>=45,POWER(Z7,2),POWER(Z7/2,2)) -> 0 | AA49: =IF(AA7>=45,POWER(AA7,2),POWER(AA7/2,2)) -> 0 | AB49: =IF(AB7>=45,POWER(AB7,2),POWER(AB7/2,2)) -> 0 | AC49: =IF(AC7>=40,POWER(AC7,2),POWER(AC7/2,2)) -> 0 | AD49: =IF(AD7>=40,POWER(AD7,2),POWER(AD7/2,2)) -> 0 | AE49: =IF(AE7>=40,POWER(AE7,2),POWER(AE7/2,2)) -> 0 | AF49: =IF(AF7>=30,POWER(AF7,2),POWER(AF7/2,2)) -> 0 | AG49: =IF(AG7>=30,POWER(AG7,2),POWER(AG7/2,2)) -> 0 | AH49: =IF(AH7>=30,POWER(AH7,2),POWER(AH7/2,2)) -> 0 | AI49: =IF(AI7>=30,POWER(AI7,2),POWER(AI7/2,2)) -> 0 | AJ49: =IF(AJ7>=30,POWER(AJ7,2),POWER(AJ7/2,2)) -> 0 | AK49: =IF(AK7>=30,POWER(AK7,2),POWER(AK7/2,2)) -> 0 | AL49: =IF(AL7>=30,POWER(AL7,2),POWER(AL7/2,2)) -> 0 | AM49: =IF(AM7>=30,POWER(AM7,2),POWER(AM7/2,2)) -> 0 | AN49: =IF(AN7>=30,POWER(AN7,2),POWER(AN7/2,2)) -> 0 | AO49: =IF(AO7>=75,POWER(AO7,2),POWER(AO7/2,2)) -> 0 | AP49: =IF(AP7>=75,POWER(AP7,2),POWER(AP7/2,2)) -> 0 | AQ49: =IF(AQ7>=75,POWER(AQ7,2),POWER(AQ7/2,2)) -> 0
A50: =A49+1 -> 6 | B50: =B8 -> Gefest | C50: =C8 -> Саган Сергей | D50: =SUM(F50:AQ50) -> 425.89 | E50: =IF(D50>0,RANK(D50,$D$45:$D$83),реглист!$C$88+1) -> 4 | F50: =POWER(F8,2) -> 289 | G50: =POWER(G8,2) -> 136.89 | H50: =POWER(H8,2) -> 0 | I50: =POWER(I8,2) -> 0 | J50: =POWER(J8,2) -> 0 | K50: =POWER(K8,2) -> 0 | L50: =POWER(L8,2) -> 0 | M50: =POWER(M8,2) -> 0 | ... T50: =POWER(T8,2) -> 0 | U50: =IF(U8>=45,POWER(U8,2),POWER(U8/2,2)) -> 0 | V50: =IF(V8>=45,POWER(V8,2),POWER(V8/2,2)) -> 0 | Y50: =IF(Y8>=45,POWER(Y8,2),POWER(Y8/2,2)) -> 0 | Z50: =IF(Z8>=45,POWER(Z8,2),POWER(Z8/2,2)) -> 0 | AA50: =IF(AA8>=45,POWER(AA8,2),POWER(AA8/2,2)) -> 0 | AB50: =IF(AB8>=45,POWER(AB8,2),POWER(AB8/2,2)) -> 0 | AC50: =IF(AC8>=40,POWER(AC8,2),POWER(AC8/2,2)) -> 0 | AD50: =IF(AD8>=40,POWER(AD8,2),POWER(AD8/2,2)) -> 0 | AE50: =IF(AE8>=40,POWER(AE8,2),POWER(AE8/2,2)) -> 0 | AF50: =IF(AF8>=30,POWER(AF8,2),POWER(AF8/2,2)) -> 0 | AG50: =IF(AG8>=30,POWER(AG8,2),POWER(AG8/2,2)) -> 0 | AH50: =IF(AH8>=30,POWER(AH8,2),POWER(AH8/2,2)) -> 0 | AI50: =IF(AI8>=30,POWER(AI8,2),POWER(AI8/2,2)) -> 0 | AJ50: =IF(AJ8>=30,POWER(AJ8,2),POWER(AJ8/2,2)) -> 0 | AK50: =IF(AK8>=30,POWER(AK8,2),POWER(AK8/2,2)) -> 0 | AL50: =IF(AL8>=30,POWER(AL8,2),POWER(AL8/2,2)) -> 0 | AM50: =IF(AM8>=30,POWER(AM8,2),POWER(AM8/2,2)) -> 0 | AN50: =IF(AN8>=30,POWER(AN8,2),POWER(AN8/2,2)) -> 0 | AO50: =IF(AO8>=75,POWER(AO8,2),POWER(AO8/2,2)) -> 0 | AP50: =IF(AP8>=75,POWER(AP8,2),POWER(AP8/2,2)) -> 0 | AQ50: =IF(AQ8>=75,POWER(AQ8,2),POWER(AQ8/2,2)) -> 0
A51: =A50+1 -> 7 | B51: =B9 -> West Fishing | C51: =C9 -> Золотарь Андрей | D51: =SUM(F51:AQ51) -> 0 | E51: =IF(D51>0,RANK(D51,$D$45:$D$83),реглист!$C$88+1) -> 23 | F51: =POWER(F9,2) -> 0 | G51: =POWER(G9,2) -> 0 | H51: =POWER(H9,2) -> 0 | I51: =POWER(I9,2) -> 0 | J51: =POWER(J9,2) -> 0 | K51: =POWER(K9,2) -> 0 | L51: =POWER(L9,2) -> 0 | M51: =POWER(M9,2) -> 0 | ... T51: =POWER(T9,2) -> 0 | U51: =IF(U9>=45,POWER(U9,2),POWER(U9/2,2)) -> 0 | V51: =IF(V9>=45,POWER(V9,2),POWER(V9/2,2)) -> 0 | Y51: =IF(Y9>=45,POWER(Y9,2),POWER(Y9/2,2)) -> 0 | Z51: =IF(Z9>=45,POWER(Z9,2),POWER(Z9/2,2)) -> 0 | AA51: =IF(AA9>=45,POWER(AA9,2),POWER(AA9/2,2)) -> 0 | AB51: =IF(AB9>=45,POWER(AB9,2),POWER(AB9/2,2)) -> 0 | AC51: =IF(AC9>=40,POWER(AC9,2),POWER(AC9/2,2)) -> 0 | AD51: =IF(AD9>=40,POWER(AD9,2),POWER(AD9/2,2)) -> 0 | AE51: =IF(AE9>=40,POWER(AE9,2),POWER(AE9/2,2)) -> 0 | AF51: =IF(AF9>=30,POWER(AF9,2),POWER(AF9/2,2)) -> 0 | AG51: =IF(AG9>=30,POWER(AG9,2),POWER(AG9/2,2)) -> 0 | AH51: =IF(AH9>=30,POWER(AH9,2),POWER(AH9/2,2)) -> 0 | AI51: =IF(AI9>=30,POWER(AI9,2),POWER(AI9/2,2)) -> 0 | AJ51: =IF(AJ9>=30,POWER(AJ9,2),POWER(AJ9/2,2)) -> 0 | AK51: =IF(AK9>=30,POWER(AK9,2),POWER(AK9/2,2)) -> 0 | AL51: =IF(AL9>=30,POWER(AL9,2),POWER(AL9/2,2)) -> 0 | AM51: =IF(AM9>=30,POWER(AM9,2),POWER(AM9/2,2)) -> 0 | AN51: =IF(AN9>=30,POWER(AN9,2),POWER(AN9/2,2)) -> 0 | AO51: =IF(AO9>=75,POWER(AO9,2),POWER(AO9/2,2)) -> 0 | AP51: =IF(AP9>=75,POWER(AP9,2),POWER(AP9/2,2)) -> 0 | AQ51: =IF(AQ9>=75,POWER(AQ9,2),POWER(AQ9/2,2)) -> 0
A52: =A51+1 -> 8 | B52: =B10 -> Dream Team | C52: =C10 -> Золотухин Александр | D52: =SUM(F52:AQ52) -> 0 | E52: =IF(D52>0,RANK(D52,$D$45:$D$83),реглист!$C$88+1) -> 23 | F52: =POWER(F10,2) -> 0 | G52: =POWER(G10,2) -> 0 | H52: =POWER(H10,2) -> 0 | I52: =POWER(I10,2) -> 0 | J52: =POWER(J10,2) -> 0 | K52: =POWER(K10,2) -> 0 | L52: =POWER(L10,2) -> 0 | M52: =POWER(M10,2) -> 0 | ... T52: =POWER(T10,2) -> 0 | U52: =IF(U10>=45,POWER(U10,2),POWER(U10/2,2)) -> 0 | V52: =IF(V10>=45,POWER(V10,2),POWER(V10/2,2)) -> 0 | Y52: =IF(Y10>=45,POWER(Y10,2),POWER(Y10/2,2)) -> 0 | Z52: =IF(Z10>=45,POWER(Z10,2),POWER(Z10/2,2)) -> 0 | AA52: =IF(AA10>=45,POWER(AA10,2),POWER(AA10/2,2)) -> 0 | AB52: =IF(AB10>=45,POWER(AB10,2),POWER(AB10/2,2)) -> 0 | AC52: =IF(AC10>=40,POWER(AC10,2),POWER(AC10/2,2)) -> 0 | AD52: =IF(AD10>=40,POWER(AD10,2),POWER(AD10/2,2)) -> 0 | AE52: =IF(AE10>=40,POWER(AE10,2),POWER(AE10/2,2)) -> 0 | AF52: =IF(AF10>=30,POWER(AF10,2),POWER(AF10/2,2)) -> 0 | AG52: =IF(AG10>=30,POWER(AG10,2),POWER(AG10/2,2)) -> 0 | AH52: =IF(AH10>=30,POWER(AH10,2),POWER(AH10/2,2)) -> 0 | AI52: =IF(AI10>=30,POWER(AI10,2),POWER(AI10/2,2)) -> 0 | AJ52: =IF(AJ10>=30,POWER(AJ10,2),POWER(AJ10/2,2)) -> 0 | AK52: =IF(AK10>=30,POWER(AK10,2),POWER(AK10/2,2)) -> 0 | AL52: =IF(AL10>=30,POWER(AL10,2),POWER(AL10/2,2)) -> 0 | AM52: =IF(AM10>=30,POWER(AM10,2),POWER(AM10/2,2)) -> 0 | AN52: =IF(AN10>=30,POWER(AN10,2),POWER(AN10/2,2)) -> 0 | AO52: =IF(AO10>=75,POWER(AO10,2),POWER(AO10/2,2)) -> 0 | AP52: =IF(AP10>=75,POWER(AP10,2),POWER(AP10/2,2)) -> 0 | AQ52: =IF(AQ10>=75,POWER(AQ10,2),POWER(AQ10/2,2)) -> 0
A53: =A52+1 -> 9 | B53: =B11 -> Bona Кобрин | C53: =C11 -> Барташук Александр | D53: =SUM(F53:AQ53) -> 944.45 | E53: =IF(D53>0,RANK(D53,$D$45:$D$83),реглист!$C$88+1) -> 2 | F53: =POWER(F11,2) -> 645.16 | G53: =POWER(G11,2) -> 299.29 | H53: =POWER(H11,2) -> 0 | I53: =POWER(I11,2) -> 0 | J53: =POWER(J11,2) -> 0 | K53: =POWER(K11,2) -> 0 | L53: =POWER(L11,2) -> 0 | M53: =POWER(M11,2) -> 0 | ... T53: =POWER(T11,2) -> 0 | U53: =IF(U11>=45,POWER(U11,2),POWER(U11/2,2)) -> 0 | V53: =IF(V11>=45,POWER(V11,2),POWER(V11/2,2)) -> 0 | Y53: =IF(Y11>=45,POWER(Y11,2),POWER(Y11/2,2)) -> 0 | Z53: =IF(Z11>=45,POWER(Z11,2),POWER(Z11/2,2)) -> 0 | AA53: =IF(AA11>=45,POWER(AA11,2),POWER(AA11/2,2)) -> 0 | AB53: =IF(AB11>=45,POWER(AB11,2),POWER(AB11/2,2)) -> 0 | AC53: =IF(AC11>=40,POWER(AC11,2),POWER(AC11/2,2)) -> 0 | AD53: =IF(AD11>=40,POWER(AD11,2),POWER(AD11/2,2)) -> 0 | AE53: =IF(AE11>=40,POWER(AE11,2),POWER(AE11/2,2)) -> 0 | AF53: =IF(AF11>=30,POWER(AF11,2),POWER(AF11/2,2)) -> 0 | AG53: =IF(AG11>=30,POWER(AG11,2),POWER(AG11/2,2)) -> 0 | AH53: =IF(AH11>=30,POWER(AH11,2),POWER(AH11/2,2)) -> 0 | AI53: =IF(AI11>=30,POWER(AI11,2),POWER(AI11/2,2)) -> 0 | AJ53: =IF(AJ11>=30,POWER(AJ11,2),POWER(AJ11/2,2)) -> 0 | AK53: =IF(AK11>=30,POWER(AK11,2),POWER(AK11/2,2)) -> 0 | AL53: =IF(AL11>=30,POWER(AL11,2),POWER(AL11/2,2)) -> 0 | AM53: =IF(AM11>=30,POWER(AM11,2),POWER(AM11/2,2)) -> 0 | AN53: =IF(AN11>=30,POWER(AN11,2),POWER(AN11/2,2)) -> 0 | AO53: =IF(AO11>=75,POWER(AO11,2),POWER(AO11/2,2)) -> 0 | AP53: =IF(AP11>=75,POWER(AP11,2),POWER(AP11/2,2)) -> 0 | AQ53: =IF(AQ11>=75,POWER(AQ11,2),POWER(AQ11/2,2)) -> 0
A54: =A53+1 -> 10 | B54: =B12 -> Фарватер | C54: =C12 -> Цыганок Михаил | D54: =SUM(F54:AQ54) -> 256 | E54: =IF(D54>0,RANK(D54,$D$45:$D$83),реглист!$C$88+1) -> 7 | F54: =POWER(F12,2) -> 256 | G54: =POWER(G12,2) -> 0 | H54: =POWER(H12,2) -> 0 | I54: =POWER(I12,2) -> 0 | J54: =POWER(J12,2) -> 0 | K54: =POWER(K12,2) -> 0 | L54: =POWER(L12,2) -> 0 | M54: =POWER(M12,2) -> 0 | ... T54: =POWER(T12,2) -> 0 | U54: =IF(U12>=45,POWER(U12,2),POWER(U12/2,2)) -> 0 | V54: =IF(V12>=45,POWER(V12,2),POWER(V12/2,2)) -> 0 | Y54: =IF(Y12>=45,POWER(Y12,2),POWER(Y12/2,2)) -> 0 | Z54: =IF(Z12>=45,POWER(Z12,2),POWER(Z12/2,2)) -> 0 | AA54: =IF(AA12>=45,POWER(AA12,2),POWER(AA12/2,2)) -> 0 | AB54: =IF(AB12>=45,POWER(AB12,2),POWER(AB12/2,2)) -> 0 | AC54: =IF(AC12>=40,POWER(AC12,2),POWER(AC12/2,2)) -> 0 | AD54: =IF(AD12>=40,POWER(AD12,2),POWER(AD12/2,2)) -> 0 | AE54: =IF(AE12>=40,POWER(AE12,2),POWER(AE12/2,2)) -> 0 | AF54: =IF(AF12>=30,POWER(AF12,2),POWER(AF12/2,2)) -> 0 | AG54: =IF(AG12>=30,POWER(AG12,2),POWER(AG12/2,2)) -> 0 | AH54: =IF(AH12>=30,POWER(AH12,2),POWER(AH12/2,2)) -> 0 | AI54: =IF(AI12>=30,POWER(AI12,2),POWER(AI12/2,2)) -> 0 | AJ54: =IF(AJ12>=30,POWER(AJ12,2),POWER(AJ12/2,2)) -> 0 | AK54: =IF(AK12>=30,POWER(AK12,2),POWER(AK12/2,2)) -> 0 | AL54: =IF(AL12>=30,POWER(AL12,2),POWER(AL12/2,2)) -> 0 | AM54: =IF(AM12>=30,POWER(AM12,2),POWER(AM12/2,2)) -> 0 | AN54: =IF(AN12>=30,POWER(AN12,2),POWER(AN12/2,2)) -> 0 | AO54: =IF(AO12>=75,POWER(AO12,2),POWER(AO12/2,2)) -> 0 | AP54: =IF(AP12>=75,POWER(AP12,2),POWER(AP12/2,2)) -> 0 | AQ54: =IF(AQ12>=75,POWER(AQ12,2),POWER(AQ12/2,2)) -> 0
A55: =A54+1 -> 11 | B55: =B13 -> XULi-ULi | C55: =C13 -> Дубровский Вадим | D55: =SUM(F55:AQ55) -> 71.4025 | E55: =IF(D55>0,RANK(D55,$D$45:$D$83),реглист!$C$88+1) -> 10 | F55: =POWER(F13,2) -> 0 | G55: =POWER(G13,2) -> 0 | H55: =POWER(H13,2) -> 0 | I55: =POWER(I13,2) -> 0 | J55: =POWER(J13,2) -> 0 | K55: =POWER(K13,2) -> 0 | L55: =POWER(L13,2) -> 0 | M55: =POWER(M13,2) -> 0 | ... T55: =POWER(T13,2) -> 0 | U55: =IF(U13>=45,POWER(U13,2),POWER(U13/2,2)) -> 71.4025 | V55: =IF(V13>=45,POWER(V13,2),POWER(V13/2,2)) -> 0 | Y55: =IF(Y13>=45,POWER(Y13,2),POWER(Y13/2,2)) -> 0 | Z55: =IF(Z13>=45,POWER(Z13,2),POWER(Z13/2,2)) -> 0 | AA55: =IF(AA13>=45,POWER(AA13,2),POWER(AA13/2,2)) -> 0 | AB55: =IF(AB13>=45,POWER(AB13,2),POWER(AB13/2,2)) -> 0 | AC55: =IF(AC13>=40,POWER(AC13,2),POWER(AC13/2,2)) -> 0 | AD55: =IF(AD13>=40,POWER(AD13,2),POWER(AD13/2,2)) -> 0 | AE55: =IF(AE13>=40,POWER(AE13,2),POWER(AE13/2,2)) -> 0 | AF55: =IF(AF13>=30,POWER(AF13,2),POWER(AF13/2,2)) -> 0 | AG55: =IF(AG13>=30,POWER(AG13,2),POWER(AG13/2,2)) -> 0 | AH55: =IF(AH13>=30,POWER(AH13,2),POWER(AH13/2,2)) -> 0 | AI55: =IF(AI13>=30,POWER(AI13,2),POWER(AI13/2,2)) -> 0 | AJ55: =IF(AJ13>=30,POWER(AJ13,2),POWER(AJ13/2,2)) -> 0 | AK55: =IF(AK13>=30,POWER(AK13,2),POWER(AK13/2,2)) -> 0 | AL55: =IF(AL13>=30,POWER(AL13,2),POWER(AL13/2,2)) -> 0 | AM55: =IF(AM13>=30,POWER(AM13,2),POWER(AM13/2,2)) -> 0 | AN55: =IF(AN13>=30,POWER(AN13,2),POWER(AN13/2,2)) -> 0 | AO55: =IF(AO13>=75,POWER(AO13,2),POWER(AO13/2,2)) -> 0 | AP55: =IF(AP13>=75,POWER(AP13,2),POWER(AP13/2,2)) -> 0 | AQ55: =IF(AQ13>=75,POWER(AQ13,2),POWER(AQ13/2,2)) -> 0
A56: =A55+1 -> 12 | B56: =B14 -> Fanatik Belarus | C56: =C14 -> Янкович Сергей | D56: =SUM(F56:AQ56) -> 1249.8625 | E56: =IF(D56>0,RANK(D56,$D$45:$D$83),реглист!$C$88+1) -> 1 | F56: =POWER(F14,2) -> 327.61 | G56: =POWER(G14,2) -> 146.41 | H56: =POWER(H14,2) -> 0 | I56: =POWER(I14,2) -> 0 | J56: =POWER(J14,2) -> 0 | K56: =POWER(K14,2) -> 0 | L56: =POWER(L14,2) -> 0 | M56: =POWER(M14,2) -> 0 | ... T56: =POWER(T14,2) -> 0 | U56: =IF(U14>=45,POWER(U14,2),POWER(U14/2,2)) -> 85.5625 | V56: =IF(V14>=45,POWER(V14,2),POWER(V14/2,2)) -> 282.24 | Y56: =IF(Y14>=45,POWER(Y14,2),POWER(Y14/2,2)) -> 408.04 | Z56: =IF(Z14>=45,POWER(Z14,2),POWER(Z14/2,2)) -> 0 | AA56: =IF(AA14>=45,POWER(AA14,2),POWER(AA14/2,2)) -> 0 | AB56: =IF(AB14>=45,POWER(AB14,2),POWER(AB14/2,2)) -> 0 | AC56: =IF(AC14>=40,POWER(AC14,2),POWER(AC14/2,2)) -> 0 | AD56: =IF(AD14>=40,POWER(AD14,2),POWER(AD14/2,2)) -> 0 | AE56: =IF(AE14>=40,POWER(AE14,2),POWER(AE14/2,2)) -> 0 | AF56: =IF(AF14>=30,POWER(AF14,2),POWER(AF14/2,2)) -> 0 | AG56: =IF(AG14>=30,POWER(AG14,2),POWER(AG14/2,2)) -> 0 | AH56: =IF(AH14>=30,POWER(AH14,2),POWER(AH14/2,2)) -> 0 | AI56: =IF(AI14>=30,POWER(AI14,2),POWER(AI14/2,2)) -> 0 | AJ56: =IF(AJ14>=30,POWER(AJ14,2),POWER(AJ14/2,2)) -> 0 | AK56: =IF(AK14>=30,POWER(AK14,2),POWER(AK14/2,2)) -> 0 | AL56: =IF(AL14>=30,POWER(AL14,2),POWER(AL14/2,2)) -> 0 | AM56: =IF(AM14>=30,POWER(AM14,2),POWER(AM14/2,2)) -> 0 | AN56: =IF(AN14>=30,POWER(AN14,2),POWER(AN14/2,2)) -> 0 | AO56: =IF(AO14>=75,POWER(AO14,2),POWER(AO14/2,2)) -> 0 | AP56: =IF(AP14>=75,POWER(AP14,2),POWER(AP14/2,2)) -> 0 | AQ56: =IF(AQ14>=75,POWER(AQ14,2),POWER(AQ14/2,2)) -> 0
A57: =A56+1 -> 13 | B57: =B15 -> FISHINGSTOCK BELARUS | C57: =C15 -> Бобриков Алексей | D57: =SUM(F57:AQ57) -> 0 | E57: =IF(D57>0,RANK(D57,$D$45:$D$83),реглист!$C$88+1) -> 23 | F57: =POWER(F15,2) -> 0 | G57: =POWER(G15,2) -> 0 | H57: =POWER(H15,2) -> 0 | I57: =POWER(I15,2) -> 0 | J57: =POWER(J15,2) -> 0 | K57: =POWER(K15,2) -> 0 | L57: =POWER(L15,2) -> 0 | M57: =POWER(M15,2) -> 0 | ... T57: =POWER(T15,2) -> 0 | U57: =IF(U15>=45,POWER(U15,2),POWER(U15/2,2)) -> 0 | V57: =IF(V15>=45,POWER(V15,2),POWER(V15/2,2)) -> 0 | Y57: =IF(Y15>=45,POWER(Y15,2),POWER(Y15/2,2)) -> 0 | Z57: =IF(Z15>=45,POWER(Z15,2),POWER(Z15/2,2)) -> 0 | AA57: =IF(AA15>=45,POWER(AA15,2),POWER(AA15/2,2)) -> 0 | AB57: =IF(AB15>=45,POWER(AB15,2),POWER(AB15/2,2)) -> 0 | AC57: =IF(AC15>=40,POWER(AC15,2),POWER(AC15/2,2)) -> 0 | AD57: =IF(AD15>=40,POWER(AD15,2),POWER(AD15/2,2)) -> 0 | AE57: =IF(AE15>=40,POWER(AE15,2),POWER(AE15/2,2)) -> 0 | AF57: =IF(AF15>=30,POWER(AF15,2),POWER(AF15/2,2)) -> 0 | AG57: =IF(AG15>=30,POWER(AG15,2),POWER(AG15/2,2)) -> 0 | AH57: =IF(AH15>=30,POWER(AH15,2),POWER(AH15/2,2)) -> 0 | AI57: =IF(AI15>=30,POWER(AI15,2),POWER(AI15/2,2)) -> 0 | AJ57: =IF(AJ15>=30,POWER(AJ15,2),POWER(AJ15/2,2)) -> 0 | AK57: =IF(AK15>=30,POWER(AK15,2),POWER(AK15/2,2)) -> 0 | AL57: =IF(AL15>=30,POWER(AL15,2),POWER(AL15/2,2)) -> 0 | AM57: =IF(AM15>=30,POWER(AM15,2),POWER(AM15/2,2)) -> 0 | AN57: =IF(AN15>=30,POWER(AN15,2),POWER(AN15/2,2)) -> 0 | AO57: =IF(AO15>=75,POWER(AO15,2),POWER(AO15/2,2)) -> 0 | AP57: =IF(AP15>=75,POWER(AP15,2),POWER(AP15/2,2)) -> 0 | AQ57: =IF(AQ15>=75,POWER(AQ15,2),POWER(AQ15/2,2)) -> 0
... A83: =A82+1 -> 39 | B83: =B41 -> 0 | C83: =C41 -> 0 | D83: =SUM(F83:AQ83) -> 0 | E83: =IF(D83>0,RANK(D83,$D$45:$D$83),реглист!$C$88+1) -> 23 | F83: =POWER(F41,2) -> 0 | G83: =POWER(G41,2) -> 0 | H83: =POWER(H41,2) -> 0 | I83: =POWER(I41,2) -> 0 | J83: =POWER(J41,2) -> 0 | K83: =POWER(K41,2) -> 0 | L83: =POWER(L41,2) -> 0 | M83: =POWER(M41,2) -> 0 | ... T83: =POWER(T41,2) -> 0 | U83: =IF(U41>=45,POWER(U41,2),POWER(U41/2,2)) -> 0 | V83: =IF(V41>=45,POWER(V41,2),POWER(V41/2,2)) -> 0 | Y83: =IF(Y41>=45,POWER(Y41,2),POWER(Y41/2,2)) -> 0 | Z83: =IF(Z41>=45,POWER(Z41,2),POWER(Z41/2,2)) -> 0 | AA83: =IF(AA41>=45,POWER(AA41,2),POWER(AA41/2,2)) -> 0 | AB83: =IF(AB41>=45,POWER(AB41,2),POWER(AB41/2,2)) -> 0 | AC83: =IF(AC41>=40,POWER(AC41,2),POWER(AC41/2,2)) -> 0 | AD83: =IF(AD41>=40,POWER(AD41,2),POWER(AD41/2,2)) -> 0 | AE83: =IF(AE41>=40,POWER(AE41,2),POWER(AE41/2,2)) -> 0 | AF83: =IF(AF41>=30,POWER(AF41,2),POWER(AF41/2,2)) -> 0 | AG83: =IF(AG41>=30,POWER(AG41,2),POWER(AG41/2,2)) -> 0 | AH83: =IF(AH41>=30,POWER(AH41,2),POWER(AH41/2,2)) -> 0 | AI83: =IF(AI41>=30,POWER(AI41,2),POWER(AI41/2,2)) -> 0 | AJ83: =IF(AJ41>=30,POWER(AJ41,2),POWER(AJ41/2,2)) -> 0 | AK83: =IF(AK41>=30,POWER(AK41,2),POWER(AK41/2,2)) -> 0 | AL83: =IF(AL41>=30,POWER(AL41,2),POWER(AL41/2,2)) -> 0 | AM83: =IF(AM41>=30,POWER(AM41,2),POWER(AM41/2,2)) -> 0 | AN83: =IF(AN41>=30,POWER(AN41,2),POWER(AN41/2,2)) -> 0 | AO83: =IF(AO41>=75,POWER(AO41,2),POWER(AO41/2,2)) -> 0 | AP83: =IF(AP41>=75,POWER(AP41,2),POWER(AP41/2,2)) -> 0 | AQ83: =IF(AQ41>=75,POWER(AQ41,2),POWER(AQ41/2,2)) -> 0

Sheet Т2За
A1: № | B1: команда | C1: участник | D1: сумма баллов | E1: место | F1: окунь | U1: щука | X1: судак | AA1: жерех | AD1: голавль | AG1: язь | AJ1: чехонь | AM1: сом
F2: размер, см
A3: 1 | B3: =Т1Зб!B3 -> Vodomotorika TEAM | C3: =Т1Зб!C3 -> Ставер Дмитрий | D3: =D45 -> 0 | E3: =E45 -> 23
A4: =A3+1 -> 2 | B4: =Т1Зб!B4 -> Трудовые резервы | C4: =Т1Зб!C4 -> Баранок Артём | D4: =D46 -> 0 | E4: =E46 -> 23
A5: =A4+1 -> 3 | B5: =Т1Зб!B5 -> Poseidon | C5: =Т1Зб!C5 -> Чижонок Сергей | D5: =D47 -> 151.29 | E5: =E47 -> 12 | F5: 12.3
A6: =A5+1 -> 4 | B6: =Т1Зб!B6 -> Peacock Bass | C6: =Т1Зб!C6 -> Дроздов Виталий | D6: =D48 -> 0 | E6: =E48 -> 23
A7: =A6+1 -> 5 | B7: =Т1Зб!B7 -> Old Roads Fishing | C7: =Т1Зб!C7 -> Чернышёв Егор | D7: =D49 -> 320.41 | E7: =E49 -> 7 | U7: 35.8
A8: =A7+1 -> 6 | B8: =Т1Зб!B8 -> Gefest | C8: =Т1Зб!C8 -> Саган Сергей | D8: =D50 -> 158.76 | E8: =E50 -> 10 | F8: 12.6
A9: =A8+1 -> 7 | B9: =Т1Зб!B9 -> West Fishing | C9: =Т1Зб!C9 -> Золотарь Андрей | D9: =D51 -> 324 | E9: =E51 -> 6 | F9: 18
A10: =A9+1 -> 8 | B10: =Т1Зб!B10 -> Dream Team | C10: =Т1Зб!C10 -> Золотухин Александр | D10: =D52 -> 0 | E10: =E52 -> 23
A11: =A10+1 -> 9 | B11: =Т1Зб!B11 -> Bona Кобрин | C11: =Т1Зб!C11 -> Барташук Александр | D11: =D53 -> 1004.8925 | E11: =E53 -> 2 | F11: 12.7 | U11: 39.6 | V11: 42.5
A12: =A11+1 -> 10 | B12: =Т1Зб!B12 -> Фарватер | C12: =Т1Зб!C12 -> Цыганок Михаил | D12: =D54 -> 0 | E12: =E54 -> 23
A13: =A12+1 -> 11 | B13: =Т1Зб!B13 -> XULi-ULi | C13: =Т1Зб!C13 -> Дубровский Вадим | D13: =D55 -> 686.57 | E13: =E55 -> 3 | U13: 29 | V13: 28.8 | W13: 32.8
A14: =A13+1 -> 12 | B14: =Т1Зб!B14 -> Fanatik Belarus | C14: =Т1Зб!C14 -> Янкович Сергей | D14: =D56 -> 182.25 | E14: =E56 -> 9 | F14: 13.5
A15: =A14+1 -> 13 | B15: =Т1Зб!B15 -> FISHINGSTOCK BELARUS | C15: =Т1Зб!C15 -> Бобриков Алексей | D15: =D57 -> 0 | E15: =E57 -> 23
A16: =A15+1 -> 14 | B16: =Т1Зб!B16 -> Против Течениия | C16: =Т1Зб!C16 -> Ананич Геннадий | D16: =D58 -> 0 | E16: =E58 -> 23
A17: =A16+1 -> 15 | B17: =Т1Зб!B17 -> Bait Breath Team | C17: =Т1Зб!C17 -> Бахур Александр | D17: =D59 -> 210.25 | E17: =E59 -> 8 | F17: 14.5
A18: =A17+1 -> 16 | B18: =Т1Зб!B18 -> Кооператив ХИЩНИК | C18: =Т1Зб!C18 -> Сницкий Владимир | D18: =D60 -> 0 | E18: =E60 -> 23
A19: =A18+1 -> 17 | B19: =Т1Зб!B19 -> Bass Hunters | C19: =Т1Зб!C19 -> Шевко Виталий | D19: =D61 -> 2683.24 | E19: =E61 -> 1 | U19: 51.8
A20: =A19+1 -> 18 | B20: =Т1Зб!B20 -> TotalSpin | C20: =Т1Зб!C20 -> Жуковский Александр | D20: =D62 -> 157.5025 | E20: =E62 -> 11 | U20: 25.1
A21: =A20+1 -> 19 | B21: =Т1Зб!B21 -> SB-FISHING | C21: =Т1Зб!C21 -> Болбас Тимофей | D21: =D63 -> 384.16 | E21: =E63 -> 5 | F21: 19.6
A22: =A21+1 -> 20 | B22: =Т1Зб!B22 -> Legion | C22: =Т1Зб!C22 -> Бойко Сергей | D22: =D64 -> 0 | E22: =E64 -> 23
A23: =A22+1 -> 21 | B23: =Т1Зб!B23 -> ASpinnTeam | C23: =Т1Зб!C23 -> Вашкевич Александр | D23: =D65 -> 0 | E23: =E65 -> 23
A24: =A23+1 -> 22 | B24: =Т1Зб!B24 -> nanobass | C24: =Т1Зб!C24 -> Мартынчук Михаил | D24: =D66 -> 560.3625 | E24: =E66 -> 4 | U24: 39.3 | V24: 26.4
A25: =A24+1 -> 23 | B25: =Т1Зб!B25 -> 0 | C25: =Т1Зб!C25 -> 0 | D25: =D67 -> 0 | E25: =E67 -> 23
A26: =A25+1 -> 24 | B26: =Т1Зб!B26 -> 0 | C26: =Т1Зб!C26 -> 0 | D26: =D68 -> 0 | E26: =E68 -> 23
A27: =A26+1 -> 25 | B27: =Т1Зб!B27 -> 0 | C27: =Т1Зб!C27 -> 0 | D27: =D69 -> 0 | E27: =E69 -> 23
A28: =A27+1 -> 26 | B28: =Т1Зб!B28 -> 0 | C28: =Т1Зб!C28 -> 0 | D28: =D70 -> 0 | E28: =E70 -> 23
A29: =A28+1 -> 27 | B29: =Т1Зб!B29 -> 0 | C29: =Т1Зб!C29 -> 0 | D29: =D71 -> 0 | E29: =E71 -> 23
A30: =A29+1 -> 28 | B30: =Т1Зб!B30 -> 0 | C30: =Т1Зб!C30 -> 0 | D30: =D72 -> 0 | E30: =E72 -> 23
A31: =A30+1 -> 29 | B31: =Т1Зб!B31 -> 0 | C31: =Т1Зб!C31 -> 0 | D31: =D73 -> 0 | E31: =E73 -> 23
A32: =A31+1 -> 30 | B32: =Т1Зб!B32 -> 0 | C32: =Т1Зб!C32 -> 0 | D32: =D74 -> 0 | E32: =E74 -> 23
A33: =A32+1 -> 31 | B33: =Т1Зб!B33 -> 0 | C33: =Т1Зб!C33 -> 0 | D33: =D75 -> 0 | E33: =E75 -> 23
A34: =A33+1 -> 32 | B34: =Т1Зб!B34 -> 0 | C34: =Т1Зб!C34 -> 0 | D34: =D76 -> 0 | E34: =E76 -> 23
A35: =A34+1 -> 33 | B35: =Т1Зб!B35 -> 0 | C35: =Т1Зб!C35 -> 0 | D35: =D77 -> 0 | E35: =E77 -> 23
A36: =A35+1 -> 34 | B36: =Т1Зб!B36 -> 0 | C36: =Т1Зб!C36 -> 0 | D36: =D78 -> 0 | E36: =E78 -> 23
... A41: =A40+1 -> 39 | B41: =Т1Зб!B41 -> 0 | C41: =Т1Зб!C41 -> 0 | D41: =D83 -> 0 | E41: =E83 -> 23
C42: средняя длина рыб по виду: | F42: =AVERAGE(F3:O41) -> 14.742857 | U42: =AVERAGE(U3:W41) -> 35.11 | X42: =AVERAGE(X3:Z41) -> #DIV/0! | AA42: =AVERAGE(AA3:AC41) -> #DIV/0! | AD42: =AVERAGE(AD3:AF41) -> #DIV/0! | AG42: =AVERAGE(AG3:AI41) -> #DIV/0! | AJ42: =AVERAGE(AJ3:AL41) -> #DIV/0!
A43: № | B43: команда | C43: участник | D43: сумма баллов | E43: место | F43: баллы
A45: 1 | B45: =B3 -> Vodomotorika TEAM | C45: =C3 -> Ставер Дмитрий | D45: =SUM(F45:AO45) -> 0 | E45: =IF(D45>0,RANK(D45,$D$45:$D$83),реглист!$C$88+1) -> 23 | F45: =POWER(F3,2) -> 0 | G45: =POWER(G3,2) -> 0 | H45: =POWER(H3,2) -> 0 | I45: =POWER(I3,2) -> 0 | J45: =POWER(J3,2) -> 0 | K45: =POWER(K3,2) -> 0 | L45: =POWER(L3,2) -> 0 | M45: =POWER(M3,2) -> 0 | ... T45: =POWER(T3,2) -> 0 | U45: =IF(U3>=45,POWER(U3,2),POWER(U3/2,2)) -> 0 | V45: =IF(V3>=45,POWER(V3,2),POWER(V3/2,2)) -> 0 | W45: =IF(W3>=45,POWER(W3,2),POWER(W3/2,2)) -> 0 | X45: =IF(X3>=45,POWER(X3,2),POWER(X3/2,2)) -> 0 | Y45: =IF(Y3>=45,POWER(Y3,2),POWER(Y3/2,2)) -> 0 | Z45: =IF(Z3>=45,POWER(Z3,2),POWER(Z3/2,2)) -> 0 | AA45: =IF(AA3>=40,POWER(AA3,2),POWER(AA3/2,2)) -> 0 | AB45: =IF(AB3>=40,POWER(AB3,2),POWER(AB3/2,2)) -> 0 | AC45: =IF(AC3>=40,POWER(AC3,2),POWER(AC3/2,2)) -> 0 | AD45: =IF(AD3>=30,POWER(AD3,2),POWER(AD3/2,2)) -> 0 | AE45: =IF(AE3>=30,POWER(AE3,2),POWER(AE3/2,2)) -> 0 | AF45: =IF(AF3>=30,POWER(AF3,2),POWER(AF3/2,2)) -> 0 | AG45: =IF(AG3>=30,POWER(AG3,2),POWER(AG3/2,2)) -> 0 | AH45: =IF(AH3>=30,POWER(AH3,2),POWER(AH3/2,2)) -> 0 | AI45: =IF(AI3>=30,POWER(AI3,2),POWER(AI3/2,2)) -> 0 | AJ45: =IF(AJ3>=30,POWER(AJ3,2),POWER(AJ3/2,2)) -> 0 | AK45: =IF(AK3>=30,POWER(AK3,2),POWER(AK3/2,2)) -> 0 | AL45: =IF(AL3>=30,POWER(AL3,2),POWER(AL3/2,2)) -> 0 | AM45: =IF(AM3>=75,POWER(AM3,2),POWER(AM3/2,2)) -> 0 | AN45: =IF(AN3>=75,POWER(AN3,2),POWER(AN3/2,2)) -> 0 | AO45: =IF(AO3>=75,POWER(AO3,2),POWER(AO3/2,2)) -> 0
A46: =A45+1 -> 2 | B46: =B4 -> Трудовые резервы | C46: =C4 -> Баранок Артём | D46: =SUM(F46:AO46) -> 0 | E46: =IF(D46>0,RANK(D46,$D$45:$D$83),реглист!$C$88+1) -> 23 | F46: =POWER(F4,2) -> 0 | G46: =POWER(G4,2) -> 0 | H46: =POWER(H4,2) -> 0 | I46: =POWER(I4,2) -> 0 | J46: =POWER(J4,2) -> 0 | K46: =POWER(K4,2) -> 0 | L46: =POWER(L4,2) -> 0 | M46: =POWER(M4,2) -> 0 | ... T46: =POWER(T4,2) -> 0 | U46: =IF(U4>=45,POWER(U4,2),POWER(U4/2,2)) -> 0 | V46: =IF(V4>=45,POWER(V4,2),POWER(V4/2,2)) -> 0 | W46: =IF(W4>=45,POWER(W4,2),POWER(W4/2,2)) -> 0 | X46: =IF(X4>=45,POWER(X4,2),POWER(X4/2,2)) -> 0 | Y46: =IF(Y4>=45,POWER(Y4,2),POWER(Y4/2,2)) -> 0 | Z46: =IF(Z4>=45,POWER(Z4,2),POWER(Z4/2,2)) -> 0 | AA46: =IF(AA4>=40,POWER(AA4,2),POWER(AA4/2,2)) -> 0 | AB46: =IF(AB4>=40,POWER(AB4,2),POWER(AB4/2,2)) -> 0 | AC46: =IF(AC4>=40,POWER(AC4,2),POWER(AC4/2,2)) -> 0 | AD46: =IF(AD4>=30,POWER(AD4,2),POWER(AD4/2,2)) -> 0 | AE46: =IF(AE4>=30,POWER(AE4,2),POWER(AE4/2,2)) -> 0 | AF46: =IF(AF4>=30,POWER(AF4,2),POWER(AF4/2,2)) -> 0 | AG46: =IF(AG4>=30,POWER(AG4,2),POWER(AG4/2,2)) -> 0 | AH46: =IF(AH4>=30,POWER(AH4,2),POWER(AH4/2,2)) -> 0 | AI46: =IF(AI4>=30,POWER(AI4,2),POWER(AI4/2,2)) -> 0 | AJ46: =IF(AJ4>=30,POWER(AJ4,2),POWER(AJ4/2,2)) -> 0 | AK46: =IF(AK4>=30,POWER(AK4,2),POWER(AK4/2,2)) -> 0 | AL46: =IF(AL4>=30,POWER(AL4,2),POWER(AL4/2,2)) -> 0 | AM46: =IF(AM4>=75,POWER(AM4,2),POWER(AM4/2,2)) -> 0 | AN46: =IF(AN4>=75,POWER(AN4,2),POWER(AN4/2,2)) -> 0 | AO46: =IF(AO4>=75,POWER(AO4,2),POWER(AO4/2,2)) -> 0
A47: =A46+1 -> 3 | B47: =B5 -> Poseidon | C47: =C5 -> Чижонок Сергей | D47: =SUM(F47:AO47) -> 151.29 | E47: =IF(D47>0,RANK(D47,$D$45:$D$83),реглист!$C$88+1) -> 12 | F47: =POWER(F5,2) -> 151.29 | G47: =POWER(G5,2) -> 0 | H47: =POWER(H5,2) -> 0 | I47: =POWER(I5,2) -> 0 | J47: =POWER(J5,2) -> 0 | K47: =POWER(K5,2) -> 0 | L47: =POWER(L5,2) -> 0 | M47: =POWER(M5,2) -> 0 | ... T47: =POWER(T5,2) -> 0 | U47: =IF(U5>=45,POWER(U5,2),POWER(U5/2,2)) -> 0 | V47: =IF(V5>=45,POWER(V5,2),POWER(V5/2,2)) -> 0 | W47: =IF(W5>=45,POWER(W5,2),POWER(W5/2,2)) -> 0 | X47: =IF(X5>=45,POWER(X5,2),POWER(X5/2,2)) -> 0 | Y47: =IF(Y5>=45,POWER(Y5,2),POWER(Y5/2,2)) -> 0 | Z47: =IF(Z5>=45,POWER(Z5,2),POWER(Z5/2,2)) -> 0 | AA47: =IF(AA5>=40,POWER(AA5,2),POWER(AA5/2,2)) -> 0 | AB47: =IF(AB5>=40,POWER(AB5,2),POWER(AB5/2,2)) -> 0 | AC47: =IF(AC5>=40,POWER(AC5,2),POWER(AC5/2,2)) -> 0 | AD47: =IF(AD5>=30,POWER(AD5,2),POWER(AD5/2,2)) -> 0 | AE47: =IF(AE5>=30,POWER(AE5,2),POWER(AE5/2,2)) -> 0 | AF47: =IF(AF5>=30,POWER(AF5,2),POWER(AF5/2,2)) -> 0 | AG47: =IF(AG5>=30,POWER(AG5,2),POWER(AG5/2,2)) -> 0 | AH47: =IF(AH5>=30,POWER(AH5,2),POWER(AH5/2,2)) -> 0 | AI47: =IF(AI5>=30,POWER(AI5,2),POWER(AI5/2,2)) -> 0 | AJ47: =IF(AJ5>=30,POWER(AJ5,2),POWER(AJ5/2,2)) -> 0 | AK47: =IF(AK5>=30,POWER(AK5,2),POWER(AK5/2,2)) -> 0 | AL47: =IF(AL5>=30,POWER(AL5,2),POWER(AL5/2,2)) -> 0 | AM47: =IF(AM5>=75,POWER(AM5,2),POWER(AM5/2,2)) -> 0 | AN47: =IF(AN5>=75,POWER(AN5,2),POWER(AN5/2,2)) -> 0 | AO47: =IF(AO5>=75,POWER(AO5,2),POWER(AO5/2,2)) -> 0
A48: =A47+1 -> 4 | B48: =B6 -> Peacock Bass | C48: =C6 -> Дроздов Виталий | D48: =SUM(F48:AO48) -> 0 | E48: =IF(D48>0,RANK(D48,$D$45:$D$83),реглист!$C$88+1) -> 23 | F48: =POWER(F6,2) -> 0 | G48: =POWER(G6,2) -> 0 | H48: =POWER(H6,2) -> 0 | I48: =POWER(I6,2) -> 0 | J48: =POWER(J6,2) -> 0 | K48: =POWER(K6,2) -> 0 | L48: =POWER(L6,2) -> 0 | M48: =POWER(M6,2) -> 0 | ... T48: =POWER(T6,2) -> 0 | U48: =IF(U6>=45,POWER(U6,2),POWER(U6/2,2)) -> 0 | V48: =IF(V6>=45,POWER(V6,2),POWER(V6/2,2)) -> 0 | W48: =IF(W6>=45,POWER(W6,2),POWER(W6/2,2)) -> 0 | X48: =IF(X6>=45,POWER(X6,2),POWER(X6/2,2)) -> 0 | Y48: =IF(Y6>=45,POWER(Y6,2),POWER(Y6/2,2)) -> 0 | Z48: =IF(Z6>=45,POWER(Z6,2),POWER(Z6/2,2)) -> 0 | AA48: =IF(AA6>=40,POWER(AA6,2),POWER(AA6/2,2)) -> 0 | AB48: =IF(AB6>=40,POWER(AB6,2),POWER(AB6/2,2)) -> 0 | AC48: =IF(AC6>=40,POWER(AC6,2),POWER(AC6/2,2)) -> 0 | AD48: =IF(AD6>=30,POWER(AD6,2),POWER(AD6/2,2)) -> 0 | AE48: =IF(AE6>=30,POWER(AE6,2),POWER(AE6/2,2)) -> 0 | AF48: =IF(AF6>=30,POWER(AF6,2),POWER(AF6/2,2)) -> 0 | AG48: =IF(AG6>=30,POWER(AG6,2),POWER(AG6/2,2)) -> 0 | AH48: =IF(AH6>=30,POWER(AH6,2),POWER(AH6/2,2)) -> 0 | AI48: =IF(AI6>=30,POWER(AI6,2),POWER(AI6/2,2)) -> 0 | AJ48: =IF(AJ6>=30,POWER(AJ6,2),POWER(AJ6/2,2)) -> 0 | AK48: =IF(AK6>=30,POWER(AK6,2),POWER(AK6/2,2)) -> 0 | AL48: =IF(AL6>=30,POWER(AL6,2),POWER(AL6/2,2)) -> 0 | AM48: =IF(AM6>=75,POWER(AM6,2),POWER(AM6/2,2)) -> 0 | AN48: =IF(AN6>=75,POWER(AN6,2),POWER(AN6/2,2)) -> 0 | AO48: =IF(AO6>=75,POWER(AO6,2),POWER(AO6/2,2)) -> 0
A49: =A48+1 -> 5 | B49: =B7 -> Old Roads Fishing | C49: =C7 -> Чернышёв Егор | D49: =SUM(F49:AO49) -> 320.41 | E49: =IF(D49>0,RANK(D49,$D$45:$D$83),реглист!$C$88+1) -> 7 | F49: =POWER(F7,2) -> 0 | G49: =POWER(G7,2) -> 0 | H49: =POWER(H7,2) -> 0 | I49: =POWER(I7,2) -> 0 | J49: =POWER(J7,2) -> 0 | K49: =POWER(K7,2) -> 0 | L49: =POWER(L7,2) -> 0 | M49: =POWER(M7,2) -> 0 | ... T49: =POWER(T7,2) -> 0 | U49: =IF(U7>=45,POWER(U7,2),POWER(U7/2,2)) -> 320.41 | V49: =IF(V7>=45,POWER(V7,2),POWER(V7/2,2)) -> 0 | W49: =IF(W7>=45,POWER(W7,2),POWER(W7/2,2)) -> 0 | X49: =IF(X7>=45,POWER(X7,2),POWER(X7/2,2)) -> 0 | Y49: =IF(Y7>=45,POWER(Y7,2),POWER(Y7/2,2)) -> 0 | Z49: =IF(Z7>=45,POWER(Z7,2),POWER(Z7/2,2)) -> 0 | AA49: =IF(AA7>=40,POWER(AA7,2),POWER(AA7/2,2)) -> 0 | AB49: =IF(AB7>=40,POWER(AB7,2),POWER(AB7/2,2)) -> 0 | AC49: =IF(AC7>=40,POWER(AC7,2),POWER(AC7/2,2)) -> 0 | AD49: =IF(AD7>=30,POWER(AD7,2),POWER(AD7/2,2)) -> 0 | AE49: =IF(AE7>=30,POWER(AE7,2),POWER(AE7/2,2)) -> 0 | AF49: =IF(AF7>=30,POWER(AF7,2),POWER(AF7/2,2)) -> 0 | AG49: =IF(AG7>=30,POWER(AG7,2),POWER(AG7/2,2)) -> 0 | AH49: =IF(AH7>=30,POWER(AH7,2),POWER(AH7/2,2)) -> 0 | AI49: =IF(AI7>=30,POWER(AI7,2),POWER(AI7/2,2)) -> 0 | AJ49: =IF(AJ7>=30,POWER(AJ7,2),POWER(AJ7/2,2)) -> 0 | AK49: =IF(AK7>=30,POWER(AK7,2),POWER(AK7/2,2)) -> 0 | AL49: =IF(AL7>=30,POWER(AL7,2),POWER(AL7/2,2)) -> 0 | AM49: =IF(AM7>=75,POWER(AM7,2),POWER(AM7/2,2)) -> 0 | AN49: =IF(AN7>=75,POWER(AN7,2),POWER(AN7/2,2)) -> 0 | AO49: =IF(AO7>=75,POWER(AO7,2),POWER(AO7/2,2)) -> 0
A50: =A49+1 -> 6 | B50: =B8 -> Gefest | C50: =C8 -> Саган Сергей | D50: =SUM(F50:AO50) -> 158.76 | E50: =IF(D50>0,RANK(D50,$D$45:$D$83),реглист!$C$88+1) -> 10 | F50: =POWER(F8,2) -> 158.76 | G50: =POWER(G8,2) -> 0 | H50: =POWER(H8,2) -> 0 | I50: =POWER(I8,2) -> 0 | J50: =POWER(J8,2) -> 0 | K50: =POWER(K8,2) -> 0 | L50: =POWER(L8,2) -> 0 | M50: =POWER(M8,2) -> 0 | ... T50: =POWER(T8,2) -> 0 | U50: =IF(U8>=45,POWER(U8,2),POWER(U8/2,2)) -> 0 | V50: =IF(V8>=45,POWER(V8,2),POWER(V8/2,2)) -> 0 | W50: =IF(W8>=45,POWER(W8,2),POWER(W8/2,2)) -> 0 | X50: =IF(X8>=45,POWER(X8,2),POWER(X8/2,2)) -> 0 | Y50: =IF(Y8>=45,POWER(Y8,2),POWER(Y8/2,2)) -> 0 | Z50: =IF(Z8>=45,POWER(Z8,2),POWER(Z8/2,2)) -> 0 | AA50: =IF(AA8>=40,POWER(AA8,2),POWER(AA8/2,2)) -> 0 | AB50: =IF(AB8>=40,POWER(AB8,2),POWER(AB8/2,2)) -> 0 | AC50: =IF(AC8>=40,POWER(AC8,2),POWER(AC8/2,2)) -> 0 | AD50: =IF(AD8>=30,POWER(AD8,2),POWER(AD8/2,2)) -> 0 | AE50: =IF(AE8>=30,POWER(AE8,2),POWER(AE8/2,2)) -> 0 | AF50: =IF(AF8>=30,POWER(AF8,2),POWER(AF8/2,2)) -> 0 | AG50: =IF(AG8>=30,POWER(AG8,2),POWER(AG8/2,2)) -> 0 | AH50: =IF(AH8>=30,POWER(AH8,2),POWER(AH8/2,2)) -> 0 | AI50: =IF(AI8>=30,POWER(AI8,2),POWER(AI8/2,2)) -> 0 | AJ50: =IF(AJ8>=30,POWER(AJ8,2),POWER(AJ8/2,2)) -> 0 | AK50: =IF(AK8>=30,POWER(AK8,2),POWER(AK8/2,2)) -> 0 | AL50: =IF(AL8>=30,POWER(AL8,2),POWER(AL8/2,2)) -> 0 | AM50: =IF(AM8>=75,POWER(AM8,2),POWER(AM8/2,2)) -> 0 | AN50: =IF(AN8>=75,POWER(AN8,2),POWER(AN8/2,2)) -> 0 | AO50: =IF(AO8>=75,POWER(AO8,2),POWER(AO8/2,2)) -> 0
A51: =A50+1 -> 7 | B51: =B9 -> West Fishing | C51: =C9 -> Золотарь Андрей | D51: =SUM(F51:AO51) -> 324 | E51: =IF(D51>0,RANK(D51,$D$45:$D$83),реглист!$C$88+1) -> 6 | F51: =POWER(F9,2) -> 324 | G51: =POWER(G9,2) -> 0 | H51: =POWER(H9,2) -> 0 | I51: =POWER(I9,2) -> 0 | J51: =POWER(J9,2) -> 0 | K51: =POWER(K9,2) -> 0 | L51: =POWER(L9,2) -> 0 | M51: =POWER(M9,2) -> 0 | ... T51: =POWER(T9,2) -> 0 | U51: =IF(U9>=45,POWER(U9,2),POWER(U9/2,2)) -> 0 | V51: =IF(V9>=45,POWER(V9,2),POWER(V9/2,2)) -> 0 | W51: =IF(W9>=45,POWER(W9,2),POWER(W9/2,2)) -> 0 | X51: =IF(X9>=45,POWER(X9,2),POWER(X9/2,2)) -> 0 | Y51: =IF(Y9>=45,POWER(Y9,2),POWER(Y9/2,2)) -> 0 | Z51: =IF(Z9>=45,POWER(Z9,2),POWER(Z9/2,2)) -> 0 | AA51: =IF(AA9>=40,POWER(AA9,2),POWER(AA9/2,2)) -> 0 | AB51: =IF(AB9>=40,POWER(AB9,2),POWER(AB9/2,2)) -> 0 | AC51: =IF(AC9>=40,POWER(AC9,2),POWER(AC9/2,2)) -> 0 | AD51: =IF(AD9>=30,POWER(AD9,2),POWER(AD9/2,2)) -> 0 | AE51: =IF(AE9>=30,POWER(AE9,2),POWER(AE9/2,2)) -> 0 | AF51: =IF(AF9>=30,POWER(AF9,2),POWER(AF9/2,2)) -> 0 | AG51: =IF(AG9>=30,POWER(AG9,2),POWER(AG9/2,2)) -> 0 | AH51: =IF(AH9>=30,POWER(AH9,2),POWER(AH9/2,2)) -> 0 | AI51: =IF(AI9>=30,POWER(AI9,2),POWER(AI9/2,2)) -> 0 | AJ51: =IF(AJ9>=30,POWER(AJ9,2),POWER(AJ9/2,2)) -> 0 | AK51: =IF(AK9>=30,POWER(AK9,2),POWER(AK9/2,2)) -> 0 | AL51: =IF(AL9>=30,POWER(AL9,2),POWER(AL9/2,2)) -> 0 | AM51: =IF(AM9>=75,POWER(AM9,2),POWER(AM9/2,2)) -> 0 | AN51: =IF(AN9>=75,POWER(AN9,2),POWER(AN9/2,2)) -> 0 | AO51: =IF(AO9>=75,POWER(AO9,2),POWER(AO9/2,2)) -> 0
A52: =A51+1 -> 8 | B52: =B10 -> Dream Team | C52: =C10 -> Золотухин Александр | D52: =SUM(F52:AO52) -> 0 | E52: =IF(D52>0,RANK(D52,$D$45:$D$83),реглист!$C$88+1) -> 23 | F52: =POWER(F10,2) -> 0 | G52: =POWER(G10,2) -> 0 | H52: =POWER(H10,2) -> 0 | I52: =POWER(I10,2) -> 0 | J52: =POWER(J10,2) -> 0 | K52: =POWER(K10,2) -> 0 | L52: =POWER(L10,2) -> 0 | M52: =POWER(M10,2) -> 0 | ... T52: =POWER(T10,2) -> 0 | U52: =IF(U10>=45,POWER(U10,2),POWER(U10/2,2)) -> 0 | V52: =IF(V10>=45,POWER(V10,2),POWER(V10/2,2)) -> 0 | W52: =IF(W10>=45,POWER(W10,2),POWER(W10/2,2)) -> 0 | X52: =IF(X10>=45,POWER(X10,2),POWER(X10/2,2)) -> 0 | Y52: =IF(Y10>=45,POWER(Y10,2),POWER(Y10/2,2)) -> 0 | Z52: =IF(Z10>=45,POWER(Z10,2),POWER(Z10/2,2)) -> 0 | AA52: =IF(AA10>=40,POWER(AA10,2),POWER(AA10/2,2)) -> 0 | AB52: =IF(AB10>=40,POWER(AB10,2),POWER(AB10/2,2)) -> 0 | AC52: =IF(AC10>=40,POWER(AC10,2),POWER(AC10/2,2)) -> 0 | AD52: =IF(AD10>=30,POWER(AD10,2),POWER(AD10/2,2)) -> 0 | AE52: =IF(AE10>=30,POWER(AE10,2),POWER(AE10/2,2)) -> 0 | AF52: =IF(AF10>=30,POWER(AF10,2),POWER(AF10/2,2)) -> 0 | AG52: =IF(AG10>=30,POWER(AG10,2),POWER(AG10/2,2)) -> 0 | AH52: =IF(AH10>=30,POWER(AH10,2),POWER(AH10/2,2)) -> 0 | AI52: =IF(AI10>=30,POWER(AI10,2),POWER(AI10/2,2)) -> 0 | AJ52: =IF(AJ10>=30,POWER(AJ10,2),POWER(AJ10/2,2)) -> 0 | AK52: =IF(AK10>=30,POWER(AK10,2),POWER(AK10/2,2)) -> 0 | AL52: =IF(AL10>=30,POWER(AL10,2),POWER(AL10/2,2)) -> 0 | AM52: =IF(AM10>=75,POWER(AM10,2),POWER(AM10/2,2)) -> 0 | AN52: =IF(AN10>=75,POWER(AN10,2),POWER(AN10/2,2)) -> 0 | AO52: =IF(AO10>=75,POWER(AO10,2),POWER(AO10/2,2)) -> 0
A53: =A52+1 -> 9 | B53: =B11 -> Bona Кобрин | C53: =C11 -> Барташук Александр | D53: =SUM(F53:AO53) -> 1004.8925 | E53: =IF(D53>0,RANK(D53,$D$45:$D$83),реглист!$C$88+1) -> 2 | F53: =POWER(F11,2) -> 161.29 | G53: =POWER(G11,2) -> 0 | H53: =POWER(H11,2) -> 0 | I53: =POWER(I11,2) -> 0 | J53: =POWER(J11,2) -> 0 | K53: =POWER(K11,2) -> 0 | L53: =POWER(L11,2) -> 0 | M53: =POWER(M11,2) -> 0 | ... T53: =POWER(T11,2) -> 0 | U53: =IF(U11>=45,POWER(U11,2),POWER(U11/2,2)) -> 392.04 | V53: =IF(V11>=45,POWER(V11,2),POWER(V11/2,2)) -> 451.5625 | W53: =IF(W11>=45,POWER(W11,2),POWER(W11/2,2)) -> 0 | X53: =IF(X11>=45,POWER(X11,2),POWER(X11/2,2)) -> 0 | Y53: =IF(Y11>=45,POWER(Y11,2),POWER(Y11/2,2)) -> 0 | Z53: =IF(Z11>=45,POWER(Z11,2),POWER(Z11/2,2)) -> 0 | AA53: =IF(AA11>=40,POWER(AA11,2),POWER(AA11/2,2)) -> 0 | AB53: =IF(AB11>=40,POWER(AB11,2),POWER(AB11/2,2)) -> 0 | AC53: =IF(AC11>=40,POWER(AC11,2),POWER(AC11/2,2)) -> 0 | AD53: =IF(AD11>=30,POWER(AD11,2),POWER(AD11/2,2)) -> 0 | AE53: =IF(AE11>=30,POWER(AE11,2),POWER(AE11/2,2)) -> 0 | AF53: =IF(AF11>=30,POWER(AF11,2),POWER(AF11/2,2)) -> 0 | AG53: =IF(AG11>=30,POWER(AG11,2),POWER(AG11/2,2)) -> 0 | AH53: =IF(AH11>=30,POWER(AH11,2),POWER(AH11/2,2)) -> 0 | AI53: =IF(AI11>=30,POWER(AI11,2),POWER(AI11/2,2)) -> 0 | AJ53: =IF(AJ11>=30,POWER(AJ11,2),POWER(AJ11/2,2)) -> 0 | AK53: =IF(AK11>=30,POWER(AK11,2),POWER(AK11/2,2)) -> 0 | AL53: =IF(AL11>=30,POWER(AL11,2),POWER(AL11/2,2)) -> 0 | AM53: =IF(AM11>=75,POWER(AM11,2),POWER(AM11/2,2)) -> 0 | AN53: =IF(AN11>=75,POWER(AN11,2),POWER(AN11/2,2)) -> 0 | AO53: =IF(AO11>=75,POWER(AO11,2),POWER(AO11/2,2)) -> 0
A54: =A53+1 -> 10 | B54: =B12 -> Фарватер | C54: =C12 -> Цыганок Михаил | D54: =SUM(F54:AO54) -> 0 | E54: =IF(D54>0,RANK(D54,$D$45:$D$83),реглист!$C$88+1) -> 23 | F54: =POWER(F12,2) -> 0 | G54: =POWER(G12,2) -> 0 | H54: =POWER(H12,2) -> 0 | I54: =POWER(I12,2) -> 0 | J54: =POWER(J12,2) -> 0 | K54: =POWER(K12,2) -> 0 | L54: =POWER(L12,2) -> 0 | M54: =POWER(M12,2) -> 0 | ... T54: =POWER(T12,2) -> 0 | U54: =IF(U12>=45,POWER(U12,2),POWER(U12/2,2)) -> 0 | V54: =IF(V12>=45,POWER(V12,2),POWER(V12/2,2)) -> 0 | W54: =IF(W12>=45,POWER(W12,2),POWER(W12/2,2)) -> 0 | X54: =IF(X12>=45,POWER(X12,2),POWER(X12/2,2)) -> 0 | Y54: =IF(Y12>=45,POWER(Y12,2),POWER(Y12/2,2)) -> 0 | Z54: =IF(Z12>=45,POWER(Z12,2),POWER(Z12/2,2)) -> 0 | AA54: =IF(AA12>=40,POWER(AA12,2),POWER(AA12/2,2)) -> 0 | AB54: =IF(AB12>=40,POWER(AB12,2),POWER(AB12/2,2)) -> 0 | AC54: =IF(AC12>=40,POWER(AC12,2),POWER(AC12/2,2)) -> 0 | AD54: =IF(AD12>=30,POWER(AD12,2),POWER(AD12/2,2)) -> 0 | AE54: =IF(AE12>=30,POWER(AE12,2),POWER(AE12/2,2)) -> 0 | AF54: =IF(AF12>=30,POWER(AF12,2),POWER(AF12/2,2)) -> 0 | AG54: =IF(AG12>=30,POWER(AG12,2),POWER(AG12/2,2)) -> 0 | AH54: =IF(AH12>=30,POWER(AH12,2),POWER(AH12/2,2)) -> 0 | AI54: =IF(AI12>=30,POWER(AI12,2),POWER(AI12/2,2)) -> 0 | AJ54: =IF(AJ12>=30,POWER(AJ12,2),POWER(AJ12/2,2)) -> 0 | AK54: =IF(AK12>=30,POWER(AK12,2),POWER(AK12/2,2)) -> 0 | AL54: =IF(AL12>=30,POWER(AL12,2),POWER(AL12/2,2)) -> 0 | AM54: =IF(AM12>=75,POWER(AM12,2),POWER(AM12/2,2)) -> 0 | AN54: =IF(AN12>=75,POWER(AN12,2),POWER(AN12/2,2)) -> 0 | AO54: =IF(AO12>=75,POWER(AO12,2),POWER(AO12/2,2)) -> 0
A55: =A54+1 -> 11 | B55: =B13 -> XULi-ULi | C55: =C13 -> Дубровский Вадим | D55: =SUM(F55:AO55) -> 686.57 | E55: =IF(D55>0,RANK(D55,$D$45:$D$83),реглист!$C$88+1) -> 3 | F55: =POWER(F13,2) -> 0 | G55: =POWER(G13,2) -> 0 | H55: =POWER(H13,2) -> 0 | I55: =POWER(I13,2) -> 0 | J55: =POWER(J13,2) -> 0 | K55: =POWER(K13,2) -> 0 | L55: =POWER(L13,2) -> 0 | M55: =POWER(M13,2) -> 0 | ... T55: =POWER(T13,2) -> 0 | U55: =IF(U13>=45,POWER(U13,2),POWER(U13/2,2)) -> 210.25 | V55: =IF(V13>=45,POWER(V13,2),POWER(V13/2,2)) -> 207.36 | W55: =IF(W13>=45,POWER(W13,2),POWER(W13/2,2)) -> 268.96 | X55: =IF(X13>=45,POWER(X13,2),POWER(X13/2,2)) -> 0 | Y55: =IF(Y13>=45,POWER(Y13,2),POWER(Y13/2,2)) -> 0 | Z55: =IF(Z13>=45,POWER(Z13,2),POWER(Z13/2,2)) -> 0 | AA55: =IF(AA13>=40,POWER(AA13,2),POWER(AA13/2,2)) -> 0 | AB55: =IF(AB13>=40,POWER(AB13,2),POWER(AB13/2,2)) -> 0 | AC55: =IF(AC13>=40,POWER(AC13,2),POWER(AC13/2,2)) -> 0 | AD55: =IF(AD13>=30,POWER(AD13,2),POWER(AD13/2,2)) -> 0 | AE55: =IF(AE13>=30,POWER(AE13,2),POWER(AE13/2,2)) -> 0 | AF55: =IF(AF13>=30,POWER(AF13,2),POWER(AF13/2,2)) -> 0 | AG55: =IF(AG13>=30,POWER(AG13,2),POWER(AG13/2,2)) -> 0 | AH55: =IF(AH13>=30,POWER(AH13,2),POWER(AH13/2,2)) -> 0 | AI55: =IF(AI13>=30,POWER(AI13,2),POWER(AI13/2,2)) -> 0 | AJ55: =IF(AJ13>=30,POWER(AJ13,2),POWER(AJ13/2,2)) -> 0 | AK55: =IF(AK13>=30,POWER(AK13,2),POWER(AK13/2,2)) -> 0 | AL55: =IF(AL13>=30,POWER(AL13,2),POWER(AL13/2,2)) -> 0 | AM55: =IF(AM13>=75,POWER(AM13,2),POWER(AM13/2,2)) -> 0 | AN55: =IF(AN13>=75,POWER(AN13,2),POWER(AN13/2,2)) -> 0 | AO55: =IF(AO13>=75,POWER(AO13,2),POWER(AO13/2,2)) -> 0
A56: =A55+1 -> 12 | B56: =B14 -> Fanatik Belarus | C56: =C14 -> Янкович Сергей | D56: =SUM(F56:AO56) -> 182.25 | E56: =IF(D56>0,RANK(D56,$D$45:$D$83),реглист!$C$88+1) -> 9 | F56: =POWER(F14,2) -> 182.25 | G56: =POWER(G14,2) -> 0 | H56: =POWER(H14,2) -> 0 | I56: =POWER(I14,2) -> 0 | J56: =POWER(J14,2) -> 0 | K56: =POWER(K14,2) -> 0 | L56: =POWER(L14,2) -> 0 | M56: =POWER(M14,2) -> 0 | ... T56: =POWER(T14,2) -> 0 | U56: =IF(U14>=45,POWER(U14,2),POWER(U14/2,2)) -> 0 | V56: =IF(V14>=45,POWER(V14,2),POWER(V14/2,2)) -> 0 | W56: =IF(W14>=45,POWER(W14,2),POWER(W14/2,2)) -> 0 | X56: =IF(X14>=45,POWER(X14,2),POWER(X14/2,2)) -> 0 | Y56: =IF(Y14>=45,POWER(Y14,2),POWER(Y14/2,2)) -> 0 | Z56: =IF(Z14>=45,POWER(Z14,2),POWER(Z14/2,2)) -> 0 | AA56: =IF(AA14>=40,POWER(AA14,2),POWER(AA14/2,2)) -> 0 | AB56: =IF(AB14>=40,POWER(AB14,2),POWER(AB14/2,2)) -> 0 | AC56: =IF(AC14>=40,POWER(AC14,2),POWER(AC14/2,2)) -> 0 | AD56: =IF(AD14>=30,POWER(AD14,2),POWER(AD14/2,2)) -> 0 | AE56: =IF(AE14>=30,POWER(AE14,2),POWER(AE14/2,2)) -> 0 | AF56: =IF(AF14>=30,POWER(AF14,2),POWER(AF14/2,2)) -> 0 | AG56: =IF(AG14>=30,POWER(AG14,2),POWER(AG14/2,2)) -> 0 | AH56: =IF(AH14>=30,POWER(AH14,2),POWER(AH14/2,2)) -> 0 | AI56: =IF(AI14>=30,POWER(AI14,2),POWER(AI14/2,2)) -> 0 | AJ56: =IF(AJ14>=30,POWER(AJ14,2),POWER(AJ14/2,2)) -> 0 | AK56: =IF(AK14>=30,POWER(AK14,2),POWER(AK14/2,2)) -> 0 | AL56: =IF(AL14>=30,POWER(AL14,2),POWER(AL14/2,2)) -> 0 | AM56: =IF(AM14>=75,POWER(AM14,2),POWER(AM14/2,2)) -> 0 | AN56: =IF(AN14>=75,POWER(AN14,2),POWER(AN14/2,2)) -> 0 | AO56: =IF(AO14>=75,POWER(AO14,2),POWER(AO14/2,2)) -> 0
A57: =A56+1 -> 13 | B57: =B15 -> FISHINGSTOCK BELARUS | C57: =C15 -> Бобриков Алексей | D57: =SUM(F57:AO57) -> 0 | E57: =IF(D57>0,RANK(D57,$D$45:$D$83),реглист!$C$88+1) -> 23 | F57: =POWER(F15,2) -> 0 | G57: =POWER(G15,2) -> 0 | H57: =POWER(H15,2) -> 0 | I57: =POWER(I15,2) -> 0 | J57: =POWER(J15,2) -> 0 | K57: =POWER(K15,2) -> 0 | L57: =POWER(L15,2) -> 0 | M57: =POWER(M15,2) -> 0 | ... T57: =POWER(T15,2) -> 0 | U57: =IF(U15>=45,POWER(U15,2),POWER(U15/2,2)) -> 0 | V57: =IF(V15>=45,POWER(V15,2),POWER(V15/2,2)) -> 0 | W57: =IF(W15>=45,POWER(W15,2),POWER(W15/2,2)) -> 0 | X57: =IF(X15>=45,POWER(X15,2),POWER(X15/2,2)) -> 0 | Y57: =IF(Y15>=45,POWER(Y15,2),POWER(Y15/2,2)) -> 0 | Z57: =IF(Z15>=45,POWER(Z15,2),POWER(Z15/2,2)) -> 0 | AA57: =IF(AA15>=40,POWER(AA15,2),POWER(AA15/2,2)) -> 0 | AB57: =IF(AB15>=40,POWER(AB15,2),POWER(AB15/2,2)) -> 0 | AC57: =IF(AC15>=40,POWER(AC15,2),POWER(AC15/2,2)) -> 0 | AD57: =IF(AD15>=30,POWER(AD15,2),POWER(AD15/2,2)) -> 0 | AE57: =IF(AE15>=30,POWER(AE15,2),POWER(AE15/2,2)) -> 0 | AF57: =IF(AF15>=30,POWER(AF15,2),POWER(AF15/2,2)) -> 0 | AG57: =IF(AG15>=30,POWER(AG15,2),POWER(AG15/2,2)) -> 0 | AH57: =IF(AH15>=30,POWER(AH15,2),POWER(AH15/2,2)) -> 0 | AI57: =IF(AI15>=30,POWER(AI15,2),POWER(AI15/2,2)) -> 0 | AJ57: =IF(AJ15>=30,POWER(AJ15,2),POWER(AJ15/2,2)) -> 0 | AK57: =IF(AK15>=30,POWER(AK15,2),POWER(AK15/2,2)) -> 0 | AL57: =IF(AL15>=30,POWER(AL15,2),POWER(AL15/2,2)) -> 0 | AM57: =IF(AM15>=75,POWER(AM15,2),POWER(AM15/2,2)) -> 0 | AN57: =IF(AN15>=75,POWER(AN15,2),POWER(AN15/2,2)) -> 0 | AO57: =IF(AO15>=75,POWER(AO15,2),POWER(AO15/2,2)) -> 0
... A83: =A82+1 -> 39 | B83: =B41 -> 0 | C83: =C41 -> 0 | D83: =SUM(F83:AO83) -> 0 | E83: =IF(D83>0,RANK(D83,$D$45:$D$83),реглист!$C$88+1) -> 23 | F83: =POWER(F41,2) -> 0 | G83: =POWER(G41,2) -> 0 | H83: =POWER(H41,2) -> 0 | I83: =POWER(I41,2) -> 0 | J83: =POWER(J41,2) -> 0 | K83: =POWER(K41,2) -> 0 | L83: =POWER(L41,2) -> 0 | M83: =POWER(M41,2) -> 0 | ... T83: =POWER(T41,2) -> 0 | U83: =IF(U41>=45,POWER(U41,2),POWER(U41/2,2)) -> 0 | V83: =IF(V41>=45,POWER(V41,2),POWER(V41/2,2)) -> 0 | W83: =IF(W41>=45,POWER(W41,2),POWER(W41/2,2)) -> 0 | X83: =IF(X41>=45,POWER(X41,2),POWER(X41/2,2)) -> 0 | Y83: =IF(Y41>=45,POWER(Y41,2),POWER(Y41/2,2)) -> 0 | Z83: =IF(Z41>=45,POWER(Z41,2),POWER(Z41/2,2)) -> 0 | AA83: =IF(AA41>=40,POWER(AA41,2),POWER(AA41/2,2)) -> 0 | AB83: =IF(AB41>=40,POWER(AB41,2),POWER(AB41/2,2)) -> 0 | AC83: =IF(AC41>=40,POWER(AC41,2),POWER(AC41/2,2)) -> 0 | AD83: =IF(AD41>=30,POWER(AD41,2),POWER(AD41/2,2)) -> 0 | AE83: =IF(AE41>=30,POWER(AE41,2),POWER(AE41/2,2)) -> 0 | AF83: =IF(AF41>=30,POWER(AF41,2),POWER(AF41/2,2)) -> 0 | AG83: =IF(AG41>=30,POWER(AG41,2),POWER(AG41/2,2)) -> 0 | AH83: =IF(AH41>=30,POWER(AH41,2),POWER(AH41/2,2)) -> 0 | AI83: =IF(AI41>=30,POWER(AI41,2),POWER(AI41/2,2)) -> 0 | AJ83: =IF(AJ41>=30,POWER(AJ41,2),POWER(AJ41/2,2)) -> 0 | AK83: =IF(AK41>=30,POWER(AK41,2),POWER(AK41/2,2)) -> 0 | AL83: =IF(AL41>=30,POWER(AL41,2),POWER(AL41/2,2)) -> 0 | AM83: =IF(AM41>=75,POWER(AM41,2),POWER(AM41/2,2)) -> 0 | AN83: =IF(AN41>=75,POWER(AN41,2),POWER(AN41/2,2)) -> 0 | AO83: =IF(AO41>=75,POWER(AO41,2),POWER(AO41/2,2)) -> 0

Sheet Т2Зб
A1: № | B1: команда | C1: участник | D1: сумма баллов | E1: место | F1: окунь | U1: щука | X1: судак | AA1: жерех | AD1: голавль | AG1: язь | AJ1: чехонь | AM1: сом
F2: размер, см
A3: 1 | B3: =Т1За!B3 -> Vodomotorika TEAM | C3: =Т1За!C3 -> Круглянин Сергей | D3: =D45 -> 0 | E3: =E45 -> 23
A4: =A3+1 -> 2 | B4: =Т1За!B4 -> Трудовые резервы | C4: =Т1За!C4 -> Пожарский Константин | D4: =D46 -> 439.36 | E4: =E46 -> 6 | F4: 14 | G4: 15.6
A5: =A4+1 -> 3 | B5: =Т1За!B5 -> Poseidon | C5: =Т1За!C5 -> Строк Павел | D5: =D47 -> 309.76 | E5: =E47 -> 7 | U5: 35.2
A6: =A5+1 -> 4 | B6: =Т1За!B6 -> Peacock Bass | C6: =Т1За!C6 -> Сенчуров Иван | D6: =D48 -> 0 | E6: =E48 -> 23
A7: =A6+1 -> 5 | B7: =Т1За!B7 -> Old Roads Fishing | C7: =Т1За!C7 -> Синовец Роман | D7: =D49 -> 207.36 | E7: 12.5 | F7: 14.4
A8: =A7+1 -> 6 | B8: =Т1За!B8 -> Gefest | C8: =Т1За!C8 -> Радчук Юрий | D8: =D50 -> 855.29 | E8: =E50 -> 1 | F8: 15.5 | G8: 24.8
A9: =A8+1 -> 7 | B9: =Т1За!B9 -> West Fishing | C9: =Т1За!C9 -> Непомнящий Виктор | D9: =D51 -> 478.76 | E9: =E51 -> 4 | F9: 17.6 | G9: 13
A10: =A9+1 -> 8 | B10: =Т1За!B10 -> Dream Team | C10: =Т1За!C10 -> Тысевич Сергей | D10: =D52 -> 292.41 | E10: =E52 -> 8 | F10: 17.1
A11: =A10+1 -> 9 | B11: =Т1За!B11 -> Bona Кобрин | C11: =Т1За!C11 -> Марковский Максим | D11: =D53 -> 0 | E11: =E53 -> 23
A12: =A11+1 -> 10 | B12: =Т1За!B12 -> Фарватер | C12: =Т1За!C12 -> Попельский Максим | D12: =D54 -> 139.24 | E12: =E54 -> 15 | F12: 11.8
A13: =A12+1 -> 11 | B13: =Т1За!B13 -> XULi-ULi | C13: =Т1За!C13 -> Лавренчук Станислав | D13: =D55 -> 217.5625 | E13: =E55 -> 11 | U13: 29.5
A14: =A13+1 -> 12 | B14: =Т1За!B14 -> Fanatik Belarus | C14: =Т1За!C14 -> Шевчук Дмитрий | D14: =D56 -> 0 | E14: =E56 -> 23
A15: =A14+1 -> 13 | B15: =Т1За!B15 -> FISHINGSTOCK BELARUS | C15: =Т1За!C15 -> Лунякин Олег | D15: =D57 -> 0 | E15: =E57 -> 23
A16: =A15+1 -> 14 | B16: =Т1За!B16 -> Против Течениия | C16: =Т1За!C16 -> Кириенко Кирилл | D16: =D58 -> 278.89 | E16: =E58 -> 9 | F16: 16.7
A17: =A16+1 -> 15 | B17: =Т1За!B17 -> Bait Breath Team | C17: =Т1За!C17 -> Зубко Сергей | D17: =D59 -> 470.89 | E17: =E59 -> 5 | F17: 21.7
A18: =A17+1 -> 16 | B18: =Т1За!B18 -> Кооператив ХИЩНИК | C18: =Т1За!C18 -> Сницкий Виктор | D18: =D60 -> 0 | E18: =E60 -> 23
A19: =A18+1 -> 17 | B19: =Т1За!B19 -> Bass Hunters | C19: =Т1За!C19 -> Кириевский Андрей | D19: =D61 -> 207.36 | E19: 12.5 | F19: 14.4
A20: =A19+1 -> 18 | B20: =Т1За!B20 -> TotalSpin | C20: =Т1За!C20 -> Масюк Павел | D20: =D62 -> 750.76 | E20: =E62 -> 2 | F20: 27.4
A21: =A20+1 -> 19 | B21: =Т1За!B21 -> SB-FISHING | C21: =Т1За!C21 -> Сапраненков Евгений | D21: =D63 -> 573.3125 | E21: =E63 -> 3 | F21: 15.5 | U21: 36.5
A22: =A21+1 -> 20 | B22: =Т1За!B22 -> Legion | C22: =Т1За!C22 -> Микулов Владимир | D22: =D64 -> 190.44 | E22: =E64 -> 14 | F22: 13.8
A23: =A22+1 -> 21 | B23: =Т1За!B23 -> ASpinnTeam | C23: =Т1За!C23 -> Нугуманов Артём | D23: =D65 -> 0 | E23: =E65 -> 23
A24: =A23+1 -> 22 | B24: =Т1За!B24 -> nanobass | C24: =Т1За!C24 -> Бычик Роман | D24: =D66 -> 262.44 | E24: =E66 -> 10 | F24: 16.2
A25: =A24+1 -> 23 | B25: =Т1За!B25 -> 0 | C25: =Т1За!C25 -> 0 | D25: =D67 -> 0 | E25: =E67 -> 23
A26: =A25+1 -> 24 | B26: =Т1За!B26 -> 0 | C26: =Т1За!C26 -> 0 | D26: =D68 -> 0 | E26: =E68 -> 23
A27: =A26+1 -> 25 | B27: =Т1За!B27 -> 0 | C27: =Т1За!C27 -> 0 | D27: =D69 -> 0 | E27: =E69 -> 23
A28: =A27+1 -> 26 | B28: =Т1За!B28 -> 0 | C28: =Т1За!C28 -> 0 | D28: =D70 -> 0 | E28: =E70 -> 23
A29: =A28+1 -> 27 | B29: =Т1За!B29 -> 0 | C29: =Т1За!C29 -> 0 | D29: =D71 -> 0 | E29: =E71 -> 23
A30: =A29+1 -> 28 | B30: =Т1За!B30 -> 0 | C30: =Т1За!C30 -> 0 | D30: =D72 -> 0 | E30: =E72 -> 23
A31: =A30+1 -> 29 | B31: =Т1За!B31 -> 0 | C31: =Т1За!C31 -> 0 | D31: =D73 -> 0 | E31: =E73 -> 23
A32: =A31+1 -> 30 | B32: =Т1За!B32 -> 0 | C32: =Т1За!C32 -> 0 | D32: =D74 -> 0 | E32: =E74 -> 23
A33: =A32+1 -> 31 | B33: =Т1За!B33 -> 0 | C33: =Т1За!C33 -> 0 | D33: =D75 -> 0 | E33: =E75 -> 23
A34: =A33+1 -> 32 | B34: =Т1За!B34 -> 0 | C34: =Т1За!C34 -> 0 | D34: =D76 -> 0 | E34: =E76 -> 23
A35: =A34+1 -> 33 | B35: =Т1За!B35 -> 0 | C35: =Т1За!C35 -> 0 | D35: =D77 -> 0 | E35: =E77 -> 23
A36: =A35+1 -> 34 | B36: =Т1За!B36 -> 0 | C36: =Т1За!C36 -> 0 | D36: =D78 -> 0 | E36: =E78 -> 23
... A41: =A40+1 -> 39 | B41: =Т1За!B41 -> 0 | C41: =Т1За!C41 -> 0 | D41: =D83 -> 0 | E41: =E83 -> 23
C42: средняя длина рыб по виду: | F42: =AVERAGE(F3:O41) -> 16.84375 | U42: =AVERAGE(U3:W41) -> 33.733333 | X42: =AVERAGE(X3:Z41) -> #DIV/0! | AA42: =AVERAGE(AA3:AC41) -> #DIV/0! | AD42: =AVERAGE(AD3:AF41) -> #DIV/0! | AG42: =AVERAGE(AG3:AI41) -> #DIV/0! | AJ42: =AVERAGE(AJ3:AL41) -> #DIV/0!
A43: № | B43: команда | C43: участник | D43: сумма баллов | E43: место | F43: баллы
A45: 1 | B45: =B3 -> Vodomotorika TEAM | C45: =C3 -> Круглянин Сергей | D45: =SUM(F45:AO45) -> 0 | E45: =IF(D45>0,RANK(D45,$D$45:$D$83),реглист!$C$88+1) -> 23 | F45: =POWER(F3,2) -> 0 | G45: =POWER(G3,2) -> 0 | H45: =POWER(H3,2) -> 0 | I45: =POWER(I3,2) -> 0 | J45: =POWER(J3,2) -> 0 | K45: =POWER(K3,2) -> 0 | L45: =POWER(L3,2) -> 0 | M45: =POWER(M3,2) -> 0 | ... T45: =POWER(T3,2) -> 0 | U45: =IF(U3>=45,POWER(U3,2),POWER(U3/2,2)) -> 0 | V45: =IF(V3>=45,POWER(V3,2),POWER(V3/2,2)) -> 0 | W45: =IF(W3>=45,POWER(W3,2),POWER(W3/2,2)) -> 0 | X45: =IF(X3>=45,POWER(X3,2),POWER(X3/2,2)) -> 0 | Y45: =IF(Y3>=45,POWER(Y3,2),POWER(Y3/2,2)) -> 0 | Z45: =IF(Z3>=45,POWER(Z3,2),POWER(Z3/2,2)) -> 0 | AA45: =IF(AA3>=40,POWER(AA3,2),POWER(AA3/2,2)) -> 0 | AB45: =IF(AB3>=40,POWER(AB3,2),POWER(AB3/2,2)) -> 0 | AC45: =IF(AC3>=40,POWER(AC3,2),POWER(AC3/2,2)) -> 0 | AD45: =IF(AD3>=30,POWER(AD3,2),POWER(AD3/2,2)) -> 0 | AE45: =IF(AE3>=30,POWER(AE3,2),POWER(AE3/2,2)) -> 0 | AF45: =IF(AF3>=30,POWER(AF3,2),POWER(AF3/2,2)) -> 0 | AG45: =IF(AG3>=30,POWER(AG3,2),POWER(AG3/2,2)) -> 0 | AH45: =IF(AH3>=30,POWER(AH3,2),POWER(AH3/2,2)) -> 0 | AI45: =IF(AI3>=30,POWER(AI3,2),POWER(AI3/2,2)) -> 0 | AJ45: =IF(AJ3>=30,POWER(AJ3,2),POWER(AJ3/2,2)) -> 0 | AK45: =IF(AK3>=30,POWER(AK3,2),POWER(AK3/2,2)) -> 0 | AL45: =IF(AL3>=30,POWER(AL3,2),POWER(AL3/2,2)) -> 0 | AM45: =IF(AM3>=75,POWER(AM3,2),POWER(AM3/2,2)) -> 0 | AN45: =IF(AN3>=75,POWER(AN3,2),POWER(AN3/2,2)) -> 0 | AO45: =IF(AO3>=75,POWER(AO3,2),POWER(AO3/2,2)) -> 0
A46: =A45+1 -> 2 | B46: =B4 -> Трудовые резервы | C46: =C4 -> Пожарский Константин | D46: =SUM(F46:AO46) -> 439.36 | E46: =IF(D46>0,RANK(D46,$D$45:$D$83),реглист!$C$88+1) -> 6 | F46: =POWER(F4,2) -> 196 | G46: =POWER(G4,2) -> 243.36 | H46: =POWER(H4,2) -> 0 | I46: =POWER(I4,2) -> 0 | J46: =POWER(J4,2) -> 0 | K46: =POWER(K4,2) -> 0 | L46: =POWER(L4,2) -> 0 | M46: =POWER(M4,2) -> 0 | ... T46: =POWER(T4,2) -> 0 | U46: =IF(U4>=45,POWER(U4,2),POWER(U4/2,2)) -> 0 | V46: =IF(V4>=45,POWER(V4,2),POWER(V4/2,2)) -> 0 | W46: =IF(W4>=45,POWER(W4,2),POWER(W4/2,2)) -> 0 | X46: =IF(X4>=45,POWER(X4,2),POWER(X4/2,2)) -> 0 | Y46: =IF(Y4>=45,POWER(Y4,2),POWER(Y4/2,2)) -> 0 | Z46: =IF(Z4>=45,POWER(Z4,2),POWER(Z4/2,2)) -> 0 | AA46: =IF(AA4>=40,POWER(AA4,2),POWER(AA4/2,2)) -> 0 | AB46: =IF(AB4>=40,POWER(AB4,2),POWER(AB4/2,2)) -> 0 | AC46: =IF(AC4>=40,POWER(AC4,2),POWER(AC4/2,2)) -> 0 | AD46: =IF(AD4>=30,POWER(AD4,2),POWER(AD4/2,2)) -> 0 | AE46: =IF(AE4>=30,POWER(AE4,2),POWER(AE4/2,2)) -> 0 | AF46: =IF(AF4>=30,POWER(AF4,2),POWER(AF4/2,2)) -> 0 | AG46: =IF(AG4>=30,POWER(AG4,2),POWER(AG4/2,2)) -> 0 | AH46: =IF(AH4>=30,POWER(AH4,2),POWER(AH4/2,2)) -> 0 | AI46: =IF(AI4>=30,POWER(AI4,2),POWER(AI4/2,2)) -> 0 | AJ46: =IF(AJ4>=30,POWER(AJ4,2),POWER(AJ4/2,2)) -> 0 | AK46: =IF(AK4>=30,POWER(AK4,2),POWER(AK4/2,2)) -> 0 | AL46: =IF(AL4>=30,POWER(AL4,2),POWER(AL4/2,2)) -> 0 | AM46: =IF(AM4>=75,POWER(AM4,2),POWER(AM4/2,2)) -> 0 | AN46: =IF(AN4>=75,POWER(AN4,2),POWER(AN4/2,2)) -> 0 | AO46: =IF(AO4>=75,POWER(AO4,2),POWER(AO4/2,2)) -> 0
A47: =A46+1 -> 3 | B47: =B5 -> Poseidon | C47: =C5 -> Строк Павел | D47: =SUM(F47:AO47) -> 309.76 | E47: =IF(D47>0,RANK(D47,$D$45:$D$83),реглист!$C$88+1) -> 7 | F47: =POWER(F5,2) -> 0 | G47: =POWER(G5,2) -> 0 | H47: =POWER(H5,2) -> 0 | I47: =POWER(I5,2) -> 0 | J47: =POWER(J5,2) -> 0 | K47: =POWER(K5,2) -> 0 | L47: =POWER(L5,2) -> 0 | M47: =POWER(M5,2) -> 0 | ... T47: =POWER(T5,2) -> 0 | U47: =IF(U5>=45,POWER(U5,2),POWER(U5/2,2)) -> 309.76 | V47: =IF(V5>=45,POWER(V5,2),POWER(V5/2,2)) -> 0 | W47: =IF(W5>=45,POWER(W5,2),POWER(W5/2,2)) -> 0 | X47: =IF(X5>=45,POWER(X5,2),POWER(X5/2,2)) -> 0 | Y47: =IF(Y5>=45,POWER(Y5,2),POWER(Y5/2,2)) -> 0 | Z47: =IF(Z5>=45,POWER(Z5,2),POWER(Z5/2,2)) -> 0 | AA47: =IF(AA5>=40,POWER(AA5,2),POWER(AA5/2,2)) -> 0 | AB47: =IF(AB5>=40,POWER(AB5,2),POWER(AB5/2,2)) -> 0 | AC47: =IF(AC5>=40,POWER(AC5,2),POWER(AC5/2,2)) -> 0 | AD47: =IF(AD5>=30,POWER(AD5,2),POWER(AD5/2,2)) -> 0 | AE47: =IF(AE5>=30,POWER(AE5,2),POWER(AE5/2,2)) -> 0 | AF47: =IF(AF5>=30,POWER(AF5,2),POWER(AF5/2,2)) -> 0 | AG47: =IF(AG5>=30,POWER(AG5,2),POWER(AG5/2,2)) -> 0 | AH47: =IF(AH5>=30,POWER(AH5,2),POWER(AH5/2,2)) -> 0 | AI47: =IF(AI5>=30,POWER(AI5,2),POWER(AI5/2,2)) -> 0 | AJ47: =IF(AJ5>=30,POWER(AJ5,2),POWER(AJ5/2,2)) -> 0 | AK47: =IF(AK5>=30,POWER(AK5,2),POWER(AK5/2,2)) -> 0 | AL47: =IF(AL5>=30,POWER(AL5,2),POWER(AL5/2,2)) -> 0 | AM47: =IF(AM5>=75,POWER(AM5,2),POWER(AM5/2,2)) -> 0 | AN47: =IF(AN5>=75,POWER(AN5,2),POWER(AN5/2,2)) -> 0 | AO47: =IF(AO5>=75,POWER(AO5,2),POWER(AO5/2,2)) -> 0
A48: =A47+1 -> 4 | B48: =B6 -> Peacock Bass | C48: =C6 -> Сенчуров Иван | D48: =SUM(F48:AO48) -> 0 | E48: =IF(D48>0,RANK(D48,$D$45:$D$83),реглист!$C$88+1) -> 23 | F48: =POWER(F6,2) -> 0 | G48: =POWER(G6,2) -> 0 | H48: =POWER(H6,2) -> 0 | I48: =POWER(I6,2) -> 0 | J48: =POWER(J6,2) -> 0 | K48: =POWER(K6,2) -> 0 | L48: =POWER(L6,2) -> 0 | M48: =POWER(M6,2) -> 0 | ... T48: =POWER(T6,2) -> 0 | U48: =IF(U6>=45,POWER(U6,2),POWER(U6/2,2)) -> 0 | V48: =IF(V6>=45,POWER(V6,2),POWER(V6/2,2)) -> 0 | W48: =IF(W6>=45,POWER(W6,2),POWER(W6/2,2)) -> 0 | X48: =IF(X6>=45,POWER(X6,2),POWER(X6/2,2)) -> 0 | Y48: =IF(Y6>=45,POWER(Y6,2),POWER(Y6/2,2)) -> 0 | Z48: =IF(Z6>=45,POWER(Z6,2),POWER(Z6/2,2)) -> 0 | AA48: =IF(AA6>=40,POWER(AA6,2),POWER(AA6/2,2)) -> 0 | AB48: =IF(AB6>=40,POWER(AB6,2),POWER(AB6/2,2)) -> 0 | AC48: =IF(AC6>=40,POWER(AC6,2),POWER(AC6/2,2)) -> 0 | AD48: =IF(AD6>=30,POWER(AD6,2),POWER(AD6/2,2)) -> 0 | AE48: =IF(AE6>=30,POWER(AE6,2),POWER(AE6/2,2)) -> 0 | AF48: =IF(AF6>=30,POWER(AF6,2),POWER(AF6/2,2)) -> 0 | AG48: =IF(AG6>=30,POWER(AG6,2),POWER(AG6/2,2)) -> 0 | AH48: =IF(AH6>=30,POWER(AH6,2),POWER(AH6/2,2)) -> 0 | AI48: =IF(AI6>=30,POWER(AI6,2),POWER(AI6/2,2)) -> 0 | AJ48: =IF(AJ6>=30,POWER(AJ6,2),POWER(AJ6/2,2)) -> 0 | AK48: =IF(AK6>=30,POWER(AK6,2),POWER(AK6/2,2)) -> 0 | AL48: =IF(AL6>=30,POWER(AL6,2),POWER(AL6/2,2)) -> 0 | AM48: =IF(AM6>=75,POWER(AM6,2),POWER(AM6/2,2)) -> 0 | AN48: =IF(AN6>=75,POWER(AN6,2),POWER(AN6/2,2)) -> 0 | AO48: =IF(AO6>=75,POWER(AO6,2),POWER(AO6/2,2)) -> 0
A49: =A48+1 -> 5 | B49: =B7 -> Old Roads Fishing | C49: =C7 -> Синовец Роман | D49: =SUM(F49:AO49) -> 207.36 | E49: =IF(D49>0,RANK(D49,$D$45:$D$83),реглист!$C$88+1) -> 12 | F49: =POWER(F7,2) -> 207.36 | G49: =POWER(G7,2) -> 0 | H49: =POWER(H7,2) -> 0 | I49: =POWER(I7,2) -> 0 | J49: =POWER(J7,2) -> 0 | K49: =POWER(K7,2) -> 0 | L49: =POWER(L7,2) -> 0 | M49: =POWER(M7,2) -> 0 | ... T49: =POWER(T7,2) -> 0 | U49: =IF(U7>=45,POWER(U7,2),POWER(U7/2,2)) -> 0 | V49: =IF(V7>=45,POWER(V7,2),POWER(V7/2,2)) -> 0 | W49: =IF(W7>=45,POWER(W7,2),POWER(W7/2,2)) -> 0 | X49: =IF(X7>=45,POWER(X7,2),POWER(X7/2,2)) -> 0 | Y49: =IF(Y7>=45,POWER(Y7,2),POWER(Y7/2,2)) -> 0 | Z49: =IF(Z7>=45,POWER(Z7,2),POWER(Z7/2,2)) -> 0 | AA49: =IF(AA7>=40,POWER(AA7,2),POWER(AA7/2,2)) -> 0 | AB49: =IF(AB7>=40,POWER(AB7,2),POWER(AB7/2,2)) -> 0 | AC49: =IF(AC7>=40,POWER(AC7,2),POWER(AC7/2,2)) -> 0 | AD49: =IF(AD7>=30,POWER(AD7,2),POWER(AD7/2,2)) -> 0 | AE49: =IF(AE7>=30,POWER(AE7,2),POWER(AE7/2,2)) -> 0 | AF49: =IF(AF7>=30,POWER(AF7,2),POWER(AF7/2,2)) -> 0 | AG49: =IF(AG7>=30,POWER(AG7,2),POWER(AG7/2,2)) -> 0 | AH49: =IF(AH7>=30,POWER(AH7,2),POWER(AH7/2,2)) -> 0 | AI49: =IF(AI7>=30,POWER(AI7,2),POWER(AI7/2,2)) -> 0 | AJ49: =IF(AJ7>=30,POWER(AJ7,2),POWER(AJ7/2,2)) -> 0 | AK49: =IF(AK7>=30,POWER(AK7,2),POWER(AK7/2,2)) -> 0 | AL49: =IF(AL7>=30,POWER(AL7,2),POWER(AL7/2,2)) -> 0 | AM49: =IF(AM7>=75,POWER(AM7,2),POWER(AM7/2,2)) -> 0 | AN49: =IF(AN7>=75,POWER(AN7,2),POWER(AN7/2,2)) -> 0 | AO49: =IF(AO7>=75,POWER(AO7,2),POWER(AO7/2,2)) -> 0
A50: =A49+1 -> 6 | B50: =B8 -> Gefest | C50: =C8 -> Радчук Юрий | D50: =SUM(F50:AO50) -> 855.29 | E50: =IF(D50>0,RANK(D50,$D$45:$D$83),реглист!$C$88+1) -> 1 | F50: =POWER(F8,2) -> 240.25 | G50: =POWER(G8,2) -> 615.04 | H50: =POWER(H8,2) -> 0 | I50: =POWER(I8,2) -> 0 | J50: =POWER(J8,2) -> 0 | K50: =POWER(K8,2) -> 0 | L50: =POWER(L8,2) -> 0 | M50: =POWER(M8,2) -> 0 | ... T50: =POWER(T8,2) -> 0 | U50: =IF(U8>=45,POWER(U8,2),POWER(U8/2,2)) -> 0 | V50: =IF(V8>=45,POWER(V8,2),POWER(V8/2,2)) -> 0 | W50: =IF(W8>=45,POWER(W8,2),POWER(W8/2,2)) -> 0 | X50: =IF(X8>=45,POWER(X8,2),POWER(X8/2,2)) -> 0 | Y50: =IF(Y8>=45,POWER(Y8,2),POWER(Y8/2,2)) -> 0 | Z50: =IF(Z8>=45,POWER(Z8,2),POWER(Z8/2,2)) -> 0 | AA50: =IF(AA8>=40,POWER(AA8,2),POWER(AA8/2,2)) -> 0 | AB50: =IF(AB8>=40,POWER(AB8,2),POWER(AB8/2,2)) -> 0 | AC50: =IF(AC8>=40,POWER(AC8,2),POWER(AC8/2,2)) -> 0 | AD50: =IF(AD8>=30,POWER(AD8,2),POWER(AD8/2,2)) -> 0 | AE50: =IF(AE8>=30,POWER(AE8,2),POWER(AE8/2,2)) -> 0 | AF50: =IF(AF8>=30,POWER(AF8,2),POWER(AF8/2,2)) -> 0 | AG50: =IF(AG8>=30,POWER(AG8,2),POWER(AG8/2,2)) -> 0 | AH50: =IF(AH8>=30,POWER(AH8,2),POWER(AH8/2,2)) -> 0 | AI50: =IF(AI8>=30,POWER(AI8,2),POWER(AI8/2,2)) -> 0 | AJ50: =IF(AJ8>=30,POWER(AJ8,2),POWER(AJ8/2,2)) -> 0 | AK50: =IF(AK8>=30,POWER(AK8,2),POWER(AK8/2,2)) -> 0 | AL50: =IF(AL8>=30,POWER(AL8,2),POWER(AL8/2,2)) -> 0 | AM50: =IF(AM8>=75,POWER(AM8,2),POWER(AM8/2,2)) -> 0 | AN50: =IF(AN8>=75,POWER(AN8,2),POWER(AN8/2,2)) -> 0 | AO50: =IF(AO8>=75,POWER(AO8,2),POWER(AO8/2,2)) -> 0
A51: =A50+1 -> 7 | B51: =B9 -> West Fishing | C51: =C9 -> Непомнящий Виктор | D51: =SUM(F51:AO51) -> 478.76 | E51: =IF(D51>0,RANK(D51,$D$45:$D$83),реглист!$C$88+1) -> 4 | F51: =POWER(F9,2) -> 309.76 | G51: =POWER(G9,2) -> 169 | H51: =POWER(H9,2) -> 0 | I51: =POWER(I9,2) -> 0 | J51: =POWER(J9,2) -> 0 | K51: =POWER(K9,2) -> 0 | L51: =POWER(L9,2) -> 0 | M51: =POWER(M9,2) -> 0 | ... T51: =POWER(T9,2) -> 0 | U51: =IF(U9>=45,POWER(U9,2),POWER(U9/2,2)) -> 0 | V51: =IF(V9>=45,POWER(V9,2),POWER(V9/2,2)) -> 0 | W51: =IF(W9>=45,POWER(W9,2),POWER(W9/2,2)) -> 0 | X51: =IF(X9>=45,POWER(X9,2),POWER(X9/2,2)) -> 0 | Y51: =IF(Y9>=45,POWER(Y9,2),POWER(Y9/2,2)) -> 0 | Z51: =IF(Z9>=45,POWER(Z9,2),POWER(Z9/2,2)) -> 0 | AA51: =IF(AA9>=40,POWER(AA9,2),POWER(AA9/2,2)) -> 0 | AB51: =IF(AB9>=40,POWER(AB9,2),POWER(AB9/2,2)) -> 0 | AC51: =IF(AC9>=40,POWER(AC9,2),POWER(AC9/2,2)) -> 0 | AD51: =IF(AD9>=30,POWER(AD9,2),POWER(AD9/2,2)) -> 0 | AE51: =IF(AE9>=30,POWER(AE9,2),POWER(AE9/2,2)) -> 0 | AF51: =IF(AF9>=30,POWER(AF9,2),POWER(AF9/2,2)) -> 0 | AG51: =IF(AG9>=30,POWER(AG9,2),POWER(AG9/2,2)) -> 0 | AH51: =IF(AH9>=30,POWER(AH9,2),POWER(AH9/2,2)) -> 0 | AI51: =IF(AI9>=30,POWER(AI9,2),POWER(AI9/2,2)) -> 0 | AJ51: =IF(AJ9>=30,POWER(AJ9,2),POWER(AJ9/2,2)) -> 0 | AK51: =IF(AK9>=30,POWER(AK9,2),POWER(AK9/2,2)) -> 0 | AL51: =IF(AL9>=30,POWER(AL9,2),POWER(AL9/2,2)) -> 0 | AM51: =IF(AM9>=75,POWER(AM9,2),POWER(AM9/2,2)) -> 0 | AN51: =IF(AN9>=75,POWER(AN9,2),POWER(AN9/2,2)) -> 0 | AO51: =IF(AO9>=75,POWER(AO9,2),POWER(AO9/2,2)) -> 0
A52: =A51+1 -> 8 | B52: =B10 -> Dream Team | C52: =C10 -> Тысевич Сергей | D52: =SUM(F52:AO52) -> 292.41 | E52: =IF(D52>0,RANK(D52,$D$45:$D$83),реглист!$C$88+1) -> 8 | F52: =POWER(F10,2) -> 292.41 | G52: =POWER(G10,2) -> 0 | H52: =POWER(H10,2) -> 0 | I52: =POWER(I10,2) -> 0 | J52: =POWER(J10,2) -> 0 | K52: =POWER(K10,2) -> 0 | L52: =POWER(L10,2) -> 0 | M52: =POWER(M10,2) -> 0 | ... T52: =POWER(T10,2) -> 0 | U52: =IF(U10>=45,POWER(U10,2),POWER(U10/2,2)) -> 0 | V52: =IF(V10>=45,POWER(V10,2),POWER(V10/2,2)) -> 0 | W52: =IF(W10>=45,POWER(W10,2),POWER(W10/2,2)) -> 0 | X52: =IF(X10>=45,POWER(X10,2),POWER(X10/2,2)) -> 0 | Y52: =IF(Y10>=45,POWER(Y10,2),POWER(Y10/2,2)) -> 0 | Z52: =IF(Z10>=45,POWER(Z10,2),POWER(Z10/2,2)) -> 0 | AA52: =IF(AA10>=40,POWER(AA10,2),POWER(AA10/2,2)) -> 0 | AB52: =IF(AB10>=40,POWER(AB10,2),POWER(AB10/2,2)) -> 0 | AC52: =IF(AC10>=40,POWER(AC10,2),POWER(AC10/2,2)) -> 0 | AD52: =IF(AD10>=30,POWER(AD10,2),POWER(AD10/2,2)) -> 0 | AE52: =IF(AE10>=30,POWER(AE10,2),POWER(AE10/2,2)) -> 0 | AF52: =IF(AF10>=30,POWER(AF10,2),POWER(AF10/2,2)) -> 0 | AG52: =IF(AG10>=30,POWER(AG10,2),POWER(AG10/2,2)) -> 0 | AH52: =IF(AH10>=30,POWER(AH10,2),POWER(AH10/2,2)) -> 0 | AI52: =IF(AI10>=30,POWER(AI10,2),POWER(AI10/2,2)) -> 0 | AJ52: =IF(AJ10>=30,POWER(AJ10,2),POWER(AJ10/2,2)) -> 0 | AK52: =IF(AK10>=30,POWER(AK10,2),POWER(AK10/2,2)) -> 0 | AL52: =IF(AL10>=30,POWER(AL10,2),POWER(AL10/2,2)) -> 0 | AM52: =IF(AM10>=75,POWER(AM10,2),POWER(AM10/2,2)) -> 0 | AN52: =IF(AN10>=75,POWER(AN10,2),POWER(AN10/2,2)) -> 0 | AO52: =IF(AO10>=75,POWER(AO10,2),POWER(AO10/2,2)) -> 0
A53: =A52+1 -> 9 | B53: =B11 -> Bona Кобрин | C53: =C11 -> Марковский Максим | D53: =SUM(F53:AO53) -> 0 | E53: =IF(D53>0,RANK(D53,$D$45:$D$83),реглист!$C$88+1) -> 23 | F53: =POWER(F11,2) -> 0 | G53: =POWER(G11,2) -> 0 | H53: =POWER(H11,2) -> 0 | I53: =POWER(I11,2) -> 0 | J53: =POWER(J11,2) -> 0 | K53: =POWER(K11,2) -> 0 | L53: =POWER(L11,2) -> 0 | M53: =POWER(M11,2) -> 0 | ... T53: =POWER(T11,2) -> 0 | U53: =IF(U11>=45,POWER(U11,2),POWER(U11/2,2)) -> 0 | V53: =IF(V11>=45,POWER(V11,2),POWER(V11/2,2)) -> 0 | W53: =IF(W11>=45,POWER(W11,2),POWER(W11/2,2)) -> 0 | X53: =IF(X11>=45,POWER(X11,2),POWER(X11/2,2)) -> 0 | Y53: =IF(Y11>=45,POWER(Y11,2),POWER(Y11/2,2)) -> 0 | Z53: =IF(Z11>=45,POWER(Z11,2),POWER(Z11/2,2)) -> 0 | AA53: =IF(AA11>=40,POWER(AA11,2),POWER(AA11/2,2)) -> 0 | AB53: =IF(AB11>=40,POWER(AB11,2),POWER(AB11/2,2)) -> 0 | AC53: =IF(AC11>=40,POWER(AC11,2),POWER(AC11/2,2)) -> 0 | AD53: =IF(AD11>=30,POWER(AD11,2),POWER(AD11/2,2)) -> 0 | AE53: =IF(AE11>=30,POWER(AE11,2),POWER(AE11/2,2)) -> 0 | AF53: =IF(AF11>=30,POWER(AF11,2),POWER(AF11/2,2)) -> 0 | AG53: =IF(AG11>=30,POWER(AG11,2),POWER(AG11/2,2)) -> 0 | AH53: =IF(AH11>=30,POWER(AH11,2),POWER(AH11/2,2)) -> 0 | AI53: =IF(AI11>=30,POWER(AI11,2),POWER(AI11/2,2)) -> 0 | AJ53: =IF(AJ11>=30,POWER(AJ11,2),POWER(AJ11/2,2)) -> 0 | AK53: =IF(AK11>=30,POWER(AK11,2),POWER(AK11/2,2)) -> 0 | AL53: =IF(AL11>=30,POWER(AL11,2),POWER(AL11/2,2)) -> 0 | AM53: =IF(AM11>=75,POWER(AM11,2),POWER(AM11/2,2)) -> 0 | AN53: =IF(AN11>=75,POWER(AN11,2),POWER(AN11/2,2)) -> 0 | AO53: =IF(AO11>=75,POWER(AO11,2),POWER(AO11/2,2)) -> 0
A54: =A53+1 -> 10 | B54: =B12 -> Фарватер | C54: =C12 -> Попельский Максим | D54: =SUM(F54:AO54) -> 139.24 | E54: =IF(D54>0,RANK(D54,$D$45:$D$83),реглист!$C$88+1) -> 15 | F54: =POWER(F12,2) -> 139.24 | G54: =POWER(G12,2) -> 0 | H54: =POWER(H12,2) -> 0 | I54: =POWER(I12,2) -> 0 | J54: =POWER(J12,2) -> 0 | K54: =POWER(K12,2) -> 0 | L54: =POWER(L12,2) -> 0 | M54: =POWER(M12,2) -> 0 | ... T54: =POWER(T12,2) -> 0 | U54: =IF(U12>=45,POWER(U12,2),POWER(U12/2,2)) -> 0 | V54: =IF(V12>=45,POWER(V12,2),POWER(V12/2,2)) -> 0 | W54: =IF(W12>=45,POWER(W12,2),POWER(W12/2,2)) -> 0 | X54: =IF(X12>=45,POWER(X12,2),POWER(X12/2,2)) -> 0 | Y54: =IF(Y12>=45,POWER(Y12,2),POWER(Y12/2,2)) -> 0 | Z54: =IF(Z12>=45,POWER(Z12,2),POWER(Z12/2,2)) -> 0 | AA54: =IF(AA12>=40,POWER(AA12,2),POWER(AA12/2,2)) -> 0 | AB54: =IF(AB12>=40,POWER(AB12,2),POWER(AB12/2,2)) -> 0 | AC54: =IF(AC12>=40,POWER(AC12,2),POWER(AC12/2,2)) -> 0 | AD54: =IF(AD12>=30,POWER(AD12,2),POWER(AD12/2,2)) -> 0 | AE54: =IF(AE12>=30,POWER(AE12,2),POWER(AE12/2,2)) -> 0 | AF54: =IF(AF12>=30,POWER(AF12,2),POWER(AF12/2,2)) -> 0 | AG54: =IF(AG12>=30,POWER(AG12,2),POWER(AG12/2,2)) -> 0 | AH54: =IF(AH12>=30,POWER(AH12,2),POWER(AH12/2,2)) -> 0 | AI54: =IF(AI12>=30,POWER(AI12,2),POWER(AI12/2,2)) -> 0 | AJ54: =IF(AJ12>=30,POWER(AJ12,2),POWER(AJ12/2,2)) -> 0 | AK54: =IF(AK12>=30,POWER(AK12,2),POWER(AK12/2,2)) -> 0 | AL54: =IF(AL12>=30,POWER(AL12,2),POWER(AL12/2,2)) -> 0 | AM54: =IF(AM12>=75,POWER(AM12,2),POWER(AM12/2,2)) -> 0 | AN54: =IF(AN12>=75,POWER(AN12,2),POWER(AN12/2,2)) -> 0 | AO54: =IF(AO12>=75,POWER(AO12,2),POWER(AO12/2,2)) -> 0
A55: =A54+1 -> 11 | B55: =B13 -> XULi-ULi | C55: =C13 -> Лавренчук Станислав | D55: =SUM(F55:AO55) -> 217.5625 | E55: =IF(D55>0,RANK(D55,$D$45:$D$83),реглист!$C$88+1) -> 11 | F55: =POWER(F13,2) -> 0 | G55: =POWER(G13,2) -> 0 | H55: =POWER(H13,2) -> 0 | I55: =POWER(I13,2) -> 0 | J55: =POWER(J13,2) -> 0 | K55: =POWER(K13,2) -> 0 | L55: =POWER(L13,2) -> 0 | M55: =POWER(M13,2) -> 0 | ... T55: =POWER(T13,2) -> 0 | U55: =IF(U13>=45,POWER(U13,2),POWER(U13/2,2)) -> 217.5625 | V55: =IF(V13>=45,POWER(V13,2),POWER(V13/2,2)) -> 0 | W55: =IF(W13>=45,POWER(W13,2),POWER(W13/2,2)) -> 0 | X55: =IF(X13>=45,POWER(X13,2),POWER(X13/2,2)) -> 0 | Y55: =IF(Y13>=45,POWER(Y13,2),POWER(Y13/2,2)) -> 0 | Z55: =IF(Z13>=45,POWER(Z13,2),POWER(Z13/2,2)) -> 0 | AA55: =IF(AA13>=40,POWER(AA13,2),POWER(AA13/2,2)) -> 0 | AB55: =IF(AB13>=40,POWER(AB13,2),POWER(AB13/2,2)) -> 0 | AC55: =IF(AC13>=40,POWER(AC13,2),POWER(AC13/2,2)) -> 0 | AD55: =IF(AD13>=30,POWER(AD13,2),POWER(AD13/2,2)) -> 0 | AE55: =IF(AE13>=30,POWER(AE13,2),POWER(AE13/2,2)) -> 0 | AF55: =IF(AF13>=30,POWER(AF13,2),POWER(AF13/2,2)) -> 0 | AG55: =IF(AG13>=30,POWER(AG13,2),POWER(AG13/2,2)) -> 0 | AH55: =IF(AH13>=30,POWER(AH13,2),POWER(AH13/2,2)) -> 0 | AI55: =IF(AI13>=30,POWER(AI13,2),POWER(AI13/2,2)) -> 0 | AJ55: =IF(AJ13>=30,POWER(AJ13,2),POWER(AJ13/2,2)) -> 0 | AK55: =IF(AK13>=30,POWER(AK13,2),POWER(AK13/2,2)) -> 0 | AL55: =IF(AL13>=30,POWER(AL13,2),POWER(AL13/2,2)) -> 0 | AM55: =IF(AM13>=75,POWER(AM13,2),POWER(AM13/2,2)) -> 0 | AN55: =IF(AN13>=75,POWER(AN13,2),POWER(AN13/2,2)) -> 0 | AO55: =IF(AO13>=75,POWER(AO13,2),POWER(AO13/2,2)) -> 0
A56: =A55+1 -> 12 | B56: =B14 -> Fanatik Belarus | C56: =C14 -> Шевчук Дмитрий | D56: =SUM(F56:AO56) -> 0 | E56: =IF(D56>0,RANK(D56,$D$45:$D$83),реглист!$C$88+1) -> 23 | F56: =POWER(F14,2) -> 0 | G56: =POWER(G14,2) -> 0 | H56: =POWER(H14,2) -> 0 | I56: =POWER(I14,2) -> 0 | J56: =POWER(J14,2) -> 0 | K56: =POWER(K14,2) -> 0 | L56: =POWER(L14,2) -> 0 | M56: =POWER(M14,2) -> 0 | ... T56: =POWER(T14,2) -> 0 | U56: =IF(U14>=45,POWER(U14,2),POWER(U14/2,2)) -> 0 | V56: =IF(V14>=45,POWER(V14,2),POWER(V14/2,2)) -> 0 | W56: =IF(W14>=45,POWER(W14,2),POWER(W14/2,2)) -> 0 | X56: =IF(X14>=45,POWER(X14,2),POWER(X14/2,2)) -> 0 | Y56: =IF(Y14>=45,POWER(Y14,2),POWER(Y14/2,2)) -> 0 | Z56: =IF(Z14>=45,POWER(Z14,2),POWER(Z14/2,2)) -> 0 | AA56: =IF(AA14>=40,POWER(AA14,2),POWER(AA14/2,2)) -> 0 | AB56: =IF(AB14>=40,POWER(AB14,2),POWER(AB14/2,2)) -> 0 | AC56: =IF(AC14>=40,POWER(AC14,2),POWER(AC14/2,2)) -> 0 | AD56: =IF(AD14>=30,POWER(AD14,2),POWER(AD14/2,2)) -> 0 | AE56: =IF(AE14>=30,POWER(AE14,2),POWER(AE14/2,2)) -> 0 | AF56: =IF(AF14>=30,POWER(AF14,2),POWER(AF14/2,2)) -> 0 | AG56: =IF(AG14>=30,POWER(AG14,2),POWER(AG14/2,2)) -> 0 | AH56: =IF(AH14>=30,POWER(AH14,2),POWER(AH14/2,2)) -> 0 | AI56: =IF(AI14>=30,POWER(AI14,2),POWER(AI14/2,2)) -> 0 | AJ56: =IF(AJ14>=30,POWER(AJ14,2),POWER(AJ14/2,2)) -> 0 | AK56: =IF(AK14>=30,POWER(AK14,2),POWER(AK14/2,2)) -> 0 | AL56: =IF(AL14>=30,POWER(AL14,2),POWER(AL14/2,2)) -> 0 | AM56: =IF(AM14>=75,POWER(AM14,2),POWER(AM14/2,2)) -> 0 | AN56: =IF(AN14>=75,POWER(AN14,2),POWER(AN14/2,2)) -> 0 | AO56: =IF(AO14>=75,POWER(AO14,2),POWER(AO14/2,2)) -> 0
A57: =A56+1 -> 13 | B57: =B15 -> FISHINGSTOCK BELARUS | C57: =C15 -> Лунякин Олег | D57: =SUM(F57:AO57) -> 0 | E57: =IF(D57>0,RANK(D57,$D$45:$D$83),реглист!$C$88+1) -> 23 | F57: =POWER(F15,2) -> 0 | G57: =POWER(G15,2) -> 0 | H57: =POWER(H15,2) -> 0 | I57: =POWER(I15,2) -> 0 | J57: =POWER(J15,2) -> 0 | K57: =POWER(K15,2) -> 0 | L57: =POWER(L15,2) -> 0 | M57: =POWER(M15,2) -> 0 | ... T57: =POWER(T15,2) -> 0 | U57: =IF(U15>=45,POWER(U15,2),POWER(U15/2,2)) -> 0 | V57: =IF(V15>=45,POWER(V15,2),POWER(V15/2,2)) -> 0 | W57: =IF(W15>=45,POWER(W15,2),POWER(W15/2,2)) -> 0 | X57: =IF(X15>=45,POWER(X15,2),POWER(X15/2,2)) -> 0 | Y57: =IF(Y15>=45,POWER(Y15,2),POWER(Y15/2,2)) -> 0 | Z57: =IF(Z15>=45,POWER(Z15,2),POWER(Z15/2,2)) -> 0 | AA57: =IF(AA15>=40,POWER(AA15,2),POWER(AA15/2,2)) -> 0 | AB57: =IF(AB15>=40,POWER(AB15,2),POWER(AB15/2,2)) -> 0 | AC57: =IF(AC15>=40,POWER(AC15,2),POWER(AC15/2,2)) -> 0 | AD57: =IF(AD15>=30,POWER(AD15,2),POWER(AD15/2,2)) -> 0 | AE57: =IF(AE15>=30,POWER(AE15,2),POWER(AE15/2,2)) -> 0 | AF57: =IF(AF15>=30,POWER(AF15,2),POWER(AF15/2,2)) -> 0 | AG57: =IF(AG15>=30,POWER(AG15,2),POWER(AG15/2,2)) -> 0 | AH57: =IF(AH15>=30,POWER(AH15,2),POWER(AH15/2,2)) -> 0 | AI57: =IF(AI15>=30,POWER(AI15,2),POWER(AI15/2,2)) -> 0 | AJ57: =IF(AJ15>=30,POWER(AJ15,2),POWER(AJ15/2,2)) -> 0 | AK57: =IF(AK15>=30,POWER(AK15,2),POWER(AK15/2,2)) -> 0 | AL57: =IF(AL15>=30,POWER(AL15,2),POWER(AL15/2,2)) -> 0 | AM57: =IF(AM15>=75,POWER(AM15,2),POWER(AM15/2,2)) -> 0 | AN57: =IF(AN15>=75,POWER(AN15,2),POWER(AN15/2,2)) -> 0 | AO57: =IF(AO15>=75,POWER(AO15,2),POWER(AO15/2,2)) -> 0
... A83: =A82+1 -> 39 | B83: =B41 -> 0 | C83: =C41 -> 0 | D83: =SUM(F83:AO83) -> 0 | E83: =IF(D83>0,RANK(D83,$D$45:$D$83),реглист!$C$88+1) -> 23 | F83: =POWER(F41,2) -> 0 | G83: =POWER(G41,2) -> 0 | H83: =POWER(H41,2) -> 0 | I83: =POWER(I41,2) -> 0 | J83: =POWER(J41,2) -> 0 | K83: =POWER(K41,2) -> 0 | L83: =POWER(L41,2) -> 0 | M83: =POWER(M41,2) -> 0 | ... T83: =POWER(T41,2) -> 0 | U83: =IF(U41>=45,POWER(U41,2),POWER(U41/2,2)) -> 0 | V83: =IF(V41>=45,POWER(V41,2),POWER(V41/2,2)) -> 0 | W83: =IF(W41>=45,POWER(W41,2),POWER(W41/2,2)) -> 0 | X83: =IF(X41>=45,POWER(X41,2),POWER(X41/2,2)) -> 0 | Y83: =IF(Y41>=45,POWER(Y41,2),POWER(Y41/2,2)) -> 0 | Z83: =IF(Z41>=45,POWER(Z41,2),POWER(Z41/2,2)) -> 0 | AA83: =IF(AA41>=40,POWER(AA41,2),POWER(AA41/2,2)) -> 0 | AB83: =IF(AB41>=40,POWER(AB41,2),POWER(AB41/2,2)) -> 0 | AC83: =IF(AC41>=40,POWER(AC41,2),POWER(AC41/2,2)) -> 0 | AD83: =IF(AD41>=30,POWER(AD41,2),POWER(AD41/2,2)) -> 0 | AE83: =IF(AE41>=30,POWER(AE41,2),POWER(AE41/2,2)) -> 0 | AF83: =IF(AF41>=30,POWER(AF41,2),POWER(AF41/2,2)) -> 0 | AG83: =IF(AG41>=30,POWER(AG41,2),POWER(AG41/2,2)) -> 0 | AH83: =IF(AH41>=30,POWER(AH41,2),POWER(AH41/2,2)) -> 0 | AI83: =IF(AI41>=30,POWER(AI41,2),POWER(AI41/2,2)) -> 0 | AJ83: =IF(AJ41>=30,POWER(AJ41,2),POWER(AJ41/2,2)) -> 0 | AK83: =IF(AK41>=30,POWER(AK41,2),POWER(AK41/2,2)) -> 0 | AL83: =IF(AL41>=30,POWER(AL41,2),POWER(AL41/2,2)) -> 0 | AM83: =IF(AM41>=75,POWER(AM41,2),POWER(AM41/2,2)) -> 0 | AN83: =IF(AN41>=75,POWER(AN41,2),POWER(AN41/2,2)) -> 0 | AO83: =IF(AO41>=75,POWER(AO41,2),POWER(AO41/2,2)) -> 0

Sheet FuzzyLookup_AddIn_Undo_Sheet
A1: № | B1: Команды | C1: Участники | D1: Тур 1 | H1: Тур 2 | L1: Личный зачет | O1: Командный зачет
D2: Зона А | F2: Зона Б | H2: Зона А | J2: Зона Б
D3: баллы | E3: место | F3: баллы | G3: место | H3: баллы | I3: место | J3: баллы | K3: место | L3: баллы | M3: сумма мест | N3: место | O3: баллы | P3: сумма мест | Q3: место
A4: 1 | B4: Cast-Fishing | C4: Лихачев Максим | L4: =D4+F4+H4+J4 -> 0 | M4: =E4+G4+I4+K4 -> 0 | O4: =L4+L5 -> 0 | P4: =M4+M5 -> 0
C5: Ковальчук Дмитрий | L5: =D5+F5+H5+J5 -> 0 | M5: =E5+G5+I5+K5 -> 0
A6: 2 | B6: Peacock Bass | C6: Сенчуров Иван | L6: =D6+F6+H6+J6 -> 0 | M6: =E6+G6+I6+K6 -> 0 | O6: =L6+L7 -> 0 | P6: =M6+M7 -> 0
C7: Дроздов Виталий | L7: =D7+F7+H7+J7 -> 0 | M7: =E7+G7+I7+K7 -> 0
A8: 3 | B8: Adventurers | C8: Бахур Александр | D8: 196 | L8: =D8+F8+H8+J8 -> 196 | M8: =E8+G8+I8+K8 -> 0 | O8: =L8+L9 -> 196 | P8: =M8+M9 -> 0
C9: Зубко Сергей | L9: =D9+F9+H9+J9 -> 0 | M9: =E9+G9+I9+K9 -> 0
A10: 4 | B10: MicroKiller | C10: Купрейчик Сергей | L10: =D10+F10+H10+J10 -> 0 | M10: =E10+G10+I10+K10 -> 0 | O10: =L10+L11 -> 81 | P10: =M10+M11 -> 0
C11: Янкович Сергей | D11: 81 | L11: =D11+F11+H11+J11 -> 81 | M11: =E11+G11+I11+K11 -> 0
A12: 5 | B12: Per4 | C12: Лунякин Олег | L12: =D12+F12+H12+J12 -> 0 | M12: =E12+G12+I12+K12 -> 0 | O12: =L12+L13 -> 36 | P12: =M12+M13 -> 0
C13: Каменец Алексей | D13: 36 | L13: =D13+F13+H13+J13 -> 36 | M13: =E13+G13+I13+K13 -> 0
A14: 6 | B14: Poseidon | C14: Чижонок Сергей | D14: 121 | L14: =D14+F14+H14+J14 -> 121 | M14: =E14+G14+I14+K14 -> 0 | O14: =L14+L15 -> 121 | P14: =M14+M15 -> 0
C15: Строк Павел | L15: =D15+F15+H15+J15 -> 0 | M15: =E15+G15+I15+K15 -> 0
A16: 7 | B16: West Fishing | C16: Непомнящий Виктор | L16: =D16+F16+H16+J16 -> 0 | M16: =E16+G16+I16+K16 -> 0 | O16: =L16+L17 -> 0 | P16: =M16+M17 -> 0
C17: Золотарь Андрей | L17: =D17+F17+H17+J17 -> 0 | M17: =E17+G17+I17+K17 -> 0
A18: 8 | B18: nanobass | C18: Бычик Роман | D18: 100 | L18: =D18+F18+H18+J18 -> 100 | M18: =E18+G18+I18+K18 -> 0 | O18: =L18+L19 -> 100 | P18: =M18+M19 -> 0
C19: Шевко Виталий | L19: =D19+F19+H19+J19 -> 0 | M19: =E19+G19+I19+K19 -> 0
A20: 9 | B20: Трудовые резервы | C20: Пожарский Константин | L20: =D20+F20+H20+J20 -> 0 | M20: =E20+G20+I20+K20 -> 0 | O20: =L20+L21 -> 49 | P20: =M20+M21 -> 0
C21: Бобриков Алексей | D21: 49 | L21: =D21+F21+H21+J21 -> 49 | M21: =E21+G21+I21+K21 -> 0
A22: 10 | B22: Lunker Tail | C22: Козел Вячеслав | L22: =D22+F22+H22+J22 -> 0 | M22: =E22+G22+I22+K22 -> 0 | O22: =L22+L23 -> 64 | P22: =M22+M23 -> 0
C23: Кириевский Андрей | D23: 64 | L23: =D23+F23+H23+J23 -> 64 | M23: =E23+G23+I23+K23 -> 0
A24: 11 | B24: Против Течения | C24: Ананич Геннадий | L24: =D24+F24+H24+J24 -> 0 | M24: =E24+G24+I24+K24 -> 0 | O24: =L24+L25 -> 0 | P24: =M24+M25 -> 0
C25: Кириенко Кирилл | L25: =D25+F25+H25+J25 -> 0 | M25: =E25+G25+I25+K25 -> 0
A26: 12 | B26: ЕК | C26: Ковалев Евгений | D26: 169 | L26: =D26+F26+H26+J26 -> 169 | M26: =E26+G26+I26+K26 -> 0 | O26: =L26+L27 -> 169 | P26: =M26+M27 -> 0
C27: Казанцев Евгений | L27: =D27+F27+H27+J27 -> 0 | M27: =E27+G27+I27+K27 -> 0
A28: 13 | B28: Legion | C28: Бойко Сергей | L28: =D28+F28+H28+J28 -> 0 | M28: =E28+G28+I28+K28 -> 0 | O28: =L28+L29 -> 225 | P28: =M28+M29 -> 0
C29: Микулов Владимир | D29: 225 | L29: =D29+F29+H29+J29 -> 225 | M29: =E29+G29+I29+K29 -> 0
A30: 14 | B30: Степ Гарант | C30: Мельников Ю. В. | D30: 144 | L30: =D30+F30+H30+J30 -> 144 | M30: =E30+G30+I30+K30 -> 0 | O30: =L30+L31 -> 144 | P30: =M30+M31 -> 0
C31: Кравченко И. П. | L31: =D31+F31+H31+J31 -> 0 | M31: =E31+G31+I31+K31 -> 0

Sheet Итоги
A1: № | B1: Команды | C1: Участники | D1: Тур 1 | H1: Тур 2 | L1: Личный зачет | O1: Командный зачет
D2: Зона А | F2: Зона Б | H2: Зона А | J2: Зона Б
D3: баллы | E3: меcто | F3: баллы | G3: место | H3: баллы | I3: место | J3: баллы | K3: место | L3: баллы | M3: сумма мест | N3: место | O3: баллы | P3: сумма мест | Q3: место
A4: 1 | B4: =реглист!B5 -> Vodomotorika TEAM | C4: =реглист!C5 -> Круглянин Сергей | D4: =IFERROR(VLOOKUP(C4,Т1За!$C$3:$D$42,2,0),0) -> 1225.16 | E4: =IFERROR(VLOOKUP(C4,Т1За!$C$3:$E$42,3,0),0) -> 2 | F4: =IFERROR(VLOOKUP(C4,Т1Зб!$C$3:$D$42,2,0),0) -> 0 | G4: =IFERROR(VLOOKUP(C4,Т1Зб!$C$3:$E$42,3,0),0) -> 0 | H4: =IFERROR(VLOOKUP(C4,Т2За!$C$3:$D$42,2,0),0) -> 0 | I4: =IFERROR(VLOOKUP(C4,Т2За!$C$3:$E$42,3,0),0) -> 0 | J4: =IFERROR(VLOOKUP(C4,Т2Зб!$C$3:$D$42,2,0),0) -> 0 | K4: =IFERROR(VLOOKUP(C4,Т2Зб!$C$3:$E$42,3,0),0) -> 23 | L4: =D4+F4+H4+J4 -> 1225.16 | M4: =IF(L4=0,реглист!$C$88*2+2,E4+G4+I4+K4) -> 25 | N4: 17 | O4: =L4+L5 -> 1225.16 | P4: =IF(O4=0,реглист!$C$88*4+4,M4+M5) -> 71 | Q4: =IF(P4=реглист!$C$88*4+4,реглист!$C$88+1,RANK(P4,$P$4:$P$81,1)) -> 18
A5: =A4+1 -> 2 | B5: =реглист!B6 -> Vodomotorika TEAM | C5: =реглист!C6 -> Ставер Дмитрий | D5: =IFERROR(VLOOKUP(C5,Т1За!$C$3:$D$42,2,0),0) -> 0 | E5: =IFERROR(VLOOKUP(C5,Т1За!$C$3:$E$42,3,0),0) -> 0 | F5: =IFERROR(VLOOKUP(C5,Т1Зб!$C$3:$D$42,2,0),0) -> 0 | G5: =IFERROR(VLOOKUP(C5,Т1Зб!$C$3:$E$42,3,0),0) -> 23 | H5: =IFERROR(VLOOKUP(C5,Т2За!$C$3:$D$42,2,0),0) -> 0 | I5: =IFERROR(VLOOKUP(C5,Т2За!$C$3:$E$42,3,0),0) -> 23 | J5: =IFERROR(VLOOKUP(C5,Т2Зб!$C$3:$D$42,2,0),0) -> 0 | K5: =IFERROR(VLOOKUP(C5,Т2Зб!$C$3:$E$42,3,0),0) -> 0 | L5: =D5+F5+H5+J5 -> 0 | M5: =IF(L5=0,реглист!$C$88*2+2,E5+G5+I5+K5) -> 46 | N5: 45
A6: =A5+1 -> 3 | B6: =реглист!B7 -> Трудовые резервы | C6: =реглист!C7 -> Баранок Артём | D6: =IFERROR(VLOOKUP(C6,Т1За!$C$3:$D$42,2,0),0) -> 0 | E6: =IFERROR(VLOOKUP(C6,Т1За!$C$3:$E$42,3,0),0) -> 0 | F6: =IFERROR(VLOOKUP(C6,Т1Зб!$C$3:$D$42,2,0),0) -> 225 | G6: =IFERROR(VLOOKUP(C6,Т1Зб!$C$3:$E$42,3,0),0) -> 8 | H6: =IFERROR(VLOOKUP(C6,Т2За!$C$3:$D$42,2,0),0) -> 0 | I6: =IFERROR(VLOOKUP(C6,Т2За!$C$3:$E$42,3,0),0) -> 23 | J6: =IFERROR(VLOOKUP(C6,Т2Зб!$C$3:$D$42,2,0),0) -> 0 | K6: =IFERROR(VLOOKUP(C6,Т2Зб!$C$3:$E$42,3,0),0) -> 0 | L6: =D6+F6+H6+J6 -> 225 | M6: =IF(L6=0,реглист!$C$88*2+2,E6+G6+I6+K6) -> 31 | N6: 27 | O6: =L6+L7 -> 1436.65 | P6: =IF(O6=0,реглист!$C$88*4+4,M6+M7) -> 40 | Q6: =IF(P6=реглист!$C$88*4+4,реглист!$C$88+1,RANK(P6,$P$4:$P$81,1)) -> 5
A7: =A6+1 -> 4 | B7: =реглист!B8 -> Трудовые резервы | C7: =реглист!C8 -> Пожарский Константин | D7: =IFERROR(VLOOKUP(C7,Т1За!$C$3:$D$42,2,0),0) -> 772.29 | E7: =IFERROR(VLOOKUP(C7,Т1За!$C$3:$E$42,3,0),0) -> 3 | F7: =IFERROR(VLOOKUP(C7,Т1Зб!$C$3:$D$42,2,0),0) -> 0 | G7: =IFERROR(VLOOKUP(C7,Т1Зб!$C$3:$E$42,3,0),0) -> 0 | H7: =IFERROR(VLOOKUP(C7,Т2За!$C$3:$D$42,2,0),0) -> 0 | I7: =IFERROR(VLOOKUP(C7,Т2За!$C$3:$E$42,3,0),0) -> 0 | J7: =IFERROR(VLOOKUP(C7,Т2Зб!$C$3:$D$42,2,0),0) -> 439.36 | K7: =IFERROR(VLOOKUP(C7,Т2Зб!$C$3:$E$42,3,0),0) -> 6 | L7: =D7+F7+H7+J7 -> 1211.65 | M7: =IF(L7=0,реглист!$C$88*2+2,E7+G7+I7+K7) -> 9 | N7: 4
A8: =A7+1 -> 5 | B8: =реглист!B9 -> Poseidon | C8: =реглист!C9 -> Чижонок Сергей | D8: =IFERROR(VLOOKUP(C8,Т1За!$C$3:$D$42,2,0),0) -> 0 | E8: =IFERROR(VLOOKUP(C8,Т1За!$C$3:$E$42,3,0),0) -> 0 | F8: =IFERROR(VLOOKUP(C8,Т1Зб!$C$3:$D$42,2,0),0) -> 268.96 | G8: =IFERROR(VLOOKUP(C8,Т1Зб!$C$3:$E$42,3,0),0) -> 6 | H8: =IFERROR(VLOOKUP(C8,Т2За!$C$3:$D$42,2,0),0) -> 151.29 | I8: =IFERROR(VLOOKUP(C8,Т2За!$C$3:$E$42,3,0),0) -> 12 | J8: =IFERROR(VLOOKUP(C8,Т2Зб!$C$3:$D$42,2,0),0) -> 0 | K8: =IFERROR(VLOOKUP(C8,Т2Зб!$C$3:$E$42,3,0),0) -> 0 | L8: =D8+F8+H8+J8 -> 420.25 | M8: =IF(L8=0,реглист!$C$88*2+2,E8+G8+I8+K8) -> 18 | N8: 12 | O8: =L8+L9 -> 1110.26 | P8: =IF(O8=0,реглист!$C$88*4+4,M8+M9) -> 31 | Q8: =IF(P8=реглист!$C$88*4+4,реглист!$C$88+1,RANK(P8,$P$4:$P$81,1)) -> 1
A9: =A8+1 -> 6 | B9: =реглист!B10 -> Poseidon | C9: =реглист!C10 -> Строк Павел | D9: =IFERROR(VLOOKUP(C9,Т1За!$C$3:$D$42,2,0),0) -> 380.25 | E9: =IFERROR(VLOOKUP(C9,Т1За!$C$3:$E$42,3,0),0) -> 6 | F9: =IFERROR(VLOOKUP(C9,Т1Зб!$C$3:$D$42,2,0),0) -> 0 | G9: =IFERROR(VLOOKUP(C9,Т1Зб!$C$3:$E$42,3,0),0) -> 0 | H9: =IFERROR(VLOOKUP(C9,Т2За!$C$3:$D$42,2,0),0) -> 0 | I9: =IFERROR(VLOOKUP(C9,Т2За!$C$3:$E$42,3,0),0) -> 0 | J9: =IFERROR(VLOOKUP(C9,Т2Зб!$C$3:$D$42,2,0),0) -> 309.76 | K9: =IFERROR(VLOOKUP(C9,Т2Зб!$C$3:$E$42,3,0),0) -> 7 | L9: =D9+F9+H9+J9 -> 690.01 | M9: =IF(L9=0,реглист!$C$88*2+2,E9+G9+I9+K9) -> 13 | N9: 8
A10: =A9+1 -> 7 | B10: =реглист!B11 -> Peacock Bass | C10: =реглист!C11 -> Сенчуров Иван | D10: =IFERROR(VLOOKUP(C10,Т1За!$C$3:$D$42,2,0),0) -> 320.41 | E10: =IFERROR(VLOOKUP(C10,Т1За!$C$3:$E$42,3,0),0) -> 8 | F10: =IFERROR(VLOOKUP(C10,Т1Зб!$C$3:$D$42,2,0),0) -> 0 | G10: =IFERROR(VLOOKUP(C10,Т1Зб!$C$3:$E$42,3,0),0) -> 0 | H10: =IFERROR(VLOOKUP(C10,Т2За!$C$3:$D$42,2,0),0) -> 0 | I10: =IFERROR(VLOOKUP(C10,Т2За!$C$3:$E$42,3,0),0) -> 0 | J10: =IFERROR(VLOOKUP(C10,Т2Зб!$C$3:$D$42,2,0),0) -> 0 | K10: =IFERROR(VLOOKUP(C10,Т2Зб!$C$3:$E$42,3,0),0) -> 23 | L10: =D10+F10+H10+J10 -> 320.41 | M10: =IF(L10=0,реглист!$C$88*2+2,E10+G10+I10+K10) -> 31 | N10: 26 | O10: =L10+L11 -> 835.14 | P10: =IF(O10=0,реглист!$C$88*4+4,M10+M11) -> 57 | Q10: =IF(P10=реглист!$C$88*4+4,реглист!$C$88+1,RANK(P10,$P$4:$P$81,1)) -> 13
A11: =A10+1 -> 8 | B11: =реглист!B12 -> Peacock Bass | C11: =реглист!C12 -> Дроздов Виталий | D11: =IFERROR(VLOOKUP(C11,Т1За!$C$3:$D$42,2,0),0) -> 0 | E11: =IFERROR(VLOOKUP(C11,Т1За!$C$3:$E$42,3,0),0) -> 0 | F11: =IFERROR(VLOOKUP(C11,Т1Зб!$C$3:$D$42,2,0),0) -> 514.73 | G11: =IFERROR(VLOOKUP(C11,Т1Зб!$C$3:$E$42,3,0),0) -> 3 | H11: =IFERROR(VLOOKUP(C11,Т2За!$C$3:$D$42,2,0),0) -> 0 | I11: =IFERROR(VLOOKUP(C11,Т2За!$C$3:$E$42,3,0),0) -> 23 | J11: =IFERROR(VLOOKUP(C11,Т2Зб!$C$3:$D$42,2,0),0) -> 0 | K11: =IFERROR(VLOOKUP(C11,Т2Зб!$C$3:$E$42,3,0),0) -> 0 | L11: =D11+F11+H11+J11 -> 514.73 | M11: =IF(L11=0,реглист!$C$88*2+2,E11+G11+I11+K11) -> 26 | N11: 19
A12: =A11+1 -> 9 | B12: =реглист!B13 -> Old Roads Fishing | C12: =реглист!C13 -> Синовец Роман | D12: =IFERROR(VLOOKUP(C12,Т1За!$C$3:$D$42,2,0),0) -> 278.89 | E12: =IFERROR(VLOOKUP(C12,Т1За!$C$3:$E$42,3,0),0) -> 9 | F12: =IFERROR(VLOOKUP(C12,Т1Зб!$C$3:$D$42,2,0),0) -> 0 | G12: =IFERROR(VLOOKUP(C12,Т1Зб!$C$3:$E$42,3,0),0) -> 0 | H12: =IFERROR(VLOOKUP(C12,Т2За!$C$3:$D$42,2,0),0) -> 0 | I12: =IFERROR(VLOOKUP(C12,Т2За!$C$3:$E$42,3,0),0) -> 0 | J12: =IFERROR(VLOOKUP(C12,Т2Зб!$C$3:$D$42,2,0),0) -> 207.36 | K12: =IFERROR(VLOOKUP(C12,Т2Зб!$C$3:$E$42,3,0),0) -> 12.5 | L12: =D12+F12+H12+J12 -> 486.25 | M12: =IF(L12=0,реглист!$C$88*2+2,E12+G12+I12+K12) -> 21.5 | N12: 14 | O12: =L12+L13 -> 806.66 | P12: =IF(O12=0,реглист!$C$88*4+4,M12+M13) -> 51.5 | Q12: =IF(P12=реглист!$C$88*4+4,реглист!$C$88+1,RANK(P12,$P$4:$P$81,1)) -> 11
A13: =A12+1 -> 10 | B13: =реглист!B14 -> Old Roads Fishing | C13: =реглист!C14 -> Чернышёв Егор | D13: =IFERROR(VLOOKUP(C13,Т1За!$C$3:$D$42,2,0),0) -> 0 | E13: =IFERROR(VLOOKUP(C13,Т1За!$C$3:$E$42,3,0),0) -> 0 | F13: =IFERROR(VLOOKUP(C13,Т1Зб!$C$3:$D$42,2,0),0) -> 0 | G13: =IFERROR(VLOOKUP(C13,Т1Зб!$C$3:$E$42,3,0),0) -> 23 | H13: =IFERROR(VLOOKUP(C13,Т2За!$C$3:$D$42,2,0),0) -> 320.41 | I13: =IFERROR(VLOOKUP(C13,Т2За!$C$3:$E$42,3,0),0) -> 7 | J13: =IFERROR(VLOOKUP(C13,Т2Зб!$C$3:$D$42,2,0),0) -> 0 | K13: =IFERROR(VLOOKUP(C13,Т2Зб!$C$3:$E$42,3,0),0) -> 0 | L13: =D13+F13+H13+J13 -> 320.41 | M13: =IF(L13=0,реглист!$C$88*2+2,E13+G13+I13+K13) -> 30 | N13: 24
A14: =A13+1 -> 11 | B14: =реглист!B15 -> Gefest | C14: =реглист!C15 -> Саган Сергей | D14: =IFERROR(VLOOKUP(C14,Т1За!$C$3:$D$42,2,0),0) -> 0 | E14: =IFERROR(VLOOKUP(C14,Т1За!$C$3:$E$42,3,0),0) -> 0 | F14: =IFERROR(VLOOKUP(C14,Т1Зб!$C$3:$D$42,2,0),0) -> 425.89 | G14: =IFERROR(VLOOKUP(C14,Т1Зб!$C$3:$E$42,3,0),0) -> 4 | H14: =IFERROR(VLOOKUP(C14,Т2За!$C$3:$D$42,2,0),0) -> 158.76 | I14: =IFERROR(VLOOKUP(C14,Т2За!$C$3:$E$42,3,0),0) -> 10 | J14: =IFERROR(VLOOKUP(C14,Т2Зб!$C$3:$D$42,2,0),0) -> 0 | K14: =IFERROR(VLOOKUP(C14,Т2Зб!$C$3:$E$42,3,0),0) -> 0 | L14: =D14+F14+H14+J14 -> 584.65 | M14: =IF(L14=0,реглист!$C$88*2+2,E14+G14+I14+K14) -> 14 | N14: 9 | O14: =L14+L15 -> 1439.94 | P14: =IF(O14=0,реглист!$C$88*4+4,M14+M15) -> 38 | Q14: =IF(P14=реглист!$C$88*4+4,реглист!$C$88+1,RANK(P14,$P$4:$P$81,1)) -> 4
A15: =A14+1 -> 12 | B15: =реглист!B16 -> Gefest | C15: =реглист!C16 -> Радчук Юрий | D15: =IFERROR(VLOOKUP(C15,Т1За!$C$3:$D$42,2,0),0) -> 0 | E15: =IFERROR(VLOOKUP(C15,Т1За!$C$3:$E$42,3,0),0) -> 23 | F15: =IFERROR(VLOOKUP(C15,Т1Зб!$C$3:$D$42,2,0),0) -> 0 | G15: =IFERROR(VLOOKUP(C15,Т1Зб!$C$3:$E$42,3,0),0) -> 0 | H15: =IFERROR(VLOOKUP(C15,Т2За!$C$3:$D$42,2,0),0) -> 0 | I15: =IFERROR(VLOOKUP(C15,Т2За!$C$3:$E$42,3,0),0) -> 0 | J15: =IFERROR(VLOOKUP(C15,Т2Зб!$C$3:$D$42,2,0),0) -> 855.29 | K15: =IFERROR(VLOOKUP(C15,Т2Зб!$C$3:$E$42,3,0),0) -> 1 | L15: =D15+F15+H15+J15 -> 855.29 | M15: =IF(L15=0,реглист!$C$88*2+2,E15+G15+I15+K15) -> 24 | N15: 16
A16: =A15+1 -> 13 | B16: =реглист!B17 -> West Fishing | C16: =реглист!C17 -> Непомнящий Виктор | D16: =IFERROR(VLOOKUP(C16,Т1За!$C$3:$D$42,2,0),0) -> 639.81 | E16: =IFERROR(VLOOKUP(C16,Т1За!$C$3:$E$42,3,0),0) -> 4 | F16: =IFERROR(VLOOKUP(C16,Т1Зб!$C$3:$D$42,2,0),0) -> 0 | G16: =IFERROR(VLOOKUP(C16,Т1Зб!$C$3:$E$42,3,0),0) -> 0 | H16: =IFERROR(VLOOKUP(C16,Т2За!$C$3:$D$42,2,0),0) -> 0 | I16: =IFERROR(VLOOKUP(C16,Т2За!$C$3:$E$42,3,0),0) -> 0 | J16: =IFERROR(VLOOKUP(C16,Т2Зб!$C$3:$D$42,2,0),0) -> 478.76 | K16: =IFERROR(VLOOKUP(C16,Т2Зб!$C$3:$E$42,3,0),0) -> 4 | L16: =D16+F16+H16+J16 -> 1118.57 | M16: =IF(L16=0,реглист!$C$88*2+2,E16+G16+I16+K16) -> 8 | N16: 2 | O16: =L16+L17 -> 1442.57 | P16: =IF(O16=0,реглист!$C$88*4+4,M16+M17) -> 37 | Q16: =IF(P16=реглист!$C$88*4+4,реглист!$C$88+1,RANK(P16,$P$4:$P$81,1)) -> 3
A17: =A16+1 -> 14 | B17: =реглист!B18 -> West Fishing | C17: =реглист!C18 -> Золотарь Андрей | D17: =IFERROR(VLOOKUP(C17,Т1За!$C$3:$D$42,2,0),0) -> 0 | E17: =IFERROR(VLOOKUP(C17,Т1За!$C$3:$E$42,3,0),0) -> 0 | F17: =IFERROR(VLOOKUP(C17,Т1Зб!$C$3:$D$42,2,0),0) -> 0 | G17: =IFERROR(VLOOKUP(C17,Т1Зб!$C$3:$E$42,3,0),0) -> 23 | H17: =IFERROR(VLOOKUP(C17,Т2За!$C$3:$D$42,2,0),0) -> 324 | I17: =IFERROR(VLOOKUP(C17,Т2За!$C$3:$E$42,3,0),0) -> 6 | J17: =IFERROR(VLOOKUP(C17,Т2Зб!$C$3:$D$42,2,0),0) -> 0 | K17: =IFERROR(VLOOKUP(C17,Т2Зб!$C$3:$E$42,3,0),0) -> 0 | L17: =D17+F17+H17+J17 -> 324 | M17: =IF(L17=0,реглист!$C$88*2+2,E17+G17+I17+K17) -> 29 | N17: 23
A18: =A17+1 -> 15 | B18: =реглист!B19 -> Dream Team | C18: =реглист!C19 -> Золотухин Александр | D18: =IFERROR(VLOOKUP(C18,Т1За!$C$3:$D$42,2,0),0) -> 0 | E18: =IFERROR(VLOOKUP(C18,Т1За!$C$3:$E$42,3,0),0) -> 0 | F18: =IFERROR(VLOOKUP(C18,Т1Зб!$C$3:$D$42,2,0),0) -> 0 | G18: =IFERROR(VLOOKUP(C18,Т1Зб!$C$3:$E$42,3,0),0) -> 23 | H18: =IFERROR(VLOOKUP(C18,Т2За!$C$3:$D$42,2,0),0) -> 0 | I18: =IFERROR(VLOOKUP(C18,Т2За!$C$3:$E$42,3,0),0) -> 23 | J18: =IFERROR(VLOOKUP(C18,Т2Зб!$C$3:$D$42,2,0),0) -> 0 | K18: =IFERROR(VLOOKUP(C18,Т2Зб!$C$3:$E$42,3,0),0) -> 0 | L18: =D18+F18+H18+J18 -> 0 | M18: =IF(L18=0,реглист!$C$88*2+2,E18+G18+I18+K18) -> 46 | N18: 45 | O18: =L18+L19 -> 616.41 | P18: =IF(O18=0,реглист!$C$88*4+4,M18+M19) -> 61 | Q18: =IF(P18=реглист!$C$88*4+4,реглист!$C$88+1,RANK(P18,$P$4:$P$81,1)) -> 15
A19: =A18+1 -> 16 | B19: =реглист!B20 -> Dream Team | C19: =реглист!C20 -> Тысевич Сергей | D19: =IFERROR(VLOOKUP(C19,Т1За!$C$3:$D$42,2,0),0) -> 324 | E19: =IFERROR(VLOOKUP(C19,Т1За!$C$3:$E$42,3,0),0) -> 7 | F19: =IFERROR(VLOOKUP(C19,Т1Зб!$C$3:$D$42,2,0),0) -> 0 | G19: =IFERROR(VLOOKUP(C19,Т1Зб!$C$3:$E$42,3,0),0) -> 0 | H19: =IFERROR(VLOOKUP(C19,Т2За!$C$3:$D$42,2,0),0) -> 0 | I19: =IFERROR(VLOOKUP(C19,Т2За!$C$3:$E$42,3,0),0) -> 0 | J19: =IFERROR(VLOOKUP(C19,Т2Зб!$C$3:$D$42,2,0),0) -> 292.41 | K19: =IFERROR(VLOOKUP(C19,Т2Зб!$C$3:$E$42,3,0),0) -> 8 | L19: =D19+F19+H19+J19 -> 616.41 | M19: =IF(L19=0,реглист!$C$88*2+2,E19+G19+I19+K19) -> 15 | N19: 10
A20: =A19+1 -> 17 | B20: =реглист!B21 -> Bona Кобрин | C20: =реглист!C21 -> Марковский Максим | D20: =IFERROR(VLOOKUP(C20,Т1За!$C$3:$D$42,2,0),0) -> 0 | E20: =IFERROR(VLOOKUP(C20,Т1За!$C$3:$E$42,3,0),0) -> 23 | F20: =IFERROR(VLOOKUP(C20,Т1Зб!$C$3:$D$42,2,0),0) -> 0 | G20: =IFERROR(VLOOKUP(C20,Т1Зб!$C$3:$E$42,3,0),0) -> 0 | H20: =IFERROR(VLOOKUP(C20,Т2За!$C$3:$D$42,2,0),0) -> 0 | I20: =IFERROR(VLOOKUP(C20,Т2За!$C$3:$E$42,3,0),0) -> 0 | J20: =IFERROR(VLOOKUP(C20,Т2Зб!$C$3:$D$42,2,0),0) -> 0 | K20: =IFERROR(VLOOKUP(C20,Т2Зб!$C$3:$E$42,3,0),0) -> 23 | L20: =D20+F20+H20+J20 -> 0 | M20: =IF(L20=0,реглист!$C$88*2+2,E20+G20+I20+K20) -> 46 | N20: 45 | O20: =L20+L21 -> 1949.3425 | P20: =IF(O20=0,реглист!$C$88*4+4,M20+M21) -> 50 | Q20: =IF(P20=реглист!$C$88*4+4,реглист!$C$88+1,RANK(P20,$P$4:$P$81,1)) -> 10
A21: =A20+1 -> 18 | B21: =реглист!B22 -> Bona Кобрин | C21: =реглист!C22 -> Барташук Александр | D21: =IFERROR(VLOOKUP(C21,Т1За!$C$3:$D$42,2,0),0) -> 0 | E21: =IFERROR(VLOOKUP(C21,Т1За!$C$3:$E$42,3,0),0) -> 0 | F21: =IFERROR(VLOOKUP(C21,Т1Зб!$C$3:$D$42,2,0),0) -> 944.45 | G21: =IFERROR(VLOOKUP(C21,Т1Зб!$C$3:$E$42,3,0),0) -> 2 | H21: =IFERROR(VLOOKUP(C21,Т2За!$C$3:$D$42,2,0),0) -> 1004.8925 | I21: =IFERROR(VLOOKUP(C21,Т2За!$C$3:$E$42,3,0),0) -> 2 | J21: =IFERROR(VLOOKUP(C21,Т2Зб!$C$3:$D$42,2,0),0) -> 0 | K21: =IFERROR(VLOOKUP(C21,Т2Зб!$C$3:$E$42,3,0),0) -> 0 | L21: =D21+F21+H21+J21 -> 1949.3425 | M21: =IF(L21=0,реглист!$C$88*2+2,E21+G21+I21+K21) -> 4 | N21: 1
A22: =A21+1 -> 19 | B22: =реглист!B23 -> Фарватер | C22: =реглист!C23 -> Цыганок Михаил | D22: =IFERROR(VLOOKUP(C22,Т1За!$C$3:$D$42,2,0),0) -> 0 | E22: =IFERROR(VLOOKUP(C22,Т1За!$C$3:$E$42,3,0),0) -> 0 | F22: =IFERROR(VLOOKUP(C22,Т1Зб!$C$3:$D$42,2,0),0) -> 256 | G22: =IFERROR(VLOOKUP(C22,Т1Зб!$C$3:$E$42,3,0),0) -> 7 | H22: =IFERROR(VLOOKUP(C22,Т2За!$C$3:$D$42,2,0),0) -> 0 | I22: =IFERROR(VLOOKUP(C22,Т2За!$C$3:$E$42,3,0),0) -> 23 | J22: =IFERROR(VLOOKUP(C22,Т2Зб!$C$3:$D$42,2,0),0) -> 0 | K22: =IFERROR(VLOOKUP(C22,Т2Зб!$C$3:$E$42,3,0),0) -> 0 | L22: =D22+F22+H22+J22 -> 256 | M22: =IF(L22=0,реглист!$C$88*2+2,E22+G22+I22+K22) -> 30 | N22: 25 | O22: =L22+L23 -> 395.24 | P22: =IF(O22=0,реглист!$C$88*4+4,M22+M23) -> 68 | Q22: =IF(P22=реглист!$C$88*4+4,реглист!$C$88+1,RANK(P22,$P$4:$P$81,1)) -> 16
A23: =A22+1 -> 20 | B23: =реглист!B24 -> Фарватер | C23: =реглист!C24 -> Попельский Максим | D23: =IFERROR(VLOOKUP(C23,Т1За!$C$3:$D$42,2,0),0) -> 0 | E23: =IFERROR(VLOOKUP(C23,Т1За!$C$3:$E$42,3,0),0) -> 23 | F23: =IFERROR(VLOOKUP(C23,Т1Зб!$C$3:$D$42,2,0),0) -> 0 | G23: =IFERROR(VLOOKUP(C23,Т1Зб!$C$3:$E$42,3,0),0) -> 0 | H23: =IFERROR(VLOOKUP(C23,Т2За!$C$3:$D$42,2,0),0) -> 0 | I23: =IFERROR(VLOOKUP(C23,Т2За!$C$3:$E$42,3,0),0) -> 0 | J23: =IFERROR(VLOOKUP(C23,Т2Зб!$C$3:$D$42,2,0),0) -> 139.24 | K23: =IFERROR(VLOOKUP(C23,Т2Зб!$C$3:$E$42,3,0),0) -> 15 | L23: =D23+F23+H23+J23 -> 139.24 | M23: =IF(L23=0,реглист!$C$88*2+2,E23+G23+I23+K23) -> 38 | N23: 33
A24: =A23+1 -> 21 | B24: =реглист!B25 -> XULi-ULi | C24: =реглист!C25 -> Дубровский Вадим | D24: =IFERROR(VLOOKUP(C24,Т1За!$C$3:$D$42,2,0),0) -> 0 | E24: =IFERROR(VLOOKUP(C24,Т1За!$C$3:$E$42,3,0),0) -> 0 | F24: =IFERROR(VLOOKUP(C24,Т1Зб!$C$3:$D$42,2,0),0) -> 71.4025 | G24: =IFERROR(VLOOKUP(C24,Т1Зб!$C$3:$E$42,3,0),0) -> 10 | H24: =IFERROR(VLOOKUP(C24,Т2За!$C$3:$D$42,2,0),0) -> 686.57 | I24: =IFERROR(VLOOKUP(C24,Т2За!$C$3:$E$42,3,0),0) -> 3 | J24: =IFERROR(VLOOKUP(C24,Т2Зб!$C$3:$D$42,2,0),0) -> 0 | K24: =IFERROR(VLOOKUP(C24,Т2Зб!$C$3:$E$42,3,0),0) -> 0 | L24: =D24+F24+H24+J24 -> 757.9725 | M24: =IF(L24=0,реглист!$C$88*2+2,E24+G24+I24+K24) -> 13 | N24: 7 | O24: =L24+L25 -> 975.535 | P24: =IF(O24=0,реглист!$C$88*4+4,M24+M25) -> 47 | Q24: =IF(P24=реглист!$C$88*4+4,реглист!$C$88+1,RANK(P24,$P$4:$P$81,1)) -> 8
A25: =A24+1 -> 22 | B25: =реглист!B26 -> XULi-ULi | C25: =реглист!C26 -> Лавренчук Станислав | D25: =IFERROR(VLOOKUP(C25,Т1За!$C$3:$D$42,2,0),0) -> 0 | E25: =IFERROR(VLOOKUP(C25,Т1За!$C$3:$E$42,3,0),0) -> 23 | F25: =IFERROR(VLOOKUP(C25,Т1Зб!$C$3:$D$42,2,0),0) -> 0 | G25: =IFERROR(VLOOKUP(C25,Т1Зб!$C$3:$E$42,3,0),0) -> 0 | H25: =IFERROR(VLOOKUP(C25,Т2За!$C$3:$D$42,2,0),0) -> 0 | I25: =IFERROR(VLOOKUP(C25,Т2За!$C$3:$E$42,3,0),0) -> 0 | J25: =IFERROR(VLOOKUP(C25,Т2Зб!$C$3:$D$42,2,0),0) -> 217.5625 | K25: =IFERROR(VLOOKUP(C25,Т2Зб!$C$3:$E$42,3,0),0) -> 11 | L25: =D25+F25+H25+J25 -> 217.5625 | M25: =IF(L25=0,реглист!$C$88*2+2,E25+G25+I25+K25) -> 34 | N25: 30
A26: =A25+1 -> 23 | B26: =реглист!B27 -> Fanatik Belarus | C26: =реглист!C27 -> Янкович Сергей | D26: =IFERROR(VLOOKUP(C26,Т1За!$C$3:$D$42,2,0),0) -> 0 | E26: =IFERROR(VLOOKUP(C26,Т1За!$C$3:$E$42,3,0),0) -> 0 | F26: =IFERROR(VLOOKUP(C26,Т1Зб!$C$3:$D$42,2,0),0) -> 1249.8625 | G26: =IFERROR(VLOOKUP(C26,Т1Зб!$C$3:$E$42,3,0),0) -> 1 | H26: =IFERROR(VLOOKUP(C26,Т2За!$C$3:$D$42,2,0),0) -> 182.25 | I26: =IFERROR(VLOOKUP(C26,Т2За!$C$3:$E$42,3,0),0) -> 9 | J26: =IFERROR(VLOOKUP(C26,Т2Зб!$C$3:$D$42,2,0),0) -> 0 | K26: =IFERROR(VLOOKUP(C26,Т2Зб!$C$3:$E$42,3,0),0) -> 0 | L26: =D26+F26+H26+J26 -> 1432.1125 | M26: =IF(L26=0,реглист!$C$88*2+2,E26+G26+I26+K26) -> 10 | N26: 6 | O26: =L26+L27 -> 1432.1125 | P26: =IF(O26=0,реглист!$C$88*4+4,M26+M27) -> 56 | Q26: =IF(P26=реглист!$C$88*4+4,реглист!$C$88+1,RANK(P26,$P$4:$P$81,1)) -> 12
A27: =A26+1 -> 24 | B27: =реглист!B28 -> Fanatik Belarus | C27: =реглист!C28 -> Шевчук Дмитрий | D27: =IFERROR(VLOOKUP(C27,Т1За!$C$3:$D$42,2,0),0) -> 0 | E27: =IFERROR(VLOOKUP(C27,Т1За!$C$3:$E$42,3,0),0) -> 23 | F27: =IFERROR(VLOOKUP(C27,Т1Зб!$C$3:$D$42,2,0),0) -> 0 | G27: =IFERROR(VLOOKUP(C27,Т1Зб!$C$3:$E$42,3,0),0) -> 0 | H27: =IFERROR(VLOOKUP(C27,Т2За!$C$3:$D$42,2,0),0) -> 0 | I27: =IFERROR(VLOOKUP(C27,Т2За!$C$3:$E$42,3,0),0) -> 0 | J27: =IFERROR(VLOOKUP(C27,Т2Зб!$C$3:$D$42,2,0),0) -> 0 | K27: =IFERROR(VLOOKUP(C27,Т2Зб!$C$3:$E$42,3,0),0) -> 23 | L27: =D27+F27+H27+J27 -> 0 | M27: =IF(L27=0,реглист!$C$88*2+2,E27+G27+I27+K27) -> 46 | N27: 45
A28: =A27+1 -> 25 | B28: =реглист!B29 -> FISHINGSTOCK BELARUS | C28: =реглист!C29 -> Лунякин Олег | D28: =IFERROR(VLOOKUP(C28,Т1За!$C$3:$D$42,2,0),0) -> 0 | E28: =IFERROR(VLOOKUP(C28,Т1За!$C$3:$E$42,3,0),0) -> 23 | F28: =IFERROR(VLOOKUP(C28,Т1Зб!$C$3:$D$42,2,0),0) -> 0 | G28: =IFERROR(VLOOKUP(C28,Т1Зб!$C$3:$E$42,3,0),0) -> 0 | H28: =IFERROR(VLOOKUP(C28,Т2За!$C$3:$D$42,2,0),0) -> 0 | I28: =IFERROR(VLOOKUP(C28,Т2За!$C$3:$E$42,3,0),0) -> 0 | J28: =IFERROR(VLOOKUP(C28,Т2Зб!$C$3:$D$42,2,0),0) -> 0 | K28: =IFERROR(VLOOKUP(C28,Т2Зб!$C$3:$E$42,3,0),0) -> 23 | L28: =D28+F28+H28+J28 -> 0 | M28: =IF(L28=0,реглист!$C$88*2+2,E28+G28+I28+K28) -> 46 | N28: 45 | O28: =L28+L29 -> 0 | P28: =IF(O28=0,реглист!$C$88*4+4,M28+M29) -> 92 | Q28: =IF(P28=реглист!$C$88*4+4,реглист!$C$88+1,RANK(P28,$P$4:$P$81,1)) -> 23
A29: =A28+1 -> 26 | B29: =реглист!B30 -> FISHINGSTOCK BELARUS | C29: =реглист!C30 -> Бобриков Алексей | D29: =IFERROR(VLOOKUP(C29,Т1За!$C$3:$D$42,2,0),0) -> 0 | E29: =IFERROR(VLOOKUP(C29,Т1За!$C$3:$E$42,3,0),0) -> 0 | F29: =IFERROR(VLOOKUP(C29,Т1Зб!$C$3:$D$42,2,0),0) -> 0 | G29: =IFERROR(VLOOKUP(C29,Т1Зб!$C$3:$E$42,3,0),0) -> 23 | H29: =IFERROR(VLOOKUP(C29,Т2За!$C$3:$D$42,2,0),0) -> 0 | I29: =IFERROR(VLOOKUP(C29,Т2За!$C$3:$E$42,3,0),0) -> 23 | J29: =IFERROR(VLOOKUP(C29,Т2Зб!$C$3:$D$42,2,0),0) -> 0 | K29: =IFERROR(VLOOKUP(C29,Т2Зб!$C$3:$E$42,3,0),0) -> 0 | L29: =D29+F29+H29+J29 -> 0 | M29: =IF(L29=0,реглист!$C$88*2+2,E29+G29+I29+K29) -> 46 | N29: 45
A30: =A29+1 -> 27 | B30: =реглист!B31 -> Против Течениия | C30: =реглист!C31 -> Ананич Геннадий | D30: =IFERROR(VLOOKUP(C30,Т1За!$C$3:$D$42,2,0),0) -> 0 | E30: =IFERROR(VLOOKUP(C30,Т1За!$C$3:$E$42,3,0),0) -> 0 | F30: =IFERROR(VLOOKUP(C30,Т1Зб!$C$3:$D$42,2,0),0) -> 0 | G30: =IFERROR(VLOOKUP(C30,Т1Зб!$C$3:$E$42,3,0),0) -> 23 | H30: =IFERROR(VLOOKUP(C30,Т2За!$C$3:$D$42,2,0),0) -> 0 | I30: =IFERROR(VLOOKUP(C30,Т2За!$C$3:$E$42,3,0),0) -> 23 | J30: =IFERROR(VLOOKUP(C30,Т2Зб!$C$3:$D$42,2,0),0) -> 0 | K30: =IFERROR(VLOOKUP(C30,Т2Зб!$C$3:$E$42,3,0),0) -> 0 | L30: =D30+F30+H30+J30 -> 0 | M30: =IF(L30=0,реглист!$C$88*2+2,E30+G30+I30+K30) -> 46 | N30: 45 | O30: =L30+L31 -> 278.89 | P30: =IF(O30=0,реглист!$C$88*4+4,M30+M31) -> 78 | Q30: =IF(P30=реглист!$C$88*4+4,реглист!$C$88+1,RANK(P30,$P$4:$P$81,1)) -> 19
A31: =A30+1 -> 28 | B31: =реглист!B32 -> Против Течениия | C31: =реглист!C32 -> Кириенко Кирилл | D31: =IFERROR(VLOOKUP(C31,Т1За!$C$3:$D$42,2,0),0) -> 0 | E31: =IFERROR(VLOOKUP(C31,Т1За!$C$3:$E$42,3,0),0) -> 23 | F31: =IFERROR(VLOOKUP(C31,Т1Зб!$C$3:$D$42,2,0),0) -> 0 | G31: =IFERROR(VLOOKUP(C31,Т1Зб!$C$3:$E$42,3,0),0) -> 0 | H31: =IFERROR(VLOOKUP(C31,Т2За!$C$3:$D$42,2,0),0) -> 0 | I31: =IFERROR(VLOOKUP(C31,Т2За!$C$3:$E$42,3,0),0) -> 0 | J31: =IFERROR(VLOOKUP(C31,Т2Зб!$C$3:$D$42,2,0),0) -> 278.89 | K31: =IFERROR(VLOOKUP(C31,Т2Зб!$C$3:$E$42,3,0),0) -> 9 | L31: =D31+F31+H31+J31 -> 278.89 | M31: =IF(L31=0,реглист!$C$88*2+2,E31+G31+I31+K31) -> 32 | N31: 29
A32: =A31+1 -> 29 | B32: =реглист!B33 -> Bait Breath Team | C32: =реглист!C33 -> Бахур Александр | D32: =IFERROR(VLOOKUP(C32,Т1За!$C$3:$D$42,2,0),0) -> 0 | E32: =IFERROR(VLOOKUP(C32,Т1За!$C$3:$E$42,3,0),0) -> 0 | F32: =IFERROR(VLOOKUP(C32,Т1Зб!$C$3:$D$42,2,0),0) -> 0 | G32: =IFERROR(VLOOKUP(C32,Т1Зб!$C$3:$E$42,3,0),0) -> 23 | H32: =IFERROR(VLOOKUP(C32,Т2За!$C$3:$D$42,2,0),0) -> 210.25 | I32: =IFERROR(VLOOKUP(C32,Т2За!$C$3:$E$42,3,0),0) -> 8 | J32: =IFERROR(VLOOKUP(C32,Т2Зб!$C$3:$D$42,2,0),0) -> 0 | K32: =IFERROR(VLOOKUP(C32,Т2Зб!$C$3:$E$42,3,0),0) -> 0 | L32: =D32+F32+H32+J32 -> 210.25 | M32: =IF(L32=0,реглист!$C$88*2+2,E32+G32+I32+K32) -> 31 | N32: 28 | O32: =L32+L33 -> 681.14 | P32: =IF(O32=0,реглист!$C$88*4+4,M32+M33) -> 59 | Q32: =IF(P32=реглист!$C$88*4+4,реглист!$C$88+1,RANK(P32,$P$4:$P$81,1)) -> 14
A33: =A32+1 -> 30 | B33: =реглист!B34 -> Bait Breath Team | C33: =реглист!C34 -> Зубко Сергей | D33: =IFERROR(VLOOKUP(C33,Т1За!$C$3:$D$42,2,0),0) -> 0 | E33: =IFERROR(VLOOKUP(C33,Т1За!$C$3:$E$42,3,0),0) -> 23 | F33: =IFERROR(VLOOKUP(C33,Т1Зб!$C$3:$D$42,2,0),0) -> 0 | G33: =IFERROR(VLOOKUP(C33,Т1Зб!$C$3:$E$42,3,0),0) -> 0 | H33: =IFERROR(VLOOKUP(C33,Т2За!$C$3:$D$42,2,0),0) -> 0 | I33: =IFERROR(VLOOKUP(C33,Т2За!$C$3:$E$42,3,0),0) -> 0 | J33: =IFERROR(VLOOKUP(C33,Т2Зб!$C$3:$D$42,2,0),0) -> 470.89 | K33: =IFERROR(VLOOKUP(C33,Т2Зб!$C$3:$E$42,3,0),0) -> 5 | L33: =D33+F33+H33+J33 -> 470.89 | M33: =IF(L33=0,реглист!$C$88*2+2,E33+G33+I33+K33) -> 28 | N33: 21
A34: =A33+1 -> 31 | B34: =реглист!B35 -> Кооператив ХИЩНИК | C34: =реглист!C35 -> Сницкий Виктор | D34: =IFERROR(VLOOKUP(C34,Т1За!$C$3:$D$42,2,0),0) -> 0 | E34: =IFERROR(VLOOKUP(C34,Т1За!$C$3:$E$42,3,0),0) -> 23 | F34: =IFERROR(VLOOKUP(C34,Т1Зб!$C$3:$D$42,2,0),0) -> 0 | G34: =IFERROR(VLOOKUP(C34,Т1Зб!$C$3:$E$42,3,0),0) -> 0 | H34: =IFERROR(VLOOKUP(C34,Т2За!$C$3:$D$42,2,0),0) -> 0 | I34: =IFERROR(VLOOKUP(C34,Т2За!$C$3:$E$42,3,0),0) -> 0 | J34: =IFERROR(VLOOKUP(C34,Т2Зб!$C$3:$D$42,2,0),0) -> 0 | K34: =IFERROR(VLOOKUP(C34,Т2Зб!$C$3:$E$42,3,0),0) -> 23 | L34: =D34+F34+H34+J34 -> 0 | M34: =IF(L34=0,реглист!$C$88*2+2,E34+G34+I34+K34) -> 46 | N34: 45 | O34: =L34+L35 -> 0 | P34: =IF(O34=0,реглист!$C$88*4+4,M34+M35) -> 92 | Q34: =IF(P34=реглист!$C$88*4+4,реглист!$C$88+1,RANK(P34,$P$4:$P$81,1)) -> 23
A35: =A34+1 -> 32 | B35: =реглист!B36 -> Кооператив ХИЩНИК | C35: =реглист!C36 -> Сницкий Владимир | D35: =IFERROR(VLOOKUP(C35,Т1За!$C$3:$D$42,2,0),0) -> 0 | E35: =IFERROR(VLOOKUP(C35,Т1За!$C$3:$E$42,3,0),0) -> 0 | F35: =IFERROR(VLOOKUP(C35,Т1Зб!$C$3:$D$42,2,0),0) -> 0 | G35: =IFERROR(VLOOKUP(C35,Т1Зб!$C$3:$E$42,3,0),0) -> 23 | H35: =IFERROR(VLOOKUP(C35,Т2За!$C$3:$D$42,2,0),0) -> 0 | I35: =IFERROR(VLOOKUP(C35,Т2За!$C$3:$E$42,3,0),0) -> 23 | J35: =IFERROR(VLOOKUP(C35,Т2Зб!$C$3:$D$42,2,0),0) -> 0 | K35: =IFERROR(VLOOKUP(C35,Т2Зб!$C$3:$E$42,3,0),0) -> 0 | L35: =D35+F35+H35+J35 -> 0 | M35: =IF(L35=0,реглист!$C$88*2+2,E35+G35+I35+K35) -> 46 | N35: 45
A36: =A35+1 -> 33 | B36: =реглист!B37 -> Bass Hunters | C36: =реглист!C37 -> Шевко Виталий | D36: =IFERROR(VLOOKUP(C36,Т1За!$C$3:$D$42,2,0),0) -> 0 | E36: =IFERROR(VLOOKUP(C36,Т1За!$C$3:$E$42,3,0),0) -> 0 | F36: =IFERROR(VLOOKUP(C36,Т1Зб!$C$3:$D$42,2,0),0) -> 121 | G36: =IFERROR(VLOOKUP(C36,Т1Зб!$C$3:$E$42,3,0),0) -> 9 | H36: =IFERROR(VLOOKUP(C36,Т2За!$C$3:$D$42,2,0),0) -> 2683.24 | I36: =IFERROR(VLOOKUP(C36,Т2За!$C$3:$E$42,3,0),0) -> 1 | J36: =IFERROR(VLOOKUP(C36,Т2Зб!$C$3:$D$42,2,0),0) -> 0 | K36: =IFERROR(VLOOKUP(C36,Т2Зб!$C$3:$E$42,3,0),0) -> 0 | L36: =D36+F36+H36+J36 -> 2804.24 | M36: =IF(L36=0,реглист!$C$88*2+2,E36+G36+I36+K36) -> 10 | N36: 5 | O36: =L36+L37 -> 3011.6 | P36: =IF(O36=0,реглист!$C$88*4+4,M36+M37) -> 45.5 | Q36: =IF(P36=реглист!$C$88*4+4,реглист!$C$88+1,RANK(P36,$P$4:$P$81,1)) -> 7
A37: =A36+1 -> 34 | B37: =реглист!B38 -> Bass Hunters | C37: =реглист!C38 -> Кириевский Андрей | D37: =IFERROR(VLOOKUP(C37,Т1За!$C$3:$D$42,2,0),0) -> 0 | E37: =IFERROR(VLOOKUP(C37,Т1За!$C$3:$E$42,3,0),0) -> 23 | F37: =IFERROR(VLOOKUP(C37,Т1Зб!$C$3:$D$42,2,0),0) -> 0 | G37: =IFERROR(VLOOKUP(C37,Т1Зб!$C$3:$E$42,3,0),0) -> 0 | H37: =IFERROR(VLOOKUP(C37,Т2За!$C$3:$D$42,2,0),0) -> 0 | I37: =IFERROR(VLOOKUP(C37,Т2За!$C$3:$E$42,3,0),0) -> 0 | J37: =IFERROR(VLOOKUP(C37,Т2Зб!$C$3:$D$42,2,0),0) -> 207.36 | K37: =IFERROR(VLOOKUP(C37,Т2Зб!$C$3:$E$42,3,0),0) -> 12.5 | L37: =D37+F37+H37+J37 -> 207.36 | M37: =IF(L37=0,реглист!$C$88*2+2,E37+G37+I37+K37) -> 35.5 | N37: 31
A38: =A37+1 -> 35 | B38: =реглист!B39 -> TotalSpin | C38: =реглист!C39 -> Жуковский Александр | D38: =IFERROR(VLOOKUP(C38,Т1За!$C$3:$D$42,2,0),0) -> 0 | E38: =IFERROR(VLOOKUP(C38,Т1За!$C$3:$E$42,3,0),0) -> 0 | F38: =IFERROR(VLOOKUP(C38,Т1Зб!$C$3:$D$42,2,0),0) -> 333.0625 | G38: =IFERROR(VLOOKUP(C38,Т1Зб!$C$3:$E$42,3,0),0) -> 5 | H38: =IFERROR(VLOOKUP(C38,Т2За!$C$3:$D$42,2,0),0) -> 157.5025 | I38: =IFERROR(VLOOKUP(C38,Т2За!$C$3:$E$42,3,0),0) -> 11 | J38: =IFERROR(VLOOKUP(C38,Т2Зб!$C$3:$D$42,2,0),0) -> 0 | K38: =IFERROR(VLOOKUP(C38,Т2Зб!$C$3:$E$42,3,0),0) -> 0 | L38: =D38+F38+H38+J38 -> 490.565 | M38: =IF(L38=0,реглист!$C$88*2+2,E38+G38+I38+K38) -> 16 | N38: 11 | O38: =L38+L39 -> 1241.325 | P38: =IF(O38=0,реглист!$C$88*4+4,M38+M39) -> 41 | Q38: =IF(P38=реглист!$C$88*4+4,реглист!$C$88+1,RANK(P38,$P$4:$P$81,1)) -> 6
A39: =A38+1 -> 36 | B39: =реглист!B40 -> TotalSpin | C39: =реглист!C40 -> Масюк Павел | D39: =IFERROR(VLOOKUP(C39,Т1За!$C$3:$D$42,2,0),0) -> 0 | E39: =IFERROR(VLOOKUP(C39,Т1За!$C$3:$E$42,3,0),0) -> 23 | F39: =IFERROR(VLOOKUP(C39,Т1Зб!$C$3:$D$42,2,0),0) -> 0 | G39: =IFERROR(VLOOKUP(C39,Т1Зб!$C$3:$E$42,3,0),0) -> 0 | H39: =IFERROR(VLOOKUP(C39,Т2За!$C$3:$D$42,2,0),0) -> 0 | I39: =IFERROR(VLOOKUP(C39,Т2За!$C$3:$E$42,3,0),0) -> 0 | J39: =IFERROR(VLOOKUP(C39,Т2Зб!$C$3:$D$42,2,0),0) -> 750.76 | K39: =IFERROR(VLOOKUP(C39,Т2Зб!$C$3:$E$42,3,0),0) -> 2 | L39: =D39+F39+H39+J39 -> 750.76 | M39: =IF(L39=0,реглист!$C$88*2+2,E39+G39+I39+K39) -> 25 | N39: 18
A40: =A39+1 -> 37 | B40: =реглист!B41 -> SB-FISHING | C40: =реглист!C41 -> Болбас Тимофей | D40: =IFERROR(VLOOKUP(C40,Т1За!$C$3:$D$42,2,0),0) -> 0 | E40: =IFERROR(VLOOKUP(C40,Т1За!$C$3:$E$42,3,0),0) -> 0 | F40: =IFERROR(VLOOKUP(C40,Т1Зб!$C$3:$D$42,2,0),0) -> 0 | G40: =IFERROR(VLOOKUP(C40,Т1Зб!$C$3:$E$42,3,0),0) -> 23 | H40: =IFERROR(VLOOKUP(C40,Т2За!$C$3:$D$42,2,0),0) -> 384.16 | I40: =IFERROR(VLOOKUP(C40,Т2За!$C$3:$E$42,3,0),0) -> 5 | J40: =IFERROR(VLOOKUP(C40,Т2Зб!$C$3:$D$42,2,0),0) -> 0 | K40: =IFERROR(VLOOKUP(C40,Т2Зб!$C$3:$E$42,3,0),0) -> 0 | L40: =D40+F40+H40+J40 -> 384.16 | M40: =IF(L40=0,реглист!$C$88*2+2,E40+G40+I40+K40) -> 28 | N40: 22 | O40: =L40+L41 -> 1486.4725 | P40: =IF(O40=0,реглист!$C$88*4+4,M40+M41) -> 36 | Q40: =IF(P40=реглист!$C$88*4+4,реглист!$C$88+1,RANK(P40,$P$4:$P$81,1)) -> 2
A41: =A40+1 -> 38 | B41: =реглист!B42 -> SB-FISHING | C41: =реглист!C42 -> Сапраненков Евгений | D41: =IFERROR(VLOOKUP(C41,Т1За!$C$3:$D$42,2,0),0) -> 529 | E41: =IFERROR(VLOOKUP(C41,Т1За!$C$3:$E$42,3,0),0) -> 5 | F41: =IFERROR(VLOOKUP(C41,Т1Зб!$C$3:$D$42,2,0),0) -> 0 | G41: =IFERROR(VLOOKUP(C41,Т1Зб!$C$3:$E$42,3,0),0) -> 0 | H41: =IFERROR(VLOOKUP(C41,Т2За!$C$3:$D$42,2,0),0) -> 0 | I41: =IFERROR(VLOOKUP(C41,Т2За!$C$3:$E$42,3,0),0) -> 0 | J41: =IFERROR(VLOOKUP(C41,Т2Зб!$C$3:$D$42,2,0),0) -> 573.3125 | K41: =IFERROR(VLOOKUP(C41,Т2Зб!$C$3:$E$42,3,0),0) -> 3 | L41: =D41+F41+H41+J41 -> 1102.3125 | M41: =IF(L41=0,реглист!$C$88*2+2,E41+G41+I41+K41) -> 8 | N41: 3
A42: =A41+1 -> 39 | B42: =реглист!B43 -> Legion | C42: =реглист!C43 -> Бойко Сергей | D42: =IFERROR(VLOOKUP(C42,Т1За!$C$3:$D$42,2,0),0) -> 0 | E42: =IFERROR(VLOOKUP(C42,Т1За!$C$3:$E$42,3,0),0) -> 0 | F42: =IFERROR(VLOOKUP(C42,Т1Зб!$C$3:$D$42,2,0),0) -> 0 | G42: =IFERROR(VLOOKUP(C42,Т1Зб!$C$3:$E$42,3,0),0) -> 23 | H42: =IFERROR(VLOOKUP(C42,Т2За!$C$3:$D$42,2,0),0) -> 0 | I42: =IFERROR(VLOOKUP(C42,Т2За!$C$3:$E$42,3,0),0) -> 23 | J42: =IFERROR(VLOOKUP(C42,Т2Зб!$C$3:$D$42,2,0),0) -> 0 | K42: =IFERROR(VLOOKUP(C42,Т2Зб!$C$3:$E$42,3,0),0) -> 0 | L42: =D42+F42+H42+J42 -> 0 | M42: =IF(L42=0,реглист!$C$88*2+2,E42+G42+I42+K42) -> 46 | N42: 45 | O42: =L42+L43 -> 190.44 | P42: =IF(O42=0,реглист!$C$88*4+4,M42+M43) -> 83 | Q42: =IF(P42=реглист!$C$88*4+4,реглист!$C$88+1,RANK(P42,$P$4:$P$81,1)) -> 20
A43: =A42+1 -> 40 | B43: =реглист!B44 -> Legion | C43: =реглист!C44 -> Микулов Владимир | D43: =IFERROR(VLOOKUP(C43,Т1За!$C$3:$D$42,2,0),0) -> 0 | E43: =IFERROR(VLOOKUP(C43,Т1За!$C$3:$E$42,3,0),0) -> 23 | F43: =IFERROR(VLOOKUP(C43,Т1Зб!$C$3:$D$42,2,0),0) -> 0 | G43: =IFERROR(VLOOKUP(C43,Т1Зб!$C$3:$E$42,3,0),0) -> 0 | H43: =IFERROR(VLOOKUP(C43,Т2За!$C$3:$D$42,2,0),0) -> 0 | I43: =IFERROR(VLOOKUP(C43,Т2За!$C$3:$E$42,3,0),0) -> 0 | J43: =IFERROR(VLOOKUP(C43,Т2Зб!$C$3:$D$42,2,0),0) -> 190.44 | K43: =IFERROR(VLOOKUP(C43,Т2Зб!$C$3:$E$42,3,0),0) -> 14 | L43: =D43+F43+H43+J43 -> 190.44 | M43: =IF(L43=0,реглист!$C$88*2+2,E43+G43+I43+K43) -> 37 | N43: 32
A44: =A43+1 -> 41 | B44: =реглист!B45 -> ASpinnTeam | C44: =реглист!C45 -> Нугуманов Артём | D44: =IFERROR(VLOOKUP(C44,Т1За!$C$3:$D$42,2,0),0) -> 1253.5425 | E44: =IFERROR(VLOOKUP(C44,Т1За!$C$3:$E$42,3,0),0) -> 1 | F44: =IFERROR(VLOOKUP(C44,Т1Зб!$C$3:$D$42,2,0),0) -> 0 | G44: =IFERROR(VLOOKUP(C44,Т1Зб!$C$3:$E$42,3,0),0) -> 0 | H44: =IFERROR(VLOOKUP(C44,Т2За!$C$3:$D$42,2,0),0) -> 0 | I44: =IFERROR(VLOOKUP(C44,Т2За!$C$3:$E$42,3,0),0) -> 0 | J44: =IFERROR(VLOOKUP(C44,Т2Зб!$C$3:$D$42,2,0),0) -> 0 | K44: =IFERROR(VLOOKUP(C44,Т2Зб!$C$3:$E$42,3,0),0) -> 23 | L44: =D44+F44+H44+J44 -> 1253.5425 | M44: =IF(L44=0,реглист!$C$88*2+2,E44+G44+I44+K44) -> 24 | N44: 15 | O44: =L44+L45 -> 1253.5425 | P44: =IF(O44=0,реглист!$C$88*4+4,M44+M45) -> 70 | Q44: =IF(P44=реглист!$C$88*4+4,реглист!$C$88+1,RANK(P44,$P$4:$P$81,1)) -> 17
A45: =A44+1 -> 42 | B45: =реглист!B46 -> ASpinnTeam | C45: =реглист!C46 -> Вашкевич Александр | D45: =IFERROR(VLOOKUP(C45,Т1За!$C$3:$D$42,2,0),0) -> 0 | E45: =IFERROR(VLOOKUP(C45,Т1За!$C$3:$E$42,3,0),0) -> 0 | F45: =IFERROR(VLOOKUP(C45,Т1Зб!$C$3:$D$42,2,0),0) -> 0 | G45: =IFERROR(VLOOKUP(C45,Т1Зб!$C$3:$E$42,3,0),0) -> 23 | H45: =IFERROR(VLOOKUP(C45,Т2За!$C$3:$D$42,2,0),0) -> 0 | I45: =IFERROR(VLOOKUP(C45,Т2За!$C$3:$E$42,3,0),0) -> 23 | J45: =IFERROR(VLOOKUP(C45,Т2Зб!$C$3:$D$42,2,0),0) -> 0 | K45: =IFERROR(VLOOKUP(C45,Т2Зб!$C$3:$E$42,3,0),0) -> 0 | L45: =D45+F45+H45+J45 -> 0 | M45: =IF(L45=0,реглист!$C$88*2+2,E45+G45+I45+K45) -> 46 | N45: 45
A46: =A45+1 -> 43 | B46: =реглист!B47 -> nanobass | C46: =реглист!C47 -> Бычик Роман | D46: =IFERROR(VLOOKUP(C46,Т1За!$C$3:$D$42,2,0),0) -> 126.5625 | E46: =IFERROR(VLOOKUP(C46,Т1За!$C$3:$E$42,3,0),0) -> 10 | F46: =IFERROR(VLOOKUP(C46,Т1Зб!$C$3:$D$42,2,0),0) -> 0 | G46: =IFERROR(VLOOKUP(C46,Т1Зб!$C$3:$E$42,3,0),0) -> 0 | H46: =IFERROR(VLOOKUP(C46,Т2За!$C$3:$D$42,2,0),0) -> 0 | I46: =IFERROR(VLOOKUP(C46,Т2За!$C$3:$E$42,3,0),0) -> 0 | J46: =IFERROR(VLOOKUP(C46,Т2Зб!$C$3:$D$42,2,0),0) -> 262.44 | K46: =IFERROR(VLOOKUP(C46,Т2Зб!$C$3:$E$42,3,0),0) -> 10 | L46: =D46+F46+H46+J46 -> 389.0025 | M46: =IF(L46=0,реглист!$C$88*2+2,E46+G46+I46+K46) -> 20 | N46: 13 | O46: =L46+L47 -> 949.365 | P46: =IF(O46=0,реглист!$C$88*4+4,M46+M47) -> 47 | Q46: 9
A47: =A46+1 -> 44 | B47: =реглист!B48 -> nanobass | C47: =реглист!C48 -> Мартынчук Михаил | D47: =IFERROR(VLOOKUP(C47,Т1За!$C$3:$D$42,2,0),0) -> 0 | E47: =IFERROR(VLOOKUP(C47,Т1За!$C$3:$E$42,3,0),0) -> 0 | F47: =IFERROR(VLOOKUP(C47,Т1Зб!$C$3:$D$42,2,0),0) -> 0 | G47: =IFERROR(VLOOKUP(C47,Т1Зб!$C$3:$E$42,3,0),0) -> 23 | H47: =IFERROR(VLOOKUP(C47,Т2За!$C$3:$D$42,2,0),0) -> 560.3625 | I47: =IFERROR(VLOOKUP(C47,Т2За!$C$3:$E$42,3,0),0) -> 4 | J47: =IFERROR(VLOOKUP(C47,Т2Зб!$C$3:$D$42,2,0),0) -> 0 | K47: =IFERROR(VLOOKUP(C47,Т2Зб!$C$3:$E$42,3,0),0) -> 0 | L47: =D47+F47+H47+J47 -> 560.3625 | M47: =IF(L47=0,реглист!$C$88*2+2,E47+G47+I47+K47) -> 27 | N47: 20
A48: =A47+1 -> 45 | B48: =реглист!B49 -> 0 | C48: =реглист!C49 -> 0 | D48: =IFERROR(VLOOKUP(C48,Т1За!$C$3:$D$42,2,0),0) -> 0 | E48: =IFERROR(VLOOKUP(C48,Т1За!$C$3:$E$42,3,0),0) -> 23 | F48: =IFERROR(VLOOKUP(C48,Т1Зб!$C$3:$D$42,2,0),0) -> 0 | G48: =IFERROR(VLOOKUP(C48,Т1Зб!$C$3:$E$42,3,0),0) -> 23 | H48: =IFERROR(VLOOKUP(C48,Т2За!$C$3:$D$42,2,0),0) -> 0 | I48: =IFERROR(VLOOKUP(C48,Т2За!$C$3:$E$42,3,0),0) -> 23 | J48: =IFERROR(VLOOKUP(C48,Т2Зб!$C$3:$D$42,2,0),0) -> 0 | K48: =IFERROR(VLOOKUP(C48,Т2Зб!$C$3:$E$42,3,0),0) -> 23 | L48: =D48+F48+H48+J48 -> 0 | M48: =IF(L48=0,реглист!$C$88*2+2,E48+G48+I48+K48) -> 46 | N48: =IF(M48=реглист!$C$88*2+2,реглист!$C$88*2+1,RANK(M48,$M$4:$M$81,1)) -> 45 | O48: =L48+L49 -> 0 | P48: =IF(O48=0,реглист!$C$88*4+4,M48+M49) -> 92 | Q48: =IF(P48=реглист!$C$88*4+4,реглист!$C$88+1,RANK(P48,$P$4:$P$81,1)) -> 23
A49: =A48+1 -> 46 | B49: =реглист!B50 -> 0 | C49: =реглист!C50 -> 0 | D49: =IFERROR(VLOOKUP(C49,Т1За!$C$3:$D$42,2,0),0) -> 0 | E49: =IFERROR(VLOOKUP(C49,Т1За!$C$3:$E$42,3,0),0) -> 23 | F49: =IFERROR(VLOOKUP(C49,Т1Зб!$C$3:$D$42,2,0),0) -> 0 | G49: =IFERROR(VLOOKUP(C49,Т1Зб!$C$3:$E$42,3,0),0) -> 23 | H49: =IFERROR(VLOOKUP(C49,Т2За!$C$3:$D$42,2,0),0) -> 0 | I49: =IFERROR(VLOOKUP(C49,Т2За!$C$3:$E$42,3,0),0) -> 23 | J49: =IFERROR(VLOOKUP(C49,Т2Зб!$C$3:$D$42,2,0),0) -> 0 | K49: =IFERROR(VLOOKUP(C49,Т2Зб!$C$3:$E$42,3,0),0) -> 23 | L49: =D49+F49+H49+J49 -> 0 | M49: =IF(L49=0,реглист!$C$88*2+2,E49+G49+I49+K49) -> 46 | N49: =IF(M49=реглист!$C$88*2+2,реглист!$C$88*2+1,RANK(M49,$M$4:$M$81,1)) -> 45
A50: =A49+1 -> 47 | B50: =реглист!B51 -> 0 | C50: =реглист!C51 -> 0 | D50: =IFERROR(VLOOKUP(C50,Т1За!$C$3:$D$42,2,0),0) -> 0 | E50: =IFERROR(VLOOKUP(C50,Т1За!$C$3:$E$42,3,0),0) -> 23 | F50: =IFERROR(VLOOKUP(C50,Т1Зб!$C$3:$D$42,2,0),0) -> 0 | G50: =IFERROR(VLOOKUP(C50,Т1Зб!$C$3:$E$42,3,0),0) -> 23 | H50: =IFERROR(VLOOKUP(C50,Т2За!$C$3:$D$42,2,0),0) -> 0 | I50: =IFERROR(VLOOKUP(C50,Т2За!$C$3:$E$42,3,0),0) -> 23 | J50: =IFERROR(VLOOKUP(C50,Т2Зб!$C$3:$D$42,2,0),0) -> 0 | K50: =IFERROR(VLOOKUP(C50,Т2Зб!$C$3:$E$42,3,0),0) -> 23 | L50: =D50+F50+H50+J50 -> 0 | M50: =IF(L50=0,реглист!$C$88*2+2,E50+G50+I50+K50) -> 46 | N50: =IF(M50=реглист!$C$88*2+2,реглист!$C$88*2+1,RANK(M50,$M$4:$M$81,1)) -> 45 | O50: =L50+L51 -> 0 | P50: =IF(O50=0,реглист!$C$88*4+4,M50+M51) -> 92 | Q50: =IF(P50=реглист!$C$88*4+4,реглист!$C$88+1,RANK(P50,$P$4:$P$81,1)) -> 23
A51: =A50+1 -> 48 | B51: =реглист!B52 -> 0 | C51: =реглист!C52 -> 0 | D51: =IFERROR(VLOOKUP(C51,Т1За!$C$3:$D$42,2,0),0) -> 0 | E51: =IFERROR(VLOOKUP(C51,Т1За!$C$3:$E$42,3,0),0) -> 23 | F51: =IFERROR(VLOOKUP(C51,Т1Зб!$C$3:$D$42,2,0),0) -> 0 | G51: =IFERROR(VLOOKUP(C51,Т1Зб!$C$3:$E$42,3,0),0) -> 23 | H51: =IFERROR(VLOOKUP(C51,Т2За!$C$3:$D$42,2,0),0) -> 0 | I51: =IFERROR(VLOOKUP(C51,Т2За!$C$3:$E$42,3,0),0) -> 23 | J51: =IFERROR(VLOOKUP(C51,Т2Зб!$C$3:$D$42,2,0),0) -> 0 | K51: =IFERROR(VLOOKUP(C51,Т2Зб!$C$3:$E$42,3,0),0) -> 23 | L51: =D51+F51+H51+J51 -> 0 | M51: =IF(L51=0,реглист!$C$88*2+2,E51+G51+I51+K51) -> 46 | N51: =IF(M51=реглист!$C$88*2+2,реглист!$C$88*2+1,RANK(M51,$M$4:$M$81,1)) -> 45
A52: =A51+1 -> 49 | B52: =реглист!B53 -> 0 | C52: =реглист!C53 -> 0 | D52: =IFERROR(VLOOKUP(C52,Т1За!$C$3:$D$42,2,0),0) -> 0 | E52: =IFERROR(VLOOKUP(C52,Т1За!$C$3:$E$42,3,0),0) -> 23 | F52: =IFERROR(VLOOKUP(C52,Т1Зб!$C$3:$D$42,2,0),0) -> 0 | G52: =IFERROR(VLOOKUP(C52,Т1Зб!$C$3:$E$42,3,0),0) -> 23 | H52: =IFERROR(VLOOKUP(C52,Т2За!$C$3:$D$42,2,0),0) -> 0 | I52: =IFERROR(VLOOKUP(C52,Т2За!$C$3:$E$42,3,0),0) -> 23 | J52: =IFERROR(VLOOKUP(C52,Т2Зб!$C$3:$D$42,2,0),0) -> 0 | K52: =IFERROR(VLOOKUP(C52,Т2Зб!$C$3:$E$42,3,0),0) -> 23 | L52: =D52+F52+H52+J52 -> 0 | M52: =IF(L52=0,реглист!$C$88*2+2,E52+G52+I52+K52) -> 46 | N52: =IF(M52=реглист!$C$88*2+2,реглист!$C$88*2+1,RANK(M52,$M$4:$M$81,1)) -> 45 | O52: =L52+L53 -> 0 | P52: =IF(O52=0,реглист!$C$88*4+4,M52+M53) -> 92 | Q52: =IF(P52=реглист!$C$88*4+4,реглист!$C$88+1,RANK(P52,$P$4:$P$81,1)) -> 23
A53: =A52+1 -> 50 | B53: =реглист!B54 -> 0 | C53: =реглист!C54 -> 0 | D53: =IFERROR(VLOOKUP(C53,Т1За!$C$3:$D$42,2,0),0) -> 0 | E53: =IFERROR(VLOOKUP(C53,Т1За!$C$3:$E$42,3,0),0) -> 23 | F53: =IFERROR(VLOOKUP(C53,Т1Зб!$C$3:$D$42,2,0),0) -> 0 | G53: =IFERROR(VLOOKUP(C53,Т1Зб!$C$3:$E$42,3,0),0) -> 23 | H53: =IFERROR(VLOOKUP(C53,Т2За!$C$3:$D$42,2,0),0) -> 0 | I53: =IFERROR(VLOOKUP(C53,Т2За!$C$3:$E$42,3,0),0) -> 23 | J53: =IFERROR(VLOOKUP(C53,Т2Зб!$C$3:$D$42,2,0),0) -> 0 | K53: =IFERROR(VLOOKUP(C53,Т2Зб!$C$3:$E$42,3,0),0) -> 23 | L53: =D53+F53+H53+J53 -> 0 | M53: =IF(L53=0,реглист!$C$88*2+2,E53+G53+I53+K53) -> 46 | N53: =IF(M53=реглист!$C$88*2+2,реглист!$C$88*2+1,RANK(M53,$M$4:$M$81,1)) -> 45
A54: =A53+1 -> 51 | B54: =реглист!B55 -> 0 | C54: =реглист!C55 -> 0 | D54: =IFERROR(VLOOKUP(C54,Т1За!$C$3:$D$42,2,0),0) -> 0 | E54: =IFERROR(VLOOKUP(C54,Т1За!$C$3:$E$42,3,0),0) -> 23 | F54: =IFERROR(VLOOKUP(C54,Т1Зб!$C$3:$D$42,2,0),0) -> 0 | G54: =IFERROR(VLOOKUP(C54,Т1Зб!$C$3:$E$42,3,0),0) -> 23 | H54: =IFERROR(VLOOKUP(C54,Т2За!$C$3:$D$42,2,0),0) -> 0 | I54: =IFERROR(VLOOKUP(C54,Т2За!$C$3:$E$42,3,0),0) -> 23 | J54: =IFERROR(VLOOKUP(C54,Т2Зб!$C$3:$D$42,2,0),0) -> 0 | K54: =IFERROR(VLOOKUP(C54,Т2Зб!$C$3:$E$42,3,0),0) -> 23 | L54: =D54+F54+H54+J54 -> 0 | M54: =IF(L54=0,реглист!$C$88*2+2,E54+G54+I54+K54) -> 46 | N54: =IF(M54=реглист!$C$88*2+2,реглист!$C$88*2+1,RANK(M54,$M$4:$M$81,1)) -> 45 | O54: =L54+L55 -> 0 | P54: =IF(O54=0,реглист!$C$88*4+4,M54+M55) -> 92 | Q54: =IF(P54=реглист!$C$88*4+4,реглист!$C$88+1,RANK(P54,$P$4:$P$81,1)) -> 23
A55: =A54+1 -> 52 | B55: =реглист!B56 -> 0 | C55: =реглист!C56 -> 0 | D55: =IFERROR(VLOOKUP(C55,Т1За!$C$3:$D$42,2,0),0) -> 0 | E55: =IFERROR(VLOOKUP(C55,Т1За!$C$3:$E$42,3,0),0) -> 23 | F55: =IFERROR(VLOOKUP(C55,Т1Зб!$C$3:$D$42,2,0),0) -> 0 | G55: =IFERROR(VLOOKUP(C55,Т1Зб!$C$3:$E$42,3,0),0) -> 23 | H55: =IFERROR(VLOOKUP(C55,Т2За!$C$3:$D$42,2,0),0) -> 0 | I55: =IFERROR(VLOOKUP(C55,Т2За!$C$3:$E$42,3,0),0) -> 23 | J55: =IFERROR(VLOOKUP(C55,Т2Зб!$C$3:$D$42,2,0),0) -> 0 | K55: =IFERROR(VLOOKUP(C55,Т2Зб!$C$3:$E$42,3,0),0) -> 23 | L55: =D55+F55+H55+J55 -> 0 | M55: =IF(L55=0,реглист!$C$88*2+2,E55+G55+I55+K55) -> 46 | N55: =IF(M55=реглист!$C$88*2+2,реглист!$C$88*2+1,RANK(M55,$M$4:$M$81,1)) -> 45
A56: =A55+1 -> 53 | B56: =реглист!B57 -> 0 | C56: =реглист!C57 -> 0 | D56: =IFERROR(VLOOKUP(C56,Т1За!$C$3:$D$42,2,0),0) -> 0 | E56: =IFERROR(VLOOKUP(C56,Т1За!$C$3:$E$42,3,0),0) -> 23 | F56: =IFERROR(VLOOKUP(C56,Т1Зб!$C$3:$D$42,2,0),0) -> 0 | G56: =IFERROR(VLOOKUP(C56,Т1Зб!$C$3:$E$42,3,0),0) -> 23 | H56: =IFERROR(VLOOKUP(C56,Т2За!$C$3:$D$42,2,0),0) -> 0 | I56: =IFERROR(VLOOKUP(C56,Т2За!$C$3:$E$42,3,0),0) -> 23 | J56: =IFERROR(VLOOKUP(C56,Т2Зб!$C$3:$D$42,2,0),0) -> 0 | K56: =IFERROR(VLOOKUP(C56,Т2Зб!$C$3:$E$42,3,0),0) -> 23 | L56: =D56+F56+H56+J56 -> 0 | M56: =IF(L56=0,реглист!$C$88*2+2,E56+G56+I56+K56) -> 46 | N56: =IF(M56=реглист!$C$88*2+2,реглист!$C$88*2+1,RANK(M56,$M$4:$M$81,1)) -> 45 | O56: =L56+L57 -> 0 | P56: =IF(O56=0,реглист!$C$88*4+4,M56+M57) -> 92 | Q56: =IF(P56=реглист!$C$88*4+4,реглист!$C$88+1,RANK(P56,$P$4:$P$81,1)) -> 23
A57: =A56+1 -> 54 | B57: =реглист!B58 -> 0 | C57: =реглист!C58 -> 0 | D57: =IFERROR(VLOOKUP(C57,Т1За!$C$3:$D$42,2,0),0) -> 0 | E57: =IFERROR(VLOOKUP(C57,Т1За!$C$3:$E$42,3,0),0) -> 23 | F57: =IFERROR(VLOOKUP(C57,Т1Зб!$C$3:$D$42,2,0),0) -> 0 | G57: =IFERROR(VLOOKUP(C57,Т1Зб!$C$3:$E$42,3,0),0) -> 23 | H57: =IFERROR(VLOOKUP(C57,Т2За!$C$3:$D$42,2,0),0) -> 0 | I57: =IFERROR(VLOOKUP(C57,Т2За!$C$3:$E$42,3,0),0) -> 23 | J57: =IFERROR(VLOOKUP(C57,Т2Зб!$C$3:$D$42,2,0),0) -> 0 | K57: =IFERROR(VLOOKUP(C57,Т2Зб!$C$3:$E$42,3,0),0) -> 23 | L57: =D57+F57+H57+J57 -> 0 | M57: =IF(L57=0,реглист!$C$88*2+2,E57+G57+I57+K57) -> 46 | N57: =IF(M57=реглист!$C$88*2+2,реглист!$C$88*2+1,RANK(M57,$M$4:$M$81,1)) -> 45
A58: =A57+1 -> 55 | B58: =реглист!B59 -> 0 | C58: =реглист!C59 -> 0 | D58: =IFERROR(VLOOKUP(C58,Т1За!$C$3:$D$42,2,0),0) -> 0 | E58: =IFERROR(VLOOKUP(C58,Т1За!$C$3:$E$42,3,0),0) -> 23 | F58: =IFERROR(VLOOKUP(C58,Т1Зб!$C$3:$D$42,2,0),0) -> 0 | G58: =IFERROR(VLOOKUP(C58,Т1Зб!$C$3:$E$42,3,0),0) -> 23 | H58: =IFERROR(VLOOKUP(C58,Т2За!$C$3:$D$42,2,0),0) -> 0 | I58: =IFERROR(VLOOKUP(C58,Т2За!$C$3:$E$42,3,0),0) -> 23 | J58: =IFERROR(VLOOKUP(C58,Т2Зб!$C$3:$D$42,2,0),0) -> 0 | K58: =IFERROR(VLOOKUP(C58,Т2Зб!$C$3:$E$42,3,0),0) -> 23 | L58: =D58+F58+H58+J58 -> 0 | M58: =IF(L58=0,реглист!$C$88*2+2,E58+G58+I58+K58) -> 46 | N58: =IF(M58=реглист!$C$88*2+2,реглист!$C$88*2+1,RANK(M58,$M$4:$M$81,1)) -> 45 | O58: =L58+L59 -> 0 | P58: =IF(O58=0,реглист!$C$88*4+4,M58+M59) -> 92 | Q58: =IF(P58=реглист!$C$88*4+4,реглист!$C$88+1,RANK(P58,$P$4:$P$81,1)) -> 23
A59: =A58+1 -> 56 | B59: =реглист!B60 -> 0 | C59: =реглист!C60 -> 0 | D59: =IFERROR(VLOOKUP(C59,Т1За!$C$3:$D$42,2,0),0) -> 0 | E59: =IFERROR(VLOOKUP(C59,Т1За!$C$3:$E$42,3,0),0) -> 23 | F59: =IFERROR(VLOOKUP(C59,Т1Зб!$C$3:$D$42,2,0),0) -> 0 | G59: =IFERROR(VLOOKUP(C59,Т1Зб!$C$3:$E$42,3,0),0) -> 23 | H59: =IFERROR(VLOOKUP(C59,Т2За!$C$3:$D$42,2,0),0) -> 0 | I59: =IFERROR(VLOOKUP(C59,Т2За!$C$3:$E$42,3,0),0) -> 23 | J59: =IFERROR(VLOOKUP(C59,Т2Зб!$C$3:$D$42,2,0),0) -> 0 | K59: =IFERROR(VLOOKUP(C59,Т2Зб!$C$3:$E$42,3,0),0) -> 23 | L59: =D59+F59+H59+J59 -> 0 | M59: =IF(L59=0,реглист!$C$88*2+2,E59+G59+I59+K59) -> 46 | N59: =IF(M59=реглист!$C$88*2+2,реглист!$C$88*2+1,RANK(M59,$M$4:$M$81,1)) -> 45
A60: =A59+1 -> 57 | B60: =реглист!B61 -> 0 | C60: =реглист!C61 -> 0 | D60: =IFERROR(VLOOKUP(C60,Т1За!$C$3:$D$42,2,0),0) -> 0 | E60: =IFERROR(VLOOKUP(C60,Т1За!$C$3:$E$42,3,0),0) -> 23 | F60: =IFERROR(VLOOKUP(C60,Т1Зб!$C$3:$D$42,2,0),0) -> 0 | G60: =IFERROR(VLOOKUP(C60,Т1Зб!$C$3:$E$42,3,0),0) -> 23 | H60: =IFERROR(VLOOKUP(C60,Т2За!$C$3:$D$42,2,0),0) -> 0 | I60: =IFERROR(VLOOKUP(C60,Т2За!$C$3:$E$42,3,0),0) -> 23 | J60: =IFERROR(VLOOKUP(C60,Т2Зб!$C$3:$D$42,2,0),0) -> 0 | K60: =IFERROR(VLOOKUP(C60,Т2Зб!$C$3:$E$42,3,0),0) -> 23 | L60: =D60+F60+H60+J60 -> 0 | M60: =IF(L60=0,реглист!$C$88*2+2,E60+G60+I60+K60) -> 46 | N60: =IF(M60=реглист!$C$88*2+2,реглист!$C$88*2+1,RANK(M60,$M$4:$M$81,1)) -> 45 | O60: =L60+L61 -> 0 | P60: =IF(O60=0,реглист!$C$88*4+4,M60+M61) -> 92 | Q60: =IF(P60=реглист!$C$88*4+4,реглист!$C$88+1,RANK(P60,$P$4:$P$81,1)) -> 23
A61: =A60+1 -> 58 | B61: =реглист!B62 -> 0 | C61: =реглист!C62 -> 0 | D61: =IFERROR(VLOOKUP(C61,Т1За!$C$3:$D$42,2,0),0) -> 0 | E61: =IFERROR(VLOOKUP(C61,Т1За!$C$3:$E$42,3,0),0) -> 23 | F61: =IFERROR(VLOOKUP(C61,Т1Зб!$C$3:$D$42,2,0),0) -> 0 | G61: =IFERROR(VLOOKUP(C61,Т1Зб!$C$3:$E$42,3,0),0) -> 23 | H61: =IFERROR(VLOOKUP(C61,Т2За!$C$3:$D$42,2,0),0) -> 0 | I61: =IFERROR(VLOOKUP(C61,Т2За!$C$3:$E$42,3,0),0) -> 23 | J61: =IFERROR(VLOOKUP(C61,Т2Зб!$C$3:$D$42,2,0),0) -> 0 | K61: =IFERROR(VLOOKUP(C61,Т2Зб!$C$3:$E$42,3,0),0) -> 23 | L61: =D61+F61+H61+J61 -> 0 | M61: =IF(L61=0,реглист!$C$88*2+2,E61+G61+I61+K61) -> 46 | N61: =IF(M61=реглист!$C$88*2+2,реглист!$C$88*2+1,RANK(M61,$M$4:$M$81,1)) -> 45
A62: =A61+1 -> 59 | B62: =реглист!B63 -> 0 | C62: =реглист!C63 -> 0 | D62: =IFERROR(VLOOKUP(C62,Т1За!$C$3:$D$42,2,0),0) -> 0 | E62: =IFERROR(VLOOKUP(C62,Т1За!$C$3:$E$42,3,0),0) -> 23 | F62: =IFERROR(VLOOKUP(C62,Т1Зб!$C$3:$D$42,2,0),0) -> 0 | G62: =IFERROR(VLOOKUP(C62,Т1Зб!$C$3:$E$42,3,0),0) -> 23 | H62: =IFERROR(VLOOKUP(C62,Т2За!$C$3:$D$42,2,0),0) -> 0 | I62: =IFERROR(VLOOKUP(C62,Т2За!$C$3:$E$42,3,0),0) -> 23 | J62: =IFERROR(VLOOKUP(C62,Т2Зб!$C$3:$D$42,2,0),0) -> 0 | K62: =IFERROR(VLOOKUP(C62,Т2Зб!$C$3:$E$42,3,0),0) -> 23 | L62: =D62+F62+H62+J62 -> 0 | M62: =IF(L62=0,реглист!$C$88*2+2,E62+G62+I62+K62) -> 46 | N62: =IF(M62=реглист!$C$88*2+2,реглист!$C$88*2+1,RANK(M62,$M$4:$M$81,1)) -> 45 | O62: =L62+L63 -> 0 | P62: =IF(O62=0,реглист!$C$88*4+4,M62+M63) -> 92 | Q62: =IF(P62=реглист!$C$88*4+4,реглист!$C$88+1,RANK(P62,$P$4:$P$81,1)) -> 23
A63: =A62+1 -> 60 | B63: =реглист!B64 -> 0 | C63: =реглист!C64 -> 0 | D63: =IFERROR(VLOOKUP(C63,Т1За!$C$3:$D$42,2,0),0) -> 0 | E63: =IFERROR(VLOOKUP(C63,Т1За!$C$3:$E$42,3,0),0) -> 23 | F63: =IFERROR(VLOOKUP(C63,Т1Зб!$C$3:$D$42,2,0),0) -> 0 | G63: =IFERROR(VLOOKUP(C63,Т1Зб!$C$3:$E$42,3,0),0) -> 23 | H63: =IFERROR(VLOOKUP(C63,Т2За!$C$3:$D$42,2,0),0) -> 0 | I63: =IFERROR(VLOOKUP(C63,Т2За!$C$3:$E$42,3,0),0) -> 23 | J63: =IFERROR(VLOOKUP(C63,Т2Зб!$C$3:$D$42,2,0),0) -> 0 | K63: =IFERROR(VLOOKUP(C63,Т2Зб!$C$3:$E$42,3,0),0) -> 23 | L63: =D63+F63+H63+J63 -> 0 | M63: =IF(L63=0,реглист!$C$88*2+2,E63+G63+I63+K63) -> 46 | N63: =IF(M63=реглист!$C$88*2+2,реглист!$C$88*2+1,RANK(M63,$M$4:$M$81,1)) -> 45
A64: =A63+1 -> 61 | B64: =реглист!B65 -> 0 | C64: =реглист!C65 -> 0 | D64: =IFERROR(VLOOKUP(C64,Т1За!$C$3:$D$42,2,0),0) -> 0 | E64: =IFERROR(VLOOKUP(C64,Т1За!$C$3:$E$42,3,0),0) -> 23 | F64: =IFERROR(VLOOKUP(C64,Т1Зб!$C$3:$D$42,2,0),0) -> 0 | G64: =IFERROR(VLOOKUP(C64,Т1Зб!$C$3:$E$42,3,0),0) -> 23 | H64: =IFERROR(VLOOKUP(C64,Т2За!$C$3:$D$42,2,0),0) -> 0 | I64: =IFERROR(VLOOKUP(C64,Т2За!$C$3:$E$42,3,0),0) -> 23 | J64: =IFERROR(VLOOKUP(C64,Т2Зб!$C$3:$D$42,2,0),0) -> 0 | K64: =IFERROR(VLOOKUP(C64,Т2Зб!$C$3:$E$42,3,0),0) -> 23 | L64: =D64+F64+H64+J64 -> 0 | M64: =IF(L64=0,реглист!$C$88*2+2,E64+G64+I64+K64) -> 46 | N64: =IF(M64=реглист!$C$88*2+2,реглист!$C$88*2+1,RANK(M64,$M$4:$M$81,1)) -> 45 | O64: =L64+L65 -> 0 | P64: =IF(O64=0,реглист!$C$88*4+4,M64+M65) -> 92 | Q64: =IF(P64=реглист!$C$88*4+4,реглист!$C$88+1,RANK(P64,$P$4:$P$81,1)) -> 23
A65: =A64+1 -> 62 | B65: =реглист!B66 -> 0 | C65: =реглист!C66 -> 0 | D65: =IFERROR(VLOOKUP(C65,Т1За!$C$3:$D$42,2,0),0) -> 0 | E65: =IFERROR(VLOOKUP(C65,Т1За!$C$3:$E$42,3,0),0) -> 23 | F65: =IFERROR(VLOOKUP(C65,Т1Зб!$C$3:$D$42,2,0),0) -> 0 | G65: =IFERROR(VLOOKUP(C65,Т1Зб!$C$3:$E$42,3,0),0) -> 23 | H65: =IFERROR(VLOOKUP(C65,Т2За!$C$3:$D$42,2,0),0) -> 0 | I65: =IFERROR(VLOOKUP(C65,Т2За!$C$3:$E$42,3,0),0) -> 23 | J65: =IFERROR(VLOOKUP(C65,Т2Зб!$C$3:$D$42,2,0),0) -> 0 | K65: =IFERROR(VLOOKUP(C65,Т2Зб!$C$3:$E$42,3,0),0) -> 23 | L65: =D65+F65+H65+J65 -> 0 | M65: =IF(L65=0,реглист!$C$88*2+2,E65+G65+I65+K65) -> 46 | N65: =IF(M65=реглист!$C$88*2+2,реглист!$C$88*2+1,RANK(M65,$M$4:$M$81,1)) -> 45
A66: =A65+1 -> 63 | B66: =реглист!B67 -> 0 | C66: =реглист!C67 -> 0 | D66: =IFERROR(VLOOKUP(C66,Т1За!$C$3:$D$42,2,0),0) -> 0 | E66: =IFERROR(VLOOKUP(C66,Т1За!$C$3:$E$42,3,0),0) -> 23 | F66: =IFERROR(VLOOKUP(C66,Т1Зб!$C$3:$D$42,2,0),0) -> 0 | G66: =IFERROR(VLOOKUP(C66,Т1Зб!$C$3:$E$42,3,0),0) -> 23 | H66: =IFERROR(VLOOKUP(C66,Т2За!$C$3:$D$42,2,0),0) -> 0 | I66: =IFERROR(VLOOKUP(C66,Т2За!$C$3:$E$42,3,0),0) -> 23 | J66: =IFERROR(VLOOKUP(C66,Т2Зб!$C$3:$D$42,2,0),0) -> 0 | K66: =IFERROR(VLOOKUP(C66,Т2Зб!$C$3:$E$42,3,0),0) -> 23 | L66: =D66+F66+H66+J66 -> 0 | M66: =IF(L66=0,реглист!$C$88*2+2,E66+G66+I66+K66) -> 46 | N66: =IF(M66=реглист!$C$88*2+2,реглист!$C$88*2+1,RANK(M66,$M$4:$M$81,1)) -> 45 | O66: =L66+L67 -> 0 | P66: =IF(O66=0,реглист!$C$88*4+4,M66+M67) -> 92 | Q66: =IF(P66=реглист!$C$88*4+4,реглист!$C$88+1,RANK(P66,$P$4:$P$81,1)) -> 23
A67: =A66+1 -> 64 | B67: =реглист!B68 -> 0 | C67: =реглист!C68 -> 0 | D67: =IFERROR(VLOOKUP(C67,Т1За!$C$3:$D$42,2,0),0) -> 0 | E67: =IFERROR(VLOOKUP(C67,Т1За!$C$3:$E$42,3,0),0) -> 23 | F67: =IFERROR(VLOOKUP(C67,Т1Зб!$C$3:$D$42,2,0),0) -> 0 | G67: =IFERROR(VLOOKUP(C67,Т1Зб!$C$3:$E$42,3,0),0) -> 23 | H67: =IFERROR(VLOOKUP(C67,Т2За!$C$3:$D$42,2,0),0) -> 0 | I67: =IFERROR(VLOOKUP(C67,Т2За!$C$3:$E$42,3,0),0) -> 23 | J67: =IFERROR(VLOOKUP(C67,Т2Зб!$C$3:$D$42,2,0),0) -> 0 | K67: =IFERROR(VLOOKUP(C67,Т2Зб!$C$3:$E$42,3,0),0) -> 23 | L67: =D67+F67+H67+J67 -> 0 | M67: =IF(L67=0,реглист!$C$88*2+2,E67+G67+I67+K67) -> 46 | N67: =IF(M67=реглист!$C$88*2+2,реглист!$C$88*2+1,RANK(M67,$M$4:$M$81,1)) -> 45
A68: =A67+1 -> 65 | B68: =реглист!B69 -> 0 | C68: =реглист!C69 -> 0 | D68: =IFERROR(VLOOKUP(C68,Т1За!$C$3:$D$42,2,0),0) -> 0 | E68: =IFERROR(VLOOKUP(C68,Т1За!$C$3:$E$42,3,0),0) -> 23 | F68: =IFERROR(VLOOKUP(C68,Т1Зб!$C$3:$D$42,2,0),0) -> 0 | G68: =IFERROR(VLOOKUP(C68,Т1Зб!$C$3:$E$42,3,0),0) -> 23 | H68: =IFERROR(VLOOKUP(C68,Т2За!$C$3:$D$42,2,0),0) -> 0 | I68: =IFERROR(VLOOKUP(C68,Т2За!$C$3:$E$42,3,0),0) -> 23 | J68: =IFERROR(VLOOKUP(C68,Т2Зб!$C$3:$D$42,2,0),0) -> 0 | K68: =IFERROR(VLOOKUP(C68,Т2Зб!$C$3:$E$42,3,0),0) -> 23 | L68: =D68+F68+H68+J68 -> 0 | M68: =IF(L68=0,реглист!$C$88*2+2,E68+G68+I68+K68) -> 46 | N68: =IF(M68=реглист!$C$88*2+2,реглист!$C$88*2+1,RANK(M68,$M$4:$M$81,1)) -> 45 | O68: =L68+L69 -> 0 | P68: =IF(O68=0,реглист!$C$88*4+4,M68+M69) -> 92 | Q68: =IF(P68=реглист!$C$88*4+4,реглист!$C$88+1,RANK(P68,$P$4:$P$81,1)) -> 23
A69: =A68+1 -> 66 | B69: =реглист!B70 -> 0 | C69: =реглист!C70 -> 0 | D69: =IFERROR(VLOOKUP(C69,Т1За!$C$3:$D$42,2,0),0) -> 0 | E69: =IFERROR(VLOOKUP(C69,Т1За!$C$3:$E$42,3,0),0) -> 23 | F69: =IFERROR(VLOOKUP(C69,Т1Зб!$C$3:$D$42,2,0),0) -> 0 | G69: =IFERROR(VLOOKUP(C69,Т1Зб!$C$3:$E$42,3,0),0) -> 23 | H69: =IFERROR(VLOOKUP(C69,Т2За!$C$3:$D$42,2,0),0) -> 0 | I69: =IFERROR(VLOOKUP(C69,Т2За!$C$3:$E$42,3,0),0) -> 23 | J69: =IFERROR(VLOOKUP(C69,Т2Зб!$C$3:$D$42,2,0),0) -> 0 | K69: =IFERROR(VLOOKUP(C69,Т2Зб!$C$3:$E$42,3,0),0) -> 23 | L69: =D69+F69+H69+J69 -> 0 | M69: =IF(L69=0,реглист!$C$88*2+2,E69+G69+I69+K69) -> 46 | N69: =IF(M69=реглист!$C$88*2+2,реглист!$C$88*2+1,RANK(M69,$M$4:$M$81,1)) -> 45
A70: =A69+1 -> 67 | B70: =реглист!B71 -> 0 | C70: =реглист!C71 -> 0 | D70: =IFERROR(VLOOKUP(C70,Т1За!$C$3:$D$42,2,0),0) -> 0 | E70: =IFERROR(VLOOKUP(C70,Т1За!$C$3:$E$42,3,0),0) -> 23 | F70: =IFERROR(VLOOKUP(C70,Т1Зб!$C$3:$D$42,2,0),0) -> 0 | G70: =IFERROR(VLOOKUP(C70,Т1Зб!$C$3:$E$42,3,0),0) -> 23 | H70: =IFERROR(VLOOKUP(C70,Т2За!$C$3:$D$42,2,0),0) -> 0 | I70: =IFERROR(VLOOKUP(C70,Т2За!$C$3:$E$42,3,0),0) -> 23 | J70: =IFERROR(VLOOKUP(C70,Т2Зб!$C$3:$D$42,2,0),0) -> 0 | K70: =IFERROR(VLOOKUP(C70,Т2Зб!$C$3:$E$42,3,0),0) -> 23 | L70: =D70+F70+H70+J70 -> 0 | M70: =IF(L70=0,реглист!$C$88*2+2,E70+G70+I70+K70) -> 46 | N70: =IF(M70=реглист!$C$88*2+2,реглист!$C$88*2+1,RANK(M70,$M$4:$M$81,1)) -> 45 | O70: =L70+L71 -> 0 | P70: =IF(O70=0,реглист!$C$88*4+4,M70+M71) -> 92 | Q70: =IF(P70=реглист!$C$88*4+4,реглист!$C$88+1,RANK(P70,$P$4:$P$81,1)) -> 23
A71: =A70+1 -> 68 | B71: =реглист!B72 -> 0 | C71: =реглист!C72 -> 0 | D71: =IFERROR(VLOOKUP(C71,Т1За!$C$3:$D$42,2,0),0) -> 0 | E71: =IFERROR(VLOOKUP(C71,Т1За!$C$3:$E$42,3,0),0) -> 23 | F71: =IFERROR(VLOOKUP(C71,Т1Зб!$C$3:$D$42,2,0),0) -> 0 | G71: =IFERROR(VLOOKUP(C71,Т1Зб!$C$3:$E$42,3,0),0) -> 23 | H71: =IFERROR(VLOOKUP(C71,Т2За!$C$3:$D$42,2,0),0) -> 0 | I71: =IFERROR(VLOOKUP(C71,Т2За!$C$3:$E$42,3,0),0) -> 23 | J71: =IFERROR(VLOOKUP(C71,Т2Зб!$C$3:$D$42,2,0),0) -> 0 | K71: =IFERROR(VLOOKUP(C71,Т2Зб!$C$3:$E$42,3,0),0) -> 23 | L71: =D71+F71+H71+J71 -> 0 | M71: =IF(L71=0,реглист!$C$88*2+2,E71+G71+I71+K71) -> 46 | N71: =IF(M71=реглист!$C$88*2+2,реглист!$C$88*2+1,RANK(M71,$M$4:$M$81,1)) -> 45
A72: =A71+1 -> 69 | B72: =реглист!B73 -> 0 | C72: =реглист!C73 -> 0 | D72: =IFERROR(VLOOKUP(C72,Т1За!$C$3:$D$42,2,0),0) -> 0 | E72: =IFERROR(VLOOKUP(C72,Т1За!$C$3:$E$42,3,0),0) -> 23 | F72: =IFERROR(VLOOKUP(C72,Т1Зб!$C$3:$D$42,2,0),0) -> 0 | G72: =IFERROR(VLOOKUP(C72,Т1Зб!$C$3:$E$42,3,0),0) -> 23 | H72: =IFERROR(VLOOKUP(C72,Т2За!$C$3:$D$42,2,0),0) -> 0 | I72: =IFERROR(VLOOKUP(C72,Т2За!$C$3:$E$42,3,0),0) -> 23 | J72: =IFERROR(VLOOKUP(C72,Т2Зб!$C$3:$D$42,2,0),0) -> 0 | K72: =IFERROR(VLOOKUP(C72,Т2Зб!$C$3:$E$42,3,0),0) -> 23 | L72: =D72+F72+H72+J72 -> 0 | M72: =IF(L72=0,реглист!$C$88*2+2,E72+G72+I72+K72) -> 46 | N72: =IF(M72=реглист!$C$88*2+2,реглист!$C$88*2+1,RANK(M72,$M$4:$M$81,1)) -> 45 | O72: =L72+L73 -> 0 | P72: =IF(O72=0,реглист!$C$88*4+4,M72+M73) -> 92 | Q72: =IF(P72=реглист!$C$88*4+4,реглист!$C$88+1,RANK(P72,$P$4:$P$81,1)) -> 23
A73: =A72+1 -> 70 | B73: =реглист!B74 -> 0 | C73: =реглист!C74 -> 0 | D73: =IFERROR(VLOOKUP(C73,Т1За!$C$3:$D$42,2,0),0) -> 0 | E73: =IFERROR(VLOOKUP(C73,Т1За!$C$3:$E$42,3,0),0) -> 23 | F73: =IFERROR(VLOOKUP(C73,Т1Зб!$C$3:$D$42,2,0),0) -> 0 | G73: =IFERROR(VLOOKUP(C73,Т1Зб!$C$3:$E$42,3,0),0) -> 23 | H73: =IFERROR(VLOOKUP(C73,Т2За!$C$3:$D$42,2,0),0) -> 0 | I73: =IFERROR(VLOOKUP(C73,Т2За!$C$3:$E$42,3,0),0) -> 23 | J73: =IFERROR(VLOOKUP(C73,Т2Зб!$C$3:$D$42,2,0),0) -> 0 | K73: =IFERROR(VLOOKUP(C73,Т2Зб!$C$3:$E$42,3,0),0) -> 23 | L73: =D73+F73+H73+J73 -> 0 | M73: =IF(L73=0,реглист!$C$88*2+2,E73+G73+I73+K73) -> 46 | N73: =IF(M73=реглист!$C$88*2+2,реглист!$C$88*2+1,RANK(M73,$M$4:$M$81,1)) -> 45
A74: =A73+1 -> 71 | B74: =реглист!B75 -> 0 | C74: =реглист!C75 -> 0 | D74: =IFERROR(VLOOKUP(C74,Т1За!$C$3:$D$42,2,0),0) -> 0 | E74: =IFERROR(VLOOKUP(C74,Т1За!$C$3:$E$42,3,0),0) -> 23 | F74: =IFERROR(VLOOKUP(C74,Т1Зб!$C$3:$D$42,2,0),0) -> 0 | G74: =IFERROR(VLOOKUP(C74,Т1Зб!$C$3:$E$42,3,0),0) -> 23 | H74: =IFERROR(VLOOKUP(C74,Т2За!$C$3:$D$42,2,0),0) -> 0 | I74: =IFERROR(VLOOKUP(C74,Т2За!$C$3:$E$42,3,0),0) -> 23 | J74: =IFERROR(VLOOKUP(C74,Т2Зб!$C$3:$D$42,2,0),0) -> 0 | K74: =IFERROR(VLOOKUP(C74,Т2Зб!$C$3:$E$42,3,0),0) -> 23 | L74: =D74+F74+H74+J74 -> 0 | M74: =IF(L74=0,реглист!$C$88*2+2,E74+G74+I74+K74) -> 46 | N74: =IF(M74=реглист!$C$88*2+2,реглист!$C$88*2+1,RANK(M74,$M$4:$M$81,1)) -> 45 | O74: =L74+L75 -> 0 | P74: =IF(O74=0,реглист!$C$88*4+4,M74+M75) -> 92 | Q74: =IF(P74=реглист!$C$88*4+4,реглист!$C$88+1,RANK(P74,$P$4:$P$81,1)) -> 23
A75: =A74+1 -> 72 | B75: =реглист!B76 -> 0 | C75: =реглист!C76 -> 0 | D75: =IFERROR(VLOOKUP(C75,Т1За!$C$3:$D$42,2,0),0) -> 0 | E75: =IFERROR(VLOOKUP(C75,Т1За!$C$3:$E$42,3,0),0) -> 23 | F75: =IFERROR(VLOOKUP(C75,Т1Зб!$C$3:$D$42,2,0),0) -> 0 | G75: =IFERROR(VLOOKUP(C75,Т1Зб!$C$3:$E$42,3,0),0) -> 23 | H75: =IFERROR(VLOOKUP(C75,Т2За!$C$3:$D$42,2,0),0) -> 0 | I75: =IFERROR(VLOOKUP(C75,Т2За!$C$3:$E$42,3,0),0) -> 23 | J75: =IFERROR(VLOOKUP(C75,Т2Зб!$C$3:$D$42,2,0),0) -> 0 | K75: =IFERROR(VLOOKUP(C75,Т2Зб!$C$3:$E$42,3,0),0) -> 23 | L75: =D75+F75+H75+J75 -> 0 | M75: =IF(L75=0,реглист!$C$88*2+2,E75+G75+I75+K75) -> 46 | N75: =IF(M75=реглист!$C$88*2+2,реглист!$C$88*2+1,RANK(M75,$M$4:$M$81,1)) -> 45
A76: =A75+1 -> 73 | B76: =реглист!B77 -> 0 | C76: =реглист!C77 -> 0 | D76: =IFERROR(VLOOKUP(C76,Т1За!$C$3:$D$42,2,0),0) -> 0 | E76: =IFERROR(VLOOKUP(C76,Т1За!$C$3:$E$42,3,0),0) -> 23 | F76: =IFERROR(VLOOKUP(C76,Т1Зб!$C$3:$D$42,2,0),0) -> 0 | G76: =IFERROR(VLOOKUP(C76,Т1Зб!$C$3:$E$42,3,0),0) -> 23 | H76: =IFERROR(VLOOKUP(C76,Т2За!$C$3:$D$42,2,0),0) -> 0 | I76: =IFERROR(VLOOKUP(C76,Т2За!$C$3:$E$42,3,0),0) -> 23 | J76: =IFERROR(VLOOKUP(C76,Т2Зб!$C$3:$D$42,2,0),0) -> 0 | K76: =IFERROR(VLOOKUP(C76,Т2Зб!$C$3:$E$42,3,0),0) -> 23 | L76: =D76+F76+H76+J76 -> 0 | M76: =IF(L76=0,реглист!$C$88*2+2,E76+G76+I76+K76) -> 46 | N76: =IF(M76=реглист!$C$88*2+2,реглист!$C$88*2+1,RANK(M76,$M$4:$M$81,1)) -> 45 | O76: =L76+L77 -> 0 | P76: =IF(O76=0,реглист!$C$88*4+4,M76+M77) -> 92 | Q76: =IF(P76=реглист!$C$88*4+4,реглист!$C$88+1,RANK(P76,$P$4:$P$81,1)) -> 23
A77: =A76+1 -> 74 | B77: =реглист!B78 -> 0 | C77: =реглист!C78 -> 0 | D77: =IFERROR(VLOOKUP(C77,Т1За!$C$3:$D$42,2,0),0) -> 0 | E77: =IFERROR(VLOOKUP(C77,Т1За!$C$3:$E$42,3,0),0) -> 23 | F77: =IFERROR(VLOOKUP(C77,Т1Зб!$C$3:$D$42,2,0),0) -> 0 | G77: =IFERROR(VLOOKUP(C77,Т1Зб!$C$3:$E$42,3,0),0) -> 23 | H77: =IFERROR(VLOOKUP(C77,Т2За!$C$3:$D$42,2,0),0) -> 0 | I77: =IFERROR(VLOOKUP(C77,Т2За!$C$3:$E$42,3,0),0) -> 23 | J77: =IFERROR(VLOOKUP(C77,Т2Зб!$C$3:$D$42,2,0),0) -> 0 | K77: =IFERROR(VLOOKUP(C77,Т2Зб!$C$3:$E$42,3,0),0) -> 23 | L77: =D77+F77+H77+J77 -> 0 | M77: =IF(L77=0,реглист!$C$88*2+2,E77+G77+I77+K77) -> 46 | N77: =IF(M77=реглист!$C$88*2+2,реглист!$C$88*2+1,RANK(M77,$M$4:$M$81,1)) -> 45
A78: =A77+1 -> 75 | B78: =реглист!B79 -> 0 | C78: =реглист!C79 -> 0 | D78: =IFERROR(VLOOKUP(C78,Т1За!$C$3:$D$42,2,0),0) -> 0 | E78: =IFERROR(VLOOKUP(C78,Т1За!$C$3:$E$42,3,0),0) -> 23 | F78: =IFERROR(VLOOKUP(C78,Т1Зб!$C$3:$D$42,2,0),0) -> 0 | G78: =IFERROR(VLOOKUP(C78,Т1Зб!$C$3:$E$42,3,0),0) -> 23 | H78: =IFERROR(VLOOKUP(C78,Т2За!$C$3:$D$42,2,0),0) -> 0 | I78: =IFERROR(VLOOKUP(C78,Т2За!$C$3:$E$42,3,0),0) -> 23 | J78: =IFERROR(VLOOKUP(C78,Т2Зб!$C$3:$D$42,2,0),0) -> 0 | K78: =IFERROR(VLOOKUP(C78,Т2Зб!$C$3:$E$42,3,0),0) -> 23 | L78: =D78+F78+H78+J78 -> 0 | M78: =IF(L78=0,реглист!$C$88*2+2,E78+G78+I78+K78) -> 46 | N78: =IF(M78=реглист!$C$88*2+2,реглист!$C$88*2+1,RANK(M78,$M$4:$M$81,1)) -> 45 | O78: =L78+L79 -> 0 | P78: =IF(O78=0,реглист!$C$88*4+4,M78+M79) -> 92 | Q78: =IF(P78=реглист!$C$88*4+4,реглист!$C$88+1,RANK(P78,$P$4:$P$81,1)) -> 23
A79: =A78+1 -> 76 | B79: =реглист!B80 -> 0 | C79: =реглист!C80 -> 0 | D79: =IFERROR(VLOOKUP(C79,Т1За!$C$3:$D$42,2,0),0) -> 0 | E79: =IFERROR(VLOOKUP(C79,Т1За!$C$3:$E$42,3,0),0) -> 23 | F79: =IFERROR(VLOOKUP(C79,Т1Зб!$C$3:$D$42,2,0),0) -> 0 | G79: =IFERROR(VLOOKUP(C79,Т1Зб!$C$3:$E$42,3,0),0) -> 23 | H79: =IFERROR(VLOOKUP(C79,Т2За!$C$3:$D$42,2,0),0) -> 0 | I79: =IFERROR(VLOOKUP(C79,Т2За!$C$3:$E$42,3,0),0) -> 23 | J79: =IFERROR(VLOOKUP(C79,Т2Зб!$C$3:$D$42,2,0),0) -> 0 | K79: =IFERROR(VLOOKUP(C79,Т2Зб!$C$3:$E$42,3,0),0) -> 23 | L79: =D79+F79+H79+J79 -> 0 | M79: =IF(L79=0,реглист!$C$88*2+2,E79+G79+I79+K79) -> 46 | N79: =IF(M79=реглист!$C$88*2+2,реглист!$C$88*2+1,RANK(M79,$M$4:$M$81,1)) -> 45
A80: =A79+1 -> 77 | B80: =реглист!B81 -> 0 | C80: =реглист!C81 -> 0 | D80: =IFERROR(VLOOKUP(C80,Т1За!$C$3:$D$42,2,0),0) -> 0 | E80: =IFERROR(VLOOKUP(C80,Т1За!$C$3:$E$42,3,0),0) -> 23 | F80: =IFERROR(VLOOKUP(C80,Т1Зб!$C$3:$D$42,2,0),0) -> 0 | G80: =IFERROR(VLOOKUP(C80,Т1Зб!$C$3:$E$42,3,0),0) -> 23 | H80: =IFERROR(VLOOKUP(C80,Т2За!$C$3:$D$42,2,0),0) -> 0 | I80: =IFERROR(VLOOKUP(C80,Т2За!$C$3:$E$42,3,0),0) -> 23 | J80: =IFERROR(VLOOKUP(C80,Т2Зб!$C$3:$D$42,2,0),0) -> 0 | K80: =IFERROR(VLOOKUP(C80,Т2Зб!$C$3:$E$42,3,0),0) -> 23 | L80: =D80+F80+H80+J80 -> 0 | M80: =IF(L80=0,реглист!$C$88*2+2,E80+G80+I80+K80) -> 46 | N80: =IF(M80=реглист!$C$88*2+2,реглист!$C$88*2+1,RANK(M80,$M$4:$M$81,1)) -> 45 | O80: =L80+L81 -> 0 | P80: =IF(O80=0,реглист!$C$88*4+4,M80+M81) -> 92 | Q80: =IF(P80=реглист!$C$88*4+4,реглист!$C$88+1,"=РАНГ(P4;$P$4:$P$81;1)") -> 23
A81: =A80+1 -> 78 | B81: =реглист!B82 -> 0 | C81: =реглист!C82 -> 0 | D81: =IFERROR(VLOOKUP(C81,Т1За!$C$3:$D$42,2,0),0) -> 0 | E81: =IFERROR(VLOOKUP(C81,Т1За!$C$3:$E$42,3,0),0) -> 23 | F81: =IFERROR(VLOOKUP(C81,Т1Зб!$C$3:$D$42,2,0),0) -> 0 | G81: =IFERROR(VLOOKUP(C81,Т1Зб!$C$3:$E$42,3,0),0) -> 23 | H81: =IFERROR(VLOOKUP(C81,Т2За!$C$3:$D$42,2,0),0) -> 0 | I81: =IFERROR(VLOOKUP(C81,Т2За!$C$3:$E$42,3,0),0) -> 23 | J81: =IFERROR(VLOOKUP(#REF!,Т2Зб!$C$3:$D$42,2,0),0) -> 0 | K81: =IFERROR(VLOOKUP(C81,Т2Зб!$C$3:$E$42,3,0),0) -> 23 | L81: =D81+F81+H81+J81 -> 0 | M81: =IF(L81=0,реглист!$C$88*2+2,E81+G81+I81+K81) -> 46 | N81: =IF(M81=реглист!$C$88*2+2,реглист!$C$88*2+1,RANK(M81,$M$4:$M$81,1)) -> 45
A84: Средний размер окуня, см: | C84: =(Т1За!F42+Т1Зб!F42+Т2За!F42+Т2Зб!F42)/4 -> 17.16873
A85: Средний размер щуки, см: | C85: =(Т1За!U42+Т1Зб!U42+Т2За!U42+Т2Зб!U42)/4 -> 34.204583
