Workbook

Sheet реглист
A1: 3 этап Чемпионата РБ по спортивной ловле рыбы спиннингом с берега | E1: 42630
A2: Регистрационный лист
A3: № | B3: Команда | C3: Спортсмен | D3: Стартовая зона | E3: Страховка
A5: 1 | B5: Vodomotorika TEAM | C5: Круглянин Сергей | D5: А
A6: =A5+1 -> 2 | B6: Vodomotorika TEAM | C6: Ставер Дмитрий | D6: Б
A7: =A6+1 -> 3 | B7: Трудовые резервы | C7: Баранок Артём | D7: Б
A8: =A7+1 -> 4 | B8: Трудовые резервы | C8: Пожарский Константин | D8: А
A9: =A8+1 -> 5 | B9: Poseidon | C9: Чижонок Сергей | D9: Б
A10: =A9+1 -> 6 | B10: Poseidon | C10: Строк Павел | D10: А
A11: =A10+1 -> 7 | B11: Peacock Bass | C11: Сенчуров Иван | D11: А
A12: =A11+1 -> 8 | B12: Peacock Bass | C12: Дроздов Виталий | D12: Б
A13: =A12+1 -> 9 | B13: Old Roads Fishing | C13: Синовец Роман | D13: А
A14: =A13+1 -> 10 | B14: Old Roads Fishing | C14: Чернышёв Егор | D14: Б
A15: =A14+1 -> 11 | B15: Gefest | C15: Саган Сергей | D15: Б | F15: Шумко Александр
A16: =A15+1 -> 12 | B16: Gefest | C16: Радчук Юрий | D16: А
A17: =A16+1 -> 13 | B17: West Fishing | C17: Непомнящий Виктор | D17: А
A18: =A17+1 -> 14 | B18: West Fishing | C18: Золотарь Андрей | D18: Б
A19: =A18+1 -> 15 | B19: Dream Team | C19: Золотухин Александр | D19: Б
A20: =A19+1 -> 16 | B20: Dream Team | C20: Тысевич Сергей | D20: А
A21: =A20+1 -> 17 | B21: Bona Кобрин | C21: Марковский Максим | D21: А
A22: =A21+1 -> 18 | B22: Bona Кобрин | C22: Барташук Александр | D22: Б
A23: =A22+1 -> 19 | B23: Фарватер | C23: Цыганок Михаил | D23: Б
A24: =A23+1 -> 20 | B24: Фарватер | C24: Попельский Максим | D24: А
A25: =A24+1 -> 21 | B25: XULi-ULi | C25: Дубровский Вадим | D25: Б
A26: =A25+1 -> 22 | B26: XULi-ULi | C26: Лавренчук Станислав | D26: А
A27: =A26+1 -> 23 | B27: Fanatik Belarus | C27: Янкович Сергей | D27: Б
... A45: =A44+1 -> 41 | B45: ASpinnTeam | C45: Нугуманов Артём | D45: А
A46: =A45+1 -> 42 | B46: ASpinnTeam | C46: Вашкевич Александр | D46: Б | F46: Мякинник Артем
A47: =A46+1 -> 43 | B47: nanobass | C47: Бычик Роман | D47: А
A48: =A47+1 -> 44 | B48: nanobass | C48: Мартынчук Михаил | D48: Б
A49: =A48+1 -> 45
A50: =A49+1 -> 46
A51: =A50+1 -> 47
A52: =A51+1 -> 48
A53: =A52+1 -> 49
A54: =A53+1 -> 50
A55: =A54+1 -> 51
A56: =A55+1 -> 52
A57: =A56+1 -> 53
A58: =A57+1 -> 54
...

Sheet Т1За
A1: № | B1: команда | C1: участник | D1: сумма баллов | E1: место | F1: окунь | U1: щука | X1: судак | AA1: жерех | AD1: голавль | AG1: язь | AJ1: чехонь | AM1: сом
F2: размер, см
A3: 1 | B3: =IF(реглист!C5="А",реглист!B5,реглист!B6) -> Vodomotorika TEAM | C3: =IF(реглист!D5="А",реглист!C5,реглист!C6) -> Круглянин Сергей | D3: =D45 -> 1225.16 | E3: =E45 -> 2 | F3: 29 | U3: 39.2
A4: =A3+1 -> 2 | B4: =IF(реглист!C7="А",реглист!B7,реглист!B8) -> Трудовые резервы | C4: =IF(реглист!D7="А",реглист!C7,реглист!C8) -> Пожарский Константин | D4: =D46 -> 772.29 | E4: =E46 -> 3 | U4: 39 | V4: 39.6
A5: =A4+1 -> 3 | B5: =IF(реглист!C9="А",реглист!B9,реглист!B10) -> Poseidon | C5: =IF(реглист!D9="А",реглист!C9,реглист!C10) -> Строк Павел | D5: =D47 -> 380.25 | E5: =E47 -> 6 | U5: 39
A6: =A5+1 -> 4 | B6: =IF(реглист!C11="А",реглист!B11,реглист!B12) -> Peacock Bass | C6: =IF(реглист!D11="А",реглист!C11,реглист!C12) -> Сенчуров Иван | D6: =D48 -> 320.41 | E6: =E48 -> 8 | F6: 17.9
A7: =A6+1 -> 5 | B7: =IF(реглист!C13="А",реглист!B13,реглист!B14) -> Old Roads Fishing | C7: =IF(реглист!D13="А",реглист!C13,реглист!C14) -> Синовец Роман | D7: =D49 -> 278.89 | E7: =E49 -> 9 | F7: 16.7
A8: =A7+1 -> 6 | B8: =IF(реглист!C15="А",реглист!B15,реглист!B16) -> Gefest | C8: =IF(реглист!D15="А",реглист!C15,реглист!C16) -> Радчук Юрий | D8: =D50 -> 0 | E8: =E50 -> 23
A9: =A8+1 -> 7 | B9: =IF(реглист!C17="А",реглист!B17,реглист!B18) -> West Fishing | C9: =IF(реглист!D17="А",реглист!C17,реглист!C18) -> Непомнящий Виктор | D9: =D51 -> 639.81 | E9: =E51 -> 4 | F9: 21 | U9: 28.2
A10: =A9+1 -> 8 | B10: =IF(реглист!C19="А",реглист!B19,реглист!B20) -> Dream Team | C10: =IF(реглист!D19="А",реглист!C19,реглист!C20) -> Тысевич Сергей | D10: =D52 -> 324 | E10: =E52 -> 7 | F10: 18
A11: =A10+1 -> 9 | B11: =IF(реглист!C21="А",реглист!B21,реглист!B22) -> Bona Кобрин | C11: =IF(реглист!D21="А",реглист!C21,реглист!C22) -> Марковский Максим | D11: =D53 -> 0 | E11: =E53 -> 23
A12: =A11+1 -> 10 | B12: =IF(реглист!C23="А",реглист!B23,реглист!B24) -> Фарватер | C12: =IF(реглист!D23="А",реглист!C23,реглист!C24) -> Попельский Максим | D12: =D54 -> 0 | E12: =E54 -> 23
A13: =A12+1 -> 11 | B13: =IF(реглист!C25="А",реглист!B25,реглист!B26) -> XULi-ULi | C13: =IF(реглист!D25="А",реглист!C25,реглист!C26) -> Лавренчук Станислав | D13: =D55 -> 0 | E13: =E55 -> 23
A14: =A13+1 -> 12 | B14: =IF(реглист!C27="А",реглист!B27,реглист!B28) -> Fanatik Belarus | C14: =IF(реглист!D27="А",реглист!C27,реглист!C28) -> Шевчук Дмитрий | D14: =D56 -> 0 | E14: =E56 -> 23
A15: =A14+1 -> 13 | B15: =IF(реглист!C29="А",реглист!B29,реглист!B30) -> FISHINGSTOCK BELARUS | C15: =IF(реглист!D29="А",реглист!C29,реглист!C30) -> Лунякин Олег | D15: =D57 -> 0 | E15: =E57 -> 23
A16: =A15+1 -> 14 | B16: =IF(реглист!C31="А",реглист!B31,реглист!B32) -> Против Течениия | C16: =IF(реглист!D31="А",реглист!C31,реглист!C32) -> Кириенко Кирилл | D16: =D58 -> 0 | E16: =E58 -> 23
A17: =A16+1 -> 15 | B17: =IF(реглист!C33="А",реглист!B33,реглист!B34) -> Bait Breath Team | C17: =IF(реглист!D33="А",реглист!C33,реглист!C34) -> Зубко Сергей | D17: =D59 -> 0 | E17: =E59 -> 23
A18: =A17+1 -> 16 | B18: =IF(реглист!C35="А",реглист!B35,реглист!B36) -> Кооператив ХИЩНИК | C18: =IF(реглист!D35="А",реглист!C35,реглист!C36) -> Сницкий Виктор | D18: =D60 -> 0 | E18: =E60 -> 23
A19: =A18+1 -> 17 | B19: =IF(реглист!C37="А",реглист!B37,реглист!B38) -> Bass Hunters | C19: =IF(реглист!D37="А",реглист!C37,реглист!C38) -> Кириевский Андрей | D19: =D61 -> 0 | E19: =E61 -> 23
A20: =A19+1 -> 18 | B20: =IF(реглист!C39="А",реглист!B39,реглист!B40) -> TotalSpin | C20: =IF(реглист!D39="А",реглист!C39,реглист!C40) -> Масюк Павел | D20: =D62 -> 0 | E20: =E62 -> 23
A21: =A20+1 -> 19 | B21: =IF(реглист!C41="А",реглист!B41,реглист!B42) -> SB-FISHING | C21: =IF(реглист!D41="А",реглист!C41,реглист!C42) -> Сапраненков Евгений | D21: =D63 -> 529 | E21: =E63 -> 5 | F21: 23
A22: =A21+1 -> 20 | B22: =IF(реглист!C43="А",реглист!B43,реглист!B44) -> Legion | C22: =IF(реглист!D43="А",реглист!C43,реглист!C44) -> Микулов Владимир | D22: =D64 -> 0 | E22: =E64 -> 23
A23: =A22+1 -> 21 | B23: =IF(реглист!C45="А",реглист!B45,реглист!B46) -> ASpinnTeam | C23: =IF(реглист!D45="А",реглист!C45,реглист!C46) -> Нугуманов Артём | D23: =D65 -> 1253.5425 | E23: =E65 -> 1 | F23: 21.7 | U23: 38.5 | V23: 40.6
A24: =A23+1 -> 22 | B24: =IF(реглист!C47="А",реглист!B47,реглист!B48) -> nanobass | C24: =IF(реглист!D47="А",реглист!C47,реглист!C48) -> Бычик Роман | D24: =D66 -> 126.5625 | E24: =E66 -> 10 | U24: 22.5
A25: =A24+1 -> 23 | B25: =IF(реглист!C49="А",реглист!B49,реглист!B50) -> 0 | C25: =IF(реглист!D49="А",реглист!C49,реглист!C50) -> 0 | D25: =D67 -> 0 | E25: =E67 -> 23
A26: =A25+1 -> 24 | B26: =IF(реглист!C51="А",реглист!B51,реглист!B52) -> 0 | C26: =IF(реглист!D51="А",реглист!C51,реглист!C52) -> 0 | D26: =D68 -> 0 | E26: =E68 -> 23
A27: =A26+1 -> 25 | B27: =IF(реглист!C53="А",реглист!B53,реглист!B54) -> 0 | C27: =IF(реглист!D53="А",реглист!C53,реглист!C54) -> 0 | D27: =D69 -> 0 | E27: =E69 -> 23
A28: =A27+1 -> 26 | B28: =IF(реглист!C55="А",реглист!B55,реглист!B56) -> 0 | C28: =IF(реглист!D55="А",реглист!C55,реглист!C56) -> 0 | D28: =D70 -> 0 | E28: =E70 -> 23
A29: =A28+1 -> 27 | B29: =IF(реглист!C57="А",реглист!B57,реглист!B58) -> 0 | C29: =IF(реглист!D57="А",реглист!C57,реглист!C58) -> 0 | D29: =D71 -> 0 | E29: =E71 -> 23
A30: =A29+1 -> 28 | B30: =IF(реглист!C59="А",реглист!B59,реглист!B60) -> 0 | C30: =IF(реглист!D59="А",реглист!C59,реглист!C60) -> 0 | D30: =D72 -> 0 | E30: =E72 -> 23
A31: =A30+1 -> 29 | B31: =IF(реглист!C61="А",реглист!B61,реглист!B62) -> 0 | C31: =IF(реглист!D61="А",реглист!C61,реглист!C62) -> 0 | D31: =D73 -> 0 | E31: =E73 -> 23
A32: =A31+1 -> 30 | B32: =IF(реглист!C63="А",реглист!B63,реглист!B64) -> 0 | C32: =IF(реглист!D63="А",реглист!C63,реглист!C64) -> 0 | D32: =D74 -> 0 | E32: =E74 -> 23
A33: =A32+1 -> 31 | B33: =IF(реглист!C65="А",реглист!B65,реглист!B66) -> 0 | C33: =IF(реглист!D65="А",реглист!C65,реглист!C66) -> 0 | D33: =D75 -> 0 | E33: =E75 -> 23
A34: =A33+1 -> 32 | B34: =IF(реглист!C67="А",реглист!B67,реглист!B68) -> 0 | C34: =IF(реглист!D67="А",реглист!C67,реглист!C68) -> 0 | D34: =D76 -> 0 | E34: =E76 -> 23
A35: =A34+1 -> 33 | B35: =IF(реглист!C69="А",реглист!B69,реглист!B70) -> 0 | C35: =IF(реглист!D69="А",реглист!C69,реглист!C70) -> 0 | D35: =D77 -> 0 | E35: =E77 -> 23
A36: =A35+1 -> 34 | B36: =IF(реглист!C71="А",реглист!B71,реглист!B72) -> 0 | C36: =IF(реглист!D71="А",реглист!C71,реглист!C72) -> 0 | D36: =D78 -> 0 | E36: =E78 -> 23
A37: =A36+1 -> 35 | B37: =IF(реглист!C73="А",реглист!B73,реглист!B74) -> 0 | C37: =IF(реглист!D73="А",реглист!C73,реглист!C74) -> 0 | D37: =D79 -> 0 | E37: =E79 -> 23
A38: =A37+1 -> 36 | B38: =IF(реглист!C75="А",реглист!B75,реглист!B76) -> 0 | C38: =IF(реглист!D75="А",реглист!C75,реглист!C76) -> 0 | D38: =D80 -> 0 | E38: =E80 -> 23
A39: =A38+1 -> 37 | B39: =IF(реглист!C77="А",реглист!B77,реглист!B78) -> 0 | C39: =IF(реглист!D77="А",реглист!C77,реглист!C78) -> 0 | D39: =D81 -> 0 | E39: =E81 -> 23
A40: =A39+1 -> 38 | B40: =IF(реглист!C79="А",реглист!B79,реглист!B80) -> 0 | C40: =IF(реглист!D79="А",реглист!C79,реглист!C80) -> 0 | D40: =D82 -> 0 | E40: =E82 -> 23
...

Sheet Т1Зб
A1: № | B1: команда | C1: участник | D1: сумма баллов | E1: место | F1: окунь | U1: щука | Z1: судак | AC1: жерех | AF1: голавль | AI1: язь | AL1: чехонь | AO1: сом
F2: размер, см
A3: 1 | B3: =IF(реглист!C5="Б",реглист!B5,реглист!B6) -> Vodomotorika TEAM | C3: =IF(реглист!D5="Б",реглист!C5,реглист!C6) -> Ставер Дмитрий | D3: =D45 -> 0 | E3: =E45 -> 23
A4: =A3+1 -> 2 | B4: =IF(реглист!C7="Б",реглист!B7,реглист!B8) -> Трудовые резервы | C4: =IF(реглист!D7="Б",реглист!C7,реглист!C8) -> Баранок Артём | D4: =D46 -> 225 | E4: =E46 -> 8 | U4: 30
A5: =A4+1 -> 3 | B5: =IF(реглист!C9="Б",реглист!B9,реглист!B10) -> Poseidon | C5: =IF(реглист!D9="Б",реглист!C9,реглист!C10) -> Чижонок Сергей | D5: =D47 -> 268.96 | E5: =E47 -> 6 | F5: 16.4
A6: =A5+1 -> 4 | B6: =IF(реглист!C11="Б",реглист!B11,реглист!B12) -> Peacock Bass | C6: =IF(реглист!D11="Б",реглист!C11,реглист!C12) -> Дроздов Виталий | D6: =D48 -> 514.73 | E6: =E48 -> 3 | F6: 12.7 | G6: 18.8
A7: =A6+1 -> 5 | B7: =IF(реглист!C13="Б",реглист!B13,реглист!B14) -> Old Roads Fishing | C7: =IF(реглист!D13="Б",реглист!C13,реглист!C14) -> Чернышёв Егор | D7: =D49 -> 0 | E7: =E49 -> 23
A8: =A7+1 -> 6 | B8: =IF(реглист!C15="Б",реглист!B15,реглист!B16) -> Gefest | C8: =IF(реглист!D15="Б",реглист!C15,реглист!C16) -> Саган Сергей | D8: =D50 -> 425.89 | E8: =E50 -> 4 | F8: 17 | G8: 11.7
A9: =A8+1 -> 7 | B9: =IF(реглист!C17="Б",реглист!B17,реглист!B18) -> West Fishing | C9: =IF(реглист!D17="Б",реглист!C17,реглист!C18) -> Золотарь Андрей | D9: =D51 -> 0 | E9: =E51 -> 23
A10: =A9+1 -> 8 | B10: =IF(реглист!C19="Б",реглист!B19,реглист!B20) -> Dream Team | C10: =IF(реглист!D19="Б",реглист!C19,реглист!C20) -> Золотухин Александр | D10: =D52 -> 0 | E10: =E52 -> 23
A11: =A10+1 -> 9 | B11: =IF(реглист!C21="Б",реглист!B21,реглист!B22) -> Bona Кобрин | C11: =IF(реглист!D21="Б",реглист!C21,реглист!C22) -> Барташук Александр | D11: =D53 -> 944.45 | E11: =E53 -> 2 | F11: 25.4 | G11: 17.3
A12: =A11+1 -> 10 | B12: =IF(реглист!C23="Б",реглист!B23,реглист!B24) -> Фарватер | C12: =IF(реглист!D23="Б",реглист!C23,реглист!C24) -> Цыганок Михаил | D12: =D54 -> 256 | E12: =E54 -> 7 | F12: 16
A13: =A12+1 -> 11 | B13: =IF(реглист!C25="Б",реглист!B25,реглист!B26) -> XULi-ULi | C13: =IF(реглист!D25="Б",реглист!C25,реглист!C26) -> Дубровский Вадим | D13: =D55 -> 71.4025 | E13: =E55 -> 10 | U13: 16.9
A14: =A13+1 -> 12 | B14: =IF(реглист!C27="Б",реглист!B27,реглист!B28) -> Fanatik Belarus | C14: =IF(реглист!D27="Б",реглист!C27,реглист!C28) -> Янкович Сергей | D14: =D56 -> 1249.8625 | E14: =E56 -> 1 | F14: 18.1 | G14: 12.1 | U14: 18.5 | V14: 33.6 | W14: 44.4 | X14: 36.9 | Y14: 40.4
A15: =A14+1 -> 13 | B15: =IF(реглист!C29="Б",реглист!B29,реглист!B30) -> FISHINGSTOCK BELARUS | C15: =IF(реглист!D29="Б",реглист!C29,реглист!C30) -> Бобриков Алексей | D15: =D57 -> 0 | E15: =E57 -> 23
A16: =A15+1 -> 14 | B16: =IF(реглист!C31="Б",реглист!B31,реглист!B32) -> Против Течениия | C16: =IF(реглист!D31="Б",реглист!C31,реглист!C32) -> Ананич Геннадий | D16: =D58 -> 0 | E16: =E58 -> 23
A17: =A16+1 -> 15 | B17: =IF(реглист!C33="Б",реглист!B33,реглист!B34) -> Bait Breath Team | C17: =IF(реглист!D33="Б",реглист!C33,реглист!C34) -> Бахур Александр | D17: =D59 -> 0 | E17: =E59 -> 23
A18: =A17+1 -> 16 | B18: =IF(реглист!C35="Б",реглист!B35,реглист!B36) -> Кооператив ХИЩНИК | C18: =IF(реглист!D35="Б",реглист!C35,реглист!C36) -> Сницкий Владимир | D18: =D60 -> 0 | E18: =E60 -> 23
A19: =A18+1 -> 17 | B19: =IF(реглист!C37="Б",реглист!B37,реглист!B38) -> Bass Hunters | C19: =IF(реглист!D37="Б",реглист!C37,реглист!C38) -> Шевко Виталий | D19: =D61 -> 121 | E19: =E61 -> 9 | F19: 11
A20: =A19+1 -> 18 | B20: =IF(реглист!C39="Б",реглист!B39,реглист!B40) -> TotalSpin | C20: =IF(реглист!D39="Б",реглист!C39,реглист!C40) -> Жуковский Александр | D20: =D62 -> 333.0625 | E20: =E62 -> 5 | U20: 36.5
A21: =A20+1 -> 19 | B21: =IF(реглист!C41="Б",реглист!B41,реглист!B42) -> SB-FISHING | C21: =IF(реглист!D41="Б",реглист!C41,реглист!C42) -> Болбас Тимофей | D21: =D63 -> 0 | E21: =E63 -> 23
A22: =A21+1 -> 20 | B22: =IF(реглист!C43="Б",реглист!B43,реглист!B44) -> Legion | C22: =IF(реглист!D43="Б",реглист!C43,реглист!C44) -> Бойко Сергей | D22: =D64 -> 0 | E22: =E64 -> 23
A23: =A22+1 -> 21 | B23: =IF(реглист!C45="Б",реглист!B45,реглист!B46) -> ASpinnTeam | C23: =IF(реглист!D45="Б",реглист!C45,реглист!C46) -> Вашкевич Александр | D23: =D65 -> 0 | E23: =E65 -> 23
A24: =A23+1 -> 22 | B24: =IF(реглист!C47="Б",реглист!B47,реглист!B48) -> nanobass | C24: =IF(реглист!D47="Б",реглист!C47,реглист!C48) -> Мартынчук Михаил | D24: =D66 -> 0 | E24: =E66 -> 23
A25: =A24+1 -> 23 | B25: =IF(реглист!C49="Б",реглист!B49,реглист!B50) -> 0 | C25: =IF(реглист!D49="Б",реглист!C49,реглист!C50) -> 0 | D25: =D67 -> 0 | E25: =E67 -> 23
A26: =A25+1 -> 24 | B26: =IF(реглист!C51="Б",реглист!B51,реглист!B52) -> 0 | C26: =IF(реглист!D51="Б",реглист!C51,реглист!C52) -> 0 | D26: =D68 -> 0 | E26: =E68 -> 23
A27: =A26+1 -> 25 | B27: =IF(реглист!C53="Б",реглист!B53,реглист!B54) -> 0 | C27: =IF(реглист!D53="Б",реглист!C53,реглист!C54) -> 0 | D27: =D69 -> 0 | E27: =E69 -> 23
A28: =A27+1 -> 26 | B28: =IF(реглист!C55="Б",реглист!B55,реглист!B56) -> 0 | C28: =IF(реглист!D55="Б",реглист!C55,реглист!C56) -> 0 | D28: =D70 -> 0 | E28: =E70 -> 23
A29: =A28+1 -> 27 | B29: =IF(реглист!C57="Б",реглист!B57,реглист!B58) -> 0 | C29: =IF(реглист!D57="Б",реглист!C57,реглист!C58) -> 0 | D29: =D71 -> 0 | E29: =E71 -> 23
A30: =A29+1 -> 28 | B30: =IF(реглист!C59="Б",реглист!B59,реглист!B60) -> 0 | C30: =IF(реглист!D59="Б",реглист!C59,реглист!C60) -> 0 | D30: =D72 -> 0 | E30: =E72 -> 23
A31: =A30+1 -> 29 | B31: =IF(реглист!C61="Б",реглист!B61,реглист!B62) -> 0 | C31: =IF(реглист!D61="Б",реглист!C61,реглист!C62) -> 0 | D31: =D73 -> 0 | E31: =E73 -> 23
A32: =A31+1 -> 30 | B32: =IF(реглист!C63="Б",реглист!B63,реглист!B64) -> 0 | C32: =IF(реглист!D63="Б",реглист!C63,реглист!C64) -> 0 | D32: =D74 -> 0 | E32: =E74 -> 23
A33: =A32+1 -> 31 | B33: =IF(реглист!C65="Б",реглист!B65,реглист!B66) -> 0 | C33: =IF(реглист!D65="Б",реглист!C65,реглист!C66) -> 0 | D33: =D75 -> 0 | E33: =E75 -> 23
A34: =A33+1 -> 32 | B34: =IF(реглист!C67="Б",реглист!B67,реглист!B68) -> 0 | C34: =IF(реглист!D67="Б",реглист!C67,реглист!C68) -> 0 | D34: =D76 -> 0 | E34: =E76 -> 23
A35: =A34+1 -> 33 | B35: =IF(реглист!C69="Б",реглист!B69,реглист!B70) -> 0 | C35: =IF(реглист!D69="Б",реглист!C69,реглист!C70) -> 0 | D35: =D77 -> 0 | E35: =E77 -> 23
A36: =A35+1 -> 34 | B36: =IF(реглист!C71="Б",реглист!B71,реглист!B72) -> 0 | C36: =IF(реглист!D71="Б",реглист!C71,реглист!C72) -> 0 | D36: =D78 -> 0 | E36: =E78 -> 23
A37: =A36+1 -> 35 | B37: =IF(реглист!C73="Б",реглист!B73,реглист!B74) -> 0 | C37: =IF(реглист!D73="Б",реглист!C73,реглист!C74) -> 0 | D37: =D79 -> 0 | E37: =E79 -> 23
A38: =A37+1 -> 36 | B38: =IF(реглист!C75="Б",реглист!B75,реглист!B76) -> 0 | C38: =IF(реглист!D75="Б",реглист!C75,реглист!C76) -> 0 | D38: =D80 -> 0 | E38: =E80 -> 23
A39: =A38+1 -> 37 | B39: =IF(реглист!C77="Б",реглист!B77,реглист!B78) -> 0 | C39: =IF(реглист!D77="Б",реглист!C77,реглист!C78) -> 0 | D39: =D81 -> 0 | E39: =E81 -> 23
A40: =A39+1 -> 38 | B40: =IF(реглист!C79="Б",реглист!B79,реглист!B80) -> 0 | C40: =IF(реглист!D79="Б",реглист!C79,реглист!C80) -> 0 | D40: =D82 -> 0 | E40: =E82 -> 23
...

Sheet Т2За
A1: № | B1: команда | C1: участник | D1: сумма баллов | E1: место | F1: окунь | U1: щука | X1: судак | AA1: жерех | AD1: голавль | AG1: язь | AJ1: чехонь | AM1: сом
F2: размер, см
A3: 1 | B3: =Т1Зб!B3 -> Vodomotorika TEAM | C3: =Т1Зб!C3 -> Ставер Дмитрий | D3: =D45 -> 0 | E3: =E45 -> 23
A4: =A3+1 -> 2 | B4: =Т1Зб!B4 -> Трудовые резервы | C4: =Т1Зб!C4 -> Баранок Артём | D4: =D46 -> 0 | E4: =E46 -> 23
A5: =A4+1 -> 3 | B5: =Т1Зб!B5 -> Poseidon | C5: =Т1Зб!C5 -> Чижонок Сергей | D5: =D47 -> 151.29 | E5: =E47 -> 12 | F5: 12.3
A6: =A5+1 -> 4 | B6: =Т1Зб!B6 -> Peacock Bass | C6: =Т1Зб!C6 -> Дроздов Виталий | D6: =D48 -> 0 | E6: =E48 -> 23
A7: =A6+1 -> 5 | B7: =Т1Зб!B7 -> Old Roads Fishing | C7: =Т1Зб!C7 -> Чернышёв Егор | D7: =D49 -> 320.41 | E7: =E49 -> 7 | U7: 35.8
A8: =A7+1 -> 6 | B8: =Т1Зб!B8 -> Gefest | C8: =Т1Зб!C8 -> Саган Сергей | D8: =D50 -> 158.76 | E8: =E50 -> 10 | F8: 12.6
A9: =A8+1 -> 7 | B9: =Т1Зб!B9 -> West Fishing | C9: =Т1Зб!C9 -> Золотарь Андрей | D9: =D51 -> 324 | E9: =E51 -> 6 | F9: 18
A10: =A9+1 -> 8 | B10: =Т1Зб!B10 -> Dream Team | C10: =Т1Зб!C10 -> Золотухин Александр | D10: =D52 -> 0 | E10: =E52 -> 23
A11: =A10+1 -> 9 | B11: =Т1Зб!B11 -> Bona Кобрин | C11: =Т1Зб!C11 -> Барташук Александр | D11: =D53 -> 1004.8925 | E11: =E53 -> 2 | F11: 12.7 | U11: 39.6 | V11: 42.5
A12: =A11+1 -> 10 | B12: =Т1Зб!B12 -> Фарватер | C12: =Т1Зб!C12 -> Цыганок Михаил | D12: =D54 -> 0 | E12: =E54 -> 23
A13: =A12+1 -> 11 | B13: =Т1Зб!B13 -> XULi-ULi | C13: =Т1Зб!C13 -> Дубровский Вадим | D13: =D55 -> 686.57 | E13: =E55 -> 3 | U13: 29 | V13: 28.8 | W13: 32.8
A14: =A13+1 -> 12 | B14: =Т1Зб!B14 -> Fanatik Belarus | C14: =Т1Зб!C14 -> Янкович Сергей | D14: =D56 -> 182.25 | E14: =E56 -> 9 | F14: 13.5
A15: =A14+1 -> 13 | B15: =Т1Зб!B15 -> FISHINGSTOCK BELARUS | C15: =Т1Зб!C15 -> Бобриков Алексей | D15: =D57 -> 0 | E15: =E57 -> 23
A16: =A15+1 -> 14 | B16: =Т1Зб!B16 -> Против Течениия | C16: =Т1Зб!C16 -> Ананич Геннадий | D16: =D58 -> 0 | E16: =E58 -> 23
A17: =A16+1 -> 15 | B17: =Т1Зб!B17 -> Bait Breath Team | C17: =Т1Зб!C17 -> Бахур Александр | D17: =D59 -> 210.25 | E17: =E59 -> 8 | F17: 14.5
A18: =A17+1 -> 16 | B18: =Т1Зб!B18 -> Кооператив ХИЩНИК | C18: =Т1Зб!C18 -> Сницкий Владимир | D18: =D60 -> 0 | E18: =E60 -> 23
A19: =A18+1 -> 17 | B19: =Т1Зб!B19 -> Bass Hunters | C19: =Т1Зб!C19 -> Шевко Виталий | D19: =D61 -> 2683.24 | E19: =E61 -> 1 | U19: 51.8
A20: =A19+1 -> 18 | B20: =Т1Зб!B20 -> TotalSpin | C20: =Т1Зб!C20 -> Жуковский Александр | D20: =D62 -> 157.5025 | E20: =E62 -> 11 | U20: 25.1
A21: =A20+1 -> 19 | B21: =Т1Зб!B21 -> SB-FISHING | C21: =Т1Зб!C21 -> Болбас Тимофей | D21: =D63 -> 384.16 | E21: =E63 -> 5 | F21: 19.6
A22: =A21+1 -> 20 | B22: =Т1Зб!B22 -> Legion | C22: =Т1Зб!C22 -> Бойко Сергей | D22: =D64 -> 0 | E22: =E64 -> 23
A23: =A22+1 -> 21 | B23: =Т1Зб!B23 -> ASpinnTeam | C23: =Т1Зб!C23 -> Вашкевич Александр | D23: =D65 -> 0 | E23: =E65 -> 23
A24: =A23+1 -> 22 | B24: =Т1Зб!B24 -> nanobass | C24: =Т1Зб!C24 -> Мартынчук Михаил | D24: =D66 -> 560.3625 | E24: =E66 -> 4 | U24: 39.3 | V24: 26.4
A25: =A24+1 -> 23 | B25: =Т1Зб!B25 -> 0 | C25: =Т1Зб!C25 -> 0 | D25: =D67 -> 0 | E25: =E67 -> 23
A26: =A25+1 -> 24 | B26: =Т1Зб!B26 -> 0 | C26: =Т1Зб!C26 -> 0 | D26: =D68 -> 0 | E26: =E68 -> 23
A27: =A26+1 -> 25 | B27: =Т1Зб!B27 -> 0 | C27: =Т1Зб!C27 -> 0 | D27: =D69 -> 0 | E27: =E69 -> 23
A28: =A27+1 -> 26 | B28: =Т1Зб!B28 -> 0 | C28: =Т1Зб!C28 -> 0 | D28: =D70 -> 0 | E28: =E70 -> 23
A29: =A28+1 -> 27 | B29: =Т1Зб!B29 -> 0 | C29: =Т1Зб!C29 -> 0 | D29: =D71 -> 0 | E29: =E71 -> 23
A30: =A29+1 -> 28 | B30: =Т1Зб!B30 -> 0 | C30: =Т1Зб!C30 -> 0 | D30: =D72 -> 0 | E30: =E72 -> 23
A31: =A30+1 -> 29 | B31: =Т1Зб!B31 -> 0 | C31: =Т1Зб!C31 -> 0 | D31: =D73 -> 0 | E31: =E73 -> 23
A32: =A31+1 -> 30 | B32: =Т1Зб!B32 -> 0 | C32: =Т1Зб!C32 -> 0 | D32: =D74 -> 0 | E32: =E74 -> 23
A33: =A32+1 -> 31 | B33: =Т1Зб!B33 -> 0 | C33: =Т1Зб!C33 -> 0 | D33: =D75 -> 0 | E33: =E75 -> 23
A34: =A33+1 -> 32 | B34: =Т1Зб!B34 -> 0 | C34: =Т1Зб!C34 -> 0 | D34: =D76 -> 0 | E34: =E76 -> 23
A35: =A34+1 -> 33 | B35: =Т1Зб!B35 -> 0 | C35: =Т1Зб!C35 -> 0 | D35: =D77 -> 0 | E35: =E77 -> 23
A36: =A35+1 -> 34 | B36: =Т1Зб!B36 -> 0 | C36: =Т1Зб!C36 -> 0 | D36: =D78 -> 0 | E36: =E78 -> 23
... A41: =A40+1 -> 39 | B41: =Т1Зб!B41 -> 0 | C41: =Т1Зб!C41 -> 0 | D41: =D83 -> 0 | E41: =E83 -> 23
C42: средняя длина рыб по виду: | F42: =AVERAGE(F3:O41) -> 14.742857 | U42: =AVERAGE(U3:W41) -> 35.11 | X42: =AVERAGE(X3:Z41) -> #DIV/0! | AA42: =AVERAGE(AA3:AC41) -> #DIV/0! | AD42: =AVERAGE(AD3:AF41) -> #DIV/0! | AG42: =AVERAGE(AG3:AI41) -> #DIV/0! | AJ42: =AVERAGE(AJ3:AL41) -> #DIV/0!
A43: № | B43: команда | C43: участник | D43: сумма баллов | E43: место | F43: баллы
A45: 1 | B45: =B3 -> Vodomotorika TEAM | C45: =C3 -> Ставер Дмитрий | D45: =SUM(F45:AO45) -> 0 | E45: =IF(D45>0,RANK(D45,$D$45:$D$83),реглист!$C$88+1) -> 23 | F45: =POWER(F3,2) -> 0 | G45: =POWER(G3,2) -> 0 | H45: =POWER(H3,2) -> 0 | I45: =POWER(I3,2) -> 0 | J45: =POWER(J3,2) -> 0 | K45: =POWER(K3,2) -> 0 | L45: =POWER(L3,2) -> 0 | M45: =POWER(M3,2) -> 0 | ... T45: =POWER(T3,2) -> 0 | U45: =IF(U3>=45,POWER(U3,2),POWER(U3/2,2)) -> 0 | V45: =IF(V3>=45,POWER(V3,2),POWER(V3/2,2)) -> 0 | W45: =IF(W3>=45,POWER(W3,2),POWER(W3/2,2)) -> 0 | X45: =IF(X3>=45,POWER(X3,2),POWER(X3/2,2)) -> 0 | Y45: =IF(Y3>=45,POWER(Y3,2),POWER(Y3/2,2)) -> 0 | Z45: =IF(Z3>=45,POWER(Z3,2),POWER(Z3/2,2)) -> 0 | AA45: =IF(AA3>=40,POWER(AA3,2),POWER(AA3/2,2)) -> 0 | AB45: =IF(AB3>=40,POWER(AB3,2),POWER(AB3/2,2)) -> 0 | AC45: =IF(AC3>=40,POWER(AC3,2),POWER(AC3/2,2)) -> 0 | AD45: =IF(AD3>=30,POWER(AD3,2),POWER(AD3/2,2)) -> 0 | AE45: =IF(AE3>=30,POWER(AE3,2),POWER(AE3/2,2)) -> 0 | AF45: =IF(AF3>=30,POWER(AF3,2),POWER(AF3/2,2)) -> 0 | AG45: =IF(AG3>=30,POWER(AG3,2),POWER(AG3/2,2)) -> 0 | AH45: =IF(AH3>=30,POWER(AH3,2),POWER(AH3/2,2)) -> 0 | AI45: =IF(AI3>=30,POWER(AI3,2),POWER(AI3/2,2)) -> 0 | AJ45: =IF(AJ3>=30,POWER(AJ3,2),POWER(AJ3/2,2)) -> 0 | AK45: =IF(AK3>=30,POWER(AK3,2),POWER(AK3/2,2)) -> 0 | AL45: =IF(AL3>=30,POWER(AL3,2),POWER(AL3/2,2)) -> 0 | AM45: =IF(AM3>=75,POWER(AM3,2),POWER(AM3/2,2)) -> 0 | AN45: =IF(AN3>=75,POWER(AN3,2),POWER(AN3/2,2)) -> 0 | AO45: =IF(AO3>=75,POWER(AO3,2),POWER(AO3/2,2)) -> 0
...

Sheet Т2Зб
A1: № | B1: команда | C1: участник | D1: сумма баллов | E1: место | F1: окунь | U1: щука | X1: судак | AA1: жерех | AD1: голавль | AG1: язь | AJ1: чехонь | AM1: сом
F2: размер, см
A3: 1 | B3: =Т1За!B3 -> Vodomotorika TEAM | C3: =Т1За!C3 -> Круглянин Сергей | D3: =D45 -> 0 | E3: =E45 -> 23
A4: =A3+1 -> 2 | B4: =Т1За!B4 -> Трудовые резервы | C4: =Т1За!C4 -> Пожарский Константин | D4: =D46 -> 439.36 | E4: =E46 -> 6 | F4: 14 | G4: 15.6
A5: =A4+1 -> 3 | B5: =Т1За!B5 -> Poseidon | C5: =Т1За!C5 -> Строк Павел | D5: =D47 -> 309.76 | E5: =E47 -> 7 | U5: 35.2
A6: =A5+1 -> 4 | B6: =Т1За!B6 -> Peacock Bass | C6: =Т1За!C6 -> Сенчуров Иван | D6: =D48 -> 0 | E6: =E48 -> 23
A7: =A6+1 -> 5 | B7: =Т1За!B7 -> Old Roads Fishing | C7: =Т1За!C7 -> Синовец Роман | D7: =D49 -> 207.36 | E7: 12.5 | F7: 14.4
A8: =A7+1 -> 6 | B8: =Т1За!B8 -> Gefest | C8: =Т1За!C8 -> Радчук Юрий | D8: =D50 -> 855.29 | E8: =E50 -> 1 | F8: 15.5 | G8: 24.8
A9: =A8+1 -> 7 | B9: =Т1За!B9 -> West Fishing | C9: =Т1За!C9 -> Непомнящий Виктор | D9: =D51 -> 478.76 | E9: =E51 -> 4 | F9: 17.6 | G9: 13
A10: =A9+1 -> 8 | B10: =Т1За!B10 -> Dream Team | C10: =Т1За!C10 -> Тысевич Сергей | D10: =D52 -> 292.41 | E10: =E52 -> 8 | F10: 17.1
A11: =A10+1 -> 9 | B11: =Т1За!B11 -> Bona Кобрин | C11: =Т1За!C11 -> Марковский Максим | D11: =D53 -> 0 | E11: =E53 -> 23
A12: =A11+1 -> 10 | B12: =Т1За!B12 -> Фарватер | C12: =Т1За!C12 -> Попельский Максим | D12: =D54 -> 139.24 | E12: =E54 -> 15 | F12: 11.8
A13: =A12+1 -> 11 | B13: =Т1За!B13 -> XULi-ULi | C13: =Т1За!C13 -> Лавренчук Станислав | D13: =D55 -> 217.5625 | E13: =E55 -> 11 | U13: 29.5
A14: =A13+1 -> 12 | B14: =Т1За!B14 -> Fanatik Belarus | C14: =Т1За!C14 -> Шевчук Дмитрий | D14: =D56 -> 0 | E14: =E56 -> 23
A15: =A14+1 -> 13 | B15: =Т1За!B15 -> FISHINGSTOCK BELARUS | C15: =Т1За!C15 -> Лунякин Олег | D15: =D57 -> 0 | E15: =E57 -> 23
A16: =A15+1 -> 14 | B16: =Т1За!B16 -> Против Течениия | C16: =Т1За!C16 -> Кириенко Кирилл | D16: =D58 -> 278.89 | E16: =E58 -> 9 | F16: 16.7
A17: =A16+1 -> 15 | B17: =Т1За!B17 -> Bait Breath Team | C17: =Т1За!C17 -> Зубко Сергей | D17: =D59 -> 470.89 | E17: =E59 -> 5 | F17: 21.7
A18: =A17+1 -> 16 | B18: =Т1За!B18 -> Кооператив ХИЩНИК | C18: =Т1За!C18 -> Сницкий Виктор | D18: =D60 -> 0 | E18: =E60 -> 23
A19: =A18+1 -> 17 | B19: =Т1За!B19 -> Bass Hunters | C19: =Т1За!C19 -> Кириевский Андрей | D19: =D61 -> 207.36 | E19: 12.5 | F19: 14.4
A20: =A19+1 -> 18 | B20: =Т1За!B20 -> TotalSpin | C20: =Т1За!C20 -> Масюк Павел | D20: =D62 -> 750.76 | E20: =E62 -> 2 | F20: 27.4
A21: =A20+1 -> 19 | B21: =Т1За!B21 -> SB-FISHING | C21: =Т1За!C21 -> Сапраненков Евгений | D21: =D63 -> 573.3125 | E21: =E63 -> 3 | F21: 15.5 | U21: 36.5
A22: =A21+1 -> 20 | B22: =Т1За!B22 -> Legion | C22: =Т1За!C22 -> Микулов Владимир | D22: =D64 -> 190.44 | E22: =E64 -> 14 | F22: 13.8
A23: =A22+1 -> 21 | B23: =Т1За!B23 -> ASpinnTeam | C23: =Т1За!C23 -> Нугуманов Артём | D23: =D65 -> 0 | E23: =E65 -> 23
A24: =A23+1 -> 22 | B24: =Т1За!B24 -> nanobass | C24: =Т1За!C24 -> Бычик Роман | D24: =D66 -> 262.44 | E24: =E66 -> 10 | F24: 16.2
A25: =A24+1 -> 23 | B25: =Т1За!B25 -> 0 | C25: =Т1За!C25 -> 0 | D25: =D67 -> 0 | E25: =E67 -> 23
A26: =A25+1 -> 24 | B26: =Т1За!B26 -> 0 | C26: =Т1За!C26 -> 0 | D26: =D68 -> 0 | E26: =E68 -> 23
A27: =A26+1 -> 25 | B27: =Т1За!B27 -> 0 | C27: =Т1За!C27 -> 0 | D27: =D69 -> 0 | E27: =E69 -> 23
A28: =A27+1 -> 26 | B28: =Т1За!B28 -> 0 | C28: =Т1За!C28 -> 0 | D28: =D70 -> 0 | E28: =E70 -> 23
A29: =A28+1 -> 27 | B29: =Т1За!B29 -> 0 | C29: =Т1За!C29 -> 0 | D29: =D71 -> 0 | E29: =E71 -> 23
A30: =A29+1 -> 28 | B30: =Т1За!B30 -> 0 | C30: =Т1За!C30 -> 0 | D30: =D72 -> 0 | E30: =E72 -> 23
A31: =A30+1 -> 29 | B31: =Т1За!B31 -> 0 | C31: =Т1За!C31 -> 0 | D31: =D73 -> 0 | E31: =E73 -> 23
A32: =A31+1 -> 30 | B32: =Т1За!B32 -> 0 | C32: =Т1За!C32 -> 0 | D32: =D74 -> 0 | E32: =E74 -> 23
A33: =A32+1 -> 31 | B33: =Т1За!B33 -> 0 | C33: =Т1За!C33 -> 0 | D33: =D75 -> 0 | E33: =E75 -> 23
A34: =A33+1 -> 32 | B34: =Т1За!B34 -> 0 | C34: =Т1За!C34 -> 0 | D34: =D76 -> 0 | E34: =E76 -> 23
A35: =A34+1 -> 33 | B35: =Т1За!B35 -> 0 | C35: =Т1За!C35 -> 0 | D35: =D77 -> 0 | E35: =E77 -> 23
A36: =A35+1 -> 34 | B36: =Т1За!B36 -> 0 | C36: =Т1За!C36 -> 0 | D36: =D78 -> 0 | E36: =E78 -> 23
... A41: =A40+1 -> 39 | B41: =Т1За!B41 -> 0 | C41: =Т1За!C41 -> 0 | D41: =D83 -> 0 | E41: =E83 -> 23
C42: средняя длина рыб по виду: | F42: =AVERAGE(F3:O41) -> 16.84375 | U42: =AVERAGE(U3:W41) -> 33.733333 | X42: =AVERAGE(X3:Z41) -> #DIV/0! | AA42: =AVERAGE(AA3:AC41) -> #DIV/0! | AD42: =AVERAGE(AD3:AF41) -> #DIV/0! | AG42: =AVERAGE(AG3:AI41) -> #DIV/0! | AJ42: =AVERAGE(AJ3:AL41) -> #DIV/0!
A43: № | B43: команда | C43: участник | D43: сумма баллов | E43: место | F43: баллы
A45: 1 | B45: =B3 -> Vodomotorika TEAM | C45: =C3 -> Круглянин Сергей | D45: =SUM(F45:AO45) -> 0 | E45: =IF(D45>0,RANK(D45,$D$45:$D$83),реглист!$C$88+1) -> 23 | F45: =POWER(F3,2) -> 0 | G45: =POWER(G3,2) -> 0 | H45: =POWER(H3,2) -> 0 | I45: =POWER(I3,2) -> 0 | J45: =POWER(J3,2) -> 0 | K45: =POWER(K3,2) -> 0 | L45: =POWER(L3,2) -> 0 | M45: =POWER(M3,2) -> 0 | ... T45: =POWER(T3,2) -> 0 | U45: =IF(U3>=45,POWER(U3,2),POWER(U3/2,2)) -> 0 | V45: =IF(V3>=45,POWER(V3,2),POWER(V3/2,2)) -> 0 | W45: =IF(W3>=45,POWER(W3,2),POWER(W3/2,2)) -> 0 | X45: =IF(X3>=45,POWER(X3,2),POWER(X3/2,2)) -> 0 | Y45: =IF(Y3>=45,POWER(Y3,2),POWER(Y3/2,2)) -> 0 | Z45: =IF(Z3>=45,POWER(Z3,2),POWER(Z3/2,2)) -> 0 | AA45: =IF(AA3>=40,POWER(AA3,2),POWER(AA3/2,2)) -> 0 | AB45: =IF(AB3>=40,POWER(AB3,2),POWER(AB3/2,2)) -> 0 | AC45: =IF(AC3>=40,POWER(AC3,2),POWER(AC3/2,2)) -> 0 | AD45: =IF(AD3>=30,POWER(AD3,2),POWER(AD3/2,2)) -> 0 | AE45: =IF(AE3>=30,POWER(AE3,2),POWER(AE3/2,2)) -> 0 | AF45: =IF(AF3>=30,POWER(AF3,2),POWER(AF3/2,2)) -> 0 | AG45: =IF(AG3>=30,POWER(AG3,2),POWER(AG3/2,2)) -> 0 | AH45: =IF(AH3>=30,POWER(AH3,2),POWER(AH3/2,2)) -> 0 | AI45: =IF(AI3>=30,POWER(AI3,2),POWER(AI3/2,2)) -> 0 | AJ45: =IF(AJ3>=30,POWER(AJ3,2),POWER(AJ3/2,2)) -> 0 | AK45: =IF(AK3>=30,POWER(AK3,2),POWER(AK3/2,2)) -> 0 | AL45: =IF(AL3>=30,POWER(AL3,2),POWER(AL3/2,2)) -> 0 | AM45: =IF(AM3>=75,POWER(AM3,2),POWER(AM3/2,2)) -> 0 | AN45: =IF(AN3>=75,POWER(AN3,2),POWER(AN3/2,2)) -> 0 | AO45: =IF(AO3>=75,POWER(AO3,2),POWER(AO3/2,2)) -> 0
...

Sheet FuzzyLookup_AddIn_Undo_Sheet
A1: № | B1: Команды | C1: Участники | D1: Тур 1 | H1: Тур 2 | L1: Личный зачет | O1: Командный зачет
D2: Зона А | F2: Зона Б | H2: Зона А | J2: Зона Б
D3: баллы | E3: место | F3: баллы | G3: место | H3: баллы | I3: место | J3: баллы | K3: место | L3: баллы | M3: сумма мест | N3: место | O3: баллы | P3: сумма мест | Q3: место
A4: 1 | B4: Cast-Fishing | C4: Лихачев Максим | L4: =D4+F4+H4+J4 -> 0 | M4: =E4+G4+I4+K4 -> 0 | O4: =L4+L5 -> 0 | P4: =M4+M5 -> 0
C5: Ковальчук Дмитрий | L5: =D5+F5+H5+J5 -> 0 | M5: =E5+G5+I5+K5 -> 0
A6: 2 | B6: Peacock Bass | C6: Сенчуров Иван | L6: =D6+F6+H6+J6 -> 0 | M6: =E6+G6+I6+K6 -> 0 | O6: =L6+L7 -> 0 | P6: =M6+M7 -> 0
C7: Дроздов Виталий | L7: =D7+F7+H7+J7 -> 0 | M7: =E7+G7+I7+K7 -> 0
A8: 3 | B8: Adventurers | C8: Бахур Александр | D8: 196 | L8: =D8+F8+H8+J8 -> 196 | M8: =E8+G8+I8+K8 -> 0 | O8: =L8+L9 -> 196 | P8: =M8+M9 -> 0
C9: Зубко Сергей | L9: =D9+F9+H9+J9 -> 0 | M9: =E9+G9+I9+K9 -> 0
A10: 4 | B10: MicroKiller | C10: Купрейчик Сергей | L10: =D10+F10+H10+J10 -> 0 | M10: =E10+G10+I10+K10 -> 0 | O10: =L10+L11 -> 81 | P10: =M10+M11 -> 0
C11: Янкович Сергей | D11: 81 | L11: =D11+F11+H11+J11 -> 81 | M11: =E11+G11+I11+K11 -> 0
A12: 5 | B12: Per4 | C12: Лунякин Олег | L12: =D12+F12+H12+J12 -> 0 | M12: =E12+G12+I12+K12 -> 0 | O12: =L12+L13 -> 36 | P12: =M12+M13 -> 0
C13: Каменец Алексей | D13: 36 | L13: =D13+F13+H13+J13 -> 36 | M13: =E13+G13+I13+K13 -> 0
A14: 6 | B14: Poseidon | C14: Чижонок Сергей | D14: 121 | L14: =D14+F14+H14+J14 -> 121 | M14: =E14+G14+I14+K14 -> 0 | O14: =L14+L15 -> 121 | P14: =M14+M15 -> 0
C15: Строк Павел | L15: =D15+F15+H15+J15 -> 0 | M15: =E15+G15+I15+K15 -> 0
A16: 7 | B16: West Fishing | C16: Непомнящий Виктор | L16: =D16+F16+H16+J16 -> 0 | M16: =E16+G16+I16+K16 -> 0 | O16: =L16+L17 -> 0 | P16: =M16+M17 -> 0
C17: Золотарь Андрей | L17: =D17+F17+H17+J17 -> 0 | M17: =E17+G17+I17+K17 -> 0
A18: 8 | B18: nanobass | C18: Бычик Роман | D18: 100 | L18: =D18+F18+H18+J18 -> 100 | M18: =E18+G18+I18+K18 -> 0 | O18: =L18+L19 -> 100 | P18: =M18+M19 -> 0
C19: Шевко Виталий | L19: =D19+F19+H19+J19 -> 0 | M19: =E19+G19+I19+K19 -> 0
A20: 9 | B20: Трудовые резервы | C20: Пожарский Константин | L20: =D20+F20+H20+J20 -> 0 | M20: =E20+G20+I20+K20 -> 0 | O20: =L20+L21 -> 49 | P20: =M20+M21 -> 0
C21: Бобриков Алексей | D21: 49 | L21: =D21+F21+H21+J21 -> 49 | M21: =E21+G21+I21+K21 -> 0
A22: 10 | B22: Lunker Tail | C22: Козел Вячеслав | L22: =D22+F22+H22+J22 -> 0 | M22: =E22+G22+I22+K22 -> 0 | O22: =L22+L23 -> 64 | P22: =M22+M23 -> 0
C23: Кириевский Андрей | D23: 64 | L23: =D23+F23+H23+J23 -> 64 | M23: =E23+G23+I23+K23 -> 0
A24: 11 | B24: Против Течения | C24: Ананич Геннадий | L24: =D24+F24+H24+J24 -> 0 | M24: =E24+G24+I24+K24 -> 0 | O24: =L24+L25 -> 0 | P24: =M24+M25 -> 0
C25: Кириенко Кирилл | L25: =D25+F25+H25+J25 -> 0 | M25: =E25+G25+I25+K25 -> 0
A26: 12 | B26: ЕК | C26: Ковалев Евгений | D26: 169 | L26: =D26+F26+H26+J26 -> 169 | M26: =E26+G26+I26+K26 -> 0 | O26: =L26+L27 -> 169 | P26: =M26+M27 -> 0
C27: Казанцев Евгений | L27: =D27+F27+H27+J27 -> 0 | M27: =E27+G27+I27+K27 -> 0
A28: 13 | B28: Legion | C28: Бойко Сергей | L28: =D28+F28+H28+J28 -> 0 | M28: =E28+G28+I28+K28 -> 0 | O28: =L28+L29 -> 225 | P28: =M28+M29 -> 0
C29: Микулов Владимир | D29: 225 | L29: =D29+F29+H29+J29 -> 225 | M29: =E29+G29+I29+K29 -> 0
A30: 14 | B30: Степ Гарант | C30: Мельников Ю. В. | D30: 144 | L30: =D30+F30+H30+J30 -> 144 | M30: =E30+G30+I30+K30 -> 0 | O30: =L30+L31 -> 144 | P30: =M30+M31 -> 0
C31: Кравченко И. П. | L31: =D31+F31+H31+J31 -> 0 | M31: =E31+G31+I31+K31 -> 0

Sheet Итоги
A1: № | B1: Команды | C1: Участники | D1: Тур 1 | H1: Тур 2 | L1: Личный зачет | O1: Командный зачет
D2: Зона А | F2: Зона Б | H2: Зона А | J2: Зона Б
D3: баллы | E3: меcто | F3: баллы | G3: место | H3: баллы | I3: место | J3: баллы | K3: место | L3: баллы | M3: сумма мест | N3: место | O3: баллы | P3: сумма мест | Q3: место
A4: 1 | B4: =реглист!B5 -> Vodomotorika TEAM | C4: =реглист!C5 -> Круглянин Сергей | D4: =IFERROR(VLOOKUP(C4,Т1За!$C$3:$D$42,2,0),0) -> 1225.16 | E4: =IFERROR(VLOOKUP(C4,Т1За!$C$3:$E$42,3,0),0) -> 2 | F4: =IFERROR(VLOOKUP(C4,Т1Зб!$C$3:$D$42,2,0),0) -> 0 | G4: =IFERROR(VLOOKUP(C4,Т1Зб!$C$3:$E$42,3,0),0) -> 0 | H4: =IFERROR(VLOOKUP(C4,Т2За!$C$3:$D$42,2,0),0) -> 0 | I4: =IFERROR(VLOOKUP(C4,Т2За!$C$3:$E$42,3,0),0) -> 0 | J4: =IFERROR(VLOOKUP(C4,Т2Зб!$C$3:$D$42,2,0),0) -> 0 | K4: =IFERROR(VLOOKUP(C4,Т2Зб!$C$3:$E$42,3,0),0) -> 23 | L4: =D4+F4+H4+J4 -> 1225.16 | M4: =IF(L4=0,реглист!$C$88*2+2,E4+G4+I4+K4) -> 25 | N4: 17 | O4: =L4+L5 -> 1225.16 | P4: =IF(O4=0,реглист!$C$88*4+4,M4+M5) -> 71 | Q4: =IF(P4=реглист!$C$88*4+4,реглист!$C$88+1,RANK(P4,$P$4:$P$81,1)) -> 18
A5: =A4+1 -> 2 | B5: =реглист!B6 -> Vodomotorika TEAM | C5: =реглист!C6 -> Ставер Дмитрий | D5: =IFERROR(VLOOKUP(C5,Т1За!$C$3:$D$42,2,0),0) -> 0 | E5: =IFERROR(VLOOKUP(C5,Т1За!$C$3:$E$42,3,0),0) -> 0 | F5: =IFERROR(VLOOKUP(C5,Т1Зб!$C$3:$D$42,2,0),0) -> 0 | G5: =IFERROR(VLOOKUP(C5,Т1Зб!$C$3:$E$42,3,0),0) -> 23 | H5: =IFERROR(VLOOKUP(C5,Т2За!$C$3:$D$42,2,0),0) -> 0 | I5: =IFERROR(VLOOKUP(C5,Т2За!$C$3:$E$42,3,0),0) -> 23 | J5: =IFERROR(VLOOKUP(C5,Т2Зб!$C$3:$D$42,2,0),0) -> 0 | K5: =IFERROR(VLOOKUP(C5,Т2Зб!$C$3:$E$42,3,0),0) -> 0 | L5: =D5+F5+H5+J5 -> 0 | M5: =IF(L5=0,реглист!$C$88*2+2,E5+G5+I5+K5) -> 46 | N5: 45
A6: =A5+1 -> 3 | B6: =реглист!B7 -> Трудовые резервы | C6: =реглист!C7 -> Баранок Артём | D6: =IFERROR(VLOOKUP(C6,Т1За!$C$3:$D$42,2,0),0) -> 0 | E6: =IFERROR(VLOOKUP(C6,Т1За!$C$3:$E$42,3,0),0) -> 0 | F6: =IFERROR(VLOOKUP(C6,Т1Зб!$C$3:$D$42,2,0),0) -> 225 | G6: =IFERROR(VLOOKUP(C6,Т1Зб!$C$3:$E$42,3,0),0) -> 8 | H6: =IFERROR(VLOOKUP(C6,Т2За!$C$3:$D$42,2,0),0) -> 0 | I6: =IFERROR(VLOOKUP(C6,Т2За!$C$3:$E$42,3,0),0) -> 23 | J6: =IFERROR(VLOOKUP(C6,Т2Зб!$C$3:$D$42,2,0),0) -> 0 | K6: =IFERROR(VLOOKUP(C6,Т2Зб!$C$3:$E$42,3,0),0) -> 0 | L6: =D6+F6+H6+J6 -> 225 | M6: =IF(L6=0,реглист!$C$88*2+2,E6+G6+I6+K6) -> 31 | N6: 27 | O6: =L6+L7 -> 1436.65 | P6: =IF(O6=0,реглист!$C$88*4+4,M6+M7) -> 40 | Q6: =IF(P6=реглист!$C$88*4+4,реглист!$C$88+1,RANK(P6,$P$4:$P$81,1)) -> 5
A7: =A6+1 -> 4 | B7: =реглист!B8 -> Трудовые резервы | C7: =реглист!C8 -> Пожарский Константин | D7: =IFERROR(VLOOKUP(C7,Т1За!$C$3:$D$42,2,0),0) -> 772.29 | E7: =IFERROR(VLOOKUP(C7,Т1За!$C$3:$E$42,3,0),0) -> 3 | F7: =IFERROR(VLOOKUP(C7,Т1Зб!$C$3:$D$42,2,0),0) -> 0 | G7: =IFERROR(VLOOKUP(C7,Т1Зб!$C$3:$E$42,3,0),0) -> 0 | H7: =IFERROR(VLOOKUP(C7,Т2За!$C$3:$D$42,2,0),0) -> 0 | I7: =IFERROR(VLOOKUP(C7,Т2За!$C$3:$E$42,3,0),0) -> 0 | J7: =IFERROR(VLOOKUP(C7,Т2Зб!$C$3:$D$42,2,0),0) -> 439.36 | K7: =IFERROR(VLOOKUP(C7,Т2Зб!$C$3:$E$42,3,0),0) -> 6 | L7: =D7+F7+H7+J7 -> 1211.65 | M7: =IF(L7=0,реглист!$C$88*2+2,E7+G7+I7+K7) -> 9 | N7: 4
A8: =A7+1 -> 5 | B8: =реглист!B9 -> Poseidon | C8: =реглист!C9 -> Чижонок Сергей | D8: =IFERROR(VLOOKUP(C8,Т1За!$C$3:$D$42,2,0),0) -> 0 | E8: =IFERROR(VLOOKUP(C8,Т1За!$C$3:$E$42,3,0),0) -> 0 | F8: =IFERROR(VLOOKUP(C8,Т1Зб!$C$3:$D$42,2,0),0) -> 268.96 | G8: =IFERROR(VLOOKUP(C8,Т1Зб!$C$3:$E$42,3,0),0) -> 6 | H8: =IFERROR(VLOOKUP(C8,Т2За!$C$3:$D$42,2,0),0) -> 151.29 | I8: =IFERROR(VLOOKUP(C8,Т2За!$C$3:$E$42,3,0),0) -> 12 | J8: =IFERROR(VLOOKUP(C8,Т2Зб!$C$3:$D$42,2,0),0) -> 0 | K8: =IFERROR(VLOOKUP(C8,Т2Зб!$C$3:$E$42,3,0),0) -> 0 | L8: =D8+F8+H8+J8 -> 420.25 | M8: =IF(L8=0,реглист!$C$88*2+2,E8+G8+I8+K8) -> 18 | N8: 12 | O8: =L8+L9 -> 1110.26 | P8: =IF(O8=0,реглист!$C$88*4+4,M8+M9) -> 31 | Q8: =IF(P8=реглист!$C$88*4+4,реглист!$C$88+1,RANK(P8,$P$4:$P$81,1)) -> 1
A9: =A8+1 -> 6 | B9: =реглист!B10 -> Poseidon | C9: =реглист!C10 -> Строк Павел | D9: =IFERROR(VLOOKUP(C9,Т1За!$C$3:$D$42,2,0),0) -> 380.25 | E9: =IFERROR(VLOOKUP(C9,Т1За!$C$3:$E$42,3,0),0) -> 6 | F9: =IFERROR(VLOOKUP(C9,Т1Зб!$C$3:$D$42,2,0),0) -> 0 | G9: =IFERROR(VLOOKUP(C9,Т1Зб!$C$3:$E$42,3,0),0) -> 0 | H9: =IFERROR(VLOOKUP(C9,Т2За!$C$3:$D$42,2,0),0) -> 0 | I9: =IFERROR(VLOOKUP(C9,Т2За!$C$3:$E$42,3,0),0) -> 0 | J9: =IFERROR(VLOOKUP(C9,Т2Зб!$C$3:$D$42,2,0),0) -> 309.76 | K9: =IFERROR(VLOOKUP(C9,Т2Зб!$C$3:$E$42,3,0),0) -> 7 | L9: =D9+F9+H9+J9 -> 690.01 | M9: =IF(L9=0,реглист!$C$88*2+2,E9+G9+I9+K9) -> 13 | N9: 8
A10: =A9+1 -> 7 | B10: =реглист!B11 -> Peacock Bass | C10: =реглист!C11 -> Сенчуров Иван | D10: =IFERROR(VLOOKUP(C10,Т1За!$C$3:$D$42,2,0),0) -> 320.41 | E10: =IFERROR(VLOOKUP(C10,Т1За!$C$3:$E$42,3,0),0) -> 8 | F10: =IFERROR(VLOOKUP(C10,Т1Зб!$C$3:$D$42,2,0),0) -> 0 | G10: =IFERROR(VLOOKUP(C10,Т1Зб!$C$3:$E$42,3,0),0) -> 0 | H10: =IFERROR(VLOOKUP(C10,Т2За!$C$3:$D$42,2,0),0) -> 0 | I10: =IFERROR(VLOOKUP(C10,Т2За!$C$3:$E$42,3,0),0) -> 0 | J10: =IFERROR(VLOOKUP(C10,Т2Зб!$C$3:$D$42,2,0),0) -> 0 | K10: =IFERROR(VLOOKUP(C10,Т2Зб!$C$3:$E$42,3,0),0) -> 23 | L10: =D10+F10+H10+J10 -> 320.41 | M10: =IF(L10=0,реглист!$C$88*2+2,E10+G10+I10+K10) -> 31 | N10: 26 | O10: =L10+L11 -> 835.14 | P10: =IF(O10=0,реглист!$C$88*4+4,M10+M11) -> 57 | Q10: =IF(P10=реглист!$C$88*4+4,реглист!$C$88+1,RANK(P10,$P$4:$P$81,1)) -> 13
A11: =A10+1 -> 8 | B11: =реглист!B12 -> Peacock Bass | C11: =реглист!C12 -> Дроздов Виталий | D11: =IFERROR(VLOOKUP(C11,Т1За!$C$3:$D$42,2,0),0) -> 0 | E11: =IFERROR(VLOOKUP(C11,Т1За!$C$3:$E$42,3,0),0) -> 0 | F11: =IFERROR(VLOOKUP(C11,Т1Зб!$C$3:$D$42,2,0),0) -> 514.73 | G11: =IFERROR(VLOOKUP(C11,Т1Зб!$C$3:$E$42,3,0),0) -> 3 | H11: =IFERROR(VLOOKUP(C11,Т2За!$C$3:$D$42,2,0),0) -> 0 | I11: =IFERROR(VLOOKUP(C11,Т2За!$C$3:$E$42,3,0),0) -> 23 | J11: =IFERROR(VLOOKUP(C11,Т2Зб!$C$3:$D$42,2,0),0) -> 0 | K11: =IFERROR(VLOOKUP(C11,Т2Зб!$C$3:$E$42,3,0),0) -> 0 | L11: =D11+F11+H11+J11 -> 514.73 | M11: =IF(L11=0,реглист!$C$88*2+2,E11+G11+I11+K11) -> 26 | N11: 19
A12: =A11+1 -> 9 | B12: =реглист!B13 -> Old Roads Fishing | C12: =реглист!C13 -> Синовец Роман | D12: =IFERROR(VLOOKUP(C12,Т1За!$C$3:$D$42,2,0),0) -> 278.89 | E12: =IFERROR(VLOOKUP(C12,Т1За!$C$3:$E$42,3,0),0) -> 9 | F12: =IFERROR(VLOOKUP(C12,Т1Зб!$C$3:$D$42,2,0),0) -> 0 | G12: =IFERROR(VLOOKUP(C12,Т1Зб!$C$3:$E$42,3,0),0) -> 0 | H12: =IFERROR(VLOOKUP(C12,Т2За!$C$3:$D$42,2,0),0) -> 0 | I12: =IFERROR(VLOOKUP(C12,Т2За!$C$3:$E$42,3,0),0) -> 0 | J12: =IFERROR(VLOOKUP(C12,Т2Зб!$C$3:$D$42,2,0),0) -> 207.36 | K12: =IFERROR(VLOOKUP(C12,Т2Зб!$C$3:$E$42,3,0),0) -> 12.5 | L12: =D12+F12+H12+J12 -> 486.25 | M12: =IF(L12=0,реглист!$C$88*2+2,E12+G12+I12+K12) -> 21.5 | N12: 14 | O12: =L12+L13 -> 806.66 | P12: =IF(O12=0,реглист!$C$88*4+4,M12+M13) -> 51.5 | Q12: =IF(P12=реглист!$C$88*4+4,реглист!$C$88+1,RANK(P12,$P$4:$P$81,1)) -> 11
A13: =A12+1 -> 10 | B13: =реглист!B14 -> Old Roads Fishing | C13: =реглист!C14 -> Чернышёв Егор | D13: =IFERROR(VLOOKUP(C13,Т1За!$C$3:$D$42,2,0),0) -> 0 | E13: =IFERROR(VLOOKUP(C13,Т1За!$C$3:$E$42,3,0),0) -> 0 | F13: =IFERROR(VLOOKUP(C13,Т1Зб!$C$3:$D$42,2,0),0) -> 0 | G13: =IFERROR(VLOOKUP(C13,Т1Зб!$C$3:$E$42,3,0),0) -> 23 | H13: =IFERROR(VLOOKUP(C13,Т2За!$C$3:$D$42,2,0),0) -> 320.41 | I13: =IFERROR(VLOOKUP(C13,Т2За!$C$3:$E$42,3,0),0) -> 7 | J13: =IFERROR(VLOOKUP(C13,Т2Зб!$C$3:$D$42,2,0),0) -> 0 | K13: =IFERROR(VLOOKUP(C13,Т2Зб!$C$3:$E$42,3,0),0) -> 0 | L13: =D13+F13+H13+J13 -> 320.41 | M13: =IF(L13=0,реглист!$C$88*2+2,E13+G13+I13+K13) -> 30 | N13: 24
A14: =A13+1 -> 11 | B14: =реглист!B15 -> Gefest | C14: =реглист!C15 -> Саган Сергей | D14: =IFERROR(VLOOKUP(C14,Т1За!$C$3:$D$42,2,0),0) -> 0 | E14: =IFERROR(VLOOKUP(C14,Т1За!$C$3:$E$42,3,0),0) -> 0 | F14: =IFERROR(VLOOKUP(C14,Т1Зб!$C$3:$D$42,2,0),0) -> 425.89 | G14: =IFERROR(VLOOKUP(C14,Т1Зб!$C$3:$E$42,3,0),0) -> 4 | H14: =IFERROR(VLOOKUP(C14,Т2За!$C$3:$D$42,2,0),0) -> 158.76 | I14: =IFERROR(VLOOKUP(C14,Т2За!$C$3:$E$42,3,0),0) -> 10 | J14: =IFERROR(VLOOKUP(C14,Т2Зб!$C$3:$D$42,2,0),0) -> 0 | K14: =IFERROR(VLOOKUP(C14,Т2Зб!$C$3:$E$42,3,0),0) -> 0 | L14: =D14+F14+H14+J14 -> 584.65 | M14: =IF(L14=0,реглист!$C$88*2+2,E14+G14+I14+K14) -> 14 | N14: 9 | O14: =L14+L15 -> 1439.94 | P14: =IF(O14=0,реглист!$C$88*4+4,M14+M15) -> 38 | Q14: =IF(P14=реглист!$C$88*4+4,реглист!$C$88+1,RANK(P14,$P$4:$P$81,1)) -> 4
A15: =A14+1 -> 12 | B15: =реглист!B16 -> Gefest | C15: =реглист!C16 -> Радчук Юрий | D15: =IFERROR(VLOOKUP(C15,Т1За!$C$3:$D$42,2,0),0) -> 0 | E15: =IFERROR(VLOOKUP(C15,Т1За!$C$3:$E$42,3,0),0) -> 23 | F15: =IFERROR(VLOOKUP(C15,Т1Зб!$C$3:$D$42,2,0),0) -> 0 | G15: =IFERROR(VLOOKUP(C15,Т1Зб!$C$3:$E$42,3,0),0) -> 0 | H15: =IFERROR(VLOOKUP(C15,Т2За!$C$3:$D$42,2,0),0) -> 0 | I15: =IFERROR(VLOOKUP(C15,Т2За!$C$3:$E$42,3,0),0) -> 0 | J15: =IFERROR(VLOOKUP(C15,Т2Зб!$C$3:$D$42,2,0),0) -> 855.29 | K15: =IFERROR(VLOOKUP(C15,Т2Зб!$C$3:$E$42,3,0),0) -> 1 | L15: =D15+F15+H15+J15 -> 855.29 | M15: =IF(L15=0,реглист!$C$88*2+2,E15+G15+I15+K15) -> 24 | N15: 16
A16: =A15+1 -> 13 | B16: =реглист!B17 -> West Fishing | C16: =реглист!C17 -> Непомнящий Виктор | D16: =IFERROR(VLOOKUP(C16,Т1За!$C$3:$D$42,2,0),0) -> 639.81 | E16: =IFERROR(VLOOKUP(C16,Т1За!$C$3:$E$42,3,0),0) -> 4 | F16: =IFERROR(VLOOKUP(C16,Т1Зб!$C$3:$D$42,2,0),0) -> 0 | G16: =IFERROR(VLOOKUP(C16,Т1Зб!$C$3:$E$42,3,0),0) -> 0 | H16: =IFERROR(VLOOKUP(C16,Т2За!$C$3:$D$42,2,0),0) -> 0 | I16: =IFERROR(VLOOKUP(C16,Т2За!$C$3:$E$42,3,0),0) -> 0 | J16: =IFERROR(VLOOKUP(C16,Т2Зб!$C$3:$D$42,2,0),0) -> 478.76 | K16: =IFERROR(VLOOKUP(C16,Т2Зб!$C$3:$E$42,3,0),0) -> 4 | L16: =D16+F16+H16+J16 -> 1118.57 | M16: =IF(L16=0,реглист!$C$88*2+2,E16+G16+I16+K16) -> 8 | N16: 2 | O16: =L16+L17 -> 1442.57 | P16: =IF(O16=0,реглист!$C$88*4+4,M16+M17) -> 37 | Q16: =IF(P16=реглист!$C$88*4+4,реглист!$C$88+1,RANK(P16,$P$4:$P$81,1)) -> 3
A17: =A16+1 -> 14 | B17: =реглист!B18 -> West Fishing | C17: =реглист!C18 -> Золотарь Андрей | D17: =IFERROR(VLOOKUP(C17,Т1За!$C$3:$D$42,2,0),0) -> 0 | E17: =IFERROR(VLOOKUP(C17,Т1За!$C$3:$E$42,3,0),0) -> 0 | F17: =IFERROR(VLOOKUP(C17,Т1Зб!$C$3:$D$42,2,0),0) -> 0 | G17: =IFERROR(VLOOKUP(C17,Т1Зб!$C$3:$E$42,3,0),0) -> 23 | H17: =IFERROR(VLOOKUP(C17,Т2За!$C$3:$D$42,2,0),0) -> 324 | I17: =IFERROR(VLOOKUP(C17,Т2За!$C$3:$E$42,3,0),0) -> 6 | J17: =IFERROR(VLOOKUP(C17,Т2Зб!$C$3:$D$42,2,0),0) -> 0 | K17: =IFERROR(VLOOKUP(C17,Т2Зб!$C$3:$E$42,3,0),0) -> 0 | L17: =D17+F17+H17+J17 -> 324 | M17: =IF(L17=0,реглист!$C$88*2+2,E17+G17+I17+K17) -> 29 | N17: 23
A18: =A17+1 -> 15 | B18: =реглист!B19 -> Dream Team | C18: =реглист!C19 -> Золотухин Александр | D18: =IFERROR(VLOOKUP(C18,Т1За!$C$3:$D$42,2,0),0) -> 0 | E18: =IFERROR(VLOOKUP(C18,Т1За!$C$3:$E$42,3,0),0) -> 0 | F18: =IFERROR(VLOOKUP(C18,Т1Зб!$C$3:$D$42,2,0),0) -> 0 | G18: =IFERROR(VLOOKUP(C18,Т1Зб!$C$3:$E$42,3,0),0) -> 23 | H18: =IFERROR(VLOOKUP(C18,Т2За!$C$3:$D$42,2,0),0) -> 0 | I18: =IFERROR(VLOOKUP(C18,Т2За!$C$3:$E$42,3,0),0) -> 23 | J18: =IFERROR(VLOOKUP(C18,Т2Зб!$C$3:$D$42,2,0),0) -> 0 | K18: =IFERROR(VLOOKUP(C18,Т2Зб!$C$3:$E$42,3,0),0) -> 0 | L18: =D18+F18+H18+J18 -> 0 | M18: =IF(L18=0,реглист!$C$88*2+2,E18+G18+I18+K18) -> 46 | N18: 45 | O18: =L18+L19 -> 616.41 | P18: =IF(O18=0,реглист!$C$88*4+4,M18+M19) -> 61 | Q18: =IF(P18=реглист!$C$88*4+4,реглист!$C$88+1,RANK(P18,$P$4:$P$81,1)) -> 15
A19: =A18+1 -> 16 | B19: =реглист!B20 -> Dream Team | C19: =реглист!C20 -> Тысевич Сергей | D19: =IFERROR(VLOOKUP(C19,Т1За!$C$3:$D$42,2,0),0) -> 324 | E19: =IFERROR(VLOOKUP(C19,Т1За!$C$3:$E$42,3,0),0) -> 7 | F19: =IFERROR(VLOOKUP(C19,Т1Зб!$C$3:$D$42,2,0),0) -> 0 | G19: =IFERROR(VLOOKUP(C19,Т1Зб!$C$3:$E$42,3,0),0) -> 0 | H19: =IFERROR(VLOOKUP(C19,Т2За!$C$3:$D$42,2,0),0) -> 0 | I19: =IFERROR(VLOOKUP(C19,Т2За!$C$3:$E$42,3,0),0) -> 0 | J19: =IFERROR(VLOOKUP(C19,Т2Зб!$C$3:$D$42,2,0),0) -> 292.41 | K19: =IFERROR(VLOOKUP(C19,Т2Зб!$C$3:$E$42,3,0),0) -> 8 | L19: =D19+F19+H19+J19 -> 616.41 | M19: =IF(L19=0,реглист!$C$88*2+2,E19+G19+I19+K19) -> 15 | N19: 10
A20: =A19+1 -> 17 | B20: =реглист!B21 -> Bona Кобрин | C20: =реглист!C21 -> Марковский Максим | D20: =IFERROR(VLOOKUP(C20,Т1За!$C$3:$D$42,2,0),0) -> 0 | E20: =IFERROR(VLOOKUP(C20,Т1За!$C$3:$E$42,3,0),0) -> 23 | F20: =IFERROR(VLOOKUP(C20,Т1Зб!$C$3:$D$42,2,0),0) -> 0 | G20: =IFERROR(VLOOKUP(C20,Т1Зб!$C$3:$E$42,3,0),0) -> 0 | H20: =IFERROR(VLOOKUP(C20,Т2За!$C$3:$D$42,2,0),0) -> 0 | I20: =IFERROR(VLOOKUP(C20,Т2За!$C$3:$E$42,3,0),0) -> 0 | J20: =IFERROR(VLOOKUP(C20,Т2Зб!$C$3:$D$42,2,0),0) -> 0 | K20: =IFERROR(VLOOKUP(C20,Т2Зб!$C$3:$E$42,3,0),0) -> 23 | L20: =D20+F20+H20+J20 -> 0 | M20: =IF(L20=0,реглист!$C$88*2+2,E20+G20+I20+K20) -> 46 | N20: 45 | O20: =L20+L21 -> 1949.3425 | P20: =IF(O20=0,реглист!$C$88*4+4,M20+M21) -> 50 | Q20: =IF(P20=реглист!$C$88*4+4,реглист!$C$88+1,RANK(P20,$P$4:$P$81,1)) -> 10
A21: =A20+1 -> 18 | B21: =реглист!B22 -> Bona Кобрин | C21: =реглист!C22 -> Барташук Александр | D21: =IFERROR(VLOOKUP(C21,Т1За!$C$3:$D$42,2,0),0) -> 0 | E21: =IFERROR(VLOOKUP(C21,Т1За!$C$3:$E$42,3,0),0) -> 0 | F21: =IFERROR(VLOOKUP(C21,Т1Зб!$C$3:$D$42,2,0),0) -> 944.45 | G21: =IFERROR(VLOOKUP(C21,Т1Зб!$C$3:$E$42,3,0),0) -> 2 | H21: =IFERROR(VLOOKUP(C21,Т2За!$C$3:$D$42,2,0),0) -> 1004.8925 | I21: =IFERROR(VLOOKUP(C21,Т2За!$C$3:$E$42,3,0),0) -> 2 | J21: =IFERROR(VLOOKUP(C21,Т2Зб!$C$3:$D$42,2,0),0) -> 0 | K21: =IFERROR(VLOOKUP(C21,Т2Зб!$C$3:$E$42,3,0),0) -> 0 | L21: =D21+F21+H21+J21 -> 1949.3425 | M21: =IF(L21=0,реглист!$C$88*2+2,E21+G21+I21+K21) -> 4 | N21: 1
A22: =A21+1 -> 19 | B22: =реглист!B23 -> Фарватер | C22: =реглист!C23 -> Цыганок Михаил | D22: =IFERROR(VLOOKUP(C22,Т1За!$C$3:$D$42,2,0),0) -> 0 | E22: =IFERROR(VLOOKUP(C22,Т1За!$C$3:$E$42,3,0),0) -> 0 | F22: =IFERROR(VLOOKUP(C22,Т1Зб!$C$3:$D$42,2,0),0) -> 256 | G22: =IFERROR(VLOOKUP(C22,Т1Зб!$C$3:$E$42,3,0),0) -> 7 | H22: =IFERROR(VLOOKUP(C22,Т2За!$C$3:$D$42,2,0),0) -> 0 | I22: =IFERROR(VLOOKUP(C22,Т2За!$C$3:$E$42,3,0),0) -> 23 | J22: =IFERROR(VLOOKUP(C22,Т2Зб!$C$3:$D$42,2,0),0) -> 0 | K22: =IFERROR(VLOOKUP(C22,Т2Зб!$C$3:$E$42,3,0),0) -> 0 | L22: =D22+F22+H22+J22 -> 256 | M22: =IF(L22=0,реглист!$C$88*2+2,E22+G22+I22+K22) -> 30 | N22: 25 | O22: =L22+L23 -> 395.24 | P22: =IF(O22=0,реглист!$C$88*4+4,M22+M23) -> 68 | Q22: =IF(P22=реглист!$C$88*4+4,реглист!$C$88+1,RANK(P22,$P$4:$P$81,1)) -> 16
A23: =A22+1 -> 20 | B23: =реглист!B24 -> Фарватер | C23: =реглист!C24 -> Попельский Максим | D23: =IFERROR(VLOOKUP(C23,Т1За!$C$3:$D$42,2,0),0) -> 0 | E23: =IFERROR(VLOOKUP(C23,Т1За!$C$3:$E$42,3,0),0) -> 23 | F23: =IFERROR(VLOOKUP(C23,Т1Зб!$C$3:$D$42,2,0),0) -> 0 | G23: =IFERROR(VLOOKUP(C23,Т1Зб!$C$3:$E$42,3,0),0) -> 0 | H23: =IFERROR(VLOOKUP(C23,Т2За!$C$3:$D$42,2,0),0) -> 0 | I23: =IFERROR(VLOOKUP(C23,Т2За!$C$3:$E$42,3,0),0) -> 0 | J23: =IFERROR(VLOOKUP(C23,Т2Зб!$C$3:$D$42,2,0),0) -> 139.24 | K23: =IFERROR(VLOOKUP(C23,Т2Зб!$C$3:$E$42,3,0),0) -> 15 | L23: =D23+F23+H23+J23 -> 139.24 | M23: =IF(L23=0,реглист!$C$88*2+2,E23+G23+I23+K23) -> 38 | N23: 33
A24: =A23+1 -> 21 | B24: =реглист!B25 -> XULi-ULi | C24: =реглист!C25 -> Дубровский Вадим | D24: =IFERROR(VLOOKUP(C24,Т1За!$C$3:$D$42,2,0),0) -> 0 | E24: =IFERROR(VLOOKUP(C24,Т1За!$C$3:$E$42,3,0),0) -> 0 | F24: =IFERROR(VLOOKUP(C24,Т1Зб!$C$3:$D$42,2,0),0) -> 71.4025 | G24: =IFERROR(VLOOKUP(C24,Т1Зб!$C$3:$E$42,3,0),0) -> 10 | H24: =IFERROR(VLOOKUP(C24,Т2За!$C$3:$D$42,2,0),0) -> 686.57 | I24: =IFERROR(VLOOKUP(C24,Т2За!$C$3:$E$42,3,0),0) -> 3 | J24: =IFERROR(VLOOKUP(C24,Т2Зб!$C$3:$D$42,2,0),0) -> 0 | K24: =IFERROR(VLOOKUP(C24,Т2Зб!$C$3:$E$42,3,0),0) -> 0 | L24: =D24+F24+H24+J24 -> 757.9725 | M24: =IF(L24=0,реглист!$C$88*2+2,E24+G24+I24+K24) -> 13 | N24: 7 | O24: =L24+L25 -> 975.535 | P24: =IF(O24=0,реглист!$C$88*4+4,M24+M25) -> 47 | Q24: =IF(P24=реглист!$C$88*4+4,реглист!$C$88+1,RANK(P24,$P$4:$P$81,1)) -> 8
A25: =A24+1 -> 22 | B25: =реглист!B26 -> XULi-ULi | C25: =реглист!C26 -> Лавренчук Станислав | D25: =IFERROR(VLOOKUP(C25,Т1За!$C$3:$D$42,2,0),0) -> 0 | E25: =IFERROR(VLOOKUP(C25,Т1За!$C$3:$E$42,3,0),0) -> 23 | F25: =IFERROR(VLOOKUP(C25,Т1Зб!$C$3:$D$42,2,0),0) -> 0 | G25: =IFERROR(VLOOKUP(C25,Т1Зб!$C$3:$E$42,3,0),0) -> 0 | H25: =IFERROR(VLOOKUP(C25,Т2За!$C$3:$D$42,2,0),0) -> 0 | I25: =IFERROR(VLOOKUP(C25,Т2За!$C$3:$E$42,3,0),0) -> 0 | J25: =IFERROR(VLOOKUP(C25,Т2Зб!$C$3:$D$42,2,0),0) -> 217.5625 | K25: =IFERROR(VLOOKUP(C25,Т2Зб!$C$3:$E$42,3,0),0) -> 11 | L25: =D25+F25+H25+J25 -> 217.5625 | M25: =IF(L25=0,реглист!$C$88*2+2,E25+G25+I25+K25) -> 34 | N25: 30
A26: =A25+1 -> 23 | B26: =реглист!B27 -> Fanatik Belarus | C26: =реглист!C27 -> Янкович Сергей | D26: =IFERROR(VLOOKUP(C26,Т1За!$C$3:$D$42,2,0),0) -> 0 | E26: =IFERROR(VLOOKUP(C26,Т1За!$C$3:$E$42,3,0),0) -> 0 | F26: =IFERROR(VLOOKUP(C26,Т1Зб!$C$3:$D$42,2,0),0) -> 1249.8625 | G26: =IFERROR(VLOOKUP(C26,Т1Зб!$C$3:$E$42,3,0),0) -> 1 | H26: =IFERROR(VLOOKUP(C26,Т2За!$C$3:$D$42,2,0),0) -> 182.25 | I26: =IFERROR(VLOOKUP(C26,Т2За!$C$3:$E$42,3,0),0) -> 9 | J26: =IFERROR(VLOOKUP(C26,Т2Зб!$C$3:$D$42,2,0),0) -> 0 | K26: =IFERROR(VLOOKUP(C26,Т2Зб!$C$3:$E$42,3,0),0) -> 0 | L26: =D26+F26+H26+J26 -> 1432.1125 | M26: =IF(L26=0,реглист!$C$88*2+2,E26+G26+I26+K26) -> 10 | N26: 6 | O26: =L26+L27 -> 1432.1125 | P26: =IF(O26=0,реглист!$C$88*4+4,M26+M27) -> 56 | Q26: =IF(P26=реглист!$C$88*4+4,реглист!$C$88+1,RANK(P26,$P$4:$P$81,1)) -> 12
A27: =A26+1 -> 24 | B27: =реглист!B28 -> Fanatik Belarus | C27: =реглист!C28 -> Шевчук Дмитрий | D27: =IFERROR(VLOOKUP(C27,Т1За!$C$3:$D$42,2,0),0) -> 0 | E27: =IFERROR(VLOOKUP(C27,Т1За!$C$3:$E$42,3,0),0) -> 23 | F27: =IFERROR(VLOOKUP(C27,Т1Зб!$C$3:$D$42,2,0),0) -> 0 | G27: =IFERROR(VLOOKUP(C27,Т1Зб!$C$3:$E$42,3,0),0) -> 0 | H27: =IFERROR(VLOOKUP(C27,Т2За!$C$3:$D$42,2,0),0) -> 0 | I27: =IFERROR(VLOOKUP(C27,Т2За!$C$3:$E$42,3,0),0) -> 0 | J27: =IFERROR(VLOOKUP(C27,Т2Зб!$C$3:$D$42,2,0),0) -> 0 | K27: =IFERROR(VLOOKUP(C27,Т2Зб!$C$3:$E$42,3,0),0) -> 23 | L27: =D27+F27+H27+J27 -> 0 | M27: =IF(L27=0,реглист!$C$88*2+2,E27+G27+I27+K27) -> 46 | N27: 45
A28: =A27+1 -> 25 | B28: =реглист!B29 -> FISHINGSTOCK BELARUS | C28: =реглист!C29 -> Лунякин Олег | D28: =IFERROR(VLOOKUP(C28,Т1За!$C$3:$D$42,2,0),0) -> 0 | E28: =IFERROR(VLOOKUP(C28,Т1За!$C$3:$E$42,3,0),0) -> 23 | F28: =IFERROR(VLOOKUP(C28,Т1Зб!$C$3:$D$42,2,0),0) -> 0 | G28: =IFERROR(VLOOKUP(C28,Т1Зб!$C$3:$E$42,3,0),0) -> 0 | H28: =IFERROR(VLOOKUP(C28,Т2За!$C$3:$D$42,2,0),0) -> 0 | I28: =IFERROR(VLOOKUP(C28,Т2За!$C$3:$E$42,3,0),0) -> 0 | J28: =IFERROR(VLOOKUP(C28,Т2Зб!$C$3:$D$42,2,0),0) -> 0 | K28: =IFERROR(VLOOKUP(C28,Т2Зб!$C$3:$E$42,3,0),0) -> 23 | L28: =D28+F28+H28+J28 -> 0 | M28: =IF(L28=0,реглист!$C$88*2+2,E28+G28+I28+K28) -> 46 | N28: 45 | O28: =L28+L29 -> 0 | P28: =IF(O28=0,реглист!$C$88*4+4,M28+M29) -> 92 | Q28: =IF(P28=реглист!$C$88*4+4,реглист!$C$88+1,RANK(P28,$P$4:$P$81,1)) -> 23
A29: =A28+1 -> 26 | B29: =реглист!B30 -> FISHINGSTOCK BELARUS | C29: =реглист!C30 -> Бобриков Алексей | D29: =IFERROR(VLOOKUP(C29,Т1За!$C$3:$D$42,2,0),0) -> 0 | E29: =IFERROR(VLOOKUP(C29,Т1За!$C$3:$E$42,3,0),0) -> 0 | F29: =IFERROR(VLOOKUP(C29,Т1Зб!$C$3:$D$42,2,0),0) -> 0 | G29: =IFERROR(VLOOKUP(C29,Т1Зб!$C$3:$E$42,3,0),0) -> 23 | H29: =IFERROR(VLOOKUP(C29,Т2За!$C$3:$D$42,2,0),0) -> 0 | I29: =IFERROR(VLOOKUP(C29,Т2За!$C$3:$E$42,3,0),0) -> 23 | J29: =IFERROR(VLOOKUP(C29,Т2Зб!$C$3:$D$42,2,0),0) -> 0 | K29: =IFERROR(VLOOKUP(C29,Т2Зб!$C$3:$E$42,3,0),0) -> 0 | L29: =D29+F29+H29+J29 -> 0 | M29: =IF(L29=0,реглист!$C$88*2+2,E29+G29+I29+K29) -> 46 | N29: 45
A30: =A29+1 -> 27 | B30: =реглист!B31 -> Против Течениия | C30: =реглист!C31 -> Ананич Геннадий | D30: =IFERROR(VLOOKUP(C30,Т1За!$C$3:$D$42,2,0),0) -> 0 | E30: =IFERROR(VLOOKUP(C30,Т1За!$C$3:$E$42,3,0),0) -> 0 | F30: =IFERROR(VLOOKUP(C30,Т1Зб!$C$3:$D$42,2,0),0) -> 0 | G30: =IFERROR(VLOOKUP(C30,Т1Зб!$C$3:$E$42,3,0),0) -> 23 | H30: =IFERROR(VLOOKUP(C30,Т2За!$C$3:$D$42,2,0),0) -> 0 | I30: =IFERROR(VLOOKUP(C30,Т2За!$C$3:$E$42,3,0),0) -> 23 | J30: =IFERROR(VLOOKUP(C30,Т2Зб!$C$3:$D$42,2,0),0) -> 0 | K30: =IFERROR(VLOOKUP(C30,Т2Зб!$C$3:$E$42,3,0),0) -> 0 | L30: =D30+F30+H30+J30 -> 0 | M30: =IF(L30=0,реглист!$C$88*2+2,E30+G30+I30+K30) -> 46 | N30: 45 | O30: =L30+L31 -> 278.89 | P30: =IF(O30=0,реглист!$C$88*4+4,M30+M31) -> 78 | Q30: =IF(P30=реглист!$C$88*4+4,реглист!$C$88+1,RANK(P30,$P$4:$P$81,1)) -> 19
A31: =A30+1 -> 28 | B31: =реглист!B32 -> Против Течениия | C31: =реглист!C32 -> Кириенко Кирилл | D31: =IFERROR(VLOOKUP(C31,Т1За!$C$3:$D$42,2,0),0) -> 0 | E31: =IFERROR(VLOOKUP(C31,Т1За!$C$3:$E$42,3,0),0) -> 23 | F31: =IFERROR(VLOOKUP(C31,Т1Зб!$C$3:$D$42,2,0),0) -> 0 | G31: =IFERROR(VLOOKUP(C31,Т1Зб!$C$3:$E$42,3,0),0) -> 0 | H31: =IFERROR(VLOOKUP(C31,Т2За!$C$3:$D$42,2,0),0) -> 0 | I31: =IFERROR(VLOOKUP(C31,Т2За!$C$3:$E$42,3,0),0) -> 0 | J31: =IFERROR(VLOOKUP(C31,Т2Зб!$C$3:$D$42,2,0),0) -> 278.89 | K31: =IFERROR(VLOOKUP(C31,Т2Зб!$C$3:$E$42,3,0),0) -> 9 | L31: =D31+F31+H31+J31 -> 278.89 | M31: =IF(L31=0,реглист!$C$88*2+2,E31+G31+I31+K31) -> 32 | N31: 29
A32: =A31+1 -> 29 | B32: =реглист!B33 -> Bait Breath Team | C32: =реглист!C33 -> Бахур Александр | D32: =IFERROR(VLOOKUP(C32,Т1За!$C$3:$D$42,2,0),0) -> 0 | E32: =IFERROR(VLOOKUP(C32,Т1За!$C$3:$E$42,3,0),0) -> 0 | F32: =IFERROR(VLOOKUP(C32,Т1Зб!$C$3:$D$42,2,0),0) -> 0 | G32: =IFERROR(VLOOKUP(C32,Т1Зб!$C$3:$E$42,3,0),0) -> 23 | H32: =IFERROR(VLOOKUP(C32,Т2За!$C$3:$D$42,2,0),0) -> 210.25 | I32: =IFERROR(VLOOKUP(C32,Т2За!$C$3:$E$42,3,0),0) -> 8 | J32: =IFERROR(VLOOKUP(C32,Т2Зб!$C$3:$D$42,2,0),0) -> 0 | K32: =IFERROR(VLOOKUP(C32,Т2Зб!$C$3:$E$42,3,0),0) -> 0 | L32: =D32+F32+H32+J32 -> 210.25 | M32: =IF(L32=0,реглист!$C$88*2+2,E32+G32+I32+K32) -> 31 | N32: 28 | O32: =L32+L33 -> 681.14 | P32: =IF(O32=0,реглист!$C$88*4+4,M32+M33) -> 59 | Q32: =IF(P32=реглист!$C$88*4+4,реглист!$C$88+1,RANK(P32,$P$4:$P$81,1)) -> 14
A33: =A32+1 -> 30 | B33: =реглист!B34 -> Bait Breath Team | C33: =реглист!C34 -> Зубко Сергей | D33: =IFERROR(VLOOKUP(C33,Т1За!$C$3:$D$42,2,0),0) -> 0 | E33: =IFERROR(VLOOKUP(C33,Т1За!$C$3:$E$42,3,0),0) -> 23 | F33: =IFERROR(VLOOKUP(C33,Т1Зб!$C$3:$D$42,2,0),0) -> 0 | G33: =IFERROR(VLOOKUP(C33,Т1Зб!$C$3:$E$42,3,0),0) -> 0 | H33: =IFERROR(VLOOKUP(C33,Т2За!$C$3:$D$42,2,0),0) -> 0 | I33: =IFERROR(VLOOKUP(C33,Т2За!$C$3:$E$42,3,0),0) -> 0 | J33: =IFERROR(VLOOKUP(C33,Т2Зб!$C$3:$D$42,2,0),0) -> 470.89 | K33: =IFERROR(VLOOKUP(C33,Т2Зб!$C$3:$E$42,3,0),0) -> 5 | L33: =D33+F33+H33+J33 -> 470.89 | M33: =IF(L33=0,реглист!$C$88*2+2,E33+G33+I33+K33) -> 28 | N33: 21
A34: =A33+1 -> 31 | B34: =реглист!B35 -> Кооператив ХИЩНИК | C34: =реглист!C35 -> Сницкий Виктор | D34: =IFERROR(VLOOKUP(C34,Т1За!$C$3:$D$42,2,0),0) -> 0 | E34: =IFERROR(VLOOKUP(C34,Т1За!$C$3:$E$42,3,0),0) -> 23 | F34: =IFERROR(VLOOKUP(C34,Т1Зб!$C$3:$D$42,2,0),0) -> 0 | G34: =IFERROR(VLOOKUP(C34,Т1Зб!$C$3:$E$42,3,0),0) -> 0 | H34: =IFERROR(VLOOKUP(C34,Т2За!$C$3:$D$42,2,0),0) -> 0 | I34: =IFERROR(VLOOKUP(C34,Т2За!$C$3:$E$42,3,0),0) -> 0 | J34: =IFERROR(VLOOKUP(C34,Т2Зб!$C$3:$D$42,2,0),0) -> 0 | K34: =IFERROR(VLOOKUP(C34,Т2Зб!$C$3:$E$42,3,0),0) -> 23 | L34: =D34+F34+H34+J34 -> 0 | M34: =IF(L34=0,реглист!$C$88*2+2,E34+G34+I34+K34) -> 46 | N34: 45 | O34: =L34+L35 -> 0 | P34: =IF(O34=0,реглист!$C$88*4+4,M34+M35) -> 92 | Q34: =IF(P34=реглист!$C$88*4+4,реглист!$C$88+1,RANK(P34,$P$4:$P$81,1)) -> 23
A35: =A34+1 -> 32 | B35: =реглист!B36 -> Кооператив ХИЩНИК | C35: =реглист!C36 -> Сницкий Владимир | D35: =IFERROR(VLOOKUP(C35,Т1За!$C$3:$D$42,2,0),0) -> 0 | E35: =IFERROR(VLOOKUP(C35,Т1За!$C$3:$E$42,3,0),0) -> 0 | F35: =IFERROR(VLOOKUP(C35,Т1Зб!$C$3:$D$42,2,0),0) -> 0 | G35: =IFERROR(VLOOKUP(C35,Т1Зб!$C$3:$E$42,3,0),0) -> 23 | H35: =IFERROR(VLOOKUP(C35,Т2За!$C$3:$D$42,2,0),0) -> 0 | I35: =IFERROR(VLOOKUP(C35,Т2За!$C$3:$E$42,3,0),0) -> 23 | J35: =IFERROR(VLOOKUP(C35,Т2Зб!$C$3:$D$42,2,0),0) -> 0 | K35: =IFERROR(VLOOKUP(C35,Т2Зб!$C$3:$E$42,3,0),0) -> 0 | L35: =D35+F35+H35+J35 -> 0 | M35: =IF(L35=0,реглист!$C$88*2+2,E35+G35+I35+K35) -> 46 | N35: 45
A36: =A35+1 -> 33 | B36: =реглист!B37 -> Bass Hunters | C36: =реглист!C37 -> Шевко Виталий | D36: =IFERROR(VLOOKUP(C36,Т1За!$C$3:$D$42,2,0),0) -> 0 | E36: =IFERROR(VLOOKUP(C36,Т1За!$C$3:$E$42,3,0),0) -> 0 | F36: =IFERROR(VLOOKUP(C36,Т1Зб!$C$3:$D$42,2,0),0) -> 121 | G36: =IFERROR(VLOOKUP(C36,Т1Зб!$C$3:$E$42,3,0),0) -> 9 | H36: =IFERROR(VLOOKUP(C36,Т2За!$C$3:$D$42,2,0),0) -> 2683.24 | I36: =IFERROR(VLOOKUP(C36,Т2За!$C$3:$E$42,3,0),0) -> 1 | J36: =IFERROR(VLOOKUP(C36,Т2Зб!$C$3:$D$42,2,0),0) -> 0 | K36: =IFERROR(VLOOKUP(C36,Т2Зб!$C$3:$E$42,3,0),0) -> 0 | L36: =D36+F36+H36+J36 -> 2804.24 | M36: =IF(L36=0,реглист!$C$88*2+2,E36+G36+I36+K36) -> 10 | N36: 5 | O36: =L36+L37 -> 3011.6 | P36: =IF(O36=0,реглист!$C$88*4+4,M36+M37) -> 45.5 | Q36: =IF(P36=реглист!$C$88*4+4,реглист!$C$88+1,RANK(P36,$P$4:$P$81,1)) -> 7
A37: =A36+1 -> 34 | B37: =реглист!B38 -> Bass Hunters | C37: =реглист!C38 -> Кириевский Андрей | D37: =IFERROR(VLOOKUP(C37,Т1За!$C$3:$D$42,2,0),0) -> 0 | E37: =IFERROR(VLOOKUP(C37,Т1За!$C$3:$E$42,3,0),0) -> 23 | F37: =IFERROR(VLOOKUP(C37,Т1Зб!$C$3:$D$42,2,0),0) -> 0 | G37: =IFERROR(VLOOKUP(C37,Т1Зб!$C$3:$E$42,3,0),0) -> 0 | H37: =IFERROR(VLOOKUP(C37,Т2За!$C$3:$D$42,2,0),0) -> 0 | I37: =IFERROR(VLOOKUP(C37,Т2За!$C$3:$E$42,3,0),0) -> 0 | J37: =IFERROR(VLOOKUP(C37,Т2Зб!$C$3:$D$42,2,0),0) -> 207.36 | K37: =IFERROR(VLOOKUP(C37,Т2Зб!$C$3:$E$42,3,0),0) -> 12.5 | L37: =D37+F37+H37+J37 -> 207.36 | M37: =IF(L37=0,реглист!$C$88*2+2,E37+G37+I37+K37) -> 35.5 | N37: 31
A38: =A37+1 -> 35 | B38: =реглист!B39 -> TotalSpin | C38: =реглист!C39 -> Жуковский Александр | D38: =IFERROR(VLOOKUP(C38,Т1За!$C$3:$D$42,2,0),0) -> 0 | E38: =IFERROR(VLOOKUP(C38,Т1За!$C$3:$E$42,3,0),0) -> 0 | F38: =IFERROR(VLOOKUP(C38,Т1Зб!$C$3:$D$42,2,0),0) -> 333.0625 | G38: =IFERROR(VLOOKUP(C38,Т1Зб!$C$3:$E$42,3,0),0) -> 5 | H38: =IFERROR(VLOOKUP(C38,Т2За!$C$3:$D$42,2,0),0) -> 157.5025 | I38: =IFERROR(VLOOKUP(C38,Т2За!$C$3:$E$42,3,0),0) -> 11 | J38: =IFERROR(VLOOKUP(C38,Т2Зб!$C$3:$D$42,2,0),0) -> 0 | K38: =IFERROR(VLOOKUP(C38,Т2Зб!$C$3:$E$42,3,0),0) -> 0 | L38: =D38+F38+H38+J38 -> 490.565 | M38: =IF(L38=0,реглист!$C$88*2+2,E38+G38+I38+K38) -> 16 | N38: 11 | O38: =L38+L39 -> 1241.325 | P38: =IF(O38=0,реглист!$C$88*4+4,M38+M39) -> 41 | Q38: =IF(P38=реглист!$C$88*4+4,реглист!$C$88+1,RANK(P38,$P$4:$P$81,1)) -> 6
A39: =A38+1 -> 36 | B39: =реглист!B40 -> TotalSpin | C39: =реглист!C40 -> Масюк Павел | D39: =IFERROR(VLOOKUP(C39,Т1За!$C$3:$D$42,2,0),0) -> 0 | E39: =IFERROR(VLOOKUP(C39,Т1За!$C$3:$E$42,3,0),0) -> 23 | F39: =IFERROR(VLOOKUP(C39,Т1Зб!$C$3:$D$42,2,0),0) -> 0 | G39: =IFERROR(VLOOKUP(C39,Т1Зб!$C$3:$E$42,3,0),0) -> 0 | H39: =IFERROR(VLOOKUP(C39,Т2За!$C$3:$D$42,2,0),0) -> 0 | I39: =IFERROR(VLOOKUP(C39,Т2За!$C$3:$E$42,3,0),0) -> 0 | J39: =IFERROR(VLOOKUP(C39,Т2Зб!$C$3:$D$42,2,0),0) -> 750.76 | K39: =IFERROR(VLOOKUP(C39,Т2Зб!$C$3:$E$42,3,0),0) -> 2 | L39: =D39+F39+H39+J39 -> 750.76 | M39: =IF(L39=0,реглист!$C$88*2+2,E39+G39+I39+K39) -> 25 | N39: 18
