Workbook

Sheet Реглист
A1: 1 этап Чемпионата РБ по спортивной ловле рыбы спиннингом с берега | E1: 42868
A2: Регистрационный лист
A3: № | B3: Команда | C3: Спортсмен | D3: Стартовая зона | E3: Страховка
A4: 1 | B4: Твичим и джигуем | C4: Синовец Роман | D4: А
A5: =A4+1 -> 2 | B5: Твичим и джигуем | C5: Чернышев Егор | D5: Б
A6: =A5+1 -> 3 | B6: FishMurder | C6: Микулов Владимир | D6: А
A7: =A6+1 -> 4 | B7: FishMurder | C7: Шило Сергей | D7: Б
A8: =A7+1 -> 5 | B8: Neptune fishing team | C8: Мяэлоог Алексей | D8: Б
A9: =A8+1 -> 6 | B9: Neptune fishing team | C9: Кирьянов Денис | D9: А
A10: =A9+1 -> 7 | B10: HuNteRs for PeRch | C10: Коноплёв Андрей | D10: Б
A11: =A10+1 -> 8 | B11: HuNteRs for PeRch | C11: Самусевич Кирилл | D11: А
A12: =A11+1 -> 9 | B12: Bad Fish | C12: Желтов Игорь | D12: Б
A13: =A12+1 -> 10 | B13: Bad Fish | C13: Корней Валентин | D13: А
A14: =A13+1 -> 11 | B14: Штиль | C14: Козлов Юрий | D14: А
A15: =A14+1 -> 12 | B15: Штиль | C15: Рябишников Иван | D15: Б
A16: =A15+1 -> 13 | B16: Фарватер | C16: Попельский Максим | D16: А
... A37: =A36+1 -> 34 | B37: Полесье | C37: Рыбачук Евгений | D37: А
A38: =A37+1 -> 35 | B38: - | C38: -
A39: =A38+1 -> 36 | B39: - | C39: -
A40: =A39+1 -> 37 | B40: Брест над Бугом | C40: Шумко Александр | D40: Б
A41: =A40+1 -> 38 | B41: Брест над Бугом | C41: Тысевич Сергей | D41: А
A42: =A41+1 -> 39 | B42: Гефест-Техника | C42: Остапук Александр | D42: Б
A43: =A42+1 -> 40 | B43: Гефест-Техника | C43: Лобацевич Виктор | D43: А
A44: =A43+1 -> 41 | B44: Gefest | C44: Саган Сергей | D44: А
A45: =A44+1 -> 42 | B45: Gefest | C45: Радчук Юрий | D45: Б
A46: =A45+1 -> 43 | B46: West Fishing | C46: Непомнящий Виктор | D46: Б
A47: =A46+1 -> 44 | B47: West Fishing | C47: Золотарь Андрей | D47: А
A48: =A47+1 -> 45 | B48: Solfishing | C48: Санько Александр | D48: Б
A49: =A48+1 -> 46 | B49: Solfishing | C49: Губчик Александр | D49: А
A50: =A49+1 -> 47 | B50: Орловские | C50: Пластун Вячеслав | D50: А
A51: =A50+1 -> 48 | B51: Орловские | C51: Боровик Андрей | D51: Б
... A65: =A64+1 -> 62 | B65: FavoriteTeamBelarus | C65: Шавшунов Никита | D65: Б
A66: =A65+1 -> 63 | B66: - | C66: -
A67: =A66+1 -> 64 | B67: - | C67: -
A68: =A67+1 -> 65 | B68: Непредсказуемые | C68: Кайсин Иван | D68: А
A69: =A68+1 -> 66 | B69: Непредсказуемые | C69: Хомский Дмитрий | D69: Б
A70: =A69+1 -> 67 | B70: No Name Team | C70: Шевчук Дмитрий | D70: А
A71: =A70+1 -> 68 | B71: No Name Team | C71: Евсеев Александр | D71: Б
A72: =A71+1 -> 69 | B72: Бобруйский Region | C72: Прокопчик Алексей | D72: А
A73: =A72+1 -> 70 | B73: Бобруйский Region | C73: Желенговский Петр | D73: Б
...

Sheet Т1За
A1: № | B1: команда | C1: участник | D1: сумма баллов | E1: место | F1: окунь | Z1: щука | AE1: судак | AH1: жерех | AK1: окунь | AN1: язь | AQ1: чехонь | AT1: сом
F2: размер, см
A3: 1 | B3: =IF(Реглист!D4="А",Реглист!B4,Реглист!B5) -> Твичим и джигуем | C3: =IF(Реглист!D4="А",Реглист!C4,Реглист!C5) -> Синовец Роман | D3: =D48 -> 1547.38 | E3: =E48 -> 17 | F3: 18.4 | G3: 13.7 | H3: 22.5 | I3: 17.2 | J3: 14.8
A4: =A3+1 -> 2 | B4: =IF(Реглист!D6="А",Реглист!B6,Реглист!B7) -> FishMurder | C4: =IF(Реглист!D6="А",Реглист!C6,Реглист!C7) -> Микулов Владимир | D4: =D49 -> 1093.81 | E4: =E49 -> 22 | F4: 15.9 | AE4: 29
A5: =A4+1 -> 3 | B5: =IF(Реглист!D8="А",Реглист!B8,Реглист!B9) -> Neptune fishing team | C5: =IF(Реглист!D8="А",Реглист!C8,Реглист!C9) -> Кирьянов Денис | D5: =D50 -> 459.05 | E5: =E50 -> 34 | F5: 15.2 | G5: 15.1
A6: =A5+1 -> 4 | B6: =IF(Реглист!D10="А",Реглист!B10,Реглист!B11) -> HuNteRs for PeRch | C6: =IF(Реглист!D10="А",Реглист!C10,Реглист!C11) -> Самусевич Кирилл | D6: =D51 -> 163.84 | E6: =E51 -> 38 | F6: 12.8
A7: =A6+1 -> 5 | B7: =IF(Реглист!D12="А",Реглист!B12,Реглист!B13) -> Bad Fish | C7: =IF(Реглист!D12="А",Реглист!C12,Реглист!C13) -> Корней Валентин | D7: =D52 -> 1625.5 | E7: =E52 -> 16 | F7: 19 | G7: 16.5 | Z7: 31.5
A8: =A7+1 -> 6 | B8: =IF(Реглист!D14="А",Реглист!B14,Реглист!B15) -> Штиль | C8: =IF(Реглист!D14="А",Реглист!C14,Реглист!C15) -> Козлов Юрий | D8: =D53 -> 1543.34 | E8: =E53 -> 18 | F8: 15 | G8: 11.2 | H8: 11.3 | I8: 12.6 | J8: 12.2 | K8: 13.1 | L8: 19 | Z8: 15
A9: =A8+1 -> 7 | B9: =IF(Реглист!D16="А",Реглист!B16,Реглист!B17) -> Фарватер | C9: =IF(Реглист!D16="А",Реглист!C16,Реглист!C17) -> Попельский Максим | D9: =D54 -> 932.86 | E9: =E54 -> 24 | F9: 16.7 | G9: 12.7 | H9: 11.8 | Z9: 18.8
A10: =A9+1 -> 8 | B10: =IF(Реглист!D18="А",Реглист!B18,Реглист!B19) -> Bait Breath Team | C10: =IF(Реглист!D18="А",Реглист!C18,Реглист!C19) -> Зубко Сергей | D10: =D55 -> 2249.97 | E10: =E55 -> 5 | F10: 12.7 | G10: 13 | H10: 13.5 | I10: 11 | J10: 11.5 | K10: 12.2 | L10: 15.6 | M10: 17.3 | N10: 11.8 | O10: 12.3 | P10: 14.6 | Z10: 17
A11: =A10+1 -> 9 | B11: =IF(Реглист!D20="А",Реглист!B20,Реглист!B21) -> СТАR Fishingstock | C11: =IF(Реглист!D20="А",Реглист!C20,Реглист!C21) -> Пожарский Константин | D11: =D56 -> 652.05 | E11: =E56 -> 32 | F11: 13 | G11: 14 | H11: 12.8 | I11: 11.1
A12: =A11+1 -> 10 | B12: =IF(Реглист!D22="А",Реглист!B22,Реглист!B23) -> Poseidon | C12: =IF(Реглист!D22="А",Реглист!C22,Реглист!C23) -> Чижонок Сергей | D12: =D57 -> 4745.78 | E12: =E57 -> 1 | F12: 16.4 | G12: 15.4 | H12: 17.4 | I12: 17.2 | J12: 15.2 | K12: 19.5 | L12: 21.7 | M12: 18 | N12: 19.2 | Z12: 43.2
A13: =A12+1 -> 11 | B13: =IF(Реглист!D24="А",Реглист!B24,Реглист!B25) -> Кобринский МСЗ | C13: =IF(Реглист!D24="А",Реглист!C24,Реглист!C25) -> Барташук Александр | D13: =D58 -> 1931.78 | E13: =E58 -> 11 | F13: 14 | G13: 16 | H13: 16.5 | I13: 17.2 | J13: 21.5 | AH13: 21.2
A14: =A13+1 -> 12 | B14: =IF(Реглист!D26="А",Реглист!B26,Реглист!B27) -> ASpinnTeam | C14: =IF(Реглист!D26="А",Реглист!C26,Реглист!C27) -> Вашкевич Александр | D14: =D59 -> 1518.87 | E14: =E59 -> 19 | F14: 18.6 | G14: 22.1 | H14: 18.5 | I14: 18.5
A15: =A14+1 -> 13 | B15: =IF(Реглист!D28="А",Реглист!B28,Реглист!B29) -> BASS HUNTER | C15: =IF(Реглист!D28="А",Реглист!C28,Реглист!C29) -> Кириевский Андрей | D15: =D60 -> 2049.68 | E15: =E60 -> 7 | F15: 13.4 | G15: 13 | H15: 18.2 | I15: 17.1 | J15: 13.4 | K15: 15.7 | L15: 17.4 | M15: 13.5 | N15: 12.9
A16: =A15+1 -> 14 | B16: =IF(Реглист!D30="А",Реглист!B30,Реглист!B31) -> RVR | C16: =IF(Реглист!D30="А",Реглист!C30,Реглист!C31) -> Масюк Павел | D16: =D61 -> 853.37 | E16: =E61 -> 27 | F16: 18 | G16: 13 | H16: 15.4 | I16: 11.1
A17: =A16+1 -> 15 | B17: =IF(Реглист!D32="А",Реглист!B32,Реглист!B33) -> Студенты | C17: =IF(Реглист!D32="А",Реглист!C32,Реглист!C33) -> Крупеньков Сергей | D17: =D62 -> 1478.54 | E17: =E62 -> 20 | F17: 18.6 | G17: 19.2 | H17: 12.7 | I17: 17.9 | Z17: 16.8
A18: =A17+1 -> 16 | B18: =IF(Реглист!D34="А",Реглист!B34,Реглист!B35) -> Peacock Bass | C18: =IF(Реглист!D34="А",Реглист!C34,Реглист!C35) -> Сенчуров Иван | D18: =D63 -> 2088.37 | E18: =E63 -> 6 | F18: 16.1 | Z18: 35.4 | AA18: 24
A19: =A18+1 -> 17 | B19: =IF(Реглист!D36="А",Реглист!B36,Реглист!B37) -> Полесье | C19: =IF(Реглист!D36="А",Реглист!C36,Реглист!C37) -> Рыбачук Евгений | D19: =D64 -> 2047.89 | E19: =E64 -> 8 | F19: 15.2 | G19: 11.2 | H19: 21.1 | I19: 15.8 | J19: 17 | Z19: 26.6
A20: =A19+1 -> 18 | B20: =IF(Реглист!D38="А",Реглист!B38,Реглист!B39) -> - | C20: =IF(Реглист!D38="А",Реглист!C38,Реглист!C39) -> - | D20: =D65 -> 0 | E20: =E65 -> 43
A21: =A20+1 -> 19 | B21: =IF(Реглист!D40="А",Реглист!B40,Реглист!B41) -> Брест над Бугом | C21: =IF(Реглист!D40="А",Реглист!C40,Реглист!C41) -> Тысевич Сергей | D21: =D66 -> 4472 | E21: =E66 -> 2 | F21: 10.5 | G21: 14.2 | H21: 17.1 | I21: 17 | J21: 15.4 | K21: 13.4 | L21: 17.5 | M21: 15.7 | N21: 12.5 | O21: 10.9 | P21: 11 | Q21: 13 | R21: 17 | S21: 13.7 | T21: 12.2 | U21: 13 | V21: 12.2 | W21: 13 | X21: 11.3 | Y21: 11.3 | Z21: 12.7 | AK21: 14 | AL21: 11.7 | AM21: 13.5
A22: =A21+1 -> 20 | B22: =IF(Реглист!D42="А",Реглист!B42,Реглист!B43) -> Гефест-Техника | C22: =IF(Реглист!D42="А",Реглист!C42,Реглист!C43) -> Лобацевич Виктор | D22: =D67 -> 210.25 | E22: =E67 -> 37 | F22: 14.5
A23: =A22+1 -> 21 | B23: =IF(Реглист!D44="А",Реглист!B44,Реглист!B45) -> Gefest | C23: =IF(Реглист!D44="А",Реглист!C44,Реглист!C45) -> Саган Сергей | D23: =D68 -> 1890.65 | E23: =E68 -> 12 | F23: 17.5 | G23: 17.4 | Z23: 35.8
A24: =A23+1 -> 22 | B24: =IF(Реглист!D46="А",Реглист!B46,Реглист!B47) -> West Fishing | C24: =IF(Реглист!D46="А",Реглист!C46,Реглист!C47) -> Золотарь Андрей | D24: =D69 -> 913.14 | E24: =E69 -> 25 | F24: 20.8 | G24: 15.5 | H24: 15.5
A25: =A24+1 -> 23 | B25: =IF(Реглист!D48="А",Реглист!B48,Реглист!B49) -> Solfishing | C25: =IF(Реглист!D48="А",Реглист!C48,Реглист!C49) -> Губчик Александр | D25: =D70 -> 1933.93 | E25: =E70 -> 10 | F25: 15.2 | G25: 16.5 | H25: 23.2 | I25: 18.2 | J25: 18 | K25: 15.4
A26: =A25+1 -> 24 | B26: =IF(Реглист!D50="А",Реглист!B50,Реглист!B51) -> Орловские | C26: =IF(Реглист!D50="А",Реглист!C50,Реглист!C51) -> Пластун Вячеслав | D26: =D71 -> 585.14 | E26: =E71 -> 33 | F26: 16.7 | G26: 17.5
A27: =A26+1 -> 25 | B27: =IF(Реглист!D52="А",Реглист!B52,Реглист!B53) -> Marksman | C27: =IF(Реглист!D52="А",Реглист!C52,Реглист!C53) -> Огейко Юрий | D27: =D72 -> 2416.41 | E27: =E72 -> 4 | F27: 18 | G27: 24.7 | H27: 17.6 | I27: 22.6 | J27: 14.8 | K27: 17 | L27: 12.4
A28: =A27+1 -> 26 | B28: =IF(Реглист!D54="А",Реглист!B54,Реглист!B55) -> UL soldiers of fortune | C28: =IF(Реглист!D54="А",Реглист!C54,Реглист!C55) -> Дешкевич Виталий | D28: =D73 -> 935.33 | E28: =E73 -> 23 | F28: 18.7 | G28: 24.2
A29: =A28+1 -> 27 | B29: =IF(Реглист!D56="А",Реглист!B56,Реглист!B57) -> Fishka | C29: =IF(Реглист!D56="А",Реглист!C56,Реглист!C57) -> Насиров Эмин | D29: =D74 -> 2790.15 | E29: =E74 -> 3 | F29: 11.3 | G29: 12.2 | H29: 21.2 | I29: 12.7 | J29: 11.7 | K29: 16.2 | L29: 11.6 | Z29: 37
A30: =A29+1 -> 28 | B30: =IF(Реглист!D58="А",Реглист!B58,Реглист!B59) -> Бульба з Салам | C30: =IF(Реглист!D58="А",Реглист!C58,Реглист!C59) -> Бобриков Алексей | D30: =D75 -> 390.65 | E30: =E75 -> 35 | F30: 14.8 | G30: 13.1
A31: =A30+1 -> 29 | B31: =IF(Реглист!D60="А",Реглист!B60,Реглист!B61) -> VODNIK_TEAM | C31: =IF(Реглист!D60="А",Реглист!C60,Реглист!C61) -> Клевко Александр | D31: =D76 -> 320.09 | E31: =E76 -> 36 | F31: 12.5 | G31: 12.8
A32: =A31+1 -> 30 | B32: =IF(Реглист!D62="А",Реглист!B62,Реглист!B63) -> Лёлик и Болик | C32: =IF(Реглист!D62="А",Реглист!C62,Реглист!C63) -> Францкевич Александр | D32: =D77 -> 0 | E32: =E77 -> 43
A33: =A32+1 -> 31 | B33: =IF(Реглист!D64="А",Реглист!B64,Реглист!B65) -> FavoriteTeamBelarus | C33: =IF(Реглист!D64="А",Реглист!C64,Реглист!C65) -> Анпилов Андрей | D33: =D78 -> 1362.15 | E33: =E78 -> 21 | F33: 21.1 | G33: 18.5 | H33: 18.7 | I33: 15
A34: =A33+1 -> 32 | B34: =IF(Реглист!D66="А",Реглист!B66,Реглист!B67) -> - | C34: =IF(Реглист!D66="А",Реглист!C66,Реглист!C67) -> - | D34: =D79 -> 0 | E34: =E79 -> 43
A35: =A34+1 -> 33 | B35: =IF(Реглист!D68="А",Реглист!B68,Реглист!B69) -> Непредсказуемые | C35: =IF(Реглист!D68="А",Реглист!C68,Реглист!C69) -> Кайсин Иван | D35: =D80 -> 1868.96 | E35: =E80 -> 13 | F35: 16.4 | Z35: 40
A36: =A35+1 -> 34 | B36: =IF(Реглист!D70="А",Реглист!B70,Реглист!B71) -> No Name Team | C36: =IF(Реглист!D70="А",Реглист!C70,Реглист!C71) -> Шевчук Дмитрий | D36: =D81 -> 1813.97 | E36: =E81 -> 14 | F36: 20.8 | G36: 13.8 | H36: 13.4 | I36: 14.1 | J36: 21.6 | K36: 18.6
A37: =A36+1 -> 35 | B37: =IF(Реглист!D72="А",Реглист!B72,Реглист!B73) -> Бобруйский Region | C37: =IF(Реглист!D72="А",Реглист!C72,Реглист!C73) -> Прокопчик Алексей | D37: =D82 -> 2037.11 | E37: =E82 -> 9 | F37: 16.8 | G37: 22.3 | H37: 14.7 | I37: 13.8 | J37: 19.8 | K37: 17.4 | L37: 12.5
A38: =A37+1 -> 36 | B38: =IF(Реглист!D74="А",Реглист!B74,Реглист!B75) -> Nalovi.by | C38: =IF(Реглист!D74="А",Реглист!C74,Реглист!C75) -> Ромук Михаил | D38: =D83 -> 845.01 | E38: =E83 -> 29 | F38: 21 | G38: 20.1
A39: =A38+1 -> 37 | B39: =IF(Реглист!D76="А",Реглист!B76,Реглист!B77) -> NaloviKibas | C39: =IF(Реглист!D76="А",Реглист!C76,Реглист!C77) -> Шабуня Александр | D39: =D84 -> 0 | E39: =E84 -> 43
A40: =A39+1 -> 38 | B40: =IF(Реглист!D78="А",Реглист!B78,Реглист!B79) -> LEGION | C40: =IF(Реглист!D78="А",Реглист!C78,Реглист!C79) -> Полюхович Александр | D40: =D85 -> 1758.41 | E40: =E85 -> 15 | F40: 17 | G40: 19 | H40: 23 | I40: 15.4 | Z40: 18.5
...

Sheet Т1Зб
A1: № | B1: команда | C1: участник | D1: сумма баллов | E1: место | F1: окунь | Z1: щука | AF1: судак | AI1: жерех | AL1: голавль | AO1: язь | AR1: чехонь | AU1: сом
F2: размер, см
A3: 1 | B3: =IF(Реглист!D4="Б",Реглист!B4,Реглист!B5) -> Твичим и джигуем | C3: =IF(Реглист!D4="Б",Реглист!C4,Реглист!C5) -> Чернышев Егор | D3: =D48 -> 1033.5 | E3: =E48 -> 24 | F3: 17.5 | G3: 13.5 | H3: 16 | Z3: 17
A4: =A3+1 -> 2 | B4: =IF(Реглист!D6="Б",Реглист!B6,Реглист!B7) -> FishMurder | C4: =IF(Реглист!D6="Б",Реглист!C6,Реглист!C7) -> Шило Сергей | D4: =D49 -> 4542.33 | E4: =E49 -> 1 | F4: 17.7 | G4: 17.5 | H4: 18.5 | I4: 17.3 | Z4: 32.5 | AA4: 25 | AB4: 40
A5: =A4+1 -> 3 | B5: =IF(Реглист!D8="Б",Реглист!B8,Реглист!B9) -> Neptune fishing team | C5: =IF(Реглист!D8="Б",Реглист!C8,Реглист!C9) -> Мяэлоог Алексей | D5: =D50 -> 1951.31 | E5: =E50 -> 13 | F5: 14.7 | G5: 16 | H5: 18.1 | I5: 20.6 | J5: 16.6 | K5: 18 | L5: 11.3
A6: =A5+1 -> 4 | B6: =IF(Реглист!D10="Б",Реглист!B10,Реглист!B11) -> HuNteRs for PeRch | C6: =IF(Реглист!D10="Б",Реглист!C10,Реглист!C11) -> Коноплёв Андрей | D6: =D51 -> 283.49 | E6: =E51 -> 37 | F6: 10.7 | G6: 13
A7: =A6+1 -> 5 | B7: =IF(Реглист!D12="Б",Реглист!B12,Реглист!B13) -> Bad Fish | C7: =IF(Реглист!D12="Б",Реглист!C12,Реглист!C13) -> Желтов Игорь | D7: =D52 -> 1072.14 | E7: =E52 -> 22 | F7: 10.3 | G7: 11 | H7: 13.2 | Z7: 25.9
A8: =A7+1 -> 6 | B8: =IF(Реглист!D14="Б",Реглист!B14,Реглист!B15) -> Штиль | C8: =IF(Реглист!D14="Б",Реглист!C14,Реглист!C15) -> Рябишников Иван | D8: =D53 -> 696.81 | E8: =E53 -> 30 | F8: 16 | G8: 11.6 | H8: 17.5
A9: =A8+1 -> 7 | B9: =IF(Реглист!D16="Б",Реглист!B16,Реглист!B17) -> Фарватер | C9: =IF(Реглист!D16="Б",Реглист!C16,Реглист!C17) -> Цыганок Михаил | D9: =D54 -> 603.85 | E9: =E54 -> 32 | F9: 18.3 | G9: 16.4
A10: =A9+1 -> 8 | B10: =IF(Реглист!D18="Б",Реглист!B18,Реглист!B19) -> Bait Breath Team | C10: =IF(Реглист!D18="Б",Реглист!C18,Реглист!C19) -> Бахур Александр | D10: =D55 -> 2306.04 | E10: =E55 -> 11 | F10: 17 | G10: 16.5 | H10: 12.2 | I10: 14.1 | J10: 14.8 | K10: 13.2 | L10: 15.2 | M10: 18.1 | Z10: 21.1
A11: =A10+1 -> 9 | B11: =IF(Реглист!D20="Б",Реглист!B20,Реглист!B21) -> СТАR Fishingstock | C11: =IF(Реглист!D20="Б",Реглист!C20,Реглист!C21) -> Бычик Роман | D11: =D56 -> 4064.85 | E11: =E56 -> 2 | F11: 14 | G11: 14 | H11: 14.2 | I11: 11.2 | J11: 12 | K11: 14 | L11: 16.6 | M11: 13.8 | N11: 14.9 | O11: 13.5 | P11: 13 | Q11: 10.8 | R11: 15.9 | S11: 16 | T11: 12.6 | U11: 12 | V11: 11.3 | W11: 12 | Z11: 25 | AA11: 11.9
A12: =A11+1 -> 10 | B12: =IF(Реглист!D22="Б",Реглист!B22,Реглист!B23) -> Poseidon | C12: =IF(Реглист!D22="Б",Реглист!C22,Реглист!C23) -> Ананич Геннадий | D12: =D57 -> 2570.82 | E12: =E57 -> 8 | F12: 11.8 | G12: 16.2 | H12: 14.3 | I12: 21 | J12: 14.2 | K12: 14.8 | L12: 19.2 | M12: 14.8 | Z12: 22.7
A13: =A12+1 -> 11 | B13: =IF(Реглист!D24="Б",Реглист!B24,Реглист!B25) -> Кобринский МСЗ | C13: =IF(Реглист!D24="Б",Реглист!C24,Реглист!C25) -> Жарин Вадим | D13: =D58 -> 3798.53 | E13: =E58 -> 3 | F13: 19.5 | G13: 20 | Z13: 23.2 | AA13: 49.8
A14: =A13+1 -> 12 | B14: =IF(Реглист!D26="Б",Реглист!B26,Реглист!B27) -> ASpinnTeam | C14: =IF(Реглист!D26="Б",Реглист!C26,Реглист!C27) -> Нугуманов Артём | D14: =D59 -> 1917.26 | E14: =E59 -> 14 | F14: 10.1 | G14: 15.9 | H14: 12.6 | I14: 11.5 | J14: 11.8 | K14: 13 | L14: 18.2 | M14: 11.6 | N14: 12.3 | O14: 11.9 | Z14: 14.3
A15: =A14+1 -> 13 | B15: =IF(Реглист!D28="Б",Реглист!B28,Реглист!B29) -> BASS HUNTER | C15: =IF(Реглист!D28="Б",Реглист!C28,Реглист!C29) -> Шевко Виталий | D15: =D60 -> 3240.44 | E15: =E60 -> 6 | F15: 12.5 | G15: 12 | H15: 16.7 | I15: 17.3 | J15: 15.8 | K15: 13 | L15: 13 | M15: 12.8 | N15: 12 | O15: 12.2 | Z15: 36.3
A16: =A15+1 -> 14 | B16: =IF(Реглист!D30="Б",Реглист!B30,Реглист!B31) -> RVR | C16: =IF(Реглист!D30="Б",Реглист!C30,Реглист!C31) -> Золотухин Александр | D16: =D61 -> 2141.6 | E16: =E61 -> 12 | F16: 13.3 | G16: 11.5 | H16: 15.5 | I16: 17 | Z16: 36.1
A17: =A16+1 -> 15 | B17: =IF(Реглист!D32="Б",Реглист!B32,Реглист!B33) -> Студенты | C17: =IF(Реглист!D32="Б",Реглист!C32,Реглист!C33) -> Воробьев Павел | D17: =D62 -> 380.25 | E17: =E62 -> 36 | F17: 19.5
A18: =A17+1 -> 16 | B18: =IF(Реглист!D34="Б",Реглист!B34,Реглист!B35) -> Peacock Bass | C18: =IF(Реглист!D34="Б",Реглист!C34,Реглист!C35) -> Дроздов Виталий | D18: =D63 -> 1776.9 | E18: =E63 -> 15 | F18: 20.5 | G18: 14 | H18: 11.3 | I18: 13.1 | J18: 13.3 | K18: 18.6 | L18: 13.5 | Z18: 12.5
A19: =A18+1 -> 17 | B19: =IF(Реглист!D36="Б",Реглист!B36,Реглист!B37) -> Полесье | C19: =IF(Реглист!D36="Б",Реглист!C36,Реглист!C37) -> Марковский Максим | D19: =D64 -> 3301.35 | E19: =E64 -> 5 | F19: 16.3 | G19: 14.6 | H19: 11.8 | I19: 17.6 | J19: 14 | K19: 15.8 | L19: 22.5 | M19: 18 | N19: 16 | O19: 15.5 | P19: 15 | Z19: 19.4
A20: =A19+1 -> 18 | B20: =IF(Реглист!D38="Б",Реглист!B38,Реглист!B39) -> - | C20: =IF(Реглист!D38="Б",Реглист!C38,Реглист!C39) -> - | D20: =D65 -> 0 | E20: =E65 -> 43
A21: =A20+1 -> 19 | B21: =IF(Реглист!D40="Б",Реглист!B40,Реглист!B41) -> Брест над Бугом | C21: =IF(Реглист!D40="Б",Реглист!C40,Реглист!C41) -> Шумко Александр | D21: =D66 -> 2434.5 | E21: =E66 -> 9 | F21: 12.4 | G21: 11 | H21: 15.6 | I21: 16.8 | J21: 10.9 | K21: 11.3 | L21: 13.1 | M21: 11.5 | N21: 11.4 | O21: 13.6 | P21: 12.6 | Z21: 19.7 | AA21: 14.9
A22: =A21+1 -> 20 | B22: =IF(Реглист!D42="Б",Реглист!B42,Реглист!B43) -> Гефест-Техника | C22: =IF(Реглист!D42="Б",Реглист!C42,Реглист!C43) -> Остапук Александр | D22: =D67 -> 1071.15 | E22: =E67 -> 23 | F22: 12.4 | G22: 18.3 | H22: 18.5 | Z22: 15.5
A23: =A22+1 -> 21 | B23: =IF(Реглист!D44="Б",Реглист!B44,Реглист!B45) -> Gefest | C23: =IF(Реглист!D44="Б",Реглист!C44,Реглист!C45) -> Радчук Юрий | D23: =D68 -> 611.29 | E23: =E68 -> 31 | F23: 15.2 | G23: 19.5
A24: =A23+1 -> 22 | B24: =IF(Реглист!D46="Б",Реглист!B46,Реглист!B47) -> West Fishing | C24: =IF(Реглист!D46="Б",Реглист!C46,Реглист!C47) -> Непомнящий Виктор | D24: =D69 -> 1165.43 | E24: =E69 -> 20 | F24: 19 | G24: 19.7 | H24: 15.3 | I24: 13.5
A25: =A24+1 -> 23 | B25: =IF(Реглист!D48="Б",Реглист!B48,Реглист!B49) -> Solfishing | C25: =IF(Реглист!D48="Б",Реглист!C48,Реглист!C49) -> Санько Александр | D25: =D70 -> 1086.19 | E25: =E70 -> 21 | F25: 9 | G25: 11.3 | H25: 16.5 | I25: 15 | J25: 19.5
A26: =A25+1 -> 24 | B26: =IF(Реглист!D50="Б",Реглист!B50,Реглист!B51) -> Орловские | C26: =IF(Реглист!D50="Б",Реглист!C50,Реглист!C51) -> Боровик Андрей | D26: =D71 -> 1645.74 | E26: =E71 -> 16 | F26: 14.3 | G26: 12.5 | H26: 18 | AI26: 31
A27: =A26+1 -> 25 | B27: =IF(Реглист!D52="Б",Реглист!B52,Реглист!B53) -> Marksman | C27: =IF(Реглист!D52="Б",Реглист!C52,Реглист!C53) -> Артёмчик Евгений | D27: =D72 -> 1242.59 | E27: =E72 -> 19 | F27: 15.5 | G27: 16.5 | H27: 17 | I27: 9 | J27: 12 | Z27: 14.7
A28: =A27+1 -> 26 | B28: =IF(Реглист!D54="Б",Реглист!B54,Реглист!B55) -> UL soldiers of fortune | C28: =IF(Реглист!D54="Б",Реглист!C54,Реглист!C55) -> Андрианов Илья | D28: =D73 -> 553.25 | E28: =E73 -> 33 | F28: 15 | G28: 11.5 | H28: 14
A29: =A28+1 -> 27 | B29: =IF(Реглист!D56="Б",Реглист!B56,Реглист!B57) -> Fishka | C29: =IF(Реглист!D56="Б",Реглист!C56,Реглист!C57) -> Наконечник Александр | D29: =D74 -> 2765.66 | E29: =E74 -> 7 | F29: 15.8 | G29: 12.1 | H29: 11.5 | I29: 12.6 | J29: 18.5 | K29: 12 | L29: 13.6 | M29: 12.9 | N29: 11.6 | Z29: 19.2 | AA29: 19.7 | AB29: 18.7
A30: =A29+1 -> 28 | B30: =IF(Реглист!D58="Б",Реглист!B58,Реглист!B59) -> Бульба з Салам | C30: =IF(Реглист!D58="Б",Реглист!C58,Реглист!C59) -> Лунякин Олег | D30: =D75 -> 234.09 | E30: =E75 -> 39 | F30: 15.3
A31: =A30+1 -> 29 | B31: =IF(Реглист!D60="Б",Реглист!B60,Реглист!B61) -> VODNIK_TEAM | C31: =IF(Реглист!D60="Б",Реглист!C60,Реглист!C61) -> Цветков Алексей | D31: =D76 -> 851.24 | E31: =E76 -> 27 | F31: 13.2 | G31: 15 | H31: 16 | Z31: 14
A32: =A31+1 -> 30 | B32: =IF(Реглист!D62="Б",Реглист!B62,Реглист!B63) -> Лёлик и Болик | C32: =IF(Реглист!D62="Б",Реглист!C62,Реглист!C63) -> Ежков Игорь | D32: =D77 -> 1478.25 | E32: =E77 -> 17 | F32: 20.5 | Z32: 23 | AA32: 23
A33: =A32+1 -> 31 | B33: =IF(Реглист!D64="Б",Реглист!B64,Реглист!B65) -> FavoriteTeamBelarus | C33: =IF(Реглист!D64="Б",Реглист!C64,Реглист!C65) -> Шавшунов Никита | D33: =D78 -> 1257.97 | E33: =E78 -> 18 | F33: 22.2 | G33: 16 | H33: 13.2 | I33: 18.3
A34: =A33+1 -> 32 | B34: =IF(Реглист!D66="Б",Реглист!B66,Реглист!B67) -> - | C34: =IF(Реглист!D66="Б",Реглист!C66,Реглист!C67) -> - | D34: =D79 -> 0 | E34: =E79 -> 43
A35: =A34+1 -> 33 | B35: =IF(Реглист!D68="Б",Реглист!B68,Реглист!B69) -> Непредсказуемые | C35: =IF(Реглист!D68="Б",Реглист!C68,Реглист!C69) -> Хомский Дмитрий | D35: =D80 -> 482.5 | E35: =E80 -> 34 | F35: 12 | G35: 12.5 | Z35: 13.5
A36: =A35+1 -> 34 | B36: =IF(Реглист!D70="Б",Реглист!B70,Реглист!B71) -> No Name Team | C36: =IF(Реглист!D70="Б",Реглист!C70,Реглист!C71) -> Евсеев Александр | D36: =D81 -> 881.75 | E36: =E81 -> 26 | F36: 11.5 | G36: 18.5 | H36: 15 | I36: 13.5
A37: =A36+1 -> 35 | B37: =IF(Реглист!D72="Б",Реглист!B72,Реглист!B73) -> Бобруйский Region | C37: =IF(Реглист!D72="Б",Реглист!C72,Реглист!C73) -> Желенговский Петр | D37: =D82 -> 797.49 | E37: =E82 -> 28 | F37: 14 | G37: 11.8 | Z37: 21.5
A38: =A37+1 -> 36 | B38: =IF(Реглист!D74="Б",Реглист!B74,Реглист!B75) -> Nalovi.by | C38: =IF(Реглист!D74="Б",Реглист!C74,Реглист!C75) -> Наумович Николай | D38: =D83 -> 2322.38 | E38: =E83 -> 10 | F38: 12 | G38: 13.8 | H38: 16.3 | Z38: 41.5
A39: =A38+1 -> 37 | B39: =IF(Реглист!D76="Б",Реглист!B76,Реглист!B77) -> NaloviKibas | C39: =IF(Реглист!D76="Б",Реглист!C76,Реглист!C77) -> Пахолин Александр | D39: =D84 -> 0 | E39: =E84 -> 43
A40: =A39+1 -> 38 | B40: =IF(Реглист!D78="Б",Реглист!B78,Реглист!B79) -> LEGION | C40: =IF(Реглист!D78="Б",Реглист!C78,Реглист!C79) -> Бойко Сергей | D40: =D85 -> 3532.56 | E40: =E85 -> 4 | F40: 13.4 | G40: 9.7 | H40: 11.7 | I40: 10.4 | J40: 13.2 | K40: 15.4 | L40: 16.5 | M40: 13.6 | N40: 15.2 | O40: 13.3 | P40: 14.7 | Q40: 13.6 | R40: 12.5 | S40: 13.9 | T40: 12.7 | U40: 13.6 | V40: 13.6 | W40: 13.2 | X40: 10.6 | Z40: 13
...

Sheet Т2За
A1: № | B1: команда | C1: участник | D1: сумма баллов | E1: место | F1: окунь | U1: щука | X1: судак | AA1: жерех | AD1: голавль | AG1: язь | AJ1: чехонь | AM1: сом
F2: размер, см
A3: 1 | B3: =Т1Зб!B3 -> Твичим и джигуем | C3: =Т1Зб!C3 -> Чернышев Егор | D3: =D48 -> 1104.58 | E3: =E48 -> 17 | F3: 15.6 | G3: 17.7 | H3: 16.8 | I3: 16.3
A4: =A3+1 -> 2 | B4: =Т1Зб!B4 -> FishMurder | C4: =Т1Зб!C4 -> Шило Сергей | D4: =D49 -> 0 | E4: =E49 -> 43
A5: =A4+1 -> 3 | B5: =Т1Зб!B5 -> Neptune fishing team | C5: =Т1Зб!C5 -> Мяэлоог Алексей | D5: =D50 -> 307.54 | E5: =E50 -> 30 | F5: 12.5 | G5: 12.3
A6: =A5+1 -> 4 | B6: =Т1Зб!B6 -> HuNteRs for PeRch | C6: =Т1Зб!C6 -> Коноплёв Андрей | D6: =D51 -> 338.72 | E6: =E51 -> 29 | F6: 13.6 | G6: 12.4
A7: =A6+1 -> 5 | B7: =Т1Зб!B7 -> Bad Fish | C7: =Т1Зб!C7 -> Желтов Игорь | D7: =D52 -> 568.3 | E7: =E52 -> 26 | F7: 10.6 | G7: 10.8 | H7: 9.6 | I7: 10.5 | J7: 11.7
A8: =A7+1 -> 6 | B8: =Т1Зб!B8 -> Штиль | C8: =Т1Зб!C8 -> Рябишников Иван | D8: =D53 -> 1026.78 | E8: =E53 -> 19 | F8: 13.2 | G8: 12.7 | H8: 14.5 | I8: 16 | J8: 15
A9: =A8+1 -> 7 | B9: =Т1Зб!B9 -> Фарватер | C9: =Т1Зб!C9 -> Цыганок Михаил | D9: =D54 -> 632.38 | E9: =E54 -> 24 | F9: 14.7 | G9: 12 | H9: 12.3 | I9: 11
A10: =A9+1 -> 8 | B10: =Т1Зб!B10 -> Bait Breath Team | C10: =Т1Зб!C10 -> Бахур Александр | D10: =D55 -> 2458.08 | E10: =E55 -> 3 | F10: 22.5 | G10: 14.2 | H10: 15.5 | U10: 32.5 | AA10: 21.3
A11: =A10+1 -> 9 | B11: =Т1Зб!B11 -> СТАR Fishingstock | C11: =Т1Зб!C11 -> Бычик Роман | D11: =D56 -> 2096.52 | E11: =E56 -> 6 | F11: 13 | G11: 12 | H11: 12.3 | I11: 12 | J11: 13 | K11: 12 | L11: 14 | M11: 13 | N11: 13.2 | O11: 11.5 | P11: 11.8 | Q11: 13.5 | U11: 13.5
A12: =A11+1 -> 10 | B12: =Т1Зб!B12 -> Poseidon | C12: =Т1Зб!C12 -> Ананич Геннадий | D12: =D57 -> 2322.58 | E12: =E57 -> 4 | F12: 18.8 | G12: 16.7 | H12: 19 | I12: 18.1 | J12: 17.5 | K12: 16.7 | L12: 17.5 | M12: 10.5
A13: =A12+1 -> 11 | B13: =Т1Зб!B13 -> Кобринский МСЗ | C13: =Т1Зб!C13 -> Жарин Вадим | D13: =D58 -> 2876.94 | E13: =E58 -> 2 | F13: 12.2 | G13: 17.2 | H13: 20.6 | I13: 18.1 | J13: 15 | K13: 17.3 | U13: 34
A14: =A13+1 -> 12 | B14: =Т1Зб!B14 -> ASpinnTeam | C14: =Т1Зб!C14 -> Нугуманов Артём | D14: =D59 -> 671.01 | E14: =E59 -> 23 | F14: 11.5 | G14: 8.9 | H14: 12.9 | I14: 11.7 | AA14: 12.5
A15: =A14+1 -> 13 | B15: =Т1Зб!B15 -> BASS HUNTER | C15: =Т1Зб!C15 -> Шевко Виталий | D15: =D60 -> 248.69 | E15: =E60 -> 31 | F15: 11.3 | G15: 11
A16: =A15+1 -> 14 | B16: =Т1Зб!B16 -> RVR | C16: =Т1Зб!C16 -> Золотухин Александр | D16: =D61 -> 1477.95 | E16: =E61 -> 14 | F16: 16.4 | G16: 11.8 | H16: 12 | I16: 13 | J16: 15.5 | K16: 15.5 | L16: 12 | U16: 11.5
A17: =A16+1 -> 15 | B17: =Т1Зб!B17 -> Студенты | C17: =Т1Зб!C17 -> Воробьев Павел | D17: =D62 -> 0 | E17: =E62 -> 43
A18: =A17+1 -> 16 | B18: =Т1Зб!B18 -> Peacock Bass | C18: =Т1Зб!C18 -> Дроздов Виталий | D18: =D63 -> 1381.14 | E18: =E63 -> 15 | F18: 11.7 | G18: 12.5 | H18: 11.1 | I18: 13.2 | J18: 11.6 | K18: 12.5 | L18: 11 | M18: 11.5 | U18: 15.7
A19: =A18+1 -> 17 | B19: =Т1Зб!B19 -> Полесье | C19: =Т1Зб!C19 -> Марковский Максим | D19: =D64 -> 1621.51 | E19: =E64 -> 11 | F19: 17.5 | G19: 17.6 | H19: 13.5 | I19: 18 | J19: 17 | AA19: 14.5
A20: =A19+1 -> 18 | B20: =Т1Зб!B20 -> - | C20: =Т1Зб!C20 -> - | D20: =D65 -> 0 | E20: =E65 -> 43
A21: =A20+1 -> 19 | B21: =Т1Зб!B21 -> Брест над Бугом | C21: =Т1Зб!C21 -> Шумко Александр | D21: =D66 -> 760.18 | E21: =E66 -> 21 | F21: 13.2 | G21: 11.5 | U21: 21.3
A22: =A21+1 -> 20 | B22: =Т1Зб!B22 -> Гефест-Техника | C22: =Т1Зб!C22 -> Остапук Александр | D22: =D67 -> 1806.25 | E22: =E67 -> 10 | U22: 42.5
A23: =A22+1 -> 21 | B23: =Т1Зб!B23 -> Gefest | C23: =Т1Зб!C23 -> Радчук Юрий | D23: =D68 -> 1355.31 | E23: =E68 -> 16 | F23: 12.9 | U23: 15.3 | AA23: 30.9
A24: =A23+1 -> 22 | B24: =Т1Зб!B24 -> West Fishing | C24: =Т1Зб!C24 -> Непомнящий Виктор | D24: =D69 -> 1992.99 | E24: =E69 -> 8 | F24: 20.5 | G24: 20.9 | H24: 17.8 | I24: 15.9 | J24: 13.2 | U24: 19.8
A25: =A24+1 -> 23 | B25: =Т1Зб!B25 -> Solfishing | C25: =Т1Зб!C25 -> Санько Александр | D25: =D70 -> 1490.76 | E25: =E70 -> 13 | F25: 13.5 | G25: 12 | H25: 15.5 | I25: 22.5 | J25: 14 | U25: 14.9
A26: =A25+1 -> 24 | B26: =Т1Зб!B26 -> Орловские | C26: =Т1Зб!C26 -> Боровик Андрей | D26: =D71 -> 686.44 | E26: =E71 -> 22 | AA26: 26.2
A27: =A26+1 -> 25 | B27: =Т1Зб!B27 -> Marksman | C27: =Т1Зб!C27 -> Артёмчик Евгений | D27: =D72 -> 625.63 | E27: =E72 -> 25 | F27: 15.3 | G27: 15.5 | H27: 12.3
A28: =A27+1 -> 26 | B28: =Т1Зб!B28 -> UL soldiers of fortune | C28: =Т1Зб!C28 -> Андрианов Илья | D28: =D73 -> 153.76 | E28: =E73 -> 35 | F28: 12.4
A29: =A28+1 -> 27 | B29: =Т1Зб!B29 -> Fishka | C29: =Т1Зб!C29 -> Наконечник Александр | D29: =D74 -> 457.29 | E29: =E74 -> 27 | F29: 12 | U29: 17.7
A30: =A29+1 -> 28 | B30: =Т1Зб!B30 -> Бульба з Салам | C30: =Т1Зб!C30 -> Лунякин Олег | D30: =D75 -> 169 | E30: =E75 -> 34 | F30: 13
A31: =A30+1 -> 29 | B31: =Т1Зб!B31 -> VODNIK_TEAM | C31: =Т1Зб!C31 -> Цветков Алексей | D31: =D76 -> 0 | E31: =E76 -> 43
A32: =A31+1 -> 30 | B32: =Т1Зб!B32 -> Лёлик и Болик | C32: =Т1Зб!C32 -> Ежков Игорь | D32: =D77 -> 4410.73 | E32: =E77 -> 1 | U32: 42.3 | V32: 51.2
A33: =A32+1 -> 31 | B33: =Т1Зб!B33 -> FavoriteTeamBelarus | C33: =Т1Зб!C33 -> Шавшунов Никита | D33: =D78 -> 1867.21 | E33: =E78 -> 9 | F33: 14.5 | G33: 16.1 | H33: 13 | I33: 14 | U33: 14.5 | V33: 13.5 | W33: 22 | X33: 12.5
A34: =A33+1 -> 32 | B34: =Т1Зб!B34 -> - | C34: =Т1Зб!C34 -> - | D34: =D79 -> 0 | E34: =E79 -> 43
A35: =A34+1 -> 33 | B35: =Т1Зб!B35 -> Непредсказуемые | C35: =Т1Зб!C35 -> Хомский Дмитрий | D35: =D80 -> 425.61 | E35: =E80 -> 28 | F35: 13.5 | G35: 15.6
A36: =A35+1 -> 34 | B36: =Т1Зб!B36 -> No Name Team | C36: =Т1Зб!C36 -> Евсеев Александр | D36: =D81 -> 1618 | E36: =E81 -> 12 | U36: 23 | V36: 33
A37: =A36+1 -> 35 | B37: =Т1Зб!B37 -> Бобруйский Region | C37: =Т1Зб!C37 -> Желенговский Петр | D37: =D82 -> 144 | E37: =E82 -> 36 | F37: 12
A38: =A37+1 -> 36 | B38: =Т1Зб!B38 -> Nalovi.by | C38: =Т1Зб!C38 -> Наумович Николай | D38: =D83 -> 182.25 | E38: =E83 -> 33 | U38: 13.5
A39: =A38+1 -> 37 | B39: =Т1Зб!B39 -> NaloviKibas | C39: =Т1Зб!C39 -> Пахолин Александр | D39: =D84 -> 0 | E39: =E84 -> 43
A40: =A39+1 -> 38 | B40: =Т1Зб!B40 -> LEGION | C40: =Т1Зб!C40 -> Бойко Сергей | D40: =D85 -> 2271.52 | E40: =E85 -> 5 | F40: 11.5 | G40: 9.7 | H40: 17.3 | I40: 11.5 | J40: 11.9 | K40: 13.3 | L40: 12.2 | M40: 13 | N40: 8.6 | O40: 11.5 | P40: 14.5 | U40: 13.2 | V40: 13.6 | AA40: 14.2
...

Sheet Т2Зб
A1: № | B1: команда | C1: участник | D1: сумма баллов | E1: место | F1: окунь | U1: щука | X1: судак | AA1: жерех | AD1: голавль | AG1: язь | AJ1: чехонь | AM1: сом
F2: размер, см
A3: 1 | B3: =Т1За!B3 -> Твичим и джигуем | C3: =Т1За!C3 -> Синовец Роман | D3: =D48 -> 2187.56 | E3: =E48 -> 4 | F3: 13.8 | G3: 19.2 | H3: 11.8 | I3: 19.2 | J3: 18.1 | K3: 15.7 | L3: 13.6 | M3: 14.5 | N3: 12.3
A4: =A3+1 -> 2 | B4: =Т1За!B4 -> FishMurder | C4: =Т1За!C4 -> Микулов Владимир | D4: =D49 -> 1135.41 | E4: =E49 -> 13 | F4: 20.4 | G4: 13.7 | H4: 16 | U4: 16.6
A5: =A4+1 -> 3 | B5: =Т1За!B5 -> Neptune fishing team | C5: =Т1За!C5 -> Кирьянов Денис | D5: =D50 -> 731.24 | E5: =E50 -> 20 | U5: 20 | V5: 18.2
A6: =A5+1 -> 4 | B6: =Т1За!B6 -> HuNteRs for PeRch | C6: =Т1За!C6 -> Самусевич Кирилл | D6: =D51 -> 243.36 | E6: =E51 -> 33 | U6: 15.6
A7: =A6+1 -> 5 | B7: =Т1За!B7 -> Bad Fish | C7: =Т1За!C7 -> Корней Валентин | D7: =D52 -> 1232.83 | E7: =E52 -> 12 | F7: 11.7 | G7: 14.5 | H7: 23.7 | I7: 18
A8: =A7+1 -> 6 | B8: =Т1За!B8 -> Штиль | C8: =Т1За!C8 -> Козлов Юрий | D8: =D53 -> 3239.64 | E8: =E53 -> 1 | F8: 14.4 | G8: 21.3 | H8: 22.4 | I8: 20.3 | J8: 21.3 | U8: 18.3 | AA8: 29.6
A9: =A8+1 -> 7 | B9: =Т1За!B9 -> Фарватер | C9: =Т1За!C9 -> Попельский Максим | D9: =D54 -> 144 | E9: =E54 -> 35 | F9: 12
A10: =A9+1 -> 8 | B10: =Т1За!B10 -> Bait Breath Team | C10: =Т1За!C10 -> Зубко Сергей | D10: =D55 -> 664.74 | E10: =E55 -> 23 | F10: 11.6 | G10: 11.1 | H10: 14.9 | I10: 13.6
A11: =A10+1 -> 9 | B11: =Т1За!B11 -> СТАR Fishingstock | C11: =Т1За!C11 -> Пожарский Константин | D11: =D56 -> 2437.51 | E11: =E56 -> 2 | F11: 13.5 | G11: 15.3 | H11: 11.8 | I11: 13.7 | J11: 12.5 | K11: 10.8 | L11: 14.2 | M11: 13.4 | N11: 11.3 | O11: 10.9 | P11: 10.5 | Q11: 10.6 | R11: 15.2 | S11: 12 | T11: 14
A12: =A11+1 -> 10 | B12: =Т1За!B12 -> Poseidon | C12: =Т1За!C12 -> Чижонок Сергей | D12: =D57 -> 834.65 | E12: =E57 -> 19 | F12: 15.4 | G12: 20.7 | H12: 13
A13: =A12+1 -> 11 | B13: =Т1За!B13 -> Кобринский МСЗ | C13: =Т1За!C13 -> Барташук Александр | D13: =D58 -> 613.16 | E13: =E58 -> 24 | F13: 14.6 | G13: 20
A14: =A13+1 -> 12 | B14: =Т1За!B14 -> ASpinnTeam | C14: =Т1За!C14 -> Вашкевич Александр | D14: =D59 -> 466.25 | E14: =E59 -> 29 | F14: 14.5 | G14: 16
A15: =A14+1 -> 13 | B15: =Т1За!B15 -> BASS HUNTER | C15: =Т1За!C15 -> Кириевский Андрей | D15: =D60 -> 1044.39 | E15: =E60 -> 16 | F15: 11.7 | G15: 12.5 | H15: 16.7 | I15: 11.1 | J15: 12.3 | K15: 11.9 | L15: 7.5
A16: =A15+1 -> 14 | B16: =Т1За!B16 -> RVR | C16: =Т1За!C16 -> Масюк Павел | D16: =D61 -> 1277.92 | E16: =E61 -> 11 | F16: 14.4 | G16: 11.9 | H16: 11.8 | I16: 15.5 | J16: 18.1 | K16: 8.4 | AA16: 12.3
A17: =A16+1 -> 15 | B17: =Т1За!B17 -> Студенты | C17: =Т1За!C17 -> Крупеньков Сергей | D17: =D62 -> 580.25 | E17: =E62 -> 25 | F17: 13.4 | G17: 13.8 | H17: 14.5
A18: =A17+1 -> 16 | B18: =Т1За!B18 -> Peacock Bass | C18: =Т1За!C18 -> Сенчуров Иван | D18: =D63 -> 1522.07 | E18: =E63 -> 9 | F18: 12.7 | G18: 14.8 | H18: 12.3 | I18: 21.8 | J18: 16 | U18: 16.1
A19: =A18+1 -> 17 | B19: =Т1За!B19 -> Полесье | C19: =Т1За!C19 -> Рыбачук Евгений | D19: =D64 -> 483.38 | E19: =E64 -> 27 | F19: 16.7 | G19: 14.3
A20: =A19+1 -> 18 | B20: =Т1За!B20 -> - | C20: =Т1За!C20 -> - | D20: =D65 -> 0 | E20: =E65 -> 43
A21: =A20+1 -> 19 | B21: =Т1За!B21 -> Брест над Бугом | C21: =Т1За!C21 -> Тысевич Сергей | D21: =D66 -> 1461.82 | E21: =E66 -> 10 | F21: 14.7 | G21: 12.7 | H21: 12.1 | I21: 14.6 | J21: 10.6 | K21: 12.5 | L21: 10.1 | M21: 12 | U21: 14.5
A22: =A21+1 -> 20 | B22: =Т1За!B22 -> Гефест-Техника | C22: =Т1За!C22 -> Лобацевич Виктор | D22: =D67 -> 216.09 | E22: =E67 -> 34 | F22: 14.7
A23: =A22+1 -> 21 | B23: =Т1За!B23 -> Gefest | C23: =Т1За!C23 -> Саган Сергей | D23: =D68 -> 998.42 | E23: =E68 -> 17 | F23: 15.1 | G23: 12.6 | U23: 16.3 | V23: 18.6
A24: =A23+1 -> 22 | B24: =Т1За!B24 -> West Fishing | C24: =Т1За!C24 -> Золотарь Андрей | D24: =D69 -> 725.54 | E24: =E69 -> 22 | F24: 14.5 | AA24: 22.7
A25: =A24+1 -> 23 | B25: =Т1За!B25 -> Solfishing | C25: =Т1За!C25 -> Губчик Александр | D25: =D70 -> 317.84 | E25: =E70 -> 30 | F25: 12.2 | G25: 13
A26: =A25+1 -> 24 | B26: =Т1За!B26 -> Орловские | C26: =Т1За!C26 -> Пластун Вячеслав | D26: =D71 -> 885.3 | E26: =E71 -> 18 | F26: 16.1 | G26: 14 | H26: 15.3 | I26: 14
A27: =A26+1 -> 25 | B27: =Т1За!B27 -> Marksman | C27: =Т1За!C27 -> Огейко Юрий | D27: =D72 -> 1566.24 | E27: =E72 -> 7 | F27: 15.7 | G27: 12.9 | H27: 13.2 | I27: 13.8 | J27: 15.5 | K27: 16 | U27: 17.1
A28: =A27+1 -> 26 | B28: =Т1За!B28 -> UL soldiers of fortune | C28: =Т1За!C28 -> Дешкевич Виталий | D28: =D73 -> 0 | E28: =E73 -> 43
A29: =A28+1 -> 27 | B29: =Т1За!B29 -> Fishka | C29: =Т1За!C29 -> Насиров Эмин | D29: =D74 -> 1105.73 | E29: =E74 -> 15 | F29: 14 | G29: 11.7 | U29: 27.8
A30: =A29+1 -> 28 | B30: =Т1За!B30 -> Бульба з Салам | C30: =Т1За!C30 -> Бобриков Алексей | D30: =D75 -> 731.15 | E30: =E75 -> 21 | F30: 10.5 | G30: 11.7 | H30: 15.1 | U30: 16
A31: =A30+1 -> 29 | B31: =Т1За!B31 -> VODNIK_TEAM | C31: =Т1За!C31 -> Клевко Александр | D31: =D76 -> 532.45 | E31: =E76 -> 26 | F31: 12 | G31: 15.4 | H31: 12.3
A32: =A31+1 -> 30 | B32: =Т1За!B32 -> Лёлик и Болик | C32: =Т1За!C32 -> Францкевич Александр | D32: =D77 -> 0 | E32: =E77 -> 43
A33: =A32+1 -> 31 | B33: =Т1За!B33 -> FavoriteTeamBelarus | C33: =Т1За!C33 -> Анпилов Андрей | D33: =D78 -> 2360.75 | E33: =E78 -> 3 | F33: 12.4 | G33: 10.8 | H33: 17.4 | I33: 11.7 | J33: 16 | K33: 11.1 | U33: 18.2 | V33: 26.8 | X33: 14.9
A34: =A33+1 -> 32 | B34: =Т1За!B34 -> - | C34: =Т1За!C34 -> - | D34: =D79 -> 0 | E34: =E79 -> 43
A35: =A34+1 -> 33 | B35: =Т1За!B35 -> Непредсказуемые | C35: =Т1За!C35 -> Кайсин Иван | D35: =D80 -> 478.01 | E35: =E80 -> 28 | F35: 14.9 | G35: 16
A36: =A35+1 -> 34 | B36: =Т1За!B36 -> No Name Team | C36: =Т1За!C36 -> Шевчук Дмитрий | D36: =D81 -> 1127.72 | E36: =E81 -> 14 | F36: 17 | G36: 19.2 | H36: 13.2 | U36: 17.2
A37: =A36+1 -> 35 | B37: =Т1За!B37 -> Бобруйский Region | C37: =Т1За!C37 -> Прокопчик Алексей | D37: =D82 -> 0 | E37: =E82 -> 43
A38: =A37+1 -> 36 | B38: =Т1За!B38 -> Nalovi.by | C38: =Т1За!C38 -> Ромук Михаил | D38: =D83 -> 249.64 | E38: =E83 -> 32 | F38: 15.8
A39: =A38+1 -> 37 | B39: =Т1За!B39 -> NaloviKibas | C39: =Т1За!C39 -> Шабуня Александр | D39: =D84 -> 0 | E39: =E84 -> 43
A40: =A39+1 -> 38 | B40: =Т1За!B40 -> LEGION | C40: =Т1За!C40 -> Полюхович Александр | D40: =D85 -> 1524.55 | E40: =E85 -> 8 | F40: 12 | G40: 15 | H40: 11.3 | I40: 13.4 | J40: 11.6 | K40: 13.7 | L40: 13.9 | M40: 13 | U40: 12.8
...

Sheet FuzzyLookup_AddIn_Undo_Sheet
A1: № | B1: Команды | C1: Участники | D1: Тур 1 | H1: Тур 2 | L1: Личный зачет | O1: Командный зачет
D2: Зона А | F2: Зона Б | H2: Зона А | J2: Зона Б
D3: баллы | E3: место | F3: баллы | G3: место | H3: баллы | I3: место | J3: баллы | K3: место | L3: баллы | M3: сумма мест | N3: место | O3: баллы | P3: сумма мест | Q3: место
A4: 1 | B4: Cast-Fishing | C4: Лихачев Максим | L4: =D4+F4+H4+J4 -> 0 | M4: =E4+G4+I4+K4 -> 0 | O4: =L4+L5 -> 0 | P4: =M4+M5 -> 0
C5: Ковальчук Дмитрий | L5: =D5+F5+H5+J5 -> 0 | M5: =E5+G5+I5+K5 -> 0
A6: 2 | B6: Peacock Bass | C6: Сенчуров Иван | L6: =D6+F6+H6+J6 -> 0 | M6: =E6+G6+I6+K6 -> 0 | O6: =L6+L7 -> 0 | P6: =M6+M7 -> 0
C7: Дроздов Виталий | L7: =D7+F7+H7+J7 -> 0 | M7: =E7+G7+I7+K7 -> 0
A8: 3 | B8: Adventurers | C8: Бахур Александр | D8: 196 | L8: =D8+F8+H8+J8 -> 196 | M8: =E8+G8+I8+K8 -> 0 | O8: =L8+L9 -> 196 | P8: =M8+M9 -> 0
C9: Зубко Сергей | L9: =D9+F9+H9+J9 -> 0 | M9: =E9+G9+I9+K9 -> 0
A10: 4 | B10: MicroKiller | C10: Купрейчик Сергей | L10: =D10+F10+H10+J10 -> 0 | M10: =E10+G10+I10+K10 -> 0 | O10: =L10+L11 -> 81 | P10: =M10+M11 -> 0
C11: Янкович Сергей | D11: 81 | L11: =D11+F11+H11+J11 -> 81 | M11: =E11+G11+I11+K11 -> 0
A12: 5 | B12: Per4 | C12: Лунякин Олег | L12: =D12+F12+H12+J12 -> 0 | M12: =E12+G12+I12+K12 -> 0 | O12: =L12+L13 -> 36 | P12: =M12+M13 -> 0
C13: Каменец Алексей | D13: 36 | L13: =D13+F13+H13+J13 -> 36 | M13: =E13+G13+I13+K13 -> 0
A14: 6 | B14: Poseidon | C14: Чижонок Сергей | D14: 121 | L14: =D14+F14+H14+J14 -> 121 | M14: =E14+G14+I14+K14 -> 0 | O14: =L14+L15 -> 121 | P14: =M14+M15 -> 0
C15: Строк Павел | L15: =D15+F15+H15+J15 -> 0 | M15: =E15+G15+I15+K15 -> 0
A16: 7 | B16: West Fishing | C16: Непомнящий Виктор | L16: =D16+F16+H16+J16 -> 0 | M16: =E16+G16+I16+K16 -> 0 | O16: =L16+L17 -> 0 | P16: =M16+M17 -> 0
C17: Золотарь Андрей | L17: =D17+F17+H17+J17 -> 0 | M17: =E17+G17+I17+K17 -> 0
A18: 8 | B18: nanobass | C18: Бычик Роман | D18: 100 | L18: =D18+F18+H18+J18 -> 100 | M18: =E18+G18+I18+K18 -> 0 | O18: =L18+L19 -> 100 | P18: =M18+M19 -> 0
C19: Шевко Виталий | L19: =D19+F19+H19+J19 -> 0 | M19: =E19+G19+I19+K19 -> 0
A20: 9 | B20: Трудовые резервы | C20: Пожарский Константин | L20: =D20+F20+H20+J20 -> 0 | M20: =E20+G20+I20+K20 -> 0 | O20: =L20+L21 -> 49 | P20: =M20+M21 -> 0
C21: Бобриков Алексей | D21: 49 | L21: =D21+F21+H21+J21 -> 49 | M21: =E21+G21+I21+K21 -> 0
A22: 10 | B22: Lunker Tail | C22: Козел Вячеслав | L22: =D22+F22+H22+J22 -> 0 | M22: =E22+G22+I22+K22 -> 0 | O22: =L22+L23 -> 64 | P22: =M22+M23 -> 0
C23: Кириевский Андрей | D23: 64 | L23: =D23+F23+H23+J23 -> 64 | M23: =E23+G23+I23+K23 -> 0
A24: 11 | B24: Против Течения | C24: Ананич Геннадий | L24: =D24+F24+H24+J24 -> 0 | M24: =E24+G24+I24+K24 -> 0 | O24: =L24+L25 -> 0 | P24: =M24+M25 -> 0
C25: Кириенко Кирилл | L25: =D25+F25+H25+J25 -> 0 | M25: =E25+G25+I25+K25 -> 0
A26: 12 | B26: ЕК | C26: Ковалев Евгений | D26: 169 | L26: =D26+F26+H26+J26 -> 169 | M26: =E26+G26+I26+K26 -> 0 | O26: =L26+L27 -> 169 | P26: =M26+M27 -> 0
C27: Казанцев Евгений | L27: =D27+F27+H27+J27 -> 0 | M27: =E27+G27+I27+K27 -> 0
A28: 13 | B28: Legion | C28: Бойко Сергей | L28: =D28+F28+H28+J28 -> 0 | M28: =E28+G28+I28+K28 -> 0 | O28: =L28+L29 -> 225 | P28: =M28+M29 -> 0
C29: Микулов Владимир | D29: 225 | L29: =D29+F29+H29+J29 -> 225 | M29: =E29+G29+I29+K29 -> 0
A30: 14 | B30: Степ Гарант | C30: Мельников Ю. В. | D30: 144 | L30: =D30+F30+H30+J30 -> 144 | M30: =E30+G30+I30+K30 -> 0 | O30: =L30+L31 -> 144 | P30: =M30+M31 -> 0
C31: Кравченко И. П. | L31: =D31+F31+H31+J31 -> 0 | M31: =E31+G31+I31+K31 -> 0

Sheet Итоги
A1: № | B1: Команды | C1: Участники | D1: Тур 1 | H1: Тур 2 | L1: Личный зачет | O1: Командный зачет
D2: Зона А | F2: Зона Б | H2: Зона А | J2: Зона Б
D3: баллы | E3: меcто | F3: баллы | G3: место | H3: баллы | I3: место | J3: баллы | K3: место | L3: баллы | M3: сумма мест | N3: место | O3: баллы | P3: сумма мест | Q3: место
A4: 1 | B4: =Реглист!B4 -> Твичим и джигуем | C4: =Реглист!C4 -> Синовец Роман | D4: =IFERROR(VLOOKUP(C4,Т1За!$C$3:$D$45,2,0),0) -> 1547.38 | E4: =IFERROR(VLOOKUP(C4,Т1За!$C$3:$E$45,3,0),0) -> 17 | F4: =IFERROR(VLOOKUP(C4,Т1Зб!$C$3:$D$45,2,0),0) -> 0 | G4: =IFERROR(VLOOKUP(C4,Т1Зб!$C$3:$E$45,3,0),0) -> 0 | H4: =IFERROR(VLOOKUP(C4,Т2За!$C$3:$D$45,2,0),0) -> 0 | I4: =IFERROR(VLOOKUP(C4,Т2За!$C$3:$E$45,3,0),0) -> 0 | J4: =IFERROR(VLOOKUP(C4,Т2Зб!$C$3:$D$45,2,0),0) -> 2187.56 | K4: =IFERROR(VLOOKUP(C4,Т2Зб!$C$3:$E$45,3,0),0) -> 4 | L4: =D4+F4+H4+J4 -> 3734.94 | M4: =IF(L4=0,Реглист!$C$89*2+2,E4+G4+I4+K4) -> 21 | N4: =IF(M4=Реглист!$C$89*2+2,Реглист!$C$89*2+1,RANK(M4,$M$4:$M$87,1)) -> 14 | O4: =L4+L5 -> 5873.02 | P4: =IF(O4=0,Реглист!$C$89*4+4,M4+M5) -> 62 | Q4: =IF(P4=Реглист!$C$89*4+4,Реглист!$C$89+1,RANK(P4,$P$4:$P$87,1)) -> 13
A5: =A4+1 -> 2 | B5: =Реглист!B5 -> Твичим и джигуем | C5: =Реглист!C5 -> Чернышев Егор | D5: =IFERROR(VLOOKUP(C5,Т1За!$C$3:$D$45,2,0),0) -> 0 | E5: =IFERROR(VLOOKUP(C5,Т1За!$C$3:$E$45,3,0),0) -> 0 | F5: =IFERROR(VLOOKUP(C5,Т1Зб!$C$3:$D$45,2,0),0) -> 1033.5 | G5: =IFERROR(VLOOKUP(C5,Т1Зб!$C$3:$E$45,3,0),0) -> 24 | H5: =IFERROR(VLOOKUP(C5,Т2За!$C$3:$D$45,2,0),0) -> 1104.58 | I5: =IFERROR(VLOOKUP(C5,Т2За!$C$3:$E$45,3,0),0) -> 17 | J5: =IFERROR(VLOOKUP(C5,Т2Зб!$C$3:$D$45,2,0),0) -> 0 | K5: =IFERROR(VLOOKUP(C5,Т2Зб!$C$3:$E$45,3,0),0) -> 0 | L5: =D5+F5+H5+J5 -> 2138.08 | M5: =IF(L5=0,Реглист!$C$89*2+2,E5+G5+I5+K5) -> 41 | N5: 44
A6: =A5+1 -> 3 | B6: =Реглист!B6 -> FishMurder | C6: =Реглист!C6 -> Микулов Владимир | D6: =IFERROR(VLOOKUP(C6,Т1За!$C$3:$D$45,2,0),0) -> 1093.81 | E6: =IFERROR(VLOOKUP(C6,Т1За!$C$3:$E$45,3,0),0) -> 22 | F6: =IFERROR(VLOOKUP(C6,Т1Зб!$C$3:$D$45,2,0),0) -> 0 | G6: =IFERROR(VLOOKUP(C6,Т1Зб!$C$3:$E$45,3,0),0) -> 0 | H6: =IFERROR(VLOOKUP(C6,Т2За!$C$3:$D$45,2,0),0) -> 0 | I6: =IFERROR(VLOOKUP(C6,Т2За!$C$3:$E$45,3,0),0) -> 0 | J6: =IFERROR(VLOOKUP(C6,Т2Зб!$C$3:$D$45,2,0),0) -> 1135.41 | K6: =IFERROR(VLOOKUP(C6,Т2Зб!$C$3:$E$45,3,0),0) -> 13 | L6: =D6+F6+H6+J6 -> 2229.22 | M6: =IF(L6=0,Реглист!$C$89*2+2,E6+G6+I6+K6) -> 35 | N6: 36 | O6: =L6+L7 -> 6771.55 | P6: =IF(O6=0,Реглист!$C$89*4+4,M6+M7) -> 79 | Q6: =IF(P6=Реглист!$C$89*4+4,Реглист!$C$89+1,RANK(P6,$P$4:$P$87,1)) -> 22
A7: =A6+1 -> 4 | B7: =Реглист!B7 -> FishMurder | C7: =Реглист!C7 -> Шило Сергей | D7: =IFERROR(VLOOKUP(C7,Т1За!$C$3:$D$45,2,0),0) -> 0 | E7: =IFERROR(VLOOKUP(C7,Т1За!$C$3:$E$45,3,0),0) -> 0 | F7: =IFERROR(VLOOKUP(C7,Т1Зб!$C$3:$D$45,2,0),0) -> 4542.33 | G7: =IFERROR(VLOOKUP(C7,Т1Зб!$C$3:$E$45,3,0),0) -> 1 | H7: =IFERROR(VLOOKUP(C7,Т2За!$C$3:$D$45,2,0),0) -> 0 | I7: =IFERROR(VLOOKUP(C7,Т2За!$C$3:$E$45,3,0),0) -> 43 | J7: =IFERROR(VLOOKUP(C7,Т2Зб!$C$3:$D$45,2,0),0) -> 0 | K7: =IFERROR(VLOOKUP(C7,Т2Зб!$C$3:$E$45,3,0),0) -> 0 | L7: =D7+F7+H7+J7 -> 4542.33 | M7: =IF(L7=0,Реглист!$C$89*2+2,E7+G7+I7+K7) -> 44 | N7: =IF(M7=Реглист!$C$89*2+2,Реглист!$C$89*2+1,RANK(M7,$M$4:$M$87,1)) -> 47
A8: =A7+1 -> 5 | B8: =Реглист!B8 -> Neptune fishing team | C8: =Реглист!C8 -> Мяэлоог Алексей | D8: =IFERROR(VLOOKUP(C8,Т1За!$C$3:$D$45,2,0),0) -> 0 | E8: =IFERROR(VLOOKUP(C8,Т1За!$C$3:$E$45,3,0),0) -> 0 | F8: =IFERROR(VLOOKUP(C8,Т1Зб!$C$3:$D$45,2,0),0) -> 1951.31 | G8: =IFERROR(VLOOKUP(C8,Т1Зб!$C$3:$E$45,3,0),0) -> 13 | H8: =IFERROR(VLOOKUP(C8,Т2За!$C$3:$D$45,2,0),0) -> 307.54 | I8: =IFERROR(VLOOKUP(C8,Т2За!$C$3:$E$45,3,0),0) -> 30 | J8: =IFERROR(VLOOKUP(C8,Т2Зб!$C$3:$D$45,2,0),0) -> 0 | K8: =IFERROR(VLOOKUP(C8,Т2Зб!$C$3:$E$45,3,0),0) -> 0 | L8: =D8+F8+H8+J8 -> 2258.85 | M8: =IF(L8=0,Реглист!$C$89*2+2,E8+G8+I8+K8) -> 43 | N8: 46 | O8: =L8+L9 -> 3449.14 | P8: =IF(O8=0,Реглист!$C$89*4+4,M8+M9) -> 97 | Q8: =IF(P8=Реглист!$C$89*4+4,Реглист!$C$89+1,RANK(P8,$P$4:$P$87,1)) -> 26
A9: =A8+1 -> 6 | B9: =Реглист!B9 -> Neptune fishing team | C9: =Реглист!C9 -> Кирьянов Денис | D9: =IFERROR(VLOOKUP(C9,Т1За!$C$3:$D$45,2,0),0) -> 459.05 | E9: =IFERROR(VLOOKUP(C9,Т1За!$C$3:$E$45,3,0),0) -> 34 | F9: =IFERROR(VLOOKUP(C9,Т1Зб!$C$3:$D$45,2,0),0) -> 0 | G9: =IFERROR(VLOOKUP(C9,Т1Зб!$C$3:$E$45,3,0),0) -> 0 | H9: =IFERROR(VLOOKUP(C9,Т2За!$C$3:$D$45,2,0),0) -> 0 | I9: =IFERROR(VLOOKUP(C9,Т2За!$C$3:$E$45,3,0),0) -> 0 | J9: =IFERROR(VLOOKUP(C9,Т2Зб!$C$3:$D$45,2,0),0) -> 731.24 | K9: =IFERROR(VLOOKUP(C9,Т2Зб!$C$3:$E$45,3,0),0) -> 20 | L9: =D9+F9+H9+J9 -> 1190.29 | M9: =IF(L9=0,Реглист!$C$89*2+2,E9+G9+I9+K9) -> 54 | N9: =IF(M9=Реглист!$C$89*2+2,Реглист!$C$89*2+1,RANK(M9,$M$4:$M$87,1)) -> 58
A10: =A9+1 -> 7 | B10: =Реглист!B10 -> HuNteRs for PeRch | C10: =Реглист!C10 -> Коноплёв Андрей | D10: =IFERROR(VLOOKUP(C10,Т1За!$C$3:$D$45,2,0),0) -> 0 | E10: =IFERROR(VLOOKUP(C10,Т1За!$C$3:$E$45,3,0),0) -> 0 | F10: =IFERROR(VLOOKUP(C10,Т1Зб!$C$3:$D$45,2,0),0) -> 283.49 | G10: =IFERROR(VLOOKUP(C10,Т1Зб!$C$3:$E$45,3,0),0) -> 37 | H10: =IFERROR(VLOOKUP(C10,Т2За!$C$3:$D$45,2,0),0) -> 338.72 | I10: =IFERROR(VLOOKUP(C10,Т2За!$C$3:$E$45,3,0),0) -> 29 | J10: =IFERROR(VLOOKUP(C10,Т2Зб!$C$3:$D$45,2,0),0) -> 0 | K10: =IFERROR(VLOOKUP(C10,Т2Зб!$C$3:$E$45,3,0),0) -> 0 | L10: =D10+F10+H10+J10 -> 622.21 | M10: =IF(L10=0,Реглист!$C$89*2+2,E10+G10+I10+K10) -> 66 | N10: 70 | O10: =L10+L11 -> 1029.41 | P10: =IF(O10=0,Реглист!$C$89*4+4,M10+M11) -> 137 | Q10: =IF(P10=Реглист!$C$89*4+4,Реглист!$C$89+1,RANK(P10,$P$4:$P$87,1)) -> 39
A11: =A10+1 -> 8 | B11: =Реглист!B11 -> HuNteRs for PeRch | C11: =Реглист!C11 -> Самусевич Кирилл | D11: =IFERROR(VLOOKUP(C11,Т1За!$C$3:$D$45,2,0),0) -> 163.84 | E11: =IFERROR(VLOOKUP(C11,Т1За!$C$3:$E$45,3,0),0) -> 38 | F11: =IFERROR(VLOOKUP(C11,Т1Зб!$C$3:$D$45,2,0),0) -> 0 | G11: =IFERROR(VLOOKUP(C11,Т1Зб!$C$3:$E$45,3,0),0) -> 0 | H11: =IFERROR(VLOOKUP(C11,Т2За!$C$3:$D$45,2,0),0) -> 0 | I11: =IFERROR(VLOOKUP(C11,Т2За!$C$3:$E$45,3,0),0) -> 0 | J11: =IFERROR(VLOOKUP(C11,Т2Зб!$C$3:$D$45,2,0),0) -> 243.36 | K11: =IFERROR(VLOOKUP(C11,Т2Зб!$C$3:$E$45,3,0),0) -> 33 | L11: =D11+F11+H11+J11 -> 407.2 | M11: =IF(L11=0,Реглист!$C$89*2+2,E11+G11+I11+K11) -> 71 | N11: 75
A12: =A11+1 -> 9 | B12: =Реглист!B12 -> Bad Fish | C12: =Реглист!C12 -> Желтов Игорь | D12: =IFERROR(VLOOKUP(C12,Т1За!$C$3:$D$45,2,0),0) -> 0 | E12: =IFERROR(VLOOKUP(C12,Т1За!$C$3:$E$45,3,0),0) -> 0 | F12: =IFERROR(VLOOKUP(C12,Т1Зб!$C$3:$D$45,2,0),0) -> 1072.14 | G12: =IFERROR(VLOOKUP(C12,Т1Зб!$C$3:$E$45,3,0),0) -> 22 | H12: =IFERROR(VLOOKUP(C12,Т2За!$C$3:$D$45,2,0),0) -> 568.3 | I12: =IFERROR(VLOOKUP(C12,Т2За!$C$3:$E$45,3,0),0) -> 26 | J12: =IFERROR(VLOOKUP(C12,Т2Зб!$C$3:$D$45,2,0),0) -> 0 | K12: =IFERROR(VLOOKUP(C12,Т2Зб!$C$3:$E$45,3,0),0) -> 0 | L12: =D12+F12+H12+J12 -> 1640.44 | M12: =IF(L12=0,Реглист!$C$89*2+2,E12+G12+I12+K12) -> 48 | N12: 53 | O12: =L12+L13 -> 4498.77 | P12: =IF(O12=0,Реглист!$C$89*4+4,M12+M13) -> 76 | Q12: 21
A13: =A12+1 -> 10 | B13: =Реглист!B13 -> Bad Fish | C13: =Реглист!C13 -> Корней Валентин | D13: =IFERROR(VLOOKUP(C13,Т1За!$C$3:$D$45,2,0),0) -> 1625.5 | E13: =IFERROR(VLOOKUP(C13,Т1За!$C$3:$E$45,3,0),0) -> 16 | F13: =IFERROR(VLOOKUP(C13,Т1Зб!$C$3:$D$45,2,0),0) -> 0 | G13: =IFERROR(VLOOKUP(C13,Т1Зб!$C$3:$E$45,3,0),0) -> 0 | H13: =IFERROR(VLOOKUP(C13,Т2За!$C$3:$D$45,2,0),0) -> 0 | I13: =IFERROR(VLOOKUP(C13,Т2За!$C$3:$E$45,3,0),0) -> 0 | J13: =IFERROR(VLOOKUP(C13,Т2Зб!$C$3:$D$45,2,0),0) -> 1232.83 | K13: =IFERROR(VLOOKUP(C13,Т2Зб!$C$3:$E$45,3,0),0) -> 12 | L13: =D13+F13+H13+J13 -> 2858.33 | M13: =IF(L13=0,Реглист!$C$89*2+2,E13+G13+I13+K13) -> 28 | N13: 23
A14: =A13+1 -> 11 | B14: =Реглист!B14 -> Штиль | C14: =Реглист!C14 -> Козлов Юрий | D14: =IFERROR(VLOOKUP(C14,Т1За!$C$3:$D$45,2,0),0) -> 1543.34 | E14: =IFERROR(VLOOKUP(C14,Т1За!$C$3:$E$45,3,0),0) -> 18 | F14: =IFERROR(VLOOKUP(C14,Т1Зб!$C$3:$D$45,2,0),0) -> 0 | G14: =IFERROR(VLOOKUP(C14,Т1Зб!$C$3:$E$45,3,0),0) -> 0 | H14: =IFERROR(VLOOKUP(C14,Т2За!$C$3:$D$45,2,0),0) -> 0 | I14: =IFERROR(VLOOKUP(C14,Т2За!$C$3:$E$45,3,0),0) -> 0 | J14: =IFERROR(VLOOKUP(C14,Т2Зб!$C$3:$D$45,2,0),0) -> 3239.64 | K14: =IFERROR(VLOOKUP(C14,Т2Зб!$C$3:$E$45,3,0),0) -> 1 | L14: =D14+F14+H14+J14 -> 4782.98 | M14: =IF(L14=0,Реглист!$C$89*2+2,E14+G14+I14+K14) -> 19 | N14: =IF(M14=Реглист!$C$89*2+2,Реглист!$C$89*2+1,RANK(M14,$M$4:$M$87,1)) -> 12 | O14: =L14+L15 -> 6506.57 | P14: =IF(O14=0,Реглист!$C$89*4+4,M14+M15) -> 68 | Q14: =IF(P14=Реглист!$C$89*4+4,Реглист!$C$89+1,RANK(P14,$P$4:$P$87,1)) -> 17
A15: =A14+1 -> 12 | B15: =Реглист!B15 -> Штиль | C15: =Реглист!C15 -> Рябишников Иван | D15: =IFERROR(VLOOKUP(C15,Т1За!$C$3:$D$45,2,0),0) -> 0 | E15: =IFERROR(VLOOKUP(C15,Т1За!$C$3:$E$45,3,0),0) -> 0 | F15: =IFERROR(VLOOKUP(C15,Т1Зб!$C$3:$D$45,2,0),0) -> 696.81 | G15: =IFERROR(VLOOKUP(C15,Т1Зб!$C$3:$E$45,3,0),0) -> 30 | H15: =IFERROR(VLOOKUP(C15,Т2За!$C$3:$D$45,2,0),0) -> 1026.78 | I15: =IFERROR(VLOOKUP(C15,Т2За!$C$3:$E$45,3,0),0) -> 19 | J15: =IFERROR(VLOOKUP(C15,Т2Зб!$C$3:$D$45,2,0),0) -> 0 | K15: =IFERROR(VLOOKUP(C15,Т2Зб!$C$3:$E$45,3,0),0) -> 0 | L15: =D15+F15+H15+J15 -> 1723.59 | M15: =IF(L15=0,Реглист!$C$89*2+2,E15+G15+I15+K15) -> 49 | N15: =IF(M15=Реглист!$C$89*2+2,Реглист!$C$89*2+1,RANK(M15,$M$4:$M$87,1)) -> 54
A16: =A15+1 -> 13 | B16: =Реглист!B16 -> Фарватер | C16: =Реглист!C16 -> Попельский Максим | D16: =IFERROR(VLOOKUP(C16,Т1За!$C$3:$D$45,2,0),0) -> 932.86 | E16: =IFERROR(VLOOKUP(C16,Т1За!$C$3:$E$45,3,0),0) -> 24 | F16: =IFERROR(VLOOKUP(C16,Т1Зб!$C$3:$D$45,2,0),0) -> 0 | G16: =IFERROR(VLOOKUP(C16,Т1Зб!$C$3:$E$45,3,0),0) -> 0 | H16: =IFERROR(VLOOKUP(C16,Т2За!$C$3:$D$45,2,0),0) -> 0 | I16: =IFERROR(VLOOKUP(C16,Т2За!$C$3:$E$45,3,0),0) -> 0 | J16: =IFERROR(VLOOKUP(C16,Т2Зб!$C$3:$D$45,2,0),0) -> 144 | K16: =IFERROR(VLOOKUP(C16,Т2Зб!$C$3:$E$45,3,0),0) -> 35 | L16: =D16+F16+H16+J16 -> 1076.86 | M16: =IF(L16=0,Реглист!$C$89*2+2,E16+G16+I16+K16) -> 59 | N16: =IF(M16=Реглист!$C$89*2+2,Реглист!$C$89*2+1,RANK(M16,$M$4:$M$87,1)) -> 62 | O16: =L16+L17 -> 2313.09 | P16: =IF(O16=0,Реглист!$C$89*4+4,M16+M17) -> 115 | Q16: =IF(P16=Реглист!$C$89*4+4,Реглист!$C$89+1,RANK(P16,$P$4:$P$87,1)) -> 31
A17: =A16+1 -> 14 | B17: =Реглист!B17 -> Фарватер | C17: =Реглист!C17 -> Цыганок Михаил | D17: =IFERROR(VLOOKUP(C17,Т1За!$C$3:$D$45,2,0),0) -> 0 | E17: =IFERROR(VLOOKUP(C17,Т1За!$C$3:$E$45,3,0),0) -> 0 | F17: =IFERROR(VLOOKUP(C17,Т1Зб!$C$3:$D$45,2,0),0) -> 603.85 | G17: =IFERROR(VLOOKUP(C17,Т1Зб!$C$3:$E$45,3,0),0) -> 32 | H17: =IFERROR(VLOOKUP(C17,Т2За!$C$3:$D$45,2,0),0) -> 632.38 | I17: =IFERROR(VLOOKUP(C17,Т2За!$C$3:$E$45,3,0),0) -> 24 | J17: =IFERROR(VLOOKUP(C17,Т2Зб!$C$3:$D$45,2,0),0) -> 0 | K17: =IFERROR(VLOOKUP(C17,Т2Зб!$C$3:$E$45,3,0),0) -> 0 | L17: =D17+F17+H17+J17 -> 1236.23 | M17: =IF(L17=0,Реглист!$C$89*2+2,E17+G17+I17+K17) -> 56 | N17: =IF(M17=Реглист!$C$89*2+2,Реглист!$C$89*2+1,RANK(M17,$M$4:$M$87,1)) -> 59
A18: =A17+1 -> 15 | B18: =Реглист!B18 -> Bait Breath Team | C18: =Реглист!C18 -> Бахур Александр | D18: =IFERROR(VLOOKUP(C18,Т1За!$C$3:$D$45,2,0),0) -> 0 | E18: =IFERROR(VLOOKUP(C18,Т1За!$C$3:$E$45,3,0),0) -> 0 | F18: =IFERROR(VLOOKUP(C18,Т1Зб!$C$3:$D$45,2,0),0) -> 2306.04 | G18: =IFERROR(VLOOKUP(C18,Т1Зб!$C$3:$E$45,3,0),0) -> 11 | H18: =IFERROR(VLOOKUP(C18,Т2За!$C$3:$D$45,2,0),0) -> 2458.08 | I18: =IFERROR(VLOOKUP(C18,Т2За!$C$3:$E$45,3,0),0) -> 3 | J18: =IFERROR(VLOOKUP(C18,Т2Зб!$C$3:$D$45,2,0),0) -> 0 | K18: =IFERROR(VLOOKUP(C18,Т2Зб!$C$3:$E$45,3,0),0) -> 0 | L18: =D18+F18+H18+J18 -> 4764.12 | M18: =IF(L18=0,Реглист!$C$89*2+2,E18+G18+I18+K18) -> 14 | N18: =IF(M18=Реглист!$C$89*2+2,Реглист!$C$89*2+1,RANK(M18,$M$4:$M$87,1)) -> 7 | O18: =L18+L19 -> 7678.83 | P18: =IF(O18=0,Реглист!$C$89*4+4,M18+M19) -> 42 | Q18: 6
A19: =A18+1 -> 16 | B19: =Реглист!B19 -> Bait Breath Team | C19: =Реглист!C19 -> Зубко Сергей | D19: =IFERROR(VLOOKUP(C19,Т1За!$C$3:$D$45,2,0),0) -> 2249.97 | E19: =IFERROR(VLOOKUP(C19,Т1За!$C$3:$E$45,3,0),0) -> 5 | F19: =IFERROR(VLOOKUP(C19,Т1Зб!$C$3:$D$45,2,0),0) -> 0 | G19: =IFERROR(VLOOKUP(C19,Т1Зб!$C$3:$E$45,3,0),0) -> 0 | H19: =IFERROR(VLOOKUP(C19,Т2За!$C$3:$D$45,2,0),0) -> 0 | I19: =IFERROR(VLOOKUP(C19,Т2За!$C$3:$E$45,3,0),0) -> 0 | J19: =IFERROR(VLOOKUP(C19,Т2Зб!$C$3:$D$45,2,0),0) -> 664.74 | K19: =IFERROR(VLOOKUP(C19,Т2Зб!$C$3:$E$45,3,0),0) -> 23 | L19: =D19+F19+H19+J19 -> 2914.71 | M19: =IF(L19=0,Реглист!$C$89*2+2,E19+G19+I19+K19) -> 28 | N19: 22
A20: =A19+1 -> 17 | B20: =Реглист!B20 -> СТАR Fishingstock | C20: =Реглист!C20 -> Бычик Роман | D20: =IFERROR(VLOOKUP(C20,Т1За!$C$3:$D$45,2,0),0) -> 0 | E20: =IFERROR(VLOOKUP(C20,Т1За!$C$3:$E$45,3,0),0) -> 0 | F20: =IFERROR(VLOOKUP(C20,Т1Зб!$C$3:$D$45,2,0),0) -> 4064.85 | G20: =IFERROR(VLOOKUP(C20,Т1Зб!$C$3:$E$45,3,0),0) -> 2 | H20: =IFERROR(VLOOKUP(C20,Т2За!$C$3:$D$45,2,0),0) -> 2096.52 | I20: =IFERROR(VLOOKUP(C20,Т2За!$C$3:$E$45,3,0),0) -> 6 | J20: =IFERROR(VLOOKUP(C20,Т2Зб!$C$3:$D$45,2,0),0) -> 0 | K20: =IFERROR(VLOOKUP(C20,Т2Зб!$C$3:$E$45,3,0),0) -> 0 | L20: =D20+F20+H20+J20 -> 6161.37 | M20: =IF(L20=0,Реглист!$C$89*2+2,E20+G20+I20+K20) -> 8 | N20: =IF(M20=Реглист!$C$89*2+2,Реглист!$C$89*2+1,RANK(M20,$M$4:$M$87,1)) -> 2 | O20: =L20+L21 -> 9250.93 | P20: =IF(O20=0,Реглист!$C$89*4+4,M20+M21) -> 42 | Q20: =IF(P20=Реглист!$C$89*4+4,Реглист!$C$89+1,RANK(P20,$P$4:$P$87,1)) -> 4
A21: =A20+1 -> 18 | B21: =Реглист!B21 -> СТАR Fishingstock | C21: =Реглист!C21 -> Пожарский Константин | D21: =IFERROR(VLOOKUP(C21,Т1За!$C$3:$D$45,2,0),0) -> 652.05 | E21: =IFERROR(VLOOKUP(C21,Т1За!$C$3:$E$45,3,0),0) -> 32 | F21: =IFERROR(VLOOKUP(C21,Т1Зб!$C$3:$D$45,2,0),0) -> 0 | G21: =IFERROR(VLOOKUP(C21,Т1Зб!$C$3:$E$45,3,0),0) -> 0 | H21: =IFERROR(VLOOKUP(C21,Т2За!$C$3:$D$45,2,0),0) -> 0 | I21: =IFERROR(VLOOKUP(C21,Т2За!$C$3:$E$45,3,0),0) -> 0 | J21: =IFERROR(VLOOKUP(C21,Т2Зб!$C$3:$D$45,2,0),0) -> 2437.51 | K21: =IFERROR(VLOOKUP(C21,Т2Зб!$C$3:$E$45,3,0),0) -> 2 | L21: =D21+F21+H21+J21 -> 3089.56 | M21: =IF(L21=0,Реглист!$C$89*2+2,E21+G21+I21+K21) -> 34 | N21: 30
A22: =A21+1 -> 19 | B22: =Реглист!B22 -> Poseidon | C22: =Реглист!C22 -> Ананич Геннадий | D22: =IFERROR(VLOOKUP(C22,Т1За!$C$3:$D$45,2,0),0) -> 0 | E22: =IFERROR(VLOOKUP(C22,Т1За!$C$3:$E$45,3,0),0) -> 0 | F22: =IFERROR(VLOOKUP(C22,Т1Зб!$C$3:$D$45,2,0),0) -> 2570.82 | G22: =IFERROR(VLOOKUP(C22,Т1Зб!$C$3:$E$45,3,0),0) -> 8 | H22: =IFERROR(VLOOKUP(C22,Т2За!$C$3:$D$45,2,0),0) -> 2322.58 | I22: =IFERROR(VLOOKUP(C22,Т2За!$C$3:$E$45,3,0),0) -> 4 | J22: =IFERROR(VLOOKUP(C22,Т2Зб!$C$3:$D$45,2,0),0) -> 0 | K22: =IFERROR(VLOOKUP(C22,Т2Зб!$C$3:$E$45,3,0),0) -> 0 | L22: =D22+F22+H22+J22 -> 4893.4 | M22: =IF(L22=0,Реглист!$C$89*2+2,E22+G22+I22+K22) -> 12 | N22: 6 | O22: =L22+L23 -> 10473.83 | P22: =IF(O22=0,Реглист!$C$89*4+4,M22+M23) -> 32 | Q22: =IF(P22=Реглист!$C$89*4+4,Реглист!$C$89+1,RANK(P22,$P$4:$P$87,1)) -> 1
A23: =A22+1 -> 20 | B23: =Реглист!B23 -> Poseidon | C23: =Реглист!C23 -> Чижонок Сергей | D23: =IFERROR(VLOOKUP(C23,Т1За!$C$3:$D$45,2,0),0) -> 4745.78 | E23: =IFERROR(VLOOKUP(C23,Т1За!$C$3:$E$45,3,0),0) -> 1 | F23: =IFERROR(VLOOKUP(C23,Т1Зб!$C$3:$D$45,2,0),0) -> 0 | G23: =IFERROR(VLOOKUP(C23,Т1Зб!$C$3:$E$45,3,0),0) -> 0 | H23: =IFERROR(VLOOKUP(C23,Т2За!$C$3:$D$45,2,0),0) -> 0 | I23: =IFERROR(VLOOKUP(C23,Т2За!$C$3:$E$45,3,0),0) -> 0 | J23: =IFERROR(VLOOKUP(C23,Т2Зб!$C$3:$D$45,2,0),0) -> 834.65 | K23: =IFERROR(VLOOKUP(C23,Т2Зб!$C$3:$E$45,3,0),0) -> 19 | L23: =D23+F23+H23+J23 -> 5580.43 | M23: =IF(L23=0,Реглист!$C$89*2+2,E23+G23+I23+K23) -> 20 | N23: =IF(M23=Реглист!$C$89*2+2,Реглист!$C$89*2+1,RANK(M23,$M$4:$M$87,1)) -> 13
A24: =A23+1 -> 21 | B24: =Реглист!B24 -> Кобринский МСЗ | C24: =Реглист!C24 -> Барташук Александр | D24: =IFERROR(VLOOKUP(C24,Т1За!$C$3:$D$45,2,0),0) -> 1931.78 | E24: =IFERROR(VLOOKUP(C24,Т1За!$C$3:$E$45,3,0),0) -> 11 | F24: =IFERROR(VLOOKUP(C24,Т1Зб!$C$3:$D$45,2,0),0) -> 0 | G24: =IFERROR(VLOOKUP(C24,Т1Зб!$C$3:$E$45,3,0),0) -> 0 | H24: =IFERROR(VLOOKUP(C24,Т2За!$C$3:$D$45,2,0),0) -> 0 | I24: =IFERROR(VLOOKUP(C24,Т2За!$C$3:$E$45,3,0),0) -> 0 | J24: =IFERROR(VLOOKUP(C24,Т2Зб!$C$3:$D$45,2,0),0) -> 613.16 | K24: =IFERROR(VLOOKUP(C24,Т2Зб!$C$3:$E$45,3,0),0) -> 24 | L24: =D24+F24+H24+J24 -> 2544.94 | M24: =IF(L24=0,Реглист!$C$89*2+2,E24+G24+I24+K24) -> 35 | N24: 34 | O24: =L24+L25 -> 9220.41 | P24: =IF(O24=0,Реглист!$C$89*4+4,M24+M25) -> 40 | Q24: =IF(P24=Реглист!$C$89*4+4,Реглист!$C$89+1,RANK(P24,$P$4:$P$87,1)) -> 3
A25: =A24+1 -> 22 | B25: =Реглист!B25 -> Кобринский МСЗ | C25: =Реглист!C25 -> Жарин Вадим | D25: =IFERROR(VLOOKUP(C25,Т1За!$C$3:$D$45,2,0),0) -> 0 | E25: =IFERROR(VLOOKUP(C25,Т1За!$C$3:$E$45,3,0),0) -> 0 | F25: =IFERROR(VLOOKUP(C25,Т1Зб!$C$3:$D$45,2,0),0) -> 3798.53 | G25: =IFERROR(VLOOKUP(C25,Т1Зб!$C$3:$E$45,3,0),0) -> 3 | H25: =IFERROR(VLOOKUP(C25,Т2За!$C$3:$D$45,2,0),0) -> 2876.94 | I25: =IFERROR(VLOOKUP(C25,Т2За!$C$3:$E$45,3,0),0) -> 2 | J25: =IFERROR(VLOOKUP(C25,Т2Зб!$C$3:$D$45,2,0),0) -> 0 | K25: =IFERROR(VLOOKUP(C25,Т2Зб!$C$3:$E$45,3,0),0) -> 0 | L25: =D25+F25+H25+J25 -> 6675.47 | M25: =IF(L25=0,Реглист!$C$89*2+2,E25+G25+I25+K25) -> 5 | N25: =IF(M25=Реглист!$C$89*2+2,Реглист!$C$89*2+1,RANK(M25,$M$4:$M$87,1)) -> 1
A26: =A25+1 -> 23 | B26: =Реглист!B26 -> ASpinnTeam | C26: =Реглист!C26 -> Нугуманов Артём | D26: =IFERROR(VLOOKUP(C26,Т1За!$C$3:$D$45,2,0),0) -> 0 | E26: =IFERROR(VLOOKUP(C26,Т1За!$C$3:$E$45,3,0),0) -> 0 | F26: =IFERROR(VLOOKUP(C26,Т1Зб!$C$3:$D$45,2,0),0) -> 1917.26 | G26: =IFERROR(VLOOKUP(C26,Т1Зб!$C$3:$E$45,3,0),0) -> 14 | H26: =IFERROR(VLOOKUP(C26,Т2За!$C$3:$D$45,2,0),0) -> 671.01 | I26: =IFERROR(VLOOKUP(C26,Т2За!$C$3:$E$45,3,0),0) -> 23 | J26: =IFERROR(VLOOKUP(C26,Т2Зб!$C$3:$D$45,2,0),0) -> 0 | K26: =IFERROR(VLOOKUP(C26,Т2Зб!$C$3:$E$45,3,0),0) -> 0 | L26: =D26+F26+H26+J26 -> 2588.27 | M26: =IF(L26=0,Реглист!$C$89*2+2,E26+G26+I26+K26) -> 37 | N26: 38 | O26: =L26+L27 -> 4573.39 | P26: =IF(O26=0,Реглист!$C$89*4+4,M26+M27) -> 85 | Q26: =IF(P26=Реглист!$C$89*4+4,Реглист!$C$89+1,RANK(P26,$P$4:$P$87,1)) -> 23
A27: =A26+1 -> 24 | B27: =Реглист!B27 -> ASpinnTeam | C27: =Реглист!C27 -> Вашкевич Александр | D27: =IFERROR(VLOOKUP(C27,Т1За!$C$3:$D$45,2,0),0) -> 1518.87 | E27: =IFERROR(VLOOKUP(C27,Т1За!$C$3:$E$45,3,0),0) -> 19 | F27: =IFERROR(VLOOKUP(C27,Т1Зб!$C$3:$D$45,2,0),0) -> 0 | G27: =IFERROR(VLOOKUP(C27,Т1Зб!$C$3:$E$45,3,0),0) -> 0 | H27: =IFERROR(VLOOKUP(C27,Т2За!$C$3:$D$45,2,0),0) -> 0 | I27: =IFERROR(VLOOKUP(C27,Т2За!$C$3:$E$45,3,0),0) -> 0 | J27: =IFERROR(VLOOKUP(C27,Т2Зб!$C$3:$D$45,2,0),0) -> 466.25 | K27: =IFERROR(VLOOKUP(C27,Т2Зб!$C$3:$E$45,3,0),0) -> 29 | L27: =D27+F27+H27+J27 -> 1985.12 | M27: =IF(L27=0,Реглист!$C$89*2+2,E27+G27+I27+K27) -> 48 | N27: =IF(M27=Реглист!$C$89*2+2,Реглист!$C$89*2+1,RANK(M27,$M$4:$M$87,1)) -> 52
A28: =A27+1 -> 25 | B28: =Реглист!B28 -> BASS HUNTER | C28: =Реглист!C28 -> Шевко Виталий | D28: =IFERROR(VLOOKUP(C28,Т1За!$C$3:$D$45,2,0),0) -> 0 | E28: =IFERROR(VLOOKUP(C28,Т1За!$C$3:$E$45,3,0),0) -> 0 | F28: =IFERROR(VLOOKUP(C28,Т1Зб!$C$3:$D$45,2,0),0) -> 3240.44 | G28: =IFERROR(VLOOKUP(C28,Т1Зб!$C$3:$E$45,3,0),0) -> 6 | H28: =IFERROR(VLOOKUP(C28,Т2За!$C$3:$D$45,2,0),0) -> 248.69 | I28: =IFERROR(VLOOKUP(C28,Т2За!$C$3:$E$45,3,0),0) -> 31 | J28: =IFERROR(VLOOKUP(C28,Т2Зб!$C$3:$D$45,2,0),0) -> 0 | K28: =IFERROR(VLOOKUP(C28,Т2Зб!$C$3:$E$45,3,0),0) -> 0 | L28: =D28+F28+H28+J28 -> 3489.13 | M28: =IF(L28=0,Реглист!$C$89*2+2,E28+G28+I28+K28) -> 37 | N28: =IF(M28=Реглист!$C$89*2+2,Реглист!$C$89*2+1,RANK(M28,$M$4:$M$87,1)) -> 37 | O28: =L28+L29 -> 6583.2 | P28: =IF(O28=0,Реглист!$C$89*4+4,M28+M29) -> 60 | Q28: =IF(P28=Реглист!$C$89*4+4,Реглист!$C$89+1,RANK(P28,$P$4:$P$87,1)) -> 12
A29: =A28+1 -> 26 | B29: =Реглист!B29 -> BASS HUNTER | C29: =Реглист!C29 -> Кириевский Андрей | D29: =IFERROR(VLOOKUP(C29,Т1За!$C$3:$D$45,2,0),0) -> 2049.68 | E29: =IFERROR(VLOOKUP(C29,Т1За!$C$3:$E$45,3,0),0) -> 7 | F29: =IFERROR(VLOOKUP(C29,Т1Зб!$C$3:$D$45,2,0),0) -> 0 | G29: =IFERROR(VLOOKUP(C29,Т1Зб!$C$3:$E$45,3,0),0) -> 0 | H29: =IFERROR(VLOOKUP(C29,Т2За!$C$3:$D$45,2,0),0) -> 0 | I29: =IFERROR(VLOOKUP(C29,Т2За!$C$3:$E$45,3,0),0) -> 0 | J29: =IFERROR(VLOOKUP(C29,Т2Зб!$C$3:$D$45,2,0),0) -> 1044.39 | K29: =IFERROR(VLOOKUP(C29,Т2Зб!$C$3:$E$45,3,0),0) -> 16 | L29: =D29+F29+H29+J29 -> 3094.07 | M29: =IF(L29=0,Реглист!$C$89*2+2,E29+G29+I29+K29) -> 23 | N29: 16
A30: =A29+1 -> 27 | B30: =Реглист!B30 -> RVR | C30: =Реглист!C30 -> Золотухин Александр | D30: =IFERROR(VLOOKUP(C30,Т1За!$C$3:$D$45,2,0),0) -> 0 | E30: =IFERROR(VLOOKUP(C30,Т1За!$C$3:$E$45,3,0),0) -> 0 | F30: =IFERROR(VLOOKUP(C30,Т1Зб!$C$3:$D$45,2,0),0) -> 2141.6 | G30: =IFERROR(VLOOKUP(C30,Т1Зб!$C$3:$E$45,3,0),0) -> 12 | H30: =IFERROR(VLOOKUP(C30,Т2За!$C$3:$D$45,2,0),0) -> 1477.95 | I30: =IFERROR(VLOOKUP(C30,Т2За!$C$3:$E$45,3,0),0) -> 14 | J30: =IFERROR(VLOOKUP(C30,Т2Зб!$C$3:$D$45,2,0),0) -> 0 | K30: =IFERROR(VLOOKUP(C30,Т2Зб!$C$3:$E$45,3,0),0) -> 0 | L30: =D30+F30+H30+J30 -> 3619.55 | M30: =IF(L30=0,Реглист!$C$89*2+2,E30+G30+I30+K30) -> 26 | N30: =IF(M30=Реглист!$C$89*2+2,Реглист!$C$89*2+1,RANK(M30,$M$4:$M$87,1)) -> 18 | O30: =L30+L31 -> 5750.84 | P30: =IF(O30=0,Реглист!$C$89*4+4,M30+M31) -> 64 | Q30: =IF(P30=Реглист!$C$89*4+4,Реглист!$C$89+1,RANK(P30,$P$4:$P$87,1)) -> 14
