Workbook

Sheet Реглист
A1: 1 этап Чемпионата РБ по спортивной ловле рыбы спиннингом с берега | E1: 42868
A2: Регистрационный лист
A3: № | B3: Команда | C3: Спортсмен | D3: Стартовая зона | E3: Страховка
A4: 1 | B4: Твичим и джигуем | C4: Синовец Роман | D4: А
A5: =A4+1 -> 2 | B5: Твичим и джигуем | C5: Чернышев Егор | D5: Б
A6: =A5+1 -> 3 | B6: FishMurder | C6: Микулов Владимир | D6: А
A7: =A6+1 -> 4 | B7: FishMurder | C7: Шило Сергей | D7: Б
A8: =A7+1 -> 5 | B8: Neptune fishing team | C8: Мяэлоог Алексей | D8: Б
A9: =A8+1 -> 6 | B9: Neptune fishing team | C9: Кирьянов Денис | D9: А
A10: =A9+1 -> 7 | B10: HuNteRs for PeRch | C10: Коноплёв Андрей | D10: Б
A11: =A10+1 -> 8 | B11: HuNteRs for PeRch | C11: Самусевич Кирилл | D11: А
A12: =A11+1 -> 9 | B12: Bad Fish | C12: Желтов Игорь | D12: Б
A13: =A12+1 -> 10 | B13: Bad Fish | C13: Корней Валентин | D13: А
A14: =A13+1 -> 11 | B14: Штиль | C14: Козлов Юрий | D14: А
A15: =A14+1 -> 12 | B15: Штиль | C15: Рябишников Иван | D15: Б
A16: =A15+1 -> 13 | B16: Фарватер | C16: Попельский Максим | D16: А
... A37: =A36+1 -> 34 | B37: Полесье | C37: Рыбачук Евгений | D37: А
A38: =A37+1 -> 35 | B38: - | C38: -
A39: =A38+1 -> 36 | B39: - | C39: -
A40: =A39+1 -> 37 | B40: Брест над Бугом | C40: Шумко Александр | D40: Б
A41: =A40+1 -> 38 | B41: Брест над Бугом | C41: Тысевич Сергей | D41: А
A42: =A41+1 -> 39 | B42: Гефест-Техника | C42: Остапук Александр | D42: Б
A43: =A42+1 -> 40 | B43: Гефест-Техника | C43: Лобацевич Виктор | D43: А
A44: =A43+1 -> 41 | B44: Gefest | C44: Саган Сергей | D44: А
A45: =A44+1 -> 42 | B45: Gefest | C45: Радчук Юрий | D45: Б
A46: =A45+1 -> 43 | B46: West Fishing | C46: Непомнящий Виктор | D46: Б
A47: =A46+1 -> 44 | B47: West Fishing | C47: Золотарь Андрей | D47: А
A48: =A47+1 -> 45 | B48: Solfishing | C48: Санько Александр | D48: Б
A49: =A48+1 -> 46 | B49: Solfishing | C49: Губчик Александр | D49: А
A50: =A49+1 -> 47 | B50: Орловские | C50: Пластун Вячеслав | D50: А
A51: =A50+1 -> 48 | B51: Орловские | C51: Боровик Андрей | D51: Б
... A65: =A64+1 -> 62 | B65: FavoriteTeamBelarus | C65: Шавшунов Никита | D65: Б
A66: =A65+1 -> 63 | B66: - | C66: -
A67: =A66+1 -> 64 | B67: - | C67: -
A68: =A67+1 -> 65 | B68: Непредсказуемые | C68: Кайсин Иван | D68: А
A69: =A68+1 -> 66 | B69: Непредсказуемые | C69: Хомский Дмитрий | D69: Б
A70: =A69+1 -> 67 | B70: No Name Team | C70: Шевчук Дмитрий | D70: А
A71: =A70+1 -> 68 | B71: No Name Team | C71: Евсеев Александр | D71: Б
A72: =A71+1 -> 69 | B72: Бобруйский Region | C72: Прокопчик Алексей | D72: А
A73: =A72+1 -> 70 | B73: Бобруйский Region | C73: Желенговский Петр | D73: Б
A74: =A73+1 -> 71 | B74: Nalovi.by | C74: Ромук Михаил | D74: А
A75: =A74+1 -> 72 | B75: Nalovi.by | C75: Наумович Николай | D75: Б
A76: =A75+1 -> 73 | B76: NaloviKibas | C76: Пахолин Александр | D76: Б
A77: =A76+1 -> 74 | B77: NaloviKibas | C77: Шабуня Александр | D77: А
A78: =A77+1 -> 75 | B78: LEGION | C78: Бойко Сергей | D78: Б
A79: =A78+1 -> 76 | B79: LEGION | C79: Полюхович Александр | D79: А
... A87: =A86+1 -> 84 | B87: Позитив | C87: Князев Сергей | D87: Б
B89: Количество команд | C89: 42

Sheet Т1За
A1: № | B1: команда | C1: участник | D1: сумма баллов | E1: место | F1: окунь | Z1: щука | AE1: судак | AH1: жерех | AK1: окунь | AN1: язь | AQ1: чехонь | AT1: сом
F2: размер, см
A3: 1 | B3: =IF(Реглист!D4="А",Реглист!B4,Реглист!B5) -> Твичим и джигуем | C3: =IF(Реглист!D4="А",Реглист!C4,Реглист!C5) -> Синовец Роман | D3: =D48 -> 1547.38 | E3: =E48 -> 17 | F3: 18.4 | G3: 13.7 | H3: 22.5 | I3: 17.2 | J3: 14.8
A4: =A3+1 -> 2 | B4: =IF(Реглист!D6="А",Реглист!B6,Реглист!B7) -> FishMurder | C4: =IF(Реглист!D6="А",Реглист!C6,Реглист!C7) -> Микулов Владимир | D4: =D49 -> 1093.81 | E4: =E49 -> 22 | F4: 15.9 | AE4: 29
A5: =A4+1 -> 3 | B5: =IF(Реглист!D8="А",Реглист!B8,Реглист!B9) -> Neptune fishing team | C5: =IF(Реглист!D8="А",Реглист!C8,Реглист!C9) -> Кирьянов Денис | D5: =D50 -> 459.05 | E5: =E50 -> 34 | F5: 15.2 | G5: 15.1
A6: =A5+1 -> 4 | B6: =IF(Реглист!D10="А",Реглист!B10,Реглист!B11) -> HuNteRs for PeRch | C6: =IF(Реглист!D10="А",Реглист!C10,Реглист!C11) -> Самусевич Кирилл | D6: =D51 -> 163.84 | E6: =E51 -> 38 | F6: 12.8
A7: =A6+1 -> 5 | B7: =IF(Реглист!D12="А",Реглист!B12,Реглист!B13) -> Bad Fish | C7: =IF(Реглист!D12="А",Реглист!C12,Реглист!C13) -> Корней Валентин | D7: =D52 -> 1625.5 | E7: =E52 -> 16 | F7: 19 | G7: 16.5 | Z7: 31.5
A8: =A7+1 -> 6 | B8: =IF(Реглист!D14="А",Реглист!B14,Реглист!B15) -> Штиль | C8: =IF(Реглист!D14="А",Реглист!C14,Реглист!C15) -> Козлов Юрий | D8: =D53 -> 1543.34 | E8: =E53 -> 18 | F8: 15 | G8: 11.2 | H8: 11.3 | I8: 12.6 | J8: 12.2 | K8: 13.1 | L8: 19 | Z8: 15
A9: =A8+1 -> 7 | B9: =IF(Реглист!D16="А",Реглист!B16,Реглист!B17) -> Фарватер | C9: =IF(Реглист!D16="А",Реглист!C16,Реглист!C17) -> Попельский Максим | D9: =D54 -> 932.86 | E9: =E54 -> 24 | F9: 16.7 | G9: 12.7 | H9: 11.8 | Z9: 18.8
A10: =A9+1 -> 8 | B10: =IF(Реглист!D18="А",Реглист!B18,Реглист!B19) -> Bait Breath Team | C10: =IF(Реглист!D18="А",Реглист!C18,Реглист!C19) -> Зубко Сергей | D10: =D55 -> 2249.97 | E10: =E55 -> 5 | F10: 12.7 | G10: 13 | H10: 13.5 | I10: 11 | J10: 11.5 | K10: 12.2 | L10: 15.6 | M10: 17.3 | N10: 11.8 | O10: 12.3 | P10: 14.6 | Z10: 17
A11: =A10+1 -> 9 | B11: =IF(Реглист!D20="А",Реглист!B20,Реглист!B21) -> СТАR Fishingstock | C11: =IF(Реглист!D20="А",Реглист!C20,Реглист!C21) -> Пожарский Константин | D11: =D56 -> 652.05 | E11: =E56 -> 32 | F11: 13 | G11: 14 | H11: 12.8 | I11: 11.1
A12: =A11+1 -> 10 | B12: =IF(Реглист!D22="А",Реглист!B22,Реглист!B23) -> Poseidon | C12: =IF(Реглист!D22="А",Реглист!C22,Реглист!C23) -> Чижонок Сергей | D12: =D57 -> 4745.78 | E12: =E57 -> 1 | F12: 16.4 | G12: 15.4 | H12: 17.4 | I12: 17.2 | J12: 15.2 | K12: 19.5 | L12: 21.7 | M12: 18 | N12: 19.2 | Z12: 43.2
A13: =A12+1 -> 11 | B13: =IF(Реглист!D24="А",Реглист!B24,Реглист!B25) -> Кобринский МСЗ | C13: =IF(Реглист!D24="А",Реглист!C24,Реглист!C25) -> Барташук Александр | D13: =D58 -> 1931.78 | E13: =E58 -> 11 | F13: 14 | G13: 16 | H13: 16.5 | I13: 17.2 | J13: 21.5 | AH13: 21.2
A14: =A13+1 -> 12 | B14: =IF(Реглист!D26="А",Реглист!B26,Реглист!B27) -> ASpinnTeam | C14: =IF(Реглист!D26="А",Реглист!C26,Реглист!C27) -> Вашкевич Александр | D14: =D59 -> 1518.87 | E14: =E59 -> 19 | F14: 18.6 | G14: 22.1 | H14: 18.5 | I14: 18.5
A15: =A14+1 -> 13 | B15: =IF(Реглист!D28="А",Реглист!B28,Реглист!B29) -> BASS HUNTER | C15: =IF(Реглист!D28="А",Реглист!C28,Реглист!C29) -> Кириевский Андрей | D15: =D60 -> 2049.68 | E15: =E60 -> 7 | F15: 13.4 | G15: 13 | H15: 18.2 | I15: 17.1 | J15: 13.4 | K15: 15.7 | L15: 17.4 | M15: 13.5 | N15: 12.9
A16: =A15+1 -> 14 | B16: =IF(Реглист!D30="А",Реглист!B30,Реглист!B31) -> RVR | C16: =IF(Реглист!D30="А",Реглист!C30,Реглист!C31) -> Масюк Павел | D16: =D61 -> 853.37 | E16: =E61 -> 27 | F16: 18 | G16: 13 | H16: 15.4 | I16: 11.1
A17: =A16+1 -> 15 | B17: =IF(Реглист!D32="А",Реглист!B32,Реглист!B33) -> Студенты | C17: =IF(Реглист!D32="А",Реглист!C32,Реглист!C33) -> Крупеньков Сергей | D17: =D62 -> 1478.54 | E17: =E62 -> 20 | F17: 18.6 | G17: 19.2 | H17: 12.7 | I17: 17.9 | Z17: 16.8
A18: =A17+1 -> 16 | B18: =IF(Реглист!D34="А",Реглист!B34,Реглист!B35) -> Peacock Bass | C18: =IF(Реглист!D34="А",Реглист!C34,Реглист!C35) -> Сенчуров Иван | D18: =D63 -> 2088.37 | E18: =E63 -> 6 | F18: 16.1 | Z18: 35.4 | AA18: 24
A19: =A18+1 -> 17 | B19: =IF(Реглист!D36="А",Реглист!B36,Реглист!B37) -> Полесье | C19: =IF(Реглист!D36="А",Реглист!C36,Реглист!C37) -> Рыбачук Евгений | D19: =D64 -> 2047.89 | E19: =E64 -> 8 | F19: 15.2 | G19: 11.2 | H19: 21.1 | I19: 15.8 | J19: 17 | Z19: 26.6
A20: =A19+1 -> 18 | B20: =IF(Реглист!D38="А",Реглист!B38,Реглист!B39) -> - | C20: =IF(Реглист!D38="А",Реглист!C38,Реглист!C39) -> - | D20: =D65 -> 0 | E20: =E65 -> 43
A21: =A20+1 -> 19 | B21: =IF(Реглист!D40="А",Реглист!B40,Реглист!B41) -> Брест над Бугом | C21: =IF(Реглист!D40="А",Реглист!C40,Реглист!C41) -> Тысевич Сергей | D21: =D66 -> 4472 | E21: =E66 -> 2 | F21: 10.5 | G21: 14.2 | H21: 17.1 | I21: 17 | J21: 15.4 | K21: 13.4 | L21: 17.5 | M21: 15.7 | N21: 12.5 | O21: 10.9 | P21: 11 | Q21: 13 | R21: 17 | S21: 13.7 | T21: 12.2 | U21: 13 | V21: 12.2 | W21: 13 | X21: 11.3 | Y21: 11.3 | Z21: 12.7 | AK21: 14 | AL21: 11.7 | AM21: 13.5
A22: =A21+1 -> 20 | B22: =IF(Реглист!D42="А",Реглист!B42,Реглист!B43) -> Гефест-Техника | C22: =IF(Реглист!D42="А",Реглист!C42,Реглист!C43) -> Лобацевич Виктор | D22: =D67 -> 210.25 | E22: =E67 -> 37 | F22: 14.5
A23: =A22+1 -> 21 | B23: =IF(Реглист!D44="А",Реглист!B44,Реглист!B45) -> Gefest | C23: =IF(Реглист!D44="А",Реглист!C44,Реглист!C45) -> Саган Сергей | D23: =D68 -> 1890.65 | E23: =E68 -> 12 | F23: 17.5 | G23: 17.4 | Z23: 35.8
A24: =A23+1 -> 22 | B24: =IF(Реглист!D46="А",Реглист!B46,Реглист!B47) -> West Fishing | C24: =IF(Реглист!D46="А",Реглист!C46,Реглист!C47) -> Золотарь Андрей | D24: =D69 -> 913.14 | E24: =E69 -> 25 | F24: 20.8 | G24: 15.5 | H24: 15.5
A25: =A24+1 -> 23 | B25: =IF(Реглист!D48="А",Реглист!B48,Реглист!B49) -> Solfishing | C25: =IF(Реглист!D48="А",Реглист!C48,Реглист!C49) -> Губчик Александр | D25: =D70 -> 1933.93 | E25: =E70 -> 10 | F25: 15.2 | G25: 16.5 | H25: 23.2 | I25: 18.2 | J25: 18 | K25: 15.4
A26: =A25+1 -> 24 | B26: =IF(Реглист!D50="А",Реглист!B50,Реглист!B51) -> Орловские | C26: =IF(Реглист!D50="А",Реглист!C50,Реглист!C51) -> Пластун Вячеслав | D26: =D71 -> 585.14 | E26: =E71 -> 33 | F26: 16.7 | G26: 17.5
A27: =A26+1 -> 25 | B27: =IF(Реглист!D52="А",Реглист!B52,Реглист!B53) -> Marksman | C27: =IF(Реглист!D52="А",Реглист!C52,Реглист!C53) -> Огейко Юрий | D27: =D72 -> 2416.41 | E27: =E72 -> 4 | F27: 18 | G27: 24.7 | H27: 17.6 | I27: 22.6 | J27: 14.8 | K27: 17 | L27: 12.4
A28: =A27+1 -> 26 | B28: =IF(Реглист!D54="А",Реглист!B54,Реглист!B55) -> UL soldiers of fortune | C28: =IF(Реглист!D54="А",Реглист!C54,Реглист!C55) -> Дешкевич Виталий | D28: =D73 -> 935.33 | E28: =E73 -> 23 | F28: 18.7 | G28: 24.2
A29: =A28+1 -> 27 | B29: =IF(Реглист!D56="А",Реглист!B56,Реглист!B57) -> Fishka | C29: =IF(Реглист!D56="А",Реглист!C56,Реглист!C57) -> Насиров Эмин | D29: =D74 -> 2790.15 | E29: =E74 -> 3 | F29: 11.3 | G29: 12.2 | H29: 21.2 | I29: 12.7 | J29: 11.7 | K29: 16.2 | L29: 11.6 | Z29: 37
A30: =A29+1 -> 28 | B30: =IF(Реглист!D58="А",Реглист!B58,Реглист!B59) -> Бульба з Салам | C30: =IF(Реглист!D58="А",Реглист!C58,Реглист!C59) -> Бобриков Алексей | D30: =D75 -> 390.65 | E30: =E75 -> 35 | F30: 14.8 | G30: 13.1
A31: =A30+1 -> 29 | B31: =IF(Реглист!D60="А",Реглист!B60,Реглист!B61) -> VODNIK_TEAM | C31: =IF(Реглист!D60="А",Реглист!C60,Реглист!C61) -> Клевко Александр | D31: =D76 -> 320.09 | E31: =E76 -> 36 | F31: 12.5 | G31: 12.8
A32: =A31+1 -> 30 | B32: =IF(Реглист!D62="А",Реглист!B62,Реглист!B63) -> Лёлик и Болик | C32: =IF(Реглист!D62="А",Реглист!C62,Реглист!C63) -> Францкевич Александр | D32: =D77 -> 0 | E32: =E77 -> 43
A33: =A32+1 -> 31 | B33: =IF(Реглист!D64="А",Реглист!B64,Реглист!B65) -> FavoriteTeamBelarus | C33: =IF(Реглист!D64="А",Реглист!C64,Реглист!C65) -> Анпилов Андрей | D33: =D78 -> 1362.15 | E33: =E78 -> 21 | F33: 21.1 | G33: 18.5 | H33: 18.7 | I33: 15
A34: =A33+1 -> 32 | B34: =IF(Реглист!D66="А",Реглист!B66,Реглист!B67) -> - | C34: =IF(Реглист!D66="А",Реглист!C66,Реглист!C67) -> - | D34: =D79 -> 0 | E34: =E79 -> 43
A35: =A34+1 -> 33 | B35: =IF(Реглист!D68="А",Реглист!B68,Реглист!B69) -> Непредсказуемые | C35: =IF(Реглист!D68="А",Реглист!C68,Реглист!C69) -> Кайсин Иван | D35: =D80 -> 1868.96 | E35: =E80 -> 13 | F35: 16.4 | Z35: 40
A36: =A35+1 -> 34 | B36: =IF(Реглист!D70="А",Реглист!B70,Реглист!B71) -> No Name Team | C36: =IF(Реглист!D70="А",Реглист!C70,Реглист!C71) -> Шевчук Дмитрий | D36: =D81 -> 1813.97 | E36: =E81 -> 14 | F36: 20.8 | G36: 13.8 | H36: 13.4 | I36: 14.1 | J36: 21.6 | K36: 18.6
A37: =A36+1 -> 35 | B37: =IF(Реглист!D72="А",Реглист!B72,Реглист!B73) -> Бобруйский Region | C37: =IF(Реглист!D72="А",Реглист!C72,Реглист!C73) -> Прокопчик Алексей | D37: =D82 -> 2037.11 | E37: =E82 -> 9 | F37: 16.8 | G37: 22.3 | H37: 14.7 | I37: 13.8 | J37: 19.8 | K37: 17.4 | L37: 12.5
A38: =A37+1 -> 36 | B38: =IF(Реглист!D74="А",Реглист!B74,Реглист!B75) -> Nalovi.by | C38: =IF(Реглист!D74="А",Реглист!C74,Реглист!C75) -> Ромук Михаил | D38: =D83 -> 845.01 | E38: =E83 -> 29 | F38: 21 | G38: 20.1
A39: =A38+1 -> 37 | B39: =IF(Реглист!D76="А",Реглист!B76,Реглист!B77) -> NaloviKibas | C39: =IF(Реглист!D76="А",Реглист!C76,Реглист!C77) -> Шабуня Александр | D39: =D84 -> 0 | E39: =E84 -> 43
A40: =A39+1 -> 38 | B40: =IF(Реглист!D78="А",Реглист!B78,Реглист!B79) -> LEGION | C40: =IF(Реглист!D78="А",Реглист!C78,Реглист!C79) -> Полюхович Александр | D40: =D85 -> 1758.41 | E40: =E85 -> 15 | F40: 17 | G40: 19 | H40: 23 | I40: 15.4 | Z40: 18.5
A41: =A40+1 -> 39 | B41: =IF(Реглист!D80="А",Реглист!B80,Реглист!B81) -> Team Ylov | C41: =IF(Реглист!D80="А",Реглист!C80,Реглист!C81) -> Кулаженко Владимир | D41: =D86 -> 902.83 | E41: =E86 -> 26 | F41: 20.7 | G41: 15.5 | H41: 15.3
A42: =A41+1 -> 40 | B42: =IF(Реглист!D82="А",Реглист!B82,Реглист!B83) -> ULBroTeaM | C42: =IF(Реглист!D82="А",Реглист!C82,Реглист!C83) -> Василенков Вячеслав | D42: =D87 -> 802.25 | E42: =E87 -> 30 | F42: 16.1 | G42: 14.8 | Z42: 18
A43: =A42+1 -> 41 | B43: =IF(Реглист!D84="А",Реглист!B84,Реглист!B85) -> K&M | C43: =IF(Реглист!D84="А",Реглист!C84,Реглист!C85) -> Казаченко Владимир | D43: =D88 -> 853 | E43: =E88 -> 28 | F43: 23 | Z43: 18
A44: =A43+1 -> 42 | B44: =IF(Реглист!D86="А",Реглист!B86,Реглист!B87) -> Позитив | C44: =IF(Реглист!D86="А",Реглист!C86,Реглист!C87) -> Строк Павел | D44: =D89 -> 756.25 | E44: =E89 -> 31 | Z44: 27.5
C45: средняя длина рыб по виду: | F45: =AVERAGE(F3:Y44) -> 15.881988 | Z45: =AVERAGE(Z3:AD44) -> 25.635294 | AE45: =AVERAGE(AE3:AG44) -> 29 | AH45: =AVERAGE(AH3:AJ44) -> 21.2 | AK45: =AVERAGE(AK3:AM44) -> 13.066667 | AN45: =AVERAGE(AN3:AP44) -> #DIV/0! | AQ45: =AVERAGE(AQ3:AS44) -> #DIV/0!
A46: № | B46: команда | C46: участник | D46: сумма баллов | E46: место | F46: баллы
A48: 1 | B48: =B3 -> Твичим и джигуем | C48: =C3 -> Синовец Роман | D48: =SUM(F48:AV48) -> 1547.38 | E48: =IF(D48>0,RANK(D48,$D$48:$D$89),Реглист!$C$89+1) -> 17 | F48: =POWER(F3,2) -> 338.56 | G48: =POWER(G3,2) -> 187.69 | H48: =POWER(H3,2) -> 506.25 | I48: =POWER(I3,2) -> 295.84 | J48: =POWER(J3,2) -> 219.04 | K48: =POWER(K3,2) -> 0 | L48: =POWER(L3,2) -> 0 | M48: =POWER(M3,2) -> 0 | ... AV48: =POWER(AV3,2) -> 0
A49: =A48+1 -> 2 | B49: =B4 -> FishMurder | C49: =C4 -> Микулов Владимир | D49: =SUM(F49:AV49) -> 1093.81 | E49: =IF(D49>0,RANK(D49,$D$48:$D$89),Реглист!$C$89+1) -> 22 | F49: =POWER(F4,2) -> 252.81 | G49: =POWER(G4,2) -> 0 | H49: =POWER(H4,2) -> 0 | I49: =POWER(I4,2) -> 0 | J49: =POWER(J4,2) -> 0 | K49: =POWER(K4,2) -> 0 | L49: =POWER(L4,2) -> 0 | M49: =POWER(M4,2) -> 0 | ... AV49: =POWER(AV4,2) -> 0
A50: =A49+1 -> 3 | B50: =B5 -> Neptune fishing team | C50: =C5 -> Кирьянов Денис | D50: =SUM(F50:AV50) -> 459.05 | E50: =IF(D50>0,RANK(D50,$D$48:$D$89),Реглист!$C$89+1) -> 34 | F50: =POWER(F5,2) -> 231.04 | G50: =POWER(G5,2) -> 228.01 | H50: =POWER(H5,2) -> 0 | I50: =POWER(I5,2) -> 0 | J50: =POWER(J5,2) -> 0 | K50: =POWER(K5,2) -> 0 | L50: =POWER(L5,2) -> 0 | M50: =POWER(M5,2) -> 0 | ... AV50: =POWER(AV5,2) -> 0
A51: =A50+1 -> 4 | B51: =B6 -> HuNteRs for PeRch | C51: =C6 -> Самусевич Кирилл | D51: =SUM(F51:AV51) -> 163.84 | E51: =IF(D51>0,RANK(D51,$D$48:$D$89),Реглист!$C$89+1) -> 38 | F51: =POWER(F6,2) -> 163.84 | G51: =POWER(G6,2) -> 0 | H51: =POWER(H6,2) -> 0 | I51: =POWER(I6,2) -> 0 | J51: =POWER(J6,2) -> 0 | K51: =POWER(K6,2) -> 0 | L51: =POWER(L6,2) -> 0 | M51: =POWER(M6,2) -> 0 | ... AV51: =POWER(AV6,2) -> 0
A52: =A51+1 -> 5 | B52: =B7 -> Bad Fish | C52: =C7 -> Корней Валентин | D52: =SUM(F52:AV52) -> 1625.5 | E52: =IF(D52>0,RANK(D52,$D$48:$D$89),Реглист!$C$89+1) -> 16 | F52: =POWER(F7,2) -> 361 | G52: =POWER(G7,2) -> 272.25 | H52: =POWER(H7,2) -> 0 | I52: =POWER(I7,2) -> 0 | J52: =POWER(J7,2) -> 0 | K52: =POWER(K7,2) -> 0 | L52: =POWER(L7,2) -> 0 | M52: =POWER(M7,2) -> 0 | ... AV52: =POWER(AV7,2) -> 0
A53: =A52+1 -> 6 | B53: =B8 -> Штиль | C53: =C8 -> Козлов Юрий | D53: =SUM(F53:AV53) -> 1543.34 | E53: =IF(D53>0,RANK(D53,$D$48:$D$89),Реглист!$C$89+1) -> 18 | F53: =POWER(F8,2) -> 225 | G53: =POWER(G8,2) -> 125.44 | H53: =POWER(H8,2) -> 127.69 | I53: =POWER(I8,2) -> 158.76 | J53: =POWER(J8,2) -> 148.84 | K53: =POWER(K8,2) -> 171.61 | L53: =POWER(L8,2) -> 361 | M53: =POWER(M8,2) -> 0 | ... AV53: =POWER(AV8,2) -> 0
A54: =A53+1 -> 7 | B54: =B9 -> Фарватер | C54: =C9 -> Попельский Максим | D54: =SUM(F54:AV54) -> 932.86 | E54: =IF(D54>0,RANK(D54,$D$48:$D$89),Реглист!$C$89+1) -> 24 | F54: =POWER(F9,2) -> 278.89 | G54: =POWER(G9,2) -> 161.29 | H54: =POWER(H9,2) -> 139.24 | I54: =POWER(I9,2) -> 0 | J54: =POWER(J9,2) -> 0 | K54: =POWER(K9,2) -> 0 | L54: =POWER(L9,2) -> 0 | M54: =POWER(M9,2) -> 0 | ... AV54: =POWER(AV9,2) -> 0
A55: =A54+1 -> 8 | B55: =B10 -> Bait Breath Team | C55: =C10 -> Зубко Сергей | D55: =SUM(F55:AV55) -> 2249.97 | E55: =IF(D55>0,RANK(D55,$D$48:$D$89),Реглист!$C$89+1) -> 5 | F55: =POWER(F10,2) -> 161.29 | G55: =POWER(G10,2) -> 169 | H55: =POWER(H10,2) -> 182.25 | I55: =POWER(I10,2) -> 121 | J55: =POWER(J10,2) -> 132.25 | K55: =POWER(K10,2) -> 148.84 | L55: =POWER(L10,2) -> 243.36 | M55: =POWER(M10,2) -> 299.29 | ... AV55: =POWER(AV10,2) -> 0
A56: =A55+1 -> 9 | B56: =B11 -> СТАR Fishingstock | C56: =C11 -> Пожарский Константин | D56: =SUM(F56:AV56) -> 652.05 | E56: =IF(D56>0,RANK(D56,$D$48:$D$89),Реглист!$C$89+1) -> 32 | F56: =POWER(F11,2) -> 169 | G56: =POWER(G11,2) -> 196 | H56: =POWER(H11,2) -> 163.84 | I56: =POWER(I11,2) -> 123.21 | J56: =POWER(J11,2) -> 0 | K56: =POWER(K11,2) -> 0 | L56: =POWER(L11,2) -> 0 | M56: =POWER(M11,2) -> 0 | ... AV56: =POWER(AV11,2) -> 0
A57: =A56+1 -> 10 | B57: =B12 -> Poseidon | C57: =C12 -> Чижонок Сергей | D57: =SUM(F57:AV57) -> 4745.78 | E57: =IF(D57>0,RANK(D57,$D$48:$D$89),Реглист!$C$89+1) -> 1 | F57: =POWER(F12,2) -> 268.96 | G57: =POWER(G12,2) -> 237.16 | H57: =POWER(H12,2) -> 302.76 | I57: =POWER(I12,2) -> 295.84 | J57: =POWER(J12,2) -> 231.04 | K57: =POWER(K12,2) -> 380.25 | L57: =POWER(L12,2) -> 470.89 | M57: =POWER(M12,2) -> 324 | ... AV57: =POWER(AV12,2) -> 0
A58: =A57+1 -> 11 | B58: =B13 -> Кобринский МСЗ | C58: =C13 -> Барташук Александр | D58: =SUM(F58:AV58) -> 1931.78 | E58: =IF(D58>0,RANK(D58,$D$48:$D$89),Реглист!$C$89+1) -> 11 | F58: =POWER(F13,2) -> 196 | G58: =POWER(G13,2) -> 256 | H58: =POWER(H13,2) -> 272.25 | I58: =POWER(I13,2) -> 295.84 | J58: =POWER(J13,2) -> 462.25 | K58: =POWER(K13,2) -> 0 | L58: =POWER(L13,2) -> 0 | M58: =POWER(M13,2) -> 0 | ... AV58: =POWER(AV13,2) -> 0
A59: =A58+1 -> 12 | B59: =B14 -> ASpinnTeam | C59: =C14 -> Вашкевич Александр | D59: =SUM(F59:AV59) -> 1518.87 | E59: =IF(D59>0,RANK(D59,$D$48:$D$89),Реглист!$C$89+1) -> 19 | F59: =POWER(F14,2) -> 345.96 | G59: =POWER(G14,2) -> 488.41 | H59: =POWER(H14,2) -> 342.25 | I59: =POWER(I14,2) -> 342.25 | J59: =POWER(J14,2) -> 0 | K59: =POWER(K14,2) -> 0 | L59: =POWER(L14,2) -> 0 | M59: =POWER(M14,2) -> 0 | ... AV59: =POWER(AV14,2) -> 0
A60: =A59+1 -> 13 | B60: =B15 -> BASS HUNTER | C60: =C15 -> Кириевский Андрей | D60: =SUM(F60:AV60) -> 2049.68 | E60: =IF(D60>0,RANK(D60,$D$48:$D$89),Реглист!$C$89+1) -> 7 | F60: =POWER(F15,2) -> 179.56 | G60: =POWER(G15,2) -> 169 | H60: =POWER(H15,2) -> 331.24 | I60: =POWER(I15,2) -> 292.41 | J60: =POWER(J15,2) -> 179.56 | K60: =POWER(K15,2) -> 246.49 | L60: =POWER(L15,2) -> 302.76 | M60: =POWER(M15,2) -> 182.25 | ... AV60: =POWER(AV15,2) -> 0
... A89: =A88+1 -> 42 | B89: =B44 -> Позитив | C89: =C44 -> Строк Павел | D89: =SUM(F89:AV89) -> 756.25 | E89: =IF(D89>0,RANK(D89,$D$48:$D$89),Реглист!$C$89+1) -> 31 | F89: =POWER(F44,2) -> 0 | G89: =POWER(G44,2) -> 0 | H89: =POWER(H44,2) -> 0 | I89: =POWER(I44,2) -> 0 | J89: =POWER(J44,2) -> 0 | K89: =POWER(K44,2) -> 0 | L89: =POWER(L44,2) -> 0 | M89: =POWER(M44,2) -> 0 | ... AV89: =POWER(AV44,2) -> 0

Sheet Т1Зб
A1: № | B1: команда | C1: участник | D1: сумма баллов | E1: место | F1: окунь | Z1: щука | AF1: судак | AI1: жерех | AL1: голавль | AO1: язь | AR1: чехонь | AU1: сом
F2: размер, см
A3: 1 | B3: =IF(Реглист!D4="Б",Реглист!B4,Реглист!B5) -> Твичим и джигуем | C3: =IF(Реглист!D4="Б",Реглист!C4,Реглист!C5) -> Чернышев Егор | D3: =D48 -> 1033.5 | E3: =E48 -> 24 | F3: 17.5 | G3: 13.5 | H3: 16 | Z3: 17
A4: =A3+1 -> 2 | B4: =IF(Реглист!D6="Б",Реглист!B6,Реглист!B7) -> FishMurder | C4: =IF(Реглист!D6="Б",Реглист!C6,Реглист!C7) -> Шило Сергей | D4: =D49 -> 4542.33 | E4: =E49 -> 1 | F4: 17.7 | G4: 17.5 | H4: 18.5 | I4: 17.3 | Z4: 32.5 | AA4: 25 | AB4: 40
A5: =A4+1 -> 3 | B5: =IF(Реглист!D8="Б",Реглист!B8,Реглист!B9) -> Neptune fishing team | C5: =IF(Реглист!D8="Б",Реглист!C8,Реглист!C9) -> Мяэлоог Алексей | D5: =D50 -> 1951.31 | E5: =E50 -> 13 | F5: 14.7 | G5: 16 | H5: 18.1 | I5: 20.6 | J5: 16.6 | K5: 18 | L5: 11.3
A6: =A5+1 -> 4 | B6: =IF(Реглист!D10="Б",Реглист!B10,Реглист!B11) -> HuNteRs for PeRch | C6: =IF(Реглист!D10="Б",Реглист!C10,Реглист!C11) -> Коноплёв Андрей | D6: =D51 -> 283.49 | E6: =E51 -> 37 | F6: 10.7 | G6: 13
A7: =A6+1 -> 5 | B7: =IF(Реглист!D12="Б",Реглист!B12,Реглист!B13) -> Bad Fish | C7: =IF(Реглист!D12="Б",Реглист!C12,Реглист!C13) -> Желтов Игорь | D7: =D52 -> 1072.14 | E7: =E52 -> 22 | F7: 10.3 | G7: 11 | H7: 13.2 | Z7: 25.9
A8: =A7+1 -> 6 | B8: =IF(Реглист!D14="Б",Реглист!B14,Реглист!B15) -> Штиль | C8: =IF(Реглист!D14="Б",Реглист!C14,Реглист!C15) -> Рябишников Иван | D8: =D53 -> 696.81 | E8: =E53 -> 30 | F8: 16 | G8: 11.6 | H8: 17.5
A9: =A8+1 -> 7 | B9: =IF(Реглист!D16="Б",Реглист!B16,Реглист!B17) -> Фарватер | C9: =IF(Реглист!D16="Б",Реглист!C16,Реглист!C17) -> Цыганок Михаил | D9: =D54 -> 603.85 | E9: =E54 -> 32 | F9: 18.3 | G9: 16.4
A10: =A9+1 -> 8 | B10: =IF(Реглист!D18="Б",Реглист!B18,Реглист!B19) -> Bait Breath Team | C10: =IF(Реглист!D18="Б",Реглист!C18,Реглист!C19) -> Бахур Александр | D10: =D55 -> 2306.04 | E10: =E55 -> 11 | F10: 17 | G10: 16.5 | H10: 12.2 | I10: 14.1 | J10: 14.8 | K10: 13.2 | L10: 15.2 | M10: 18.1 | Z10: 21.1
A11: =A10+1 -> 9 | B11: =IF(Реглист!D20="Б",Реглист!B20,Реглист!B21) -> СТАR Fishingstock | C11: =IF(Реглист!D20="Б",Реглист!C20,Реглист!C21) -> Бычик Роман | D11: =D56 -> 4064.85 | E11: =E56 -> 2 | F11: 14 | G11: 14 | H11: 14.2 | I11: 11.2 | J11: 12 | K11: 14 | L11: 16.6 | M11: 13.8 | N11: 14.9 | O11: 13.5 | P11: 13 | Q11: 10.8 | R11: 15.9 | S11: 16 | T11: 12.6 | U11: 12 | V11: 11.3 | W11: 12 | Z11: 25 | AA11: 11.9
A12: =A11+1 -> 10 | B12: =IF(Реглист!D22="Б",Реглист!B22,Реглист!B23) -> Poseidon | C12: =IF(Реглист!D22="Б",Реглист!C22,Реглист!C23) -> Ананич Геннадий | D12: =D57 -> 2570.82 | E12: =E57 -> 8 | F12: 11.8 | G12: 16.2 | H12: 14.3 | I12: 21 | J12: 14.2 | K12: 14.8 | L12: 19.2 | M12: 14.8 | Z12: 22.7
A13: =A12+1 -> 11 | B13: =IF(Реглист!D24="Б",Реглист!B24,Реглист!B25) -> Кобринский МСЗ | C13: =IF(Реглист!D24="Б",Реглист!C24,Реглист!C25) -> Жарин Вадим | D13: =D58 -> 3798.53 | E13: =E58 -> 3 | F13: 19.5 | G13: 20 | Z13: 23.2 | AA13: 49.8
A14: =A13+1 -> 12 | B14: =IF(Реглист!D26="Б",Реглист!B26,Реглист!B27) -> ASpinnTeam | C14: =IF(Реглист!D26="Б",Реглист!C26,Реглист!C27) -> Нугуманов Артём | D14: =D59 -> 1917.26 | E14: =E59 -> 14 | F14: 10.1 | G14: 15.9 | H14: 12.6 | I14: 11.5 | J14: 11.8 | K14: 13 | L14: 18.2 | M14: 11.6 | N14: 12.3 | O14: 11.9 | Z14: 14.3
A15: =A14+1 -> 13 | B15: =IF(Реглист!D28="Б",Реглист!B28,Реглист!B29) -> BASS HUNTER | C15: =IF(Реглист!D28="Б",Реглист!C28,Реглист!C29) -> Шевко Виталий | D15: =D60 -> 3240.44 | E15: =E60 -> 6 | F15: 12.5 | G15: 12 | H15: 16.7 | I15: 17.3 | J15: 15.8 | K15: 13 | L15: 13 | M15: 12.8 | N15: 12 | O15: 12.2 | Z15: 36.3
A16: =A15+1 -> 14 | B16: =IF(Реглист!D30="Б",Реглист!B30,Реглист!B31) -> RVR | C16: =IF(Реглист!D30="Б",Реглист!C30,Реглист!C31) -> Золотухин Александр | D16: =D61 -> 2141.6 | E16: =E61 -> 12 | F16: 13.3 | G16: 11.5 | H16: 15.5 | I16: 17 | Z16: 36.1
A17: =A16+1 -> 15 | B17: =IF(Реглист!D32="Б",Реглист!B32,Реглист!B33) -> Студенты | C17: =IF(Реглист!D32="Б",Реглист!C32,Реглист!C33) -> Воробьев Павел | D17: =D62 -> 380.25 | E17: =E62 -> 36 | F17: 19.5
A18: =A17+1 -> 16 | B18: =IF(Реглист!D34="Б",Реглист!B34,Реглист!B35) -> Peacock Bass | C18: =IF(Реглист!D34="Б",Реглист!C34,Реглист!C35) -> Дроздов Виталий | D18: =D63 -> 1776.9 | E18: =E63 -> 15 | F18: 20.5 | G18: 14 | H18: 11.3 | I18: 13.1 | J18: 13.3 | K18: 18.6 | L18: 13.5 | Z18: 12.5
A19: =A18+1 -> 17 | B19: =IF(Реглист!D36="Б",Реглист!B36,Реглист!B37) -> Полесье | C19: =IF(Реглист!D36="Б",Реглист!C36,Реглист!C37) -> Марковский Максим | D19: =D64 -> 3301.35 | E19: =E64 -> 5 | F19: 16.3 | G19: 14.6 | H19: 11.8 | I19: 17.6 | J19: 14 | K19: 15.8 | L19: 22.5 | M19: 18 | N19: 16 | O19: 15.5 | P19: 15 | Z19: 19.4
A20: =A19+1 -> 18 | B20: =IF(Реглист!D38="Б",Реглист!B38,Реглист!B39) -> - | C20: =IF(Реглист!D38="Б",Реглист!C38,Реглист!C39) -> - | D20: =D65 -> 0 | E20: =E65 -> 43
A21: =A20+1 -> 19 | B21: =IF(Реглист!D40="Б",Реглист!B40,Реглист!B41) -> Брест над Бугом | C21: =IF(Реглист!D40="Б",Реглист!C40,Реглист!C41) -> Шумко Александр | D21: =D66 -> 2434.5 | E21: =E66 -> 9 | F21: 12.4 | G21: 11 | H21: 15.6 | I21: 16.8 | J21: 10.9 | K21: 11.3 | L21: 13.1 | M21: 11.5 | N21: 11.4 | O21: 13.6 | P21: 12.6 | Z21: 19.7 | AA21: 14.9
A22: =A21+1 -> 20 | B22: =IF(Реглист!D42="Б",Реглист!B42,Реглист!B43) -> Гефест-Техника | C22: =IF(Реглист!D42="Б",Реглист!C42,Реглист!C43) -> Остапук Александр | D22: =D67 -> 1071.15 | E22: =E67 -> 23 | F22: 12.4 | G22: 18.3 | H22: 18.5 | Z22: 15.5
A23: =A22+1 -> 21 | B23: =IF(Реглист!D44="Б",Реглист!B44,Реглист!B45) -> Gefest | C23: =IF(Реглист!D44="Б",Реглист!C44,Реглист!C45) -> Радчук Юрий | D23: =D68 -> 611.29 | E23: =E68 -> 31 | F23: 15.2 | G23: 19.5
A24: =A23+1 -> 22 | B24: =IF(Реглист!D46="Б",Реглист!B46,Реглист!B47) -> West Fishing | C24: =IF(Реглист!D46="Б",Реглист!C46,Реглист!C47) -> Непомнящий Виктор | D24: =D69 -> 1165.43 | E24: =E69 -> 20 | F24: 19 | G24: 19.7 | H24: 15.3 | I24: 13.5
A25: =A24+1 -> 23 | B25: =IF(Реглист!D48="Б",Реглист!B48,Реглист!B49) -> Solfishing | C25: =IF(Реглист!D48="Б",Реглист!C48,Реглист!C49) -> Санько Александр | D25: =D70 -> 1086.19 | E25: =E70 -> 21 | F25: 9 | G25: 11.3 | H25: 16.5 | I25: 15 | J25: 19.5
A26: =A25+1 -> 24 | B26: =IF(Реглист!D50="Б",Реглист!B50,Реглист!B51) -> Орловские | C26: =IF(Реглист!D50="Б",Реглист!C50,Реглист!C51) -> Боровик Андрей | D26: =D71 -> 1645.74 | E26: =E71 -> 16 | F26: 14.3 | G26: 12.5 | H26: 18 | AI26: 31
A27: =A26+1 -> 25 | B27: =IF(Реглист!D52="Б",Реглист!B52,Реглист!B53) -> Marksman | C27: =IF(Реглист!D52="Б",Реглист!C52,Реглист!C53) -> Артёмчик Евгений | D27: =D72 -> 1242.59 | E27: =E72 -> 19 | F27: 15.5 | G27: 16.5 | H27: 17 | I27: 9 | J27: 12 | Z27: 14.7
A28: =A27+1 -> 26 | B28: =IF(Реглист!D54="Б",Реглист!B54,Реглист!B55) -> UL soldiers of fortune | C28: =IF(Реглист!D54="Б",Реглист!C54,Реглист!C55) -> Андрианов Илья | D28: =D73 -> 553.25 | E28: =E73 -> 33 | F28: 15 | G28: 11.5 | H28: 14
A29: =A28+1 -> 27 | B29: =IF(Реглист!D56="Б",Реглист!B56,Реглист!B57) -> Fishka | C29: =IF(Реглист!D56="Б",Реглист!C56,Реглист!C57) -> Наконечник Александр | D29: =D74 -> 2765.66 | E29: =E74 -> 7 | F29: 15.8 | G29: 12.1 | H29: 11.5 | I29: 12.6 | J29: 18.5 | K29: 12 | L29: 13.6 | M29: 12.9 | N29: 11.6 | Z29: 19.2 | AA29: 19.7 | AB29: 18.7
A30: =A29+1 -> 28 | B30: =IF(Реглист!D58="Б",Реглист!B58,Реглист!B59) -> Бульба з Салам | C30: =IF(Реглист!D58="Б",Реглист!C58,Реглист!C59) -> Лунякин Олег | D30: =D75 -> 234.09 | E30: =E75 -> 39 | F30: 15.3
A31: =A30+1 -> 29 | B31: =IF(Реглист!D60="Б",Реглист!B60,Реглист!B61) -> VODNIK_TEAM | C31: =IF(Реглист!D60="Б",Реглист!C60,Реглист!C61) -> Цветков Алексей | D31: =D76 -> 851.24 | E31: =E76 -> 27 | F31: 13.2 | G31: 15 | H31: 16 | Z31: 14
A32: =A31+1 -> 30 | B32: =IF(Реглист!D62="Б",Реглист!B62,Реглист!B63) -> Лёлик и Болик | C32: =IF(Реглист!D62="Б",Реглист!C62,Реглист!C63) -> Ежков Игорь | D32: =D77 -> 1478.25 | E32: =E77 -> 17 | F32: 20.5 | Z32: 23 | AA32: 23
A33: =A32+1 -> 31 | B33: =IF(Реглист!D64="Б",Реглист!B64,Реглист!B65) -> FavoriteTeamBelarus | C33: =IF(Реглист!D64="Б",Реглист!C64,Реглист!C65) -> Шавшунов Никита | D33: =D78 -> 1257.97 | E33: =E78 -> 18 | F33: 22.2 | G33: 16 | H33: 13.2 | I33: 18.3
A34: =A33+1 -> 32 | B34: =IF(Реглист!D66="Б",Реглист!B66,Реглист!B67) -> - | C34: =IF(Реглист!D66="Б",Реглист!C66,Реглист!C67) -> - | D34: =D79 -> 0 | E34: =E79 -> 43
A35: =A34+1 -> 33 | B35: =IF(Реглист!D68="Б",Реглист!B68,Реглист!B69) -> Непредсказуемые | C35: =IF(Реглист!D68="Б",Реглист!C68,Реглист!C69) -> Хомский Дмитрий | D35: =D80 -> 482.5 | E35: =E80 -> 34 | F35: 12 | G35: 12.5 | Z35: 13.5
A36: =A35+1 -> 34 | B36: =IF(Реглист!D70="Б",Реглист!B70,Реглист!B71) -> No Name Team | C36: =IF(Реглист!D70="Б",Реглист!C70,Реглист!C71) -> Евсеев Александр | D36: =D81 -> 881.75 | E36: =E81 -> 26 | F36: 11.5 | G36: 18.5 | H36: 15 | I36: 13.5
A37: =A36+1 -> 35 | B37: =IF(Реглист!D72="Б",Реглист!B72,Реглист!B73) -> Бобруйский Region | C37: =IF(Реглист!D72="Б",Реглист!C72,Реглист!C73) -> Желенговский Петр | D37: =D82 -> 797.49 | E37: =E82 -> 28 | F37: 14 | G37: 11.8 | Z37: 21.5
A38: =A37+1 -> 36 | B38: =IF(Реглист!D74="Б",Реглист!B74,Реглист!B75) -> Nalovi.by | C38: =IF(Реглист!D74="Б",Реглист!C74,Реглист!C75) -> Наумович Николай | D38: =D83 -> 2322.38 | E38: =E83 -> 10 | F38: 12 | G38: 13.8 | H38: 16.3 | Z38: 41.5
A39: =A38+1 -> 37 | B39: =IF(Реглист!D76="Б",Реглист!B76,Реглист!B77) -> NaloviKibas | C39: =IF(Реглист!D76="Б",Реглист!C76,Реглист!C77) -> Пахолин Александр | D39: =D84 -> 0 | E39: =E84 -> 43
A40: =A39+1 -> 38 | B40: =IF(Реглист!D78="Б",Реглист!B78,Реглист!B79) -> LEGION | C40: =IF(Реглист!D78="Б",Реглист!C78,Реглист!C79) -> Бойко Сергей | D40: =D85 -> 3532.56 | E40: =E85 -> 4 | F40: 13.4 | G40: 9.7 | H40: 11.7 | I40: 10.4 | J40: 13.2 | K40: 15.4 | L40: 16.5 | M40: 13.6 | N40: 15.2 | O40: 13.3 | P40: 14.7 | Q40: 13.6 | R40: 12.5 | S40: 13.9 | T40: 12.7 | U40: 13.6 | V40: 13.6 | W40: 13.2 | X40: 10.6 | Z40: 13
A41: =A40+1 -> 39 | B41: =IF(Реглист!D80="Б",Реглист!B80,Реглист!B81) -> Team Ylov | C41: =IF(Реглист!D80="Б",Реглист!C80,Реглист!C81) -> Тулупов Александр | D41: =D86 -> 272.25 | E41: =E86 -> 38 | F41: 16.5
A42: =A41+1 -> 40 | B42: =IF(Реглист!D82="Б",Реглист!B82,Реглист!B83) -> ULBroTeaM | C42: =IF(Реглист!D82="Б",Реглист!C82,Реглист!C83) -> Вычиков Павел | D42: =D87 -> 450.25 | E42: =E87 -> 35 | F42: 12 | G42: 17.5
A43: =A42+1 -> 41 | B43: =IF(Реглист!D84="Б",Реглист!B84,Реглист!B85) -> K&M | C43: =IF(Реглист!D84="Б",Реглист!C84,Реглист!C85) -> Мельников Юрий | D43: =D88 -> 951.22 | E43: =E88 -> 25 | F43: 17.3 | G43: 16 | H43: 14.8 | I43: 13.3
A44: =A43+1 -> 42 | B44: =IF(Реглист!D86="Б",Реглист!B86,Реглист!B87) -> Позитив | C44: =IF(Реглист!D86="Б",Реглист!C86,Реглист!C87) -> Князев Сергей | D44: =D89 -> 719.81 | E44: =E89 -> 29 | F44: 18.4 | G44: 12.5 | Z44: 15
C45: средняя длина рыб по виду: | F45: =AVERAGE(F3:Y44) -> 14.555612 | Z45: =AVERAGE(Z3:AE44) -> 22.567742 | AF45: =AVERAGE(AF3:AH44) -> #DIV/0! | AI45: =AVERAGE(AI3:AK44) -> 31 | AL45: =AVERAGE(AL3:AN44) -> #DIV/0! | AO45: =AVERAGE(AO3:AQ44) -> #DIV/0! | AR45: =AVERAGE(AR3:AT44) -> #DIV/0!
A46: № | B46: команда | C46: участник | D46: сумма баллов | E46: место | F46: баллы
A48: 1 | B48: =B3 -> Твичим и джигуем | C48: =C3 -> Чернышев Егор | D48: =SUM(F48:AW48) -> 1033.5 | E48: =IF(D48>0,RANK(D48,$D$48:$D$89),Реглист!$C$89+1) -> 24 | F48: =POWER(F3,2) -> 306.25 | G48: =POWER(G3,2) -> 182.25 | H48: =POWER(H3,2) -> 256 | I48: =POWER(I3,2) -> 0 | J48: =POWER(J3,2) -> 0 | K48: =POWER(K3,2) -> 0 | L48: =POWER(L3,2) -> 0 | M48: =POWER(M3,2) -> 0 | ... AW48: =POWER(AW3,2) -> 0
A49: =A48+1 -> 2 | B49: =B4 -> FishMurder | C49: =C4 -> Шило Сергей | D49: =SUM(F49:AW49) -> 4542.33 | E49: =IF(D49>0,RANK(D49,$D$48:$D$89),Реглист!$C$89+1) -> 1 | F49: =POWER(F4,2) -> 313.29 | G49: =POWER(G4,2) -> 306.25 | H49: =POWER(H4,2) -> 342.25 | I49: =POWER(I4,2) -> 299.29 | J49: =POWER(J4,2) -> 0 | K49: =POWER(K4,2) -> 0 | L49: =POWER(L4,2) -> 0 | M49: =POWER(M4,2) -> 0 | ... AW49: =POWER(AW4,2) -> 0
A50: =A49+1 -> 3 | B50: =B5 -> Neptune fishing team | C50: =C5 -> Мяэлоог Алексей | D50: =SUM(F50:AW50) -> 1951.31 | E50: =IF(D50>0,RANK(D50,$D$48:$D$89),Реглист!$C$89+1) -> 13 | F50: =POWER(F5,2) -> 216.09 | G50: =POWER(G5,2) -> 256 | H50: =POWER(H5,2) -> 327.61 | I50: =POWER(I5,2) -> 424.36 | J50: =POWER(J5,2) -> 275.56 | K50: =POWER(K5,2) -> 324 | L50: =POWER(L5,2) -> 127.69 | M50: =POWER(M5,2) -> 0 | ... AW50: =POWER(AW5,2) -> 0
A51: =A50+1 -> 4 | B51: =B6 -> HuNteRs for PeRch | C51: =C6 -> Коноплёв Андрей | D51: =SUM(F51:AW51) -> 283.49 | E51: =IF(D51>0,RANK(D51,$D$48:$D$89),Реглист!$C$89+1) -> 37 | F51: =POWER(F6,2) -> 114.49 | G51: =POWER(G6,2) -> 169 | H51: =POWER(H6,2) -> 0 | I51: =POWER(I6,2) -> 0 | J51: =POWER(J6,2) -> 0 | K51: =POWER(K6,2) -> 0 | L51: =POWER(L6,2) -> 0 | M51: =POWER(M6,2) -> 0 | ... AW51: =POWER(AW6,2) -> 0
A52: =A51+1 -> 5 | B52: =B7 -> Bad Fish | C52: =C7 -> Желтов Игорь | D52: =SUM(F52:AW52) -> 1072.14 | E52: =IF(D52>0,RANK(D52,$D$48:$D$89),Реглист!$C$89+1) -> 22 | F52: =POWER(F7,2) -> 106.09 | G52: =POWER(G7,2) -> 121 | H52: =POWER(H7,2) -> 174.24 | I52: =POWER(I7,2) -> 0 | J52: =POWER(J7,2) -> 0 | K52: =POWER(K7,2) -> 0 | L52: =POWER(L7,2) -> 0 | M52: =POWER(M7,2) -> 0 | ... AW52: =POWER(AW7,2) -> 0
A53: =A52+1 -> 6 | B53: =B8 -> Штиль | C53: =C8 -> Рябишников Иван | D53: =SUM(F53:AW53) -> 696.81 | E53: =IF(D53>0,RANK(D53,$D$48:$D$89),Реглист!$C$89+1) -> 30 | F53: =POWER(F8,2) -> 256 | G53: =POWER(G8,2) -> 134.56 | H53: =POWER(H8,2) -> 306.25 | I53: =POWER(I8,2) -> 0 | J53: =POWER(J8,2) -> 0 | K53: =POWER(K8,2) -> 0 | L53: =POWER(L8,2) -> 0 | M53: =POWER(M8,2) -> 0 | ... AW53: =POWER(AW8,2) -> 0
A54: =A53+1 -> 7 | B54: =B9 -> Фарватер | C54: =C9 -> Цыганок Михаил | D54: =SUM(F54:AW54) -> 603.85 | E54: =IF(D54>0,RANK(D54,$D$48:$D$89),Реглист!$C$89+1) -> 32 | F54: =POWER(F9,2) -> 334.89 | G54: =POWER(G9,2) -> 268.96 | H54: =POWER(H9,2) -> 0 | I54: =POWER(I9,2) -> 0 | J54: =POWER(J9,2) -> 0 | K54: =POWER(K9,2) -> 0 | L54: =POWER(L9,2) -> 0 | M54: =POWER(M9,2) -> 0 | ... AW54: =POWER(AW9,2) -> 0
A55: =A54+1 -> 8 | B55: =B10 -> Bait Breath Team | C55: =C10 -> Бахур Александр | D55: =SUM(F55:AW55) -> 2306.04 | E55: =IF(D55>0,RANK(D55,$D$48:$D$89),Реглист!$C$89+1) -> 11 | F55: =POWER(F10,2) -> 289 | G55: =POWER(G10,2) -> 272.25 | H55: =POWER(H10,2) -> 148.84 | I55: =POWER(I10,2) -> 198.81 | J55: =POWER(J10,2) -> 219.04 | K55: =POWER(K10,2) -> 174.24 | L55: =POWER(L10,2) -> 231.04 | M55: =POWER(M10,2) -> 327.61 | ... AW55: =POWER(AW10,2) -> 0
A56: =A55+1 -> 9 | B56: =B11 -> СТАR Fishingstock | C56: =C11 -> Бычик Роман | D56: =SUM(F56:AW56) -> 4064.85 | E56: =IF(D56>0,RANK(D56,$D$48:$D$89),Реглист!$C$89+1) -> 2 | F56: =POWER(F11,2) -> 196 | G56: =POWER(G11,2) -> 196 | H56: =POWER(H11,2) -> 201.64 | I56: =POWER(I11,2) -> 125.44 | J56: =POWER(J11,2) -> 144 | K56: =POWER(K11,2) -> 196 | L56: =POWER(L11,2) -> 275.56 | M56: =POWER(M11,2) -> 190.44 | ... AW56: =POWER(AW11,2) -> 0
A57: =A56+1 -> 10 | B57: =B12 -> Poseidon | C57: =C12 -> Ананич Геннадий | D57: =SUM(F57:AW57) -> 2570.82 | E57: =IF(D57>0,RANK(D57,$D$48:$D$89),Реглист!$C$89+1) -> 8 | F57: =POWER(F12,2) -> 139.24 | G57: =POWER(G12,2) -> 262.44 | H57: =POWER(H12,2) -> 204.49 | I57: =POWER(I12,2) -> 441 | J57: =POWER(J12,2) -> 201.64 | K57: =POWER(K12,2) -> 219.04 | L57: =POWER(L12,2) -> 368.64 | M57: =POWER(M12,2) -> 219.04 | ... AW57: =POWER(AW12,2) -> 0
A58: =A57+1 -> 11 | B58: =B13 -> Кобринский МСЗ | C58: =C13 -> Жарин Вадим | D58: =SUM(F58:AW58) -> 3798.53 | E58: =IF(D58>0,RANK(D58,$D$48:$D$89),Реглист!$C$89+1) -> 3 | F58: =POWER(F13,2) -> 380.25 | G58: =POWER(G13,2) -> 400 | H58: =POWER(H13,2) -> 0 | I58: =POWER(I13,2) -> 0 | J58: =POWER(J13,2) -> 0 | K58: =POWER(K13,2) -> 0 | L58: =POWER(L13,2) -> 0 | M58: =POWER(M13,2) -> 0 | ... AW58: =POWER(AW13,2) -> 0
A59: =A58+1 -> 12 | B59: =B14 -> ASpinnTeam | C59: =C14 -> Нугуманов Артём | D59: =SUM(F59:AW59) -> 1917.26 | E59: =IF(D59>0,RANK(D59,$D$48:$D$89),Реглист!$C$89+1) -> 14 | F59: =POWER(F14,2) -> 102.01 | G59: =POWER(G14,2) -> 252.81 | H59: =POWER(H14,2) -> 158.76 | I59: =POWER(I14,2) -> 132.25 | J59: =POWER(J14,2) -> 139.24 | K59: =POWER(K14,2) -> 169 | L59: =POWER(L14,2) -> 331.24 | M59: =POWER(M14,2) -> 134.56 | ... AW59: =POWER(AW14,2) -> 0
A60: =A59+1 -> 13 | B60: =B15 -> BASS HUNTER | C60: =C15 -> Шевко Виталий | D60: =SUM(F60:AW60) -> 3240.44 | E60: =IF(D60>0,RANK(D60,$D$48:$D$89),Реглист!$C$89+1) -> 6 | F60: =POWER(F15,2) -> 156.25 | G60: =POWER(G15,2) -> 144 | H60: =POWER(H15,2) -> 278.89 | I60: =POWER(I15,2) -> 299.29 | J60: =POWER(J15,2) -> 249.64 | K60: =POWER(K15,2) -> 169 | L60: =POWER(L15,2) -> 169 | M60: =POWER(M15,2) -> 163.84 | ... AW60: =POWER(AW15,2) -> 0
... A89: =A88+1 -> 42 | B89: =B44 -> Позитив | C89: =C44 -> Князев Сергей | D89: =SUM(F89:AW89) -> 719.81 | E89: =IF(D89>0,RANK(D89,$D$48:$D$89),Реглист!$C$89+1) -> 29 | F89: =POWER(F44,2) -> 338.56 | G89: =POWER(G44,2) -> 156.25 | H89: =POWER(H44,2) -> 0 | I89: =POWER(I44,2) -> 0 | J89: =POWER(J44,2) -> 0 | K89: =POWER(K44,2) -> 0 | L89: =POWER(L44,2) -> 0 | M89: =POWER(M44,2) -> 0 | ... AW89: =POWER(AW44,2) -> 0

Sheet Т2За
A1: № | B1: команда | C1: участник | D1: сумма баллов | E1: место | F1: окунь | U1: щука | X1: судак | AA1: жерех | AD1: голавль | AG1: язь | AJ1: чехонь | AM1: сом
F2: размер, см
A3: 1 | B3: =Т1Зб!B3 -> Твичим и джигуем | C3: =Т1Зб!C3 -> Чернышев Егор | D3: =D48 -> 1104.58 | E3: =E48 -> 17 | F3: 15.6 | G3: 17.7 | H3: 16.8 | I3: 16.3
A4: =A3+1 -> 2 | B4: =Т1Зб!B4 -> FishMurder | C4: =Т1Зб!C4 -> Шило Сергей | D4: =D49 -> 0 | E4: =E49 -> 43
A5: =A4+1 -> 3 | B5: =Т1Зб!B5 -> Neptune fishing team | C5: =Т1Зб!C5 -> Мяэлоог Алексей | D5: =D50 -> 307.54 | E5: =E50 -> 30 | F5: 12.5 | G5: 12.3
A6: =A5+1 -> 4 | B6: =Т1Зб!B6 -> HuNteRs for PeRch | C6: =Т1Зб!C6 -> Коноплёв Андрей | D6: =D51 -> 338.72 | E6: =E51 -> 29 | F6: 13.6 | G6: 12.4
A7: =A6+1 -> 5 | B7: =Т1Зб!B7 -> Bad Fish | C7: =Т1Зб!C7 -> Желтов Игорь | D7: =D52 -> 568.3 | E7: =E52 -> 26 | F7: 10.6 | G7: 10.8 | H7: 9.6 | I7: 10.5 | J7: 11.7
A8: =A7+1 -> 6 | B8: =Т1Зб!B8 -> Штиль | C8: =Т1Зб!C8 -> Рябишников Иван | D8: =D53 -> 1026.78 | E8: =E53 -> 19 | F8: 13.2 | G8: 12.7 | H8: 14.5 | I8: 16 | J8: 15
A9: =A8+1 -> 7 | B9: =Т1Зб!B9 -> Фарватер | C9: =Т1Зб!C9 -> Цыганок Михаил | D9: =D54 -> 632.38 | E9: =E54 -> 24 | F9: 14.7 | G9: 12 | H9: 12.3 | I9: 11
A10: =A9+1 -> 8 | B10: =Т1Зб!B10 -> Bait Breath Team | C10: =Т1Зб!C10 -> Бахур Александр | D10: =D55 -> 2458.08 | E10: =E55 -> 3 | F10: 22.5 | G10: 14.2 | H10: 15.5 | U10: 32.5 | AA10: 21.3
A11: =A10+1 -> 9 | B11: =Т1Зб!B11 -> СТАR Fishingstock | C11: =Т1Зб!C11 -> Бычик Роман | D11: =D56 -> 2096.52 | E11: =E56 -> 6 | F11: 13 | G11: 12 | H11: 12.3 | I11: 12 | J11: 13 | K11: 12 | L11: 14 | M11: 13 | N11: 13.2 | O11: 11.5 | P11: 11.8 | Q11: 13.5 | U11: 13.5
A12: =A11+1 -> 10 | B12: =Т1Зб!B12 -> Poseidon | C12: =Т1Зб!C12 -> Ананич Геннадий | D12: =D57 -> 2322.58 | E12: =E57 -> 4 | F12: 18.8 | G12: 16.7 | H12: 19 | I12: 18.1 | J12: 17.5 | K12: 16.7 | L12: 17.5 | M12: 10.5
A13: =A12+1 -> 11 | B13: =Т1Зб!B13 -> Кобринский МСЗ | C13: =Т1Зб!C13 -> Жарин Вадим | D13: =D58 -> 2876.94 | E13: =E58 -> 2 | F13: 12.2 | G13: 17.2 | H13: 20.6 | I13: 18.1 | J13: 15 | K13: 17.3 | U13: 34
A14: =A13+1 -> 12 | B14: =Т1Зб!B14 -> ASpinnTeam | C14: =Т1Зб!C14 -> Нугуманов Артём | D14: =D59 -> 671.01 | E14: =E59 -> 23 | F14: 11.5 | G14: 8.9 | H14: 12.9 | I14: 11.7 | AA14: 12.5
A15: =A14+1 -> 13 | B15: =Т1Зб!B15 -> BASS HUNTER | C15: =Т1Зб!C15 -> Шевко Виталий | D15: =D60 -> 248.69 | E15: =E60 -> 31 | F15: 11.3 | G15: 11
A16: =A15+1 -> 14 | B16: =Т1Зб!B16 -> RVR | C16: =Т1Зб!C16 -> Золотухин Александр | D16: =D61 -> 1477.95 | E16: =E61 -> 14 | F16: 16.4 | G16: 11.8 | H16: 12 | I16: 13 | J16: 15.5 | K16: 15.5 | L16: 12 | U16: 11.5
A17: =A16+1 -> 15 | B17: =Т1Зб!B17 -> Студенты | C17: =Т1Зб!C17 -> Воробьев Павел | D17: =D62 -> 0 | E17: =E62 -> 43
A18: =A17+1 -> 16 | B18: =Т1Зб!B18 -> Peacock Bass | C18: =Т1Зб!C18 -> Дроздов Виталий | D18: =D63 -> 1381.14 | E18: =E63 -> 15 | F18: 11.7 | G18: 12.5 | H18: 11.1 | I18: 13.2 | J18: 11.6 | K18: 12.5 | L18: 11 | M18: 11.5 | U18: 15.7
A19: =A18+1 -> 17 | B19: =Т1Зб!B19 -> Полесье | C19: =Т1Зб!C19 -> Марковский Максим | D19: =D64 -> 1621.51 | E19: =E64 -> 11 | F19: 17.5 | G19: 17.6 | H19: 13.5 | I19: 18 | J19: 17 | AA19: 14.5
A20: =A19+1 -> 18 | B20: =Т1Зб!B20 -> - | C20: =Т1Зб!C20 -> - | D20: =D65 -> 0 | E20: =E65 -> 43
A21: =A20+1 -> 19 | B21: =Т1Зб!B21 -> Брест над Бугом | C21: =Т1Зб!C21 -> Шумко Александр | D21: =D66 -> 760.18 | E21: =E66 -> 21 | F21: 13.2 | G21: 11.5 | U21: 21.3
A22: =A21+1 -> 20 | B22: =Т1Зб!B22 -> Гефест-Техника | C22: =Т1Зб!C22 -> Остапук Александр | D22: =D67 -> 1806.25 | E22: =E67 -> 10 | U22: 42.5
A23: =A22+1 -> 21 | B23: =Т1Зб!B23 -> Gefest | C23: =Т1Зб!C23 -> Радчук Юрий | D23: =D68 -> 1355.31 | E23: =E68 -> 16 | F23: 12.9 | U23: 15.3 | AA23: 30.9
A24: =A23+1 -> 22 | B24: =Т1Зб!B24 -> West Fishing | C24: =Т1Зб!C24 -> Непомнящий Виктор | D24: =D69 -> 1992.99 | E24: =E69 -> 8 | F24: 20.5 | G24: 20.9 | H24: 17.8 | I24: 15.9 | J24: 13.2 | U24: 19.8
A25: =A24+1 -> 23 | B25: =Т1Зб!B25 -> Solfishing | C25: =Т1Зб!C25 -> Санько Александр | D25: =D70 -> 1490.76 | E25: =E70 -> 13 | F25: 13.5 | G25: 12 | H25: 15.5 | I25: 22.5 | J25: 14 | U25: 14.9
A26: =A25+1 -> 24 | B26: =Т1Зб!B26 -> Орловские | C26: =Т1Зб!C26 -> Боровик Андрей | D26: =D71 -> 686.44 | E26: =E71 -> 22 | AA26: 26.2
A27: =A26+1 -> 25 | B27: =Т1Зб!B27 -> Marksman | C27: =Т1Зб!C27 -> Артёмчик Евгений | D27: =D72 -> 625.63 | E27: =E72 -> 25 | F27: 15.3 | G27: 15.5 | H27: 12.3
A28: =A27+1 -> 26 | B28: =Т1Зб!B28 -> UL soldiers of fortune | C28: =Т1Зб!C28 -> Андрианов Илья | D28: =D73 -> 153.76 | E28: =E73 -> 35 | F28: 12.4
A29: =A28+1 -> 27 | B29: =Т1Зб!B29 -> Fishka | C29: =Т1Зб!C29 -> Наконечник Александр | D29: =D74 -> 457.29 | E29: =E74 -> 27 | F29: 12 | U29: 17.7
A30: =A29+1 -> 28 | B30: =Т1Зб!B30 -> Бульба з Салам | C30: =Т1Зб!C30 -> Лунякин Олег | D30: =D75 -> 169 | E30: =E75 -> 34 | F30: 13
A31: =A30+1 -> 29 | B31: =Т1Зб!B31 -> VODNIK_TEAM | C31: =Т1Зб!C31 -> Цветков Алексей | D31: =D76 -> 0 | E31: =E76 -> 43
A32: =A31+1 -> 30 | B32: =Т1Зб!B32 -> Лёлик и Болик | C32: =Т1Зб!C32 -> Ежков Игорь | D32: =D77 -> 4410.73 | E32: =E77 -> 1 | U32: 42.3 | V32: 51.2
A33: =A32+1 -> 31 | B33: =Т1Зб!B33 -> FavoriteTeamBelarus | C33: =Т1Зб!C33 -> Шавшунов Никита | D33: =D78 -> 1867.21 | E33: =E78 -> 9 | F33: 14.5 | G33: 16.1 | H33: 13 | I33: 14 | U33: 14.5 | V33: 13.5 | W33: 22 | X33: 12.5
A34: =A33+1 -> 32 | B34: =Т1Зб!B34 -> - | C34: =Т1Зб!C34 -> - | D34: =D79 -> 0 | E34: =E79 -> 43
A35: =A34+1 -> 33 | B35: =Т1Зб!B35 -> Непредсказуемые | C35: =Т1Зб!C35 -> Хомский Дмитрий | D35: =D80 -> 425.61 | E35: =E80 -> 28 | F35: 13.5 | G35: 15.6
A36: =A35+1 -> 34 | B36: =Т1Зб!B36 -> No Name Team | C36: =Т1Зб!C36 -> Евсеев Александр | D36: =D81 -> 1618 | E36: =E81 -> 12 | U36: 23 | V36: 33
A37: =A36+1 -> 35 | B37: =Т1Зб!B37 -> Бобруйский Region | C37: =Т1Зб!C37 -> Желенговский Петр | D37: =D82 -> 144 | E37: =E82 -> 36 | F37: 12
A38: =A37+1 -> 36 | B38: =Т1Зб!B38 -> Nalovi.by | C38: =Т1Зб!C38 -> Наумович Николай | D38: =D83 -> 182.25 | E38: =E83 -> 33 | U38: 13.5
A39: =A38+1 -> 37 | B39: =Т1Зб!B39 -> NaloviKibas | C39: =Т1Зб!C39 -> Пахолин Александр | D39: =D84 -> 0 | E39: =E84 -> 43
A40: =A39+1 -> 38 | B40: =Т1Зб!B40 -> LEGION | C40: =Т1Зб!C40 -> Бойко Сергей | D40: =D85 -> 2271.52 | E40: =E85 -> 5 | F40: 11.5 | G40: 9.7 | H40: 17.3 | I40: 11.5 | J40: 11.9 | K40: 13.3 | L40: 12.2 | M40: 13 | N40: 8.6 | O40: 11.5 | P40: 14.5 | U40: 13.2 | V40: 13.6 | AA40: 14.2
A41: =A40+1 -> 39 | B41: =Т1Зб!B41 -> Team Ylov | C41: =Т1Зб!C41 -> Тулупов Александр | D41: =D86 -> 869.54 | E41: =E86 -> 20 | F41: 17.7 | G41: 10 | H41: 11.5 | I41: 18
A42: =A41+1 -> 40 | B42: =Т1Зб!B42 -> ULBroTeaM | C42: =Т1Зб!C42 -> Вычиков Павел | D42: =D87 -> 1072.67 | E42: =E87 -> 18 | F42: 12.3 | G42: 10.5 | H42: 7.6 | U42: 16.6 | V42: 15 | W42: 15.9
A43: =A42+1 -> 41 | B43: =Т1Зб!B43 -> K&M | C43: =Т1Зб!C43 -> Мельников Юрий | D43: =D88 -> 2059.1 | E43: =E88 -> 7 | F43: 11.6 | G43: 17 | H43: 24 | U43: 16 | V43: 17.5 | W43: 22.3
A44: =A43+1 -> 42 | B44: =Т1Зб!B44 -> Позитив | C44: =Т1Зб!C44 -> Князев Сергей | D44: =D89 -> 187.69 | E44: =E89 -> 32 | F44: 13.7
C45: средняя длина рыб по виду: | F45: =AVERAGE(F3:T43) -> 13.955645 | U45: =AVERAGE(U3:W44) -> 21.548148 | X45: =AVERAGE(X3:Z44) -> 12.5 | AA45: =AVERAGE(AA3:AC44) -> 19.933333 | AD45: =AVERAGE(AD3:AF44) -> #DIV/0! | AG45: =AVERAGE(AG3:AI44) -> #DIV/0! | AJ45: =AVERAGE(AJ3:AL44) -> #DIV/0!
A46: № | B46: команда | C46: участник | D46: сумма баллов | E46: место | F46: баллы
A48: 1 | B48: =B3 -> Твичим и джигуем | C48: =C3 -> Чернышев Егор | D48: =SUM(F48:AO48) -> 1104.58 | E48: =IF(D48>0,RANK(D48,$D$48:$D$89),Реглист!$C$89+1) -> 17 | F48: =POWER(F3,2) -> 243.36 | G48: =POWER(G3,2) -> 313.29 | H48: =POWER(H3,2) -> 282.24 | I48: =POWER(I3,2) -> 265.69 | J48: =POWER(J3,2) -> 0 | K48: =POWER(K3,2) -> 0 | L48: =POWER(L3,2) -> 0 | M48: =POWER(M3,2) -> 0 | ... AO48: =POWER(AO3,2) -> 0
A49: =A48+1 -> 2 | B49: =B4 -> FishMurder | C49: =C4 -> Шило Сергей | D49: =SUM(F49:AO49) -> 0 | E49: =IF(D49>0,RANK(D49,$D$48:$D$89),Реглист!$C$89+1) -> 43 | F49: =POWER(F4,2) -> 0 | G49: =POWER(G4,2) -> 0 | H49: =POWER(H4,2) -> 0 | I49: =POWER(I4,2) -> 0 | J49: =POWER(J4,2) -> 0 | K49: =POWER(K4,2) -> 0 | L49: =POWER(L4,2) -> 0 | M49: =POWER(M4,2) -> 0 | ... AO49: =POWER(AO4,2) -> 0
A50: =A49+1 -> 3 | B50: =B5 -> Neptune fishing team | C50: =C5 -> Мяэлоог Алексей | D50: =SUM(F50:AO50) -> 307.54 | E50: =IF(D50>0,RANK(D50,$D$48:$D$89),Реглист!$C$89+1) -> 30 | F50: =POWER(F5,2) -> 156.25 | G50: =POWER(G5,2) -> 151.29 | H50: =POWER(H5,2) -> 0 | I50: =POWER(I5,2) -> 0 | J50: =POWER(J5,2) -> 0 | K50: =POWER(K5,2) -> 0 | L50: =POWER(L5,2) -> 0 | M50: =POWER(M5,2) -> 0 | ... AO50: =POWER(AO5,2) -> 0
A51: =A50+1 -> 4 | B51: =B6 -> HuNteRs for PeRch | C51: =C6 -> Коноплёв Андрей | D51: =SUM(F51:AO51) -> 338.72 | E51: =IF(D51>0,RANK(D51,$D$48:$D$89),Реглист!$C$89+1) -> 29 | F51: =POWER(F6,2) -> 184.96 | G51: =POWER(G6,2) -> 153.76 | H51: =POWER(H6,2) -> 0 | I51: =POWER(I6,2) -> 0 | J51: =POWER(J6,2) -> 0 | K51: =POWER(K6,2) -> 0 | L51: =POWER(L6,2) -> 0 | M51: =POWER(M6,2) -> 0 | ... AO51: =POWER(AO6,2) -> 0
A52: =A51+1 -> 5 | B52: =B7 -> Bad Fish | C52: =C7 -> Желтов Игорь | D52: =SUM(F52:AO52) -> 568.3 | E52: =IF(D52>0,RANK(D52,$D$48:$D$89),Реглист!$C$89+1) -> 26 | F52: =POWER(F7,2) -> 112.36 | G52: =POWER(G7,2) -> 116.64 | H52: =POWER(H7,2) -> 92.16 | I52: =POWER(I7,2) -> 110.25 | J52: =POWER(J7,2) -> 136.89 | K52: =POWER(K7,2) -> 0 | L52: =POWER(L7,2) -> 0 | M52: =POWER(M7,2) -> 0 | ... AO52: =POWER(AO7,2) -> 0
A53: =A52+1 -> 6 | B53: =B8 -> Штиль | C53: =C8 -> Рябишников Иван | D53: =SUM(F53:AO53) -> 1026.78 | E53: =IF(D53>0,RANK(D53,$D$48:$D$89),Реглист!$C$89+1) -> 19 | F53: =POWER(F8,2) -> 174.24 | G53: =POWER(G8,2) -> 161.29 | H53: =POWER(H8,2) -> 210.25 | I53: =POWER(I8,2) -> 256 | J53: =POWER(J8,2) -> 225 | K53: =POWER(K8,2) -> 0 | L53: =POWER(L8,2) -> 0 | M53: =POWER(M8,2) -> 0 | ... AO53: =POWER(AO8,2) -> 0
A54: =A53+1 -> 7 | B54: =B9 -> Фарватер | C54: =C9 -> Цыганок Михаил | D54: =SUM(F54:AO54) -> 632.38 | E54: =IF(D54>0,RANK(D54,$D$48:$D$89),Реглист!$C$89+1) -> 24 | F54: =POWER(F9,2) -> 216.09 | G54: =POWER(G9,2) -> 144 | H54: =POWER(H9,2) -> 151.29 | I54: =POWER(I9,2) -> 121 | J54: =POWER(J9,2) -> 0 | K54: =POWER(K9,2) -> 0 | L54: =POWER(L9,2) -> 0 | M54: =POWER(M9,2) -> 0 | ... AO54: =POWER(AO9,2) -> 0
A55: =A54+1 -> 8 | B55: =B10 -> Bait Breath Team | C55: =C10 -> Бахур Александр | D55: =SUM(F55:AO55) -> 2458.08 | E55: =IF(D55>0,RANK(D55,$D$48:$D$89),Реглист!$C$89+1) -> 3 | F55: =POWER(F10,2) -> 506.25 | G55: =POWER(G10,2) -> 201.64 | H55: =POWER(H10,2) -> 240.25 | I55: =POWER(I10,2) -> 0 | J55: =POWER(J10,2) -> 0 | K55: =POWER(K10,2) -> 0 | L55: =POWER(L10,2) -> 0 | M55: =POWER(M10,2) -> 0 | ... AO55: =POWER(AO10,2) -> 0
A56: =A55+1 -> 9 | B56: =B11 -> СТАR Fishingstock | C56: =C11 -> Бычик Роман | D56: =SUM(F56:AO56) -> 2096.52 | E56: =IF(D56>0,RANK(D56,$D$48:$D$89),Реглист!$C$89+1) -> 6 | F56: =POWER(F11,2) -> 169 | G56: =POWER(G11,2) -> 144 | H56: =POWER(H11,2) -> 151.29 | I56: =POWER(I11,2) -> 144 | J56: =POWER(J11,2) -> 169 | K56: =POWER(K11,2) -> 144 | L56: =POWER(L11,2) -> 196 | M56: =POWER(M11,2) -> 169 | ... AO56: =POWER(AO11,2) -> 0
A57: =A56+1 -> 10 | B57: =B12 -> Poseidon | C57: =C12 -> Ананич Геннадий | D57: =SUM(F57:AO57) -> 2322.58 | E57: =IF(D57>0,RANK(D57,$D$48:$D$89),Реглист!$C$89+1) -> 4 | F57: =POWER(F12,2) -> 353.44 | G57: =POWER(G12,2) -> 278.89 | H57: =POWER(H12,2) -> 361 | I57: =POWER(I12,2) -> 327.61 | J57: =POWER(J12,2) -> 306.25 | K57: =POWER(K12,2) -> 278.89 | L57: =POWER(L12,2) -> 306.25 | M57: =POWER(M12,2) -> 110.25 | ... AO57: =POWER(AO12,2) -> 0
A58: =A57+1 -> 11 | B58: =B13 -> Кобринский МСЗ | C58: =C13 -> Жарин Вадим | D58: =SUM(F58:AO58) -> 2876.94 | E58: =IF(D58>0,RANK(D58,$D$48:$D$89),Реглист!$C$89+1) -> 2 | F58: =POWER(F13,2) -> 148.84 | G58: =POWER(G13,2) -> 295.84 | H58: =POWER(H13,2) -> 424.36 | I58: =POWER(I13,2) -> 327.61 | J58: =POWER(J13,2) -> 225 | K58: =POWER(K13,2) -> 299.29 | L58: =POWER(L13,2) -> 0 | M58: =POWER(M13,2) -> 0 | ... AO58: =POWER(AO13,2) -> 0
A59: =A58+1 -> 12 | B59: =B14 -> ASpinnTeam | C59: =C14 -> Нугуманов Артём | D59: =SUM(F59:AO59) -> 671.01 | E59: =IF(D59>0,RANK(D59,$D$48:$D$89),Реглист!$C$89+1) -> 23 | F59: =POWER(F14,2) -> 132.25 | G59: =POWER(G14,2) -> 79.21 | H59: =POWER(H14,2) -> 166.41 | I59: =POWER(I14,2) -> 136.89 | J59: =POWER(J14,2) -> 0 | K59: =POWER(K14,2) -> 0 | L59: =POWER(L14,2) -> 0 | M59: =POWER(M14,2) -> 0 | ... AO59: =POWER(AO14,2) -> 0
A60: =A59+1 -> 13 | B60: =B15 -> BASS HUNTER | C60: =C15 -> Шевко Виталий | D60: =SUM(F60:AO60) -> 248.69 | E60: =IF(D60>0,RANK(D60,$D$48:$D$89),Реглист!$C$89+1) -> 31 | F60: =POWER(F15,2) -> 127.69 | G60: =POWER(G15,2) -> 121 | H60: =POWER(H15,2) -> 0 | I60: =POWER(I15,2) -> 0 | J60: =POWER(J15,2) -> 0 | K60: =POWER(K15,2) -> 0 | L60: =POWER(L15,2) -> 0 | M60: =POWER(M15,2) -> 0 | ... AO60: =POWER(AO15,2) -> 0
... A89: =A88+1 -> 42 | B89: =B44 -> Позитив | C89: =C44 -> Князев Сергей | D89: =SUM(F89:AO89) -> 187.69 | E89: =IF(D89>0,RANK(D89,$D$48:$D$89),Реглист!$C$89+1) -> 32 | F89: =POWER(F44,2) -> 187.69 | G89: =POWER(G44,2) -> 0 | H89: =POWER(H44,2) -> 0 | I89: =POWER(I44,2) -> 0 | J89: =POWER(J44,2) -> 0 | K89: =POWER(K44,2) -> 0 | L89: =POWER(L44,2) -> 0 | M89: =POWER(M44,2) -> 0 | ... AO89: =POWER(AO44,2) -> 0

Sheet Т2Зб
A1: № | B1: команда | C1: участник | D1: сумма баллов | E1: место | F1: окунь | U1: щука | X1: судак | AA1: жерех | AD1: голавль | AG1: язь | AJ1: чехонь | AM1: сом
F2: размер, см
A3: 1 | B3: =Т1За!B3 -> Твичим и джигуем | C3: =Т1За!C3 -> Синовец Роман | D3: =D48 -> 2187.56 | E3: =E48 -> 4 | F3: 13.8 | G3: 19.2 | H3: 11.8 | I3: 19.2 | J3: 18.1 | K3: 15.7 | L3: 13.6 | M3: 14.5 | N3: 12.3
A4: =A3+1 -> 2 | B4: =Т1За!B4 -> FishMurder | C4: =Т1За!C4 -> Микулов Владимир | D4: =D49 -> 1135.41 | E4: =E49 -> 13 | F4: 20.4 | G4: 13.7 | H4: 16 | U4: 16.6
A5: =A4+1 -> 3 | B5: =Т1За!B5 -> Neptune fishing team | C5: =Т1За!C5 -> Кирьянов Денис | D5: =D50 -> 731.24 | E5: =E50 -> 20 | U5: 20 | V5: 18.2
A6: =A5+1 -> 4 | B6: =Т1За!B6 -> HuNteRs for PeRch | C6: =Т1За!C6 -> Самусевич Кирилл | D6: =D51 -> 243.36 | E6: =E51 -> 33 | U6: 15.6
A7: =A6+1 -> 5 | B7: =Т1За!B7 -> Bad Fish | C7: =Т1За!C7 -> Корней Валентин | D7: =D52 -> 1232.83 | E7: =E52 -> 12 | F7: 11.7 | G7: 14.5 | H7: 23.7 | I7: 18
A8: =A7+1 -> 6 | B8: =Т1За!B8 -> Штиль | C8: =Т1За!C8 -> Козлов Юрий | D8: =D53 -> 3239.64 | E8: =E53 -> 1 | F8: 14.4 | G8: 21.3 | H8: 22.4 | I8: 20.3 | J8: 21.3 | U8: 18.3 | AA8: 29.6
A9: =A8+1 -> 7 | B9: =Т1За!B9 -> Фарватер | C9: =Т1За!C9 -> Попельский Максим | D9: =D54 -> 144 | E9: =E54 -> 35 | F9: 12
A10: =A9+1 -> 8 | B10: =Т1За!B10 -> Bait Breath Team | C10: =Т1За!C10 -> Зубко Сергей | D10: =D55 -> 664.74 | E10: =E55 -> 23 | F10: 11.6 | G10: 11.1 | H10: 14.9 | I10: 13.6
A11: =A10+1 -> 9 | B11: =Т1За!B11 -> СТАR Fishingstock | C11: =Т1За!C11 -> Пожарский Константин | D11: =D56 -> 2437.51 | E11: =E56 -> 2 | F11: 13.5 | G11: 15.3 | H11: 11.8 | I11: 13.7 | J11: 12.5 | K11: 10.8 | L11: 14.2 | M11: 13.4 | N11: 11.3 | O11: 10.9 | P11: 10.5 | Q11: 10.6 | R11: 15.2 | S11: 12 | T11: 14
A12: =A11+1 -> 10 | B12: =Т1За!B12 -> Poseidon | C12: =Т1За!C12 -> Чижонок Сергей | D12: =D57 -> 834.65 | E12: =E57 -> 19 | F12: 15.4 | G12: 20.7 | H12: 13
A13: =A12+1 -> 11 | B13: =Т1За!B13 -> Кобринский МСЗ | C13: =Т1За!C13 -> Барташук Александр | D13: =D58 -> 613.16 | E13: =E58 -> 24 | F13: 14.6 | G13: 20
A14: =A13+1 -> 12 | B14: =Т1За!B14 -> ASpinnTeam | C14: =Т1За!C14 -> Вашкевич Александр | D14: =D59 -> 466.25 | E14: =E59 -> 29 | F14: 14.5 | G14: 16
A15: =A14+1 -> 13 | B15: =Т1За!B15 -> BASS HUNTER | C15: =Т1За!C15 -> Кириевский Андрей | D15: =D60 -> 1044.39 | E15: =E60 -> 16 | F15: 11.7 | G15: 12.5 | H15: 16.7 | I15: 11.1 | J15: 12.3 | K15: 11.9 | L15: 7.5
A16: =A15+1 -> 14 | B16: =Т1За!B16 -> RVR | C16: =Т1За!C16 -> Масюк Павел | D16: =D61 -> 1277.92 | E16: =E61 -> 11 | F16: 14.4 | G16: 11.9 | H16: 11.8 | I16: 15.5 | J16: 18.1 | K16: 8.4 | AA16: 12.3
A17: =A16+1 -> 15 | B17: =Т1За!B17 -> Студенты | C17: =Т1За!C17 -> Крупеньков Сергей | D17: =D62 -> 580.25 | E17: =E62 -> 25 | F17: 13.4 | G17: 13.8 | H17: 14.5
A18: =A17+1 -> 16 | B18: =Т1За!B18 -> Peacock Bass | C18: =Т1За!C18 -> Сенчуров Иван | D18: =D63 -> 1522.07 | E18: =E63 -> 9 | F18: 12.7 | G18: 14.8 | H18: 12.3 | I18: 21.8 | J18: 16 | U18: 16.1
A19: =A18+1 -> 17 | B19: =Т1За!B19 -> Полесье | C19: =Т1За!C19 -> Рыбачук Евгений | D19: =D64 -> 483.38 | E19: =E64 -> 27 | F19: 16.7 | G19: 14.3
A20: =A19+1 -> 18 | B20: =Т1За!B20 -> - | C20: =Т1За!C20 -> - | D20: =D65 -> 0 | E20: =E65 -> 43
A21: =A20+1 -> 19 | B21: =Т1За!B21 -> Брест над Бугом | C21: =Т1За!C21 -> Тысевич Сергей | D21: =D66 -> 1461.82 | E21: =E66 -> 10 | F21: 14.7 | G21: 12.7 | H21: 12.1 | I21: 14.6 | J21: 10.6 | K21: 12.5 | L21: 10.1 | M21: 12 | U21: 14.5
A22: =A21+1 -> 20 | B22: =Т1За!B22 -> Гефест-Техника | C22: =Т1За!C22 -> Лобацевич Виктор | D22: =D67 -> 216.09 | E22: =E67 -> 34 | F22: 14.7
A23: =A22+1 -> 21 | B23: =Т1За!B23 -> Gefest | C23: =Т1За!C23 -> Саган Сергей | D23: =D68 -> 998.42 | E23: =E68 -> 17 | F23: 15.1 | G23: 12.6 | U23: 16.3 | V23: 18.6
A24: =A23+1 -> 22 | B24: =Т1За!B24 -> West Fishing | C24: =Т1За!C24 -> Золотарь Андрей | D24: =D69 -> 725.54 | E24: =E69 -> 22 | F24: 14.5 | AA24: 22.7
A25: =A24+1 -> 23 | B25: =Т1За!B25 -> Solfishing | C25: =Т1За!C25 -> Губчик Александр | D25: =D70 -> 317.84 | E25: =E70 -> 30 | F25: 12.2 | G25: 13
A26: =A25+1 -> 24 | B26: =Т1За!B26 -> Орловские | C26: =Т1За!C26 -> Пластун Вячеслав | D26: =D71 -> 885.3 | E26: =E71 -> 18 | F26: 16.1 | G26: 14 | H26: 15.3 | I26: 14
A27: =A26+1 -> 25 | B27: =Т1За!B27 -> Marksman | C27: =Т1За!C27 -> Огейко Юрий | D27: =D72 -> 1566.24 | E27: =E72 -> 7 | F27: 15.7 | G27: 12.9 | H27: 13.2 | I27: 13.8 | J27: 15.5 | K27: 16 | U27: 17.1
A28: =A27+1 -> 26 | B28: =Т1За!B28 -> UL soldiers of fortune | C28: =Т1За!C28 -> Дешкевич Виталий | D28: =D73 -> 0 | E28: =E73 -> 43
A29: =A28+1 -> 27 | B29: =Т1За!B29 -> Fishka | C29: =Т1За!C29 -> Насиров Эмин | D29: =D74 -> 1105.73 | E29: =E74 -> 15 | F29: 14 | G29: 11.7 | U29: 27.8
A30: =A29+1 -> 28 | B30: =Т1За!B30 -> Бульба з Салам | C30: =Т1За!C30 -> Бобриков Алексей | D30: =D75 -> 731.15 | E30: =E75 -> 21 | F30: 10.5 | G30: 11.7 | H30: 15.1 | U30: 16
A31: =A30+1 -> 29 | B31: =Т1За!B31 -> VODNIK_TEAM | C31: =Т1За!C31 -> Клевко Александр | D31: =D76 -> 532.45 | E31: =E76 -> 26 | F31: 12 | G31: 15.4 | H31: 12.3
A32: =A31+1 -> 30 | B32: =Т1За!B32 -> Лёлик и Болик | C32: =Т1За!C32 -> Францкевич Александр | D32: =D77 -> 0 | E32: =E77 -> 43
A33: =A32+1 -> 31 | B33: =Т1За!B33 -> FavoriteTeamBelarus | C33: =Т1За!C33 -> Анпилов Андрей | D33: =D78 -> 2360.75 | E33: =E78 -> 3 | F33: 12.4 | G33: 10.8 | H33: 17.4 | I33: 11.7 | J33: 16 | K33: 11.1 | U33: 18.2 | V33: 26.8 | X33: 14.9
A34: =A33+1 -> 32 | B34: =Т1За!B34 -> - | C34: =Т1За!C34 -> - | D34: =D79 -> 0 | E34: =E79 -> 43
A35: =A34+1 -> 33 | B35: =Т1За!B35 -> Непредсказуемые | C35: =Т1За!C35 -> Кайсин Иван | D35: =D80 -> 478.01 | E35: =E80 -> 28 | F35: 14.9 | G35: 16
A36: =A35+1 -> 34 | B36: =Т1За!B36 -> No Name Team | C36: =Т1За!C36 -> Шевчук Дмитрий | D36: =D81 -> 1127.72 | E36: =E81 -> 14 | F36: 17 | G36: 19.2 | H36: 13.2 | U36: 17.2
A37: =A36+1 -> 35 | B37: =Т1За!B37 -> Бобруйский Region | C37: =Т1За!C37 -> Прокопчик Алексей | D37: =D82 -> 0 | E37: =E82 -> 43
A38: =A37+1 -> 36 | B38: =Т1За!B38 -> Nalovi.by | C38: =Т1За!C38 -> Ромук Михаил | D38: =D83 -> 249.64 | E38: =E83 -> 32 | F38: 15.8
A39: =A38+1 -> 37 | B39: =Т1За!B39 -> NaloviKibas | C39: =Т1За!C39 -> Шабуня Александр | D39: =D84 -> 0 | E39: =E84 -> 43
A40: =A39+1 -> 38 | B40: =Т1За!B40 -> LEGION | C40: =Т1За!C40 -> Полюхович Александр | D40: =D85 -> 1524.55 | E40: =E85 -> 8 | F40: 12 | G40: 15 | H40: 11.3 | I40: 13.4 | J40: 11.6 | K40: 13.7 | L40: 13.9 | M40: 13 | U40: 12.8
A41: =A40+1 -> 39 | B41: =Т1За!B41 -> Team Ylov | C41: =Т1За!C41 -> Кулаженко Владимир | D41: =D86 -> 0 | E41: =E86 -> 43
A42: =A41+1 -> 40 | B42: =Т1За!B42 -> ULBroTeaM | C42: =Т1За!C42 -> Василенков Вячеслав | D42: =D87 -> 1890.77 | E42: =E87 -> 5 | F42: 19.5 | G42: 13.9 | H42: 15.9 | I42: 14 | J42: 14.5 | U42: 14 | V42: 21.5
A43: =A42+1 -> 41 | B43: =Т1За!B43 -> K&M | C43: =Т1За!C43 -> Казаченко Владимир | D43: =D88 -> 1763.51 | E43: =E88 -> 6 | F43: 13 | G43: 13.7 | H43: 13.7 | I43: 13.8 | J43: 17.7 | U43: 18.2 | V43: 19.6
A44: =A43+1 -> 42 | B44: =Т1За!B44 -> Позитив | C44: =Т1За!C44 -> Строк Павел | D44: =D89 -> 259.21 | E44: =E89 -> 31 | F44: 16.1
C45: средняя длина рыб по виду: | F45: =AVERAGE(F3:T44) -> 14.275373 | U45: =AVERAGE(U3:W44) -> 18.17 | X45: =AVERAGE(X3:Z44) -> 14.9 | AA45: =AVERAGE(AA3:AC44) -> 21.533333 | AD45: =AVERAGE(AD3:AF44) -> #DIV/0! | AG45: =AVERAGE(AG3:AI44) -> #DIV/0! | AJ45: =AVERAGE(AJ3:AL44) -> #DIV/0!
A46: № | B46: команда | C46: участник | D46: сумма баллов | E46: место | F46: баллы
A48: 1 | B48: =B3 -> Твичим и джигуем | C48: =C3 -> Синовец Роман | D48: =SUM(F48:AO48) -> 2187.56 | E48: =IF(D48>0,RANK(D48,$D$48:$D$89),Реглист!$C$89+1) -> 4 | F48: =POWER(F3,2) -> 190.44 | G48: =POWER(G3,2) -> 368.64 | H48: =POWER(H3,2) -> 139.24 | I48: =POWER(I3,2) -> 368.64 | J48: =POWER(J3,2) -> 327.61 | K48: =POWER(K3,2) -> 246.49 | L48: =POWER(L3,2) -> 184.96 | M48: =POWER(M3,2) -> 210.25 | ... AO48: =POWER(AO3,2) -> 0
A49: =A48+1 -> 2 | B49: =B4 -> FishMurder | C49: =C4 -> Микулов Владимир | D49: =SUM(F49:AO49) -> 1135.41 | E49: =IF(D49>0,RANK(D49,$D$48:$D$89),Реглист!$C$89+1) -> 13 | F49: =POWER(F4,2) -> 416.16 | G49: =POWER(G4,2) -> 187.69 | H49: =POWER(H4,2) -> 256 | I49: =POWER(I4,2) -> 0 | J49: =POWER(J4,2) -> 0 | K49: =POWER(K4,2) -> 0 | L49: =POWER(L4,2) -> 0 | M49: =POWER(M4,2) -> 0 | ... AO49: =POWER(AO4,2) -> 0
A50: =A49+1 -> 3 | B50: =B5 -> Neptune fishing team | C50: =C5 -> Кирьянов Денис | D50: =SUM(F50:AO50) -> 731.24 | E50: =IF(D50>0,RANK(D50,$D$48:$D$89),Реглист!$C$89+1) -> 20 | F50: =POWER(F5,2) -> 0 | G50: =POWER(G5,2) -> 0 | H50: =POWER(H5,2) -> 0 | I50: =POWER(I5,2) -> 0 | J50: =POWER(J5,2) -> 0 | K50: =POWER(K5,2) -> 0 | L50: =POWER(L5,2) -> 0 | M50: =POWER(M5,2) -> 0 | ... AO50: =POWER(AO5,2) -> 0
A51: =A50+1 -> 4 | B51: =B6 -> HuNteRs for PeRch | C51: =C6 -> Самусевич Кирилл | D51: =SUM(F51:AO51) -> 243.36 | E51: =IF(D51>0,RANK(D51,$D$48:$D$89),Реглист!$C$89+1) -> 33 | F51: =POWER(F6,2) -> 0 | G51: =POWER(G6,2) -> 0 | H51: =POWER(H6,2) -> 0 | I51: =POWER(I6,2) -> 0 | J51: =POWER(J6,2) -> 0 | K51: =POWER(K6,2) -> 0 | L51: =POWER(L6,2) -> 0 | M51: =POWER(M6,2) -> 0 | ... AO51: =POWER(AO6,2) -> 0
A52: =A51+1 -> 5 | B52: =B7 -> Bad Fish | C52: =C7 -> Корней Валентин | D52: =SUM(F52:AO52) -> 1232.83 | E52: =IF(D52>0,RANK(D52,$D$48:$D$89),Реглист!$C$89+1) -> 12 | F52: =POWER(F7,2) -> 136.89 | G52: =POWER(G7,2) -> 210.25 | H52: =POWER(H7,2) -> 561.69 | I52: =POWER(I7,2) -> 324 | J52: =POWER(J7,2) -> 0 | K52: =POWER(K7,2) -> 0 | L52: =POWER(L7,2) -> 0 | M52: =POWER(M7,2) -> 0 | ... AO52: =POWER(AO7,2) -> 0
A53: =A52+1 -> 6 | B53: =B8 -> Штиль | C53: =C8 -> Козлов Юрий | D53: =SUM(F53:AO53) -> 3239.64 | E53: =IF(D53>0,RANK(D53,$D$48:$D$89),Реглист!$C$89+1) -> 1 | F53: =POWER(F8,2) -> 207.36 | G53: =POWER(G8,2) -> 453.69 | H53: =POWER(H8,2) -> 501.76 | I53: =POWER(I8,2) -> 412.09 | J53: =POWER(J8,2) -> 453.69 | K53: =POWER(K8,2) -> 0 | L53: =POWER(L8,2) -> 0 | M53: =POWER(M8,2) -> 0 | ... AO53: =POWER(AO8,2) -> 0
A54: =A53+1 -> 7 | B54: =B9 -> Фарватер | C54: =C9 -> Попельский Максим | D54: =SUM(F54:AO54) -> 144 | E54: =IF(D54>0,RANK(D54,$D$48:$D$89),Реглист!$C$89+1) -> 35 | F54: =POWER(F9,2) -> 144 | G54: =POWER(G9,2) -> 0 | H54: =POWER(H9,2) -> 0 | I54: =POWER(I9,2) -> 0 | J54: =POWER(J9,2) -> 0 | K54: =POWER(K9,2) -> 0 | L54: =POWER(L9,2) -> 0 | M54: =POWER(M9,2) -> 0 | ... AO54: =POWER(AO9,2) -> 0
A55: =A54+1 -> 8 | B55: =B10 -> Bait Breath Team | C55: =C10 -> Зубко Сергей | D55: =SUM(F55:AO55) -> 664.74 | E55: =IF(D55>0,RANK(D55,$D$48:$D$89),Реглист!$C$89+1) -> 23 | F55: =POWER(F10,2) -> 134.56 | G55: =POWER(G10,2) -> 123.21 | H55: =POWER(H10,2) -> 222.01 | I55: =POWER(I10,2) -> 184.96 | J55: =POWER(J10,2) -> 0 | K55: =POWER(K10,2) -> 0 | L55: =POWER(L10,2) -> 0 | M55: =POWER(M10,2) -> 0 | ... AO55: =POWER(AO10,2) -> 0
A56: =A55+1 -> 9 | B56: =B11 -> СТАR Fishingstock | C56: =C11 -> Пожарский Константин | D56: =SUM(F56:AO56) -> 2437.51 | E56: =IF(D56>0,RANK(D56,$D$48:$D$89),Реглист!$C$89+1) -> 2 | F56: =POWER(F11,2) -> 182.25 | G56: =POWER(G11,2) -> 234.09 | H56: =POWER(H11,2) -> 139.24 | I56: =POWER(I11,2) -> 187.69 | J56: =POWER(J11,2) -> 156.25 | K56: =POWER(K11,2) -> 116.64 | L56: =POWER(L11,2) -> 201.64 | M56: =POWER(M11,2) -> 179.56 | ... AO56: =POWER(AO11,2) -> 0
A57: =A56+1 -> 10 | B57: =B12 -> Poseidon | C57: =C12 -> Чижонок Сергей | D57: =SUM(F57:AO57) -> 834.65 | E57: =IF(D57>0,RANK(D57,$D$48:$D$89),Реглист!$C$89+1) -> 19 | F57: =POWER(F12,2) -> 237.16 | G57: =POWER(G12,2) -> 428.49 | H57: =POWER(H12,2) -> 169 | I57: =POWER(I12,2) -> 0 | J57: =POWER(J12,2) -> 0 | K57: =POWER(K12,2) -> 0 | L57: =POWER(L12,2) -> 0 | M57: =POWER(M12,2) -> 0 | ... AO57: =POWER(AO12,2) -> 0
A58: =A57+1 -> 11 | B58: =B13 -> Кобринский МСЗ | C58: =C13 -> Барташук Александр | D58: =SUM(F58:AO58) -> 613.16 | E58: =IF(D58>0,RANK(D58,$D$48:$D$89),Реглист!$C$89+1) -> 24 | F58: =POWER(F13,2) -> 213.16 | G58: =POWER(G13,2) -> 400 | H58: =POWER(H13,2) -> 0 | I58: =POWER(I13,2) -> 0 | J58: =POWER(J13,2) -> 0 | K58: =POWER(K13,2) -> 0 | L58: =POWER(L13,2) -> 0 | M58: =POWER(M13,2) -> 0 | ... AO58: =POWER(AO13,2) -> 0
A59: =A58+1 -> 12 | B59: =B14 -> ASpinnTeam | C59: =C14 -> Вашкевич Александр | D59: =SUM(F59:AO59) -> 466.25 | E59: =IF(D59>0,RANK(D59,$D$48:$D$89),Реглист!$C$89+1) -> 29 | F59: =POWER(F14,2) -> 210.25 | G59: =POWER(G14,2) -> 256 | H59: =POWER(H14,2) -> 0 | I59: =POWER(I14,2) -> 0 | J59: =POWER(J14,2) -> 0 | K59: =POWER(K14,2) -> 0 | L59: =POWER(L14,2) -> 0 | M59: =POWER(M14,2) -> 0 | ... AO59: =POWER(AO14,2) -> 0
A60: =A59+1 -> 13 | B60: =B15 -> BASS HUNTER | C60: =C15 -> Кириевский Андрей | D60: =SUM(F60:AO60) -> 1044.39 | E60: =IF(D60>0,RANK(D60,$D$48:$D$89),Реглист!$C$89+1) -> 16 | F60: =POWER(F15,2) -> 136.89 | G60: =POWER(G15,2) -> 156.25 | H60: =POWER(H15,2) -> 278.89 | I60: =POWER(I15,2) -> 123.21 | J60: =POWER(J15,2) -> 151.29 | K60: =POWER(K15,2) -> 141.61 | L60: =POWER(L15,2) -> 56.25 | M60: =POWER(M15,2) -> 0 | ... AO60: =POWER(AO15,2) -> 0
... A89: =A88+1 -> 42 | B89: =B44 -> Позитив | C89: =C44 -> Строк Павел | D89: =SUM(F89:AO89) -> 259.21 | E89: =IF(D89>0,RANK(D89,$D$48:$D$89),Реглист!$C$89+1) -> 31 | F89: =POWER(F44,2) -> 259.21 | G89: =POWER(G44,2) -> 0 | H89: =POWER(H44,2) -> 0 | I89: =POWER(I44,2) -> 0 | J89: =POWER(J44,2) -> 0 | K89: =POWER(K44,2) -> 0 | L89: =POWER(L44,2) -> 0 | M89: =POWER(M44,2) -> 0 | ... AO89: =POWER(AO44,2) -> 0

Sheet FuzzyLookup_AddIn_Undo_Sheet
A1: № | B1: Команды | C1: Участники | D1: Тур 1 | H1: Тур 2 | L1: Личный зачет | O1: Командный зачет
D2: Зона А | F2: Зона Б | H2: Зона А | J2: Зона Б
D3: баллы | E3: место | F3: баллы | G3: место | H3: баллы | I3: место | J3: баллы | K3: место | L3: баллы | M3: сумма мест | N3: место | O3: баллы | P3: сумма мест | Q3: место
A4: 1 | B4: Cast-Fishing | C4: Лихачев Максим | L4: =D4+F4+H4+J4 -> 0 | M4: =E4+G4+I4+K4 -> 0 | O4: =L4+L5 -> 0 | P4: =M4+M5 -> 0
C5: Ковальчук Дмитрий | L5: =D5+F5+H5+J5 -> 0 | M5: =E5+G5+I5+K5 -> 0
A6: 2 | B6: Peacock Bass | C6: Сенчуров Иван | L6: =D6+F6+H6+J6 -> 0 | M6: =E6+G6+I6+K6 -> 0 | O6: =L6+L7 -> 0 | P6: =M6+M7 -> 0
C7: Дроздов Виталий | L7: =D7+F7+H7+J7 -> 0 | M7: =E7+G7+I7+K7 -> 0
A8: 3 | B8: Adventurers | C8: Бахур Александр | D8: 196 | L8: =D8+F8+H8+J8 -> 196 | M8: =E8+G8+I8+K8 -> 0 | O8: =L8+L9 -> 196 | P8: =M8+M9 -> 0
C9: Зубко Сергей | L9: =D9+F9+H9+J9 -> 0 | M9: =E9+G9+I9+K9 -> 0
A10: 4 | B10: MicroKiller | C10: Купрейчик Сергей | L10: =D10+F10+H10+J10 -> 0 | M10: =E10+G10+I10+K10 -> 0 | O10: =L10+L11 -> 81 | P10: =M10+M11 -> 0
C11: Янкович Сергей | D11: 81 | L11: =D11+F11+H11+J11 -> 81 | M11: =E11+G11+I11+K11 -> 0
A12: 5 | B12: Per4 | C12: Лунякин Олег | L12: =D12+F12+H12+J12 -> 0 | M12: =E12+G12+I12+K12 -> 0 | O12: =L12+L13 -> 36 | P12: =M12+M13 -> 0
C13: Каменец Алексей | D13: 36 | L13: =D13+F13+H13+J13 -> 36 | M13: =E13+G13+I13+K13 -> 0
A14: 6 | B14: Poseidon | C14: Чижонок Сергей | D14: 121 | L14: =D14+F14+H14+J14 -> 121 | M14: =E14+G14+I14+K14 -> 0 | O14: =L14+L15 -> 121 | P14: =M14+M15 -> 0
C15: Строк Павел | L15: =D15+F15+H15+J15 -> 0 | M15: =E15+G15+I15+K15 -> 0
A16: 7 | B16: West Fishing | C16: Непомнящий Виктор | L16: =D16+F16+H16+J16 -> 0 | M16: =E16+G16+I16+K16 -> 0 | O16: =L16+L17 -> 0 | P16: =M16+M17 -> 0
C17: Золотарь Андрей | L17: =D17+F17+H17+J17 -> 0 | M17: =E17+G17+I17+K17 -> 0
A18: 8 | B18: nanobass | C18: Бычик Роман | D18: 100 | L18: =D18+F18+H18+J18 -> 100 | M18: =E18+G18+I18+K18 -> 0 | O18: =L18+L19 -> 100 | P18: =M18+M19 -> 0
C19: Шевко Виталий | L19: =D19+F19+H19+J19 -> 0 | M19: =E19+G19+I19+K19 -> 0
A20: 9 | B20: Трудовые резервы | C20: Пожарский Константин | L20: =D20+F20+H20+J20 -> 0 | M20: =E20+G20+I20+K20 -> 0 | O20: =L20+L21 -> 49 | P20: =M20+M21 -> 0
C21: Бобриков Алексей | D21: 49 | L21: =D21+F21+H21+J21 -> 49 | M21: =E21+G21+I21+K21 -> 0
A22: 10 | B22: Lunker Tail | C22: Козел Вячеслав | L22: =D22+F22+H22+J22 -> 0 | M22: =E22+G22+I22+K22 -> 0 | O22: =L22+L23 -> 64 | P22: =M22+M23 -> 0
C23: Кириевский Андрей | D23: 64 | L23: =D23+F23+H23+J23 -> 64 | M23: =E23+G23+I23+K23 -> 0
A24: 11 | B24: Против Течения | C24: Ананич Геннадий | L24: =D24+F24+H24+J24 -> 0 | M24: =E24+G24+I24+K24 -> 0 | O24: =L24+L25 -> 0 | P24: =M24+M25 -> 0
C25: Кириенко Кирилл | L25: =D25+F25+H25+J25 -> 0 | M25: =E25+G25+I25+K25 -> 0
A26: 12 | B26: ЕК | C26: Ковалев Евгений | D26: 169 | L26: =D26+F26+H26+J26 -> 169 | M26: =E26+G26+I26+K26 -> 0 | O26: =L26+L27 -> 169 | P26: =M26+M27 -> 0
C27: Казанцев Евгений | L27: =D27+F27+H27+J27 -> 0 | M27: =E27+G27+I27+K27 -> 0
A28: 13 | B28: Legion | C28: Бойко Сергей | L28: =D28+F28+H28+J28 -> 0 | M28: =E28+G28+I28+K28 -> 0 | O28: =L28+L29 -> 225 | P28: =M28+M29 -> 0
C29: Микулов Владимир | D29: 225 | L29: =D29+F29+H29+J29 -> 225 | M29: =E29+G29+I29+K29 -> 0
A30: 14 | B30: Степ Гарант | C30: Мельников Ю. В. | D30: 144 | L30: =D30+F30+H30+J30 -> 144 | M30: =E30+G30+I30+K30 -> 0 | O30: =L30+L31 -> 144 | P30: =M30+M31 -> 0
C31: Кравченко И. П. | L31: =D31+F31+H31+J31 -> 0 | M31: =E31+G31+I31+K31 -> 0

Sheet Итоги
A1: № | B1: Команды | C1: Участники | D1: Тур 1 | H1: Тур 2 | L1: Личный зачет | O1: Командный зачет
D2: Зона А | F2: Зона Б | H2: Зона А | J2: Зона Б
D3: баллы | E3: меcто | F3: баллы | G3: место | H3: баллы | I3: место | J3: баллы | K3: место | L3: баллы | M3: сумма мест | N3: место | O3: баллы | P3: сумма мест | Q3: место
A4: 1 | B4: =Реглист!B4 -> Твичим и джигуем | C4: =Реглист!C4 -> Синовец Роман | D4: =IFERROR(VLOOKUP(C4,Т1За!$C$3:$D$45,2,0),0) -> 1547.38 | E4: =IFERROR(VLOOKUP(C4,Т1За!$C$3:$E$45,3,0),0) -> 17 | F4: =IFERROR(VLOOKUP(C4,Т1Зб!$C$3:$D$45,2,0),0) -> 0 | G4: =IFERROR(VLOOKUP(C4,Т1Зб!$C$3:$E$45,3,0),0) -> 0 | H4: =IFERROR(VLOOKUP(C4,Т2За!$C$3:$D$45,2,0),0) -> 0 | I4: =IFERROR(VLOOKUP(C4,Т2За!$C$3:$E$45,3,0),0) -> 0 | J4: =IFERROR(VLOOKUP(C4,Т2Зб!$C$3:$D$45,2,0),0) -> 2187.56 | K4: =IFERROR(VLOOKUP(C4,Т2Зб!$C$3:$E$45,3,0),0) -> 4 | L4: =D4+F4+H4+J4 -> 3734.94 | M4: =IF(L4=0,Реглист!$C$89*2+2,E4+G4+I4+K4) -> 21 | N4: =IF(M4=Реглист!$C$89*2+2,Реглист!$C$89*2+1,RANK(M4,$M$4:$M$87,1)) -> 14 | O4: =L4+L5 -> 5873.02 | P4: =IF(O4=0,Реглист!$C$89*4+4,M4+M5) -> 62 | Q4: =IF(P4=Реглист!$C$89*4+4,Реглист!$C$89+1,RANK(P4,$P$4:$P$87,1)) -> 13
A5: =A4+1 -> 2 | B5: =Реглист!B5 -> Твичим и джигуем | C5: =Реглист!C5 -> Чернышев Егор | D5: =IFERROR(VLOOKUP(C5,Т1За!$C$3:$D$45,2,0),0) -> 0 | E5: =IFERROR(VLOOKUP(C5,Т1За!$C$3:$E$45,3,0),0) -> 0 | F5: =IFERROR(VLOOKUP(C5,Т1Зб!$C$3:$D$45,2,0),0) -> 1033.5 | G5: =IFERROR(VLOOKUP(C5,Т1Зб!$C$3:$E$45,3,0),0) -> 24 | H5: =IFERROR(VLOOKUP(C5,Т2За!$C$3:$D$45,2,0),0) -> 1104.58 | I5: =IFERROR(VLOOKUP(C5,Т2За!$C$3:$E$45,3,0),0) -> 17 | J5: =IFERROR(VLOOKUP(C5,Т2Зб!$C$3:$D$45,2,0),0) -> 0 | K5: =IFERROR(VLOOKUP(C5,Т2Зб!$C$3:$E$45,3,0),0) -> 0 | L5: =D5+F5+H5+J5 -> 2138.08 | M5: =IF(L5=0,Реглист!$C$89*2+2,E5+G5+I5+K5) -> 41 | N5: 44
A6: =A5+1 -> 3 | B6: =Реглист!B6 -> FishMurder | C6: =Реглист!C6 -> Микулов Владимир | D6: =IFERROR(VLOOKUP(C6,Т1За!$C$3:$D$45,2,0),0) -> 1093.81 | E6: =IFERROR(VLOOKUP(C6,Т1За!$C$3:$E$45,3,0),0) -> 22 | F6: =IFERROR(VLOOKUP(C6,Т1Зб!$C$3:$D$45,2,0),0) -> 0 | G6: =IFERROR(VLOOKUP(C6,Т1Зб!$C$3:$E$45,3,0),0) -> 0 | H6: =IFERROR(VLOOKUP(C6,Т2За!$C$3:$D$45,2,0),0) -> 0 | I6: =IFERROR(VLOOKUP(C6,Т2За!$C$3:$E$45,3,0),0) -> 0 | J6: =IFERROR(VLOOKUP(C6,Т2Зб!$C$3:$D$45,2,0),0) -> 1135.41 | K6: =IFERROR(VLOOKUP(C6,Т2Зб!$C$3:$E$45,3,0),0) -> 13 | L6: =D6+F6+H6+J6 -> 2229.22 | M6: =IF(L6=0,Реглист!$C$89*2+2,E6+G6+I6+K6) -> 35 | N6: 36 | O6: =L6+L7 -> 6771.55 | P6: =IF(O6=0,Реглист!$C$89*4+4,M6+M7) -> 79 | Q6: =IF(P6=Реглист!$C$89*4+4,Реглист!$C$89+1,RANK(P6,$P$4:$P$87,1)) -> 22
A7: =A6+1 -> 4 | B7: =Реглист!B7 -> FishMurder | C7: =Реглист!C7 -> Шило Сергей | D7: =IFERROR(VLOOKUP(C7,Т1За!$C$3:$D$45,2,0),0) -> 0 | E7: =IFERROR(VLOOKUP(C7,Т1За!$C$3:$E$45,3,0),0) -> 0 | F7: =IFERROR(VLOOKUP(C7,Т1Зб!$C$3:$D$45,2,0),0) -> 4542.33 | G7: =IFERROR(VLOOKUP(C7,Т1Зб!$C$3:$E$45,3,0),0) -> 1 | H7: =IFERROR(VLOOKUP(C7,Т2За!$C$3:$D$45,2,0),0) -> 0 | I7: =IFERROR(VLOOKUP(C7,Т2За!$C$3:$E$45,3,0),0) -> 43 | J7: =IFERROR(VLOOKUP(C7,Т2Зб!$C$3:$D$45,2,0),0) -> 0 | K7: =IFERROR(VLOOKUP(C7,Т2Зб!$C$3:$E$45,3,0),0) -> 0 | L7: =D7+F7+H7+J7 -> 4542.33 | M7: =IF(L7=0,Реглист!$C$89*2+2,E7+G7+I7+K7) -> 44 | N7: =IF(M7=Реглист!$C$89*2+2,Реглист!$C$89*2+1,RANK(M7,$M$4:$M$87,1)) -> 47
A8: =A7+1 -> 5 | B8: =Реглист!B8 -> Neptune fishing team | C8: =Реглист!C8 -> Мяэлоог Алексей | D8: =IFERROR(VLOOKUP(C8,Т1За!$C$3:$D$45,2,0),0) -> 0 | E8: =IFERROR(VLOOKUP(C8,Т1За!$C$3:$E$45,3,0),0) -> 0 | F8: =IFERROR(VLOOKUP(C8,Т1Зб!$C$3:$D$45,2,0),0) -> 1951.31 | G8: =IFERROR(VLOOKUP(C8,Т1Зб!$C$3:$E$45,3,0),0) -> 13 | H8: =IFERROR(VLOOKUP(C8,Т2За!$C$3:$D$45,2,0),0) -> 307.54 | I8: =IFERROR(VLOOKUP(C8,Т2За!$C$3:$E$45,3,0),0) -> 30 | J8: =IFERROR(VLOOKUP(C8,Т2Зб!$C$3:$D$45,2,0),0) -> 0 | K8: =IFERROR(VLOOKUP(C8,Т2Зб!$C$3:$E$45,3,0),0) -> 0 | L8: =D8+F8+H8+J8 -> 2258.85 | M8: =IF(L8=0,Реглист!$C$89*2+2,E8+G8+I8+K8) -> 43 | N8: 46 | O8: =L8+L9 -> 3449.14 | P8: =IF(O8=0,Реглист!$C$89*4+4,M8+M9) -> 97 | Q8: =IF(P8=Реглист!$C$89*4+4,Реглист!$C$89+1,RANK(P8,$P$4:$P$87,1)) -> 26
A9: =A8+1 -> 6 | B9: =Реглист!B9 -> Neptune fishing team | C9: =Реглист!C9 -> Кирьянов Денис | D9: =IFERROR(VLOOKUP(C9,Т1За!$C$3:$D$45,2,0),0) -> 459.05 | E9: =IFERROR(VLOOKUP(C9,Т1За!$C$3:$E$45,3,0),0) -> 34 | F9: =IFERROR(VLOOKUP(C9,Т1Зб!$C$3:$D$45,2,0),0) -> 0 | G9: =IFERROR(VLOOKUP(C9,Т1Зб!$C$3:$E$45,3,0),0) -> 0 | H9: =IFERROR(VLOOKUP(C9,Т2За!$C$3:$D$45,2,0),0) -> 0 | I9: =IFERROR(VLOOKUP(C9,Т2За!$C$3:$E$45,3,0),0) -> 0 | J9: =IFERROR(VLOOKUP(C9,Т2Зб!$C$3:$D$45,2,0),0) -> 731.24 | K9: =IFERROR(VLOOKUP(C9,Т2Зб!$C$3:$E$45,3,0),0) -> 20 | L9: =D9+F9+H9+J9 -> 1190.29 | M9: =IF(L9=0,Реглист!$C$89*2+2,E9+G9+I9+K9) -> 54 | N9: =IF(M9=Реглист!$C$89*2+2,Реглист!$C$89*2+1,RANK(M9,$M$4:$M$87,1)) -> 58
A10: =A9+1 -> 7 | B10: =Реглист!B10 -> HuNteRs for PeRch | C10: =Реглист!C10 -> Коноплёв Андрей | D10: =IFERROR(VLOOKUP(C10,Т1За!$C$3:$D$45,2,0),0) -> 0 | E10: =IFERROR(VLOOKUP(C10,Т1За!$C$3:$E$45,3,0),0) -> 0 | F10: =IFERROR(VLOOKUP(C10,Т1Зб!$C$3:$D$45,2,0),0) -> 283.49 | G10: =IFERROR(VLOOKUP(C10,Т1Зб!$C$3:$E$45,3,0),0) -> 37 | H10: =IFERROR(VLOOKUP(C10,Т2За!$C$3:$D$45,2,0),0) -> 338.72 | I10: =IFERROR(VLOOKUP(C10,Т2За!$C$3:$E$45,3,0),0) -> 29 | J10: =IFERROR(VLOOKUP(C10,Т2Зб!$C$3:$D$45,2,0),0) -> 0 | K10: =IFERROR(VLOOKUP(C10,Т2Зб!$C$3:$E$45,3,0),0) -> 0 | L10: =D10+F10+H10+J10 -> 622.21 | M10: =IF(L10=0,Реглист!$C$89*2+2,E10+G10+I10+K10) -> 66 | N10: 70 | O10: =L10+L11 -> 1029.41 | P10: =IF(O10=0,Реглист!$C$89*4+4,M10+M11) -> 137 | Q10: =IF(P10=Реглист!$C$89*4+4,Реглист!$C$89+1,RANK(P10,$P$4:$P$87,1)) -> 39
A11: =A10+1 -> 8 | B11: =Реглист!B11 -> HuNteRs for PeRch | C11: =Реглист!C11 -> Самусевич Кирилл | D11: =IFERROR(VLOOKUP(C11,Т1За!$C$3:$D$45,2,0),0) -> 163.84 | E11: =IFERROR(VLOOKUP(C11,Т1За!$C$3:$E$45,3,0),0) -> 38 | F11: =IFERROR(VLOOKUP(C11,Т1Зб!$C$3:$D$45,2,0),0) -> 0 | G11: =IFERROR(VLOOKUP(C11,Т1Зб!$C$3:$E$45,3,0),0) -> 0 | H11: =IFERROR(VLOOKUP(C11,Т2За!$C$3:$D$45,2,0),0) -> 0 | I11: =IFERROR(VLOOKUP(C11,Т2За!$C$3:$E$45,3,0),0) -> 0 | J11: =IFERROR(VLOOKUP(C11,Т2Зб!$C$3:$D$45,2,0),0) -> 243.36 | K11: =IFERROR(VLOOKUP(C11,Т2Зб!$C$3:$E$45,3,0),0) -> 33 | L11: =D11+F11+H11+J11 -> 407.2 | M11: =IF(L11=0,Реглист!$C$89*2+2,E11+G11+I11+K11) -> 71 | N11: 75
A12: =A11+1 -> 9 | B12: =Реглист!B12 -> Bad Fish | C12: =Реглист!C12 -> Желтов Игорь | D12: =IFERROR(VLOOKUP(C12,Т1За!$C$3:$D$45,2,0),0) -> 0 | E12: =IFERROR(VLOOKUP(C12,Т1За!$C$3:$E$45,3,0),0) -> 0 | F12: =IFERROR(VLOOKUP(C12,Т1Зб!$C$3:$D$45,2,0),0) -> 1072.14 | G12: =IFERROR(VLOOKUP(C12,Т1Зб!$C$3:$E$45,3,0),0) -> 22 | H12: =IFERROR(VLOOKUP(C12,Т2За!$C$3:$D$45,2,0),0) -> 568.3 | I12: =IFERROR(VLOOKUP(C12,Т2За!$C$3:$E$45,3,0),0) -> 26 | J12: =IFERROR(VLOOKUP(C12,Т2Зб!$C$3:$D$45,2,0),0) -> 0 | K12: =IFERROR(VLOOKUP(C12,Т2Зб!$C$3:$E$45,3,0),0) -> 0 | L12: =D12+F12+H12+J12 -> 1640.44 | M12: =IF(L12=0,Реглист!$C$89*2+2,E12+G12+I12+K12) -> 48 | N12: 53 | O12: =L12+L13 -> 4498.77 | P12: =IF(O12=0,Реглист!$C$89*4+4,M12+M13) -> 76 | Q12: 21
A13: =A12+1 -> 10 | B13: =Реглист!B13 -> Bad Fish | C13: =Реглист!C13 -> Корней Валентин | D13: =IFERROR(VLOOKUP(C13,Т1За!$C$3:$D$45,2,0),0) -> 1625.5 | E13: =IFERROR(VLOOKUP(C13,Т1За!$C$3:$E$45,3,0),0) -> 16 | F13: =IFERROR(VLOOKUP(C13,Т1Зб!$C$3:$D$45,2,0),0) -> 0 | G13: =IFERROR(VLOOKUP(C13,Т1Зб!$C$3:$E$45,3,0),0) -> 0 | H13: =IFERROR(VLOOKUP(C13,Т2За!$C$3:$D$45,2,0),0) -> 0 | I13: =IFERROR(VLOOKUP(C13,Т2За!$C$3:$E$45,3,0),0) -> 0 | J13: =IFERROR(VLOOKUP(C13,Т2Зб!$C$3:$D$45,2,0),0) -> 1232.83 | K13: =IFERROR(VLOOKUP(C13,Т2Зб!$C$3:$E$45,3,0),0) -> 12 | L13: =D13+F13+H13+J13 -> 2858.33 | M13: =IF(L13=0,Реглист!$C$89*2+2,E13+G13+I13+K13) -> 28 | N13: 23
A14: =A13+1 -> 11 | B14: =Реглист!B14 -> Штиль | C14: =Реглист!C14 -> Козлов Юрий | D14: =IFERROR(VLOOKUP(C14,Т1За!$C$3:$D$45,2,0),0) -> 1543.34 | E14: =IFERROR(VLOOKUP(C14,Т1За!$C$3:$E$45,3,0),0) -> 18 | F14: =IFERROR(VLOOKUP(C14,Т1Зб!$C$3:$D$45,2,0),0) -> 0 | G14: =IFERROR(VLOOKUP(C14,Т1Зб!$C$3:$E$45,3,0),0) -> 0 | H14: =IFERROR(VLOOKUP(C14,Т2За!$C$3:$D$45,2,0),0) -> 0 | I14: =IFERROR(VLOOKUP(C14,Т2За!$C$3:$E$45,3,0),0) -> 0 | J14: =IFERROR(VLOOKUP(C14,Т2Зб!$C$3:$D$45,2,0),0) -> 3239.64 | K14: =IFERROR(VLOOKUP(C14,Т2Зб!$C$3:$E$45,3,0),0) -> 1 | L14: =D14+F14+H14+J14 -> 4782.98 | M14: =IF(L14=0,Реглист!$C$89*2+2,E14+G14+I14+K14) -> 19 | N14: =IF(M14=Реглист!$C$89*2+2,Реглист!$C$89*2+1,RANK(M14,$M$4:$M$87,1)) -> 12 | O14: =L14+L15 -> 6506.57 | P14: =IF(O14=0,Реглист!$C$89*4+4,M14+M15) -> 68 | Q14: =IF(P14=Реглист!$C$89*4+4,Реглист!$C$89+1,RANK(P14,$P$4:$P$87,1)) -> 17
A15: =A14+1 -> 12 | B15: =Реглист!B15 -> Штиль | C15: =Реглист!C15 -> Рябишников Иван | D15: =IFERROR(VLOOKUP(C15,Т1За!$C$3:$D$45,2,0),0) -> 0 | E15: =IFERROR(VLOOKUP(C15,Т1За!$C$3:$E$45,3,0),0) -> 0 | F15: =IFERROR(VLOOKUP(C15,Т1Зб!$C$3:$D$45,2,0),0) -> 696.81 | G15: =IFERROR(VLOOKUP(C15,Т1Зб!$C$3:$E$45,3,0),0) -> 30 | H15: =IFERROR(VLOOKUP(C15,Т2За!$C$3:$D$45,2,0),0) -> 1026.78 | I15: =IFERROR(VLOOKUP(C15,Т2За!$C$3:$E$45,3,0),0) -> 19 | J15: =IFERROR(VLOOKUP(C15,Т2Зб!$C$3:$D$45,2,0),0) -> 0 | K15: =IFERROR(VLOOKUP(C15,Т2Зб!$C$3:$E$45,3,0),0) -> 0 | L15: =D15+F15+H15+J15 -> 1723.59 | M15: =IF(L15=0,Реглист!$C$89*2+2,E15+G15+I15+K15) -> 49 | N15: =IF(M15=Реглист!$C$89*2+2,Реглист!$C$89*2+1,RANK(M15,$M$4:$M$87,1)) -> 54
A16: =A15+1 -> 13 | B16: =Реглист!B16 -> Фарватер | C16: =Реглист!C16 -> Попельский Максим | D16: =IFERROR(VLOOKUP(C16,Т1За!$C$3:$D$45,2,0),0) -> 932.86 | E16: =IFERROR(VLOOKUP(C16,Т1За!$C$3:$E$45,3,0),0) -> 24 | F16: =IFERROR(VLOOKUP(C16,Т1Зб!$C$3:$D$45,2,0),0) -> 0 | G16: =IFERROR(VLOOKUP(C16,Т1Зб!$C$3:$E$45,3,0),0) -> 0 | H16: =IFERROR(VLOOKUP(C16,Т2За!$C$3:$D$45,2,0),0) -> 0 | I16: =IFERROR(VLOOKUP(C16,Т2За!$C$3:$E$45,3,0),0) -> 0 | J16: =IFERROR(VLOOKUP(C16,Т2Зб!$C$3:$D$45,2,0),0) -> 144 | K16: =IFERROR(VLOOKUP(C16,Т2Зб!$C$3:$E$45,3,0),0) -> 35 | L16: =D16+F16+H16+J16 -> 1076.86 | M16: =IF(L16=0,Реглист!$C$89*2+2,E16+G16+I16+K16) -> 59 | N16: =IF(M16=Реглист!$C$89*2+2,Реглист!$C$89*2+1,RANK(M16,$M$4:$M$87,1)) -> 62 | O16: =L16+L17 -> 2313.09 | P16: =IF(O16=0,Реглист!$C$89*4+4,M16+M17) -> 115 | Q16: =IF(P16=Реглист!$C$89*4+4,Реглист!$C$89+1,RANK(P16,$P$4:$P$87,1)) -> 31
A17: =A16+1 -> 14 | B17: =Реглист!B17 -> Фарватер | C17: =Реглист!C17 -> Цыганок Михаил | D17: =IFERROR(VLOOKUP(C17,Т1За!$C$3:$D$45,2,0),0) -> 0 | E17: =IFERROR(VLOOKUP(C17,Т1За!$C$3:$E$45,3,0),0) -> 0 | F17: =IFERROR(VLOOKUP(C17,Т1Зб!$C$3:$D$45,2,0),0) -> 603.85 | G17: =IFERROR(VLOOKUP(C17,Т1Зб!$C$3:$E$45,3,0),0) -> 32 | H17: =IFERROR(VLOOKUP(C17,Т2За!$C$3:$D$45,2,0),0) -> 632.38 | I17: =IFERROR(VLOOKUP(C17,Т2За!$C$3:$E$45,3,0),0) -> 24 | J17: =IFERROR(VLOOKUP(C17,Т2Зб!$C$3:$D$45,2,0),0) -> 0 | K17: =IFERROR(VLOOKUP(C17,Т2Зб!$C$3:$E$45,3,0),0) -> 0 | L17: =D17+F17+H17+J17 -> 1236.23 | M17: =IF(L17=0,Реглист!$C$89*2+2,E17+G17+I17+K17) -> 56 | N17: =IF(M17=Реглист!$C$89*2+2,Реглист!$C$89*2+1,RANK(M17,$M$4:$M$87,1)) -> 59
A18: =A17+1 -> 15 | B18: =Реглист!B18 -> Bait Breath Team | C18: =Реглист!C18 -> Бахур Александр | D18: =IFERROR(VLOOKUP(C18,Т1За!$C$3:$D$45,2,0),0) -> 0 | E18: =IFERROR(VLOOKUP(C18,Т1За!$C$3:$E$45,3,0),0) -> 0 | F18: =IFERROR(VLOOKUP(C18,Т1Зб!$C$3:$D$45,2,0),0) -> 2306.04 | G18: =IFERROR(VLOOKUP(C18,Т1Зб!$C$3:$E$45,3,0),0) -> 11 | H18: =IFERROR(VLOOKUP(C18,Т2За!$C$3:$D$45,2,0),0) -> 2458.08 | I18: =IFERROR(VLOOKUP(C18,Т2За!$C$3:$E$45,3,0),0) -> 3 | J18: =IFERROR(VLOOKUP(C18,Т2Зб!$C$3:$D$45,2,0),0) -> 0 | K18: =IFERROR(VLOOKUP(C18,Т2Зб!$C$3:$E$45,3,0),0) -> 0 | L18: =D18+F18+H18+J18 -> 4764.12 | M18: =IF(L18=0,Реглист!$C$89*2+2,E18+G18+I18+K18) -> 14 | N18: =IF(M18=Реглист!$C$89*2+2,Реглист!$C$89*2+1,RANK(M18,$M$4:$M$87,1)) -> 7 | O18: =L18+L19 -> 7678.83 | P18: =IF(O18=0,Реглист!$C$89*4+4,M18+M19) -> 42 | Q18: 6
A19: =A18+1 -> 16 | B19: =Реглист!B19 -> Bait Breath Team | C19: =Реглист!C19 -> Зубко Сергей | D19: =IFERROR(VLOOKUP(C19,Т1За!$C$3:$D$45,2,0),0) -> 2249.97 | E19: =IFERROR(VLOOKUP(C19,Т1За!$C$3:$E$45,3,0),0) -> 5 | F19: =IFERROR(VLOOKUP(C19,Т1Зб!$C$3:$D$45,2,0),0) -> 0 | G19: =IFERROR(VLOOKUP(C19,Т1Зб!$C$3:$E$45,3,0),0) -> 0 | H19: =IFERROR(VLOOKUP(C19,Т2За!$C$3:$D$45,2,0),0) -> 0 | I19: =IFERROR(VLOOKUP(C19,Т2За!$C$3:$E$45,3,0),0) -> 0 | J19: =IFERROR(VLOOKUP(C19,Т2Зб!$C$3:$D$45,2,0),0) -> 664.74 | K19: =IFERROR(VLOOKUP(C19,Т2Зб!$C$3:$E$45,3,0),0) -> 23 | L19: =D19+F19+H19+J19 -> 2914.71 | M19: =IF(L19=0,Реглист!$C$89*2+2,E19+G19+I19+K19) -> 28 | N19: 22
A20: =A19+1 -> 17 | B20: =Реглист!B20 -> СТАR Fishingstock | C20: =Реглист!C20 -> Бычик Роман | D20: =IFERROR(VLOOKUP(C20,Т1За!$C$3:$D$45,2,0),0) -> 0 | E20: =IFERROR(VLOOKUP(C20,Т1За!$C$3:$E$45,3,0),0) -> 0 | F20: =IFERROR(VLOOKUP(C20,Т1Зб!$C$3:$D$45,2,0),0) -> 4064.85 | G20: =IFERROR(VLOOKUP(C20,Т1Зб!$C$3:$E$45,3,0),0) -> 2 | H20: =IFERROR(VLOOKUP(C20,Т2За!$C$3:$D$45,2,0),0) -> 2096.52 | I20: =IFERROR(VLOOKUP(C20,Т2За!$C$3:$E$45,3,0),0) -> 6 | J20: =IFERROR(VLOOKUP(C20,Т2Зб!$C$3:$D$45,2,0),0) -> 0 | K20: =IFERROR(VLOOKUP(C20,Т2Зб!$C$3:$E$45,3,0),0) -> 0 | L20: =D20+F20+H20+J20 -> 6161.37 | M20: =IF(L20=0,Реглист!$C$89*2+2,E20+G20+I20+K20) -> 8 | N20: =IF(M20=Реглист!$C$89*2+2,Реглист!$C$89*2+1,RANK(M20,$M$4:$M$87,1)) -> 2 | O20: =L20+L21 -> 9250.93 | P20: =IF(O20=0,Реглист!$C$89*4+4,M20+M21) -> 42 | Q20: =IF(P20=Реглист!$C$89*4+4,Реглист!$C$89+1,RANK(P20,$P$4:$P$87,1)) -> 4
A21: =A20+1 -> 18 | B21: =Реглист!B21 -> СТАR Fishingstock | C21: =Реглист!C21 -> Пожарский Константин | D21: =IFERROR(VLOOKUP(C21,Т1За!$C$3:$D$45,2,0),0) -> 652.05 | E21: =IFERROR(VLOOKUP(C21,Т1За!$C$3:$E$45,3,0),0) -> 32 | F21: =IFERROR(VLOOKUP(C21,Т1Зб!$C$3:$D$45,2,0),0) -> 0 | G21: =IFERROR(VLOOKUP(C21,Т1Зб!$C$3:$E$45,3,0),0) -> 0 | H21: =IFERROR(VLOOKUP(C21,Т2За!$C$3:$D$45,2,0),0) -> 0 | I21: =IFERROR(VLOOKUP(C21,Т2За!$C$3:$E$45,3,0),0) -> 0 | J21: =IFERROR(VLOOKUP(C21,Т2Зб!$C$3:$D$45,2,0),0) -> 2437.51 | K21: =IFERROR(VLOOKUP(C21,Т2Зб!$C$3:$E$45,3,0),0) -> 2 | L21: =D21+F21+H21+J21 -> 3089.56 | M21: =IF(L21=0,Реглист!$C$89*2+2,E21+G21+I21+K21) -> 34 | N21: 30
A22: =A21+1 -> 19 | B22: =Реглист!B22 -> Poseidon | C22: =Реглист!C22 -> Ананич Геннадий | D22: =IFERROR(VLOOKUP(C22,Т1За!$C$3:$D$45,2,0),0) -> 0 | E22: =IFERROR(VLOOKUP(C22,Т1За!$C$3:$E$45,3,0),0) -> 0 | F22: =IFERROR(VLOOKUP(C22,Т1Зб!$C$3:$D$45,2,0),0) -> 2570.82 | G22: =IFERROR(VLOOKUP(C22,Т1Зб!$C$3:$E$45,3,0),0) -> 8 | H22: =IFERROR(VLOOKUP(C22,Т2За!$C$3:$D$45,2,0),0) -> 2322.58 | I22: =IFERROR(VLOOKUP(C22,Т2За!$C$3:$E$45,3,0),0) -> 4 | J22: =IFERROR(VLOOKUP(C22,Т2Зб!$C$3:$D$45,2,0),0) -> 0 | K22: =IFERROR(VLOOKUP(C22,Т2Зб!$C$3:$E$45,3,0),0) -> 0 | L22: =D22+F22+H22+J22 -> 4893.4 | M22: =IF(L22=0,Реглист!$C$89*2+2,E22+G22+I22+K22) -> 12 | N22: 6 | O22: =L22+L23 -> 10473.83 | P22: =IF(O22=0,Реглист!$C$89*4+4,M22+M23) -> 32 | Q22: =IF(P22=Реглист!$C$89*4+4,Реглист!$C$89+1,RANK(P22,$P$4:$P$87,1)) -> 1
A23: =A22+1 -> 20 | B23: =Реглист!B23 -> Poseidon | C23: =Реглист!C23 -> Чижонок Сергей | D23: =IFERROR(VLOOKUP(C23,Т1За!$C$3:$D$45,2,0),0) -> 4745.78 | E23: =IFERROR(VLOOKUP(C23,Т1За!$C$3:$E$45,3,0),0) -> 1 | F23: =IFERROR(VLOOKUP(C23,Т1Зб!$C$3:$D$45,2,0),0) -> 0 | G23: =IFERROR(VLOOKUP(C23,Т1Зб!$C$3:$E$45,3,0),0) -> 0 | H23: =IFERROR(VLOOKUP(C23,Т2За!$C$3:$D$45,2,0),0) -> 0 | I23: =IFERROR(VLOOKUP(C23,Т2За!$C$3:$E$45,3,0),0) -> 0 | J23: =IFERROR(VLOOKUP(C23,Т2Зб!$C$3:$D$45,2,0),0) -> 834.65 | K23: =IFERROR(VLOOKUP(C23,Т2Зб!$C$3:$E$45,3,0),0) -> 19 | L23: =D23+F23+H23+J23 -> 5580.43 | M23: =IF(L23=0,Реглист!$C$89*2+2,E23+G23+I23+K23) -> 20 | N23: =IF(M23=Реглист!$C$89*2+2,Реглист!$C$89*2+1,RANK(M23,$M$4:$M$87,1)) -> 13
A24: =A23+1 -> 21 | B24: =Реглист!B24 -> Кобринский МСЗ | C24: =Реглист!C24 -> Барташук Александр | D24: =IFERROR(VLOOKUP(C24,Т1За!$C$3:$D$45,2,0),0) -> 1931.78 | E24: =IFERROR(VLOOKUP(C24,Т1За!$C$3:$E$45,3,0),0) -> 11 | F24: =IFERROR(VLOOKUP(C24,Т1Зб!$C$3:$D$45,2,0),0) -> 0 | G24: =IFERROR(VLOOKUP(C24,Т1Зб!$C$3:$E$45,3,0),0) -> 0 | H24: =IFERROR(VLOOKUP(C24,Т2За!$C$3:$D$45,2,0),0) -> 0 | I24: =IFERROR(VLOOKUP(C24,Т2За!$C$3:$E$45,3,0),0) -> 0 | J24: =IFERROR(VLOOKUP(C24,Т2Зб!$C$3:$D$45,2,0),0) -> 613.16 | K24: =IFERROR(VLOOKUP(C24,Т2Зб!$C$3:$E$45,3,0),0) -> 24 | L24: =D24+F24+H24+J24 -> 2544.94 | M24: =IF(L24=0,Реглист!$C$89*2+2,E24+G24+I24+K24) -> 35 | N24: 34 | O24: =L24+L25 -> 9220.41 | P24: =IF(O24=0,Реглист!$C$89*4+4,M24+M25) -> 40 | Q24: =IF(P24=Реглист!$C$89*4+4,Реглист!$C$89+1,RANK(P24,$P$4:$P$87,1)) -> 3
A25: =A24+1 -> 22 | B25: =Реглист!B25 -> Кобринский МСЗ | C25: =Реглист!C25 -> Жарин Вадим | D25: =IFERROR(VLOOKUP(C25,Т1За!$C$3:$D$45,2,0),0) -> 0 | E25: =IFERROR(VLOOKUP(C25,Т1За!$C$3:$E$45,3,0),0) -> 0 | F25: =IFERROR(VLOOKUP(C25,Т1Зб!$C$3:$D$45,2,0),0) -> 3798.53 | G25: =IFERROR(VLOOKUP(C25,Т1Зб!$C$3:$E$45,3,0),0) -> 3 | H25: =IFERROR(VLOOKUP(C25,Т2За!$C$3:$D$45,2,0),0) -> 2876.94 | I25: =IFERROR(VLOOKUP(C25,Т2За!$C$3:$E$45,3,0),0) -> 2 | J25: =IFERROR(VLOOKUP(C25,Т2Зб!$C$3:$D$45,2,0),0) -> 0 | K25: =IFERROR(VLOOKUP(C25,Т2Зб!$C$3:$E$45,3,0),0) -> 0 | L25: =D25+F25+H25+J25 -> 6675.47 | M25: =IF(L25=0,Реглист!$C$89*2+2,E25+G25+I25+K25) -> 5 | N25: =IF(M25=Реглист!$C$89*2+2,Реглист!$C$89*2+1,RANK(M25,$M$4:$M$87,1)) -> 1
A26: =A25+1 -> 23 | B26: =Реглист!B26 -> ASpinnTeam | C26: =Реглист!C26 -> Нугуманов Артём | D26: =IFERROR(VLOOKUP(C26,Т1За!$C$3:$D$45,2,0),0) -> 0 | E26: =IFERROR(VLOOKUP(C26,Т1За!$C$3:$E$45,3,0),0) -> 0 | F26: =IFERROR(VLOOKUP(C26,Т1Зб!$C$3:$D$45,2,0),0) -> 1917.26 | G26: =IFERROR(VLOOKUP(C26,Т1Зб!$C$3:$E$45,3,0),0) -> 14 | H26: =IFERROR(VLOOKUP(C26,Т2За!$C$3:$D$45,2,0),0) -> 671.01 | I26: =IFERROR(VLOOKUP(C26,Т2За!$C$3:$E$45,3,0),0) -> 23 | J26: =IFERROR(VLOOKUP(C26,Т2Зб!$C$3:$D$45,2,0),0) -> 0 | K26: =IFERROR(VLOOKUP(C26,Т2Зб!$C$3:$E$45,3,0),0) -> 0 | L26: =D26+F26+H26+J26 -> 2588.27 | M26: =IF(L26=0,Реглист!$C$89*2+2,E26+G26+I26+K26) -> 37 | N26: 38 | O26: =L26+L27 -> 4573.39 | P26: =IF(O26=0,Реглист!$C$89*4+4,M26+M27) -> 85 | Q26: =IF(P26=Реглист!$C$89*4+4,Реглист!$C$89+1,RANK(P26,$P$4:$P$87,1)) -> 23
A27: =A26+1 -> 24 | B27: =Реглист!B27 -> ASpinnTeam | C27: =Реглист!C27 -> Вашкевич Александр | D27: =IFERROR(VLOOKUP(C27,Т1За!$C$3:$D$45,2,0),0) -> 1518.87 | E27: =IFERROR(VLOOKUP(C27,Т1За!$C$3:$E$45,3,0),0) -> 19 | F27: =IFERROR(VLOOKUP(C27,Т1Зб!$C$3:$D$45,2,0),0) -> 0 | G27: =IFERROR(VLOOKUP(C27,Т1Зб!$C$3:$E$45,3,0),0) -> 0 | H27: =IFERROR(VLOOKUP(C27,Т2За!$C$3:$D$45,2,0),0) -> 0 | I27: =IFERROR(VLOOKUP(C27,Т2За!$C$3:$E$45,3,0),0) -> 0 | J27: =IFERROR(VLOOKUP(C27,Т2Зб!$C$3:$D$45,2,0),0) -> 466.25 | K27: =IFERROR(VLOOKUP(C27,Т2Зб!$C$3:$E$45,3,0),0) -> 29 | L27: =D27+F27+H27+J27 -> 1985.12 | M27: =IF(L27=0,Реглист!$C$89*2+2,E27+G27+I27+K27) -> 48 | N27: =IF(M27=Реглист!$C$89*2+2,Реглист!$C$89*2+1,RANK(M27,$M$4:$M$87,1)) -> 52
A28: =A27+1 -> 25 | B28: =Реглист!B28 -> BASS HUNTER | C28: =Реглист!C28 -> Шевко Виталий | D28: =IFERROR(VLOOKUP(C28,Т1За!$C$3:$D$45,2,0),0) -> 0 | E28: =IFERROR(VLOOKUP(C28,Т1За!$C$3:$E$45,3,0),0) -> 0 | F28: =IFERROR(VLOOKUP(C28,Т1Зб!$C$3:$D$45,2,0),0) -> 3240.44 | G28: =IFERROR(VLOOKUP(C28,Т1Зб!$C$3:$E$45,3,0),0) -> 6 | H28: =IFERROR(VLOOKUP(C28,Т2За!$C$3:$D$45,2,0),0) -> 248.69 | I28: =IFERROR(VLOOKUP(C28,Т2За!$C$3:$E$45,3,0),0) -> 31 | J28: =IFERROR(VLOOKUP(C28,Т2Зб!$C$3:$D$45,2,0),0) -> 0 | K28: =IFERROR(VLOOKUP(C28,Т2Зб!$C$3:$E$45,3,0),0) -> 0 | L28: =D28+F28+H28+J28 -> 3489.13 | M28: =IF(L28=0,Реглист!$C$89*2+2,E28+G28+I28+K28) -> 37 | N28: =IF(M28=Реглист!$C$89*2+2,Реглист!$C$89*2+1,RANK(M28,$M$4:$M$87,1)) -> 37 | O28: =L28+L29 -> 6583.2 | P28: =IF(O28=0,Реглист!$C$89*4+4,M28+M29) -> 60 | Q28: =IF(P28=Реглист!$C$89*4+4,Реглист!$C$89+1,RANK(P28,$P$4:$P$87,1)) -> 12
A29: =A28+1 -> 26 | B29: =Реглист!B29 -> BASS HUNTER | C29: =Реглист!C29 -> Кириевский Андрей | D29: =IFERROR(VLOOKUP(C29,Т1За!$C$3:$D$45,2,0),0) -> 2049.68 | E29: =IFERROR(VLOOKUP(C29,Т1За!$C$3:$E$45,3,0),0) -> 7 | F29: =IFERROR(VLOOKUP(C29,Т1Зб!$C$3:$D$45,2,0),0) -> 0 | G29: =IFERROR(VLOOKUP(C29,Т1Зб!$C$3:$E$45,3,0),0) -> 0 | H29: =IFERROR(VLOOKUP(C29,Т2За!$C$3:$D$45,2,0),0) -> 0 | I29: =IFERROR(VLOOKUP(C29,Т2За!$C$3:$E$45,3,0),0) -> 0 | J29: =IFERROR(VLOOKUP(C29,Т2Зб!$C$3:$D$45,2,0),0) -> 1044.39 | K29: =IFERROR(VLOOKUP(C29,Т2Зб!$C$3:$E$45,3,0),0) -> 16 | L29: =D29+F29+H29+J29 -> 3094.07 | M29: =IF(L29=0,Реглист!$C$89*2+2,E29+G29+I29+K29) -> 23 | N29: 16
A30: =A29+1 -> 27 | B30: =Реглист!B30 -> RVR | C30: =Реглист!C30 -> Золотухин Александр | D30: =IFERROR(VLOOKUP(C30,Т1За!$C$3:$D$45,2,0),0) -> 0 | E30: =IFERROR(VLOOKUP(C30,Т1За!$C$3:$E$45,3,0),0) -> 0 | F30: =IFERROR(VLOOKUP(C30,Т1Зб!$C$3:$D$45,2,0),0) -> 2141.6 | G30: =IFERROR(VLOOKUP(C30,Т1Зб!$C$3:$E$45,3,0),0) -> 12 | H30: =IFERROR(VLOOKUP(C30,Т2За!$C$3:$D$45,2,0),0) -> 1477.95 | I30: =IFERROR(VLOOKUP(C30,Т2За!$C$3:$E$45,3,0),0) -> 14 | J30: =IFERROR(VLOOKUP(C30,Т2Зб!$C$3:$D$45,2,0),0) -> 0 | K30: =IFERROR(VLOOKUP(C30,Т2Зб!$C$3:$E$45,3,0),0) -> 0 | L30: =D30+F30+H30+J30 -> 3619.55 | M30: =IF(L30=0,Реглист!$C$89*2+2,E30+G30+I30+K30) -> 26 | N30: =IF(M30=Реглист!$C$89*2+2,Реглист!$C$89*2+1,RANK(M30,$M$4:$M$87,1)) -> 18 | O30: =L30+L31 -> 5750.84 | P30: =IF(O30=0,Реглист!$C$89*4+4,M30+M31) -> 64 | Q30: =IF(P30=Реглист!$C$89*4+4,Реглист!$C$89+1,RANK(P30,$P$4:$P$87,1)) -> 14
A31: =A30+1 -> 28 | B31: =Реглист!B31 -> RVR | C31: =Реглист!C31 -> Масюк Павел | D31: =IFERROR(VLOOKUP(C31,Т1За!$C$3:$D$45,2,0),0) -> 853.37 | E31: =IFERROR(VLOOKUP(C31,Т1За!$C$3:$E$45,3,0),0) -> 27 | F31: =IFERROR(VLOOKUP(C31,Т1Зб!$C$3:$D$45,2,0),0) -> 0 | G31: =IFERROR(VLOOKUP(C31,Т1Зб!$C$3:$E$45,3,0),0) -> 0 | H31: =IFERROR(VLOOKUP(C31,Т2За!$C$3:$D$45,2,0),0) -> 0 | I31: =IFERROR(VLOOKUP(C31,Т2За!$C$3:$E$45,3,0),0) -> 0 | J31: =IFERROR(VLOOKUP(C31,Т2Зб!$C$3:$D$45,2,0),0) -> 1277.92 | K31: =IFERROR(VLOOKUP(C31,Т2Зб!$C$3:$E$45,3,0),0) -> 11 | L31: =D31+F31+H31+J31 -> 2131.29 | M31: =IF(L31=0,Реглист!$C$89*2+2,E31+G31+I31+K31) -> 38 | N31: 41
A32: =A31+1 -> 29 | B32: =Реглист!B32 -> Студенты | C32: =Реглист!C32 -> Воробьев Павел | D32: =IFERROR(VLOOKUP(C32,Т1За!$C$3:$D$45,2,0),0) -> 0 | E32: =IFERROR(VLOOKUP(C32,Т1За!$C$3:$E$45,3,0),0) -> 0 | F32: =IFERROR(VLOOKUP(C32,Т1Зб!$C$3:$D$45,2,0),0) -> 380.25 | G32: =IFERROR(VLOOKUP(C32,Т1Зб!$C$3:$E$45,3,0),0) -> 36 | H32: =IFERROR(VLOOKUP(C32,Т2За!$C$3:$D$45,2,0),0) -> 0 | I32: =IFERROR(VLOOKUP(C32,Т2За!$C$3:$E$45,3,0),0) -> 43 | J32: =IFERROR(VLOOKUP(C32,Т2Зб!$C$3:$D$45,2,0),0) -> 0 | K32: =IFERROR(VLOOKUP(C32,Т2Зб!$C$3:$E$45,3,0),0) -> 0 | L32: =D32+F32+H32+J32 -> 380.25 | M32: =IF(L32=0,Реглист!$C$89*2+2,E32+G32+I32+K32) -> 79 | N32: =IF(M32=Реглист!$C$89*2+2,Реглист!$C$89*2+1,RANK(M32,$M$4:$M$87,1)) -> 77 | O32: =L32+L33 -> 2439.04 | P32: =IF(O32=0,Реглист!$C$89*4+4,M32+M33) -> 124 | Q32: =IF(P32=Реглист!$C$89*4+4,Реглист!$C$89+1,RANK(P32,$P$4:$P$87,1)) -> 34
A33: =A32+1 -> 30 | B33: =Реглист!B33 -> Студенты | C33: =Реглист!C33 -> Крупеньков Сергей | D33: =IFERROR(VLOOKUP(C33,Т1За!$C$3:$D$45,2,0),0) -> 1478.54 | E33: =IFERROR(VLOOKUP(C33,Т1За!$C$3:$E$45,3,0),0) -> 20 | F33: =IFERROR(VLOOKUP(C33,Т1Зб!$C$3:$D$45,2,0),0) -> 0 | G33: =IFERROR(VLOOKUP(C33,Т1Зб!$C$3:$E$45,3,0),0) -> 0 | H33: =IFERROR(VLOOKUP(C33,Т2За!$C$3:$D$45,2,0),0) -> 0 | I33: =IFERROR(VLOOKUP(C33,Т2За!$C$3:$E$45,3,0),0) -> 0 | J33: =IFERROR(VLOOKUP(C33,Т2Зб!$C$3:$D$45,2,0),0) -> 580.25 | K33: =IFERROR(VLOOKUP(C33,Т2Зб!$C$3:$E$45,3,0),0) -> 25 | L33: =D33+F33+H33+J33 -> 2058.79 | M33: =IF(L33=0,Реглист!$C$89*2+2,E33+G33+I33+K33) -> 45 | N33: =IF(M33=Реглист!$C$89*2+2,Реглист!$C$89*2+1,RANK(M33,$M$4:$M$87,1)) -> 49
A34: =A33+1 -> 31 | B34: =Реглист!B34 -> Peacock Bass | C34: =Реглист!C34 -> Сенчуров Иван | D34: =IFERROR(VLOOKUP(C34,Т1За!$C$3:$D$45,2,0),0) -> 2088.37 | E34: =IFERROR(VLOOKUP(C34,Т1За!$C$3:$E$45,3,0),0) -> 6 | F34: =IFERROR(VLOOKUP(C34,Т1Зб!$C$3:$D$45,2,0),0) -> 0 | G34: =IFERROR(VLOOKUP(C34,Т1Зб!$C$3:$E$45,3,0),0) -> 0 | H34: =IFERROR(VLOOKUP(C34,Т2За!$C$3:$D$45,2,0),0) -> 0 | I34: =IFERROR(VLOOKUP(C34,Т2За!$C$3:$E$45,3,0),0) -> 0 | J34: =IFERROR(VLOOKUP(C34,Т2Зб!$C$3:$D$45,2,0),0) -> 1522.07 | K34: =IFERROR(VLOOKUP(C34,Т2Зб!$C$3:$E$45,3,0),0) -> 9 | L34: =D34+F34+H34+J34 -> 3610.44 | M34: =IF(L34=0,Реглист!$C$89*2+2,E34+G34+I34+K34) -> 15 | N34: =IF(M34=Реглист!$C$89*2+2,Реглист!$C$89*2+1,RANK(M34,$M$4:$M$87,1)) -> 8 | O34: =L34+L35 -> 6768.48 | P34: =IF(O34=0,Реглист!$C$89*4+4,M34+M35) -> 45 | Q34: =IF(P34=Реглист!$C$89*4+4,Реглист!$C$89+1,RANK(P34,$P$4:$P$87,1)) -> 7
A35: =A34+1 -> 32 | B35: =Реглист!B35 -> Peacock Bass | C35: =Реглист!C35 -> Дроздов Виталий | D35: =IFERROR(VLOOKUP(C35,Т1За!$C$3:$D$45,2,0),0) -> 0 | E35: =IFERROR(VLOOKUP(C35,Т1За!$C$3:$E$45,3,0),0) -> 0 | F35: =IFERROR(VLOOKUP(C35,Т1Зб!$C$3:$D$45,2,0),0) -> 1776.9 | G35: =IFERROR(VLOOKUP(C35,Т1Зб!$C$3:$E$45,3,0),0) -> 15 | H35: =IFERROR(VLOOKUP(C35,Т2За!$C$3:$D$45,2,0),0) -> 1381.14 | I35: =IFERROR(VLOOKUP(C35,Т2За!$C$3:$E$45,3,0),0) -> 15 | J35: =IFERROR(VLOOKUP(C35,Т2Зб!$C$3:$D$45,2,0),0) -> 0 | K35: =IFERROR(VLOOKUP(C35,Т2Зб!$C$3:$E$45,3,0),0) -> 0 | L35: =D35+F35+H35+J35 -> 3158.04 | M35: =IF(L35=0,Реглист!$C$89*2+2,E35+G35+I35+K35) -> 30 | N35: 26
A36: =A35+1 -> 33 | B36: =Реглист!B36 -> Полесье | C36: =Реглист!C36 -> Марковский Максим | D36: =IFERROR(VLOOKUP(C36,Т1За!$C$3:$D$45,2,0),0) -> 0 | E36: =IFERROR(VLOOKUP(C36,Т1За!$C$3:$E$45,3,0),0) -> 0 | F36: =IFERROR(VLOOKUP(C36,Т1Зб!$C$3:$D$45,2,0),0) -> 3301.35 | G36: =IFERROR(VLOOKUP(C36,Т1Зб!$C$3:$E$45,3,0),0) -> 5 | H36: =IFERROR(VLOOKUP(C36,Т2За!$C$3:$D$45,2,0),0) -> 1621.51 | I36: =IFERROR(VLOOKUP(C36,Т2За!$C$3:$E$45,3,0),0) -> 11 | J36: =IFERROR(VLOOKUP(C36,Т2Зб!$C$3:$D$45,2,0),0) -> 0 | K36: =IFERROR(VLOOKUP(C36,Т2Зб!$C$3:$E$45,3,0),0) -> 0 | L36: =D36+F36+H36+J36 -> 4922.86 | M36: =IF(L36=0,Реглист!$C$89*2+2,E36+G36+I36+K36) -> 16 | N36: =IF(M36=Реглист!$C$89*2+2,Реглист!$C$89*2+1,RANK(M36,$M$4:$M$87,1)) -> 9 | O36: =L36+L37 -> 7454.13 | P36: =IF(O36=0,Реглист!$C$89*4+4,M36+M37) -> 51 | Q36: =IF(P36=Реглист!$C$89*4+4,Реглист!$C$89+1,RANK(P36,$P$4:$P$87,1)) -> 8
A37: =A36+1 -> 34 | B37: =Реглист!B37 -> Полесье | C37: =Реглист!C37 -> Рыбачук Евгений | D37: =IFERROR(VLOOKUP(C37,Т1За!$C$3:$D$45,2,0),0) -> 2047.89 | E37: =IFERROR(VLOOKUP(C37,Т1За!$C$3:$E$45,3,0),0) -> 8 | F37: =IFERROR(VLOOKUP(C37,Т1Зб!$C$3:$D$45,2,0),0) -> 0 | G37: =IFERROR(VLOOKUP(C37,Т1Зб!$C$3:$E$45,3,0),0) -> 0 | H37: =IFERROR(VLOOKUP(C37,Т2За!$C$3:$D$45,2,0),0) -> 0 | I37: =IFERROR(VLOOKUP(C37,Т2За!$C$3:$E$45,3,0),0) -> 0 | J37: =IFERROR(VLOOKUP(C37,Т2Зб!$C$3:$D$45,2,0),0) -> 483.38 | K37: =IFERROR(VLOOKUP(C37,Т2Зб!$C$3:$E$45,3,0),0) -> 27 | L37: =D37+F37+H37+J37 -> 2531.27 | M37: =IF(L37=0,Реглист!$C$89*2+2,E37+G37+I37+K37) -> 35 | N37: 35
A38: =A37+1 -> 35 | B38: =Реглист!B38 -> - | C38: =Реглист!C38 -> - | D38: =IFERROR(VLOOKUP(C38,Т1За!$C$3:$D$45,2,0),0) -> 0 | E38: =IFERROR(VLOOKUP(C38,Т1За!$C$3:$E$45,3,0),0) -> 43 | F38: =IFERROR(VLOOKUP(C38,Т1Зб!$C$3:$D$45,2,0),0) -> 0 | G38: =IFERROR(VLOOKUP(C38,Т1Зб!$C$3:$E$45,3,0),0) -> 43 | H38: =IFERROR(VLOOKUP(C38,Т2За!$C$3:$D$45,2,0),0) -> 0 | I38: =IFERROR(VLOOKUP(C38,Т2За!$C$3:$E$45,3,0),0) -> 43 | J38: =IFERROR(VLOOKUP(C38,Т2Зб!$C$3:$D$45,2,0),0) -> 0 | K38: =IFERROR(VLOOKUP(C38,Т2Зб!$C$3:$E$45,3,0),0) -> 43 | L38: =D38+F38+H38+J38 -> 0 | M38: =IF(L38=0,Реглист!$C$89*2+2,E38+G38+I38+K38) -> 86 | N38: =IF(M38=Реглист!$C$89*2+2,Реглист!$C$89*2+1,RANK(M38,$M$4:$M$87,1)) -> 85 | O38: =L38+L39 -> 0 | P38: =IF(O38=0,Реглист!$C$89*4+4,M38+M39) -> 172 | Q38: =IF(P38=Реглист!$C$89*4+4,Реглист!$C$89+1,RANK(P38,$P$4:$P$87,1)) -> 43
A39: =A38+1 -> 36 | B39: =Реглист!B39 -> - | C39: =Реглист!C39 -> - | D39: =IFERROR(VLOOKUP(C39,Т1За!$C$3:$D$45,2,0),0) -> 0 | E39: =IFERROR(VLOOKUP(C39,Т1За!$C$3:$E$45,3,0),0) -> 43 | F39: =IFERROR(VLOOKUP(C39,Т1Зб!$C$3:$D$45,2,0),0) -> 0 | G39: =IFERROR(VLOOKUP(C39,Т1Зб!$C$3:$E$45,3,0),0) -> 43 | H39: =IFERROR(VLOOKUP(C39,Т2За!$C$3:$D$45,2,0),0) -> 0 | I39: =IFERROR(VLOOKUP(C39,Т2За!$C$3:$E$45,3,0),0) -> 43 | J39: =IFERROR(VLOOKUP(C39,Т2Зб!$C$3:$D$45,2,0),0) -> 0 | K39: =IFERROR(VLOOKUP(C39,Т2Зб!$C$3:$E$45,3,0),0) -> 43 | L39: =D39+F39+H39+J39 -> 0 | M39: =IF(L39=0,Реглист!$C$89*2+2,E39+G39+I39+K39) -> 86 | N39: =IF(M39=Реглист!$C$89*2+2,Реглист!$C$89*2+1,RANK(M39,$M$4:$M$87,1)) -> 85
A40: =A39+1 -> 37 | B40: =Реглист!B40 -> Брест над Бугом | C40: =Реглист!C40 -> Шумко Александр | D40: =IFERROR(VLOOKUP(C40,Т1За!$C$3:$D$45,2,0),0) -> 0 | E40: =IFERROR(VLOOKUP(C40,Т1За!$C$3:$E$45,3,0),0) -> 0 | F40: =IFERROR(VLOOKUP(C40,Т1Зб!$C$3:$D$45,2,0),0) -> 2434.5 | G40: =IFERROR(VLOOKUP(C40,Т1Зб!$C$3:$E$45,3,0),0) -> 9 | H40: =IFERROR(VLOOKUP(C40,Т2За!$C$3:$D$45,2,0),0) -> 760.18 | I40: =IFERROR(VLOOKUP(C40,Т2За!$C$3:$E$45,3,0),0) -> 21 | J40: =IFERROR(VLOOKUP(C40,Т2Зб!$C$3:$D$45,2,0),0) -> 0 | K40: =IFERROR(VLOOKUP(C40,Т2Зб!$C$3:$E$45,3,0),0) -> 0 | L40: =D40+F40+H40+J40 -> 3194.68 | M40: =IF(L40=0,Реглист!$C$89*2+2,E40+G40+I40+K40) -> 30 | N40: =IF(M40=Реглист!$C$89*2+2,Реглист!$C$89*2+1,RANK(M40,$M$4:$M$87,1)) -> 25 | O40: =L40+L41 -> 9128.5 | P40: =IF(O40=0,Реглист!$C$89*4+4,M40+M41) -> 42 | Q40: 5
A41: =A40+1 -> 38 | B41: =Реглист!B41 -> Брест над Бугом | C41: =Реглист!C41 -> Тысевич Сергей | D41: =IFERROR(VLOOKUP(C41,Т1За!$C$3:$D$45,2,0),0) -> 4472 | E41: =IFERROR(VLOOKUP(C41,Т1За!$C$3:$E$45,3,0),0) -> 2 | F41: =IFERROR(VLOOKUP(C41,Т1Зб!$C$3:$D$45,2,0),0) -> 0 | G41: =IFERROR(VLOOKUP(C41,Т1Зб!$C$3:$E$45,3,0),0) -> 0 | H41: =IFERROR(VLOOKUP(C41,Т2За!$C$3:$D$45,2,0),0) -> 0 | I41: =IFERROR(VLOOKUP(C41,Т2За!$C$3:$E$45,3,0),0) -> 0 | J41: =IFERROR(VLOOKUP(C41,Т2Зб!$C$3:$D$45,2,0),0) -> 1461.82 | K41: =IFERROR(VLOOKUP(C41,Т2Зб!$C$3:$E$45,3,0),0) -> 10 | L41: =D41+F41+H41+J41 -> 5933.82 | M41: =IF(L41=0,Реглист!$C$89*2+2,E41+G41+I41+K41) -> 12 | N41: =IF(M41=Реглист!$C$89*2+2,Реглист!$C$89*2+1,RANK(M41,$M$4:$M$87,1)) -> 5
A42: =A41+1 -> 39 | B42: =Реглист!B42 -> Гефест-Техника | C42: =Реглист!C42 -> Остапук Александр | D42: =IFERROR(VLOOKUP(C42,Т1За!$C$3:$D$45,2,0),0) -> 0 | E42: =IFERROR(VLOOKUP(C42,Т1За!$C$3:$E$45,3,0),0) -> 0 | F42: =IFERROR(VLOOKUP(C42,Т1Зб!$C$3:$D$45,2,0),0) -> 1071.15 | G42: =IFERROR(VLOOKUP(C42,Т1Зб!$C$3:$E$45,3,0),0) -> 23 | H42: =IFERROR(VLOOKUP(C42,Т2За!$C$3:$D$45,2,0),0) -> 1806.25 | I42: =IFERROR(VLOOKUP(C42,Т2За!$C$3:$E$45,3,0),0) -> 10 | J42: =IFERROR(VLOOKUP(C42,Т2Зб!$C$3:$D$45,2,0),0) -> 0 | K42: =IFERROR(VLOOKUP(C42,Т2Зб!$C$3:$E$45,3,0),0) -> 0 | L42: =D42+F42+H42+J42 -> 2877.4 | M42: =IF(L42=0,Реглист!$C$89*2+2,E42+G42+I42+K42) -> 33 | N42: =IF(M42=Реглист!$C$89*2+2,Реглист!$C$89*2+1,RANK(M42,$M$4:$M$87,1)) -> 28 | O42: =L42+L43 -> 3303.74 | P42: =IF(O42=0,Реглист!$C$89*4+4,M42+M43) -> 104 | Q42: 30
A43: =A42+1 -> 40 | B43: =Реглист!B43 -> Гефест-Техника | C43: =Реглист!C43 -> Лобацевич Виктор | D43: =IFERROR(VLOOKUP(C43,Т1За!$C$3:$D$45,2,0),0) -> 210.25 | E43: =IFERROR(VLOOKUP(C43,Т1За!$C$3:$E$45,3,0),0) -> 37 | F43: =IFERROR(VLOOKUP(C43,Т1Зб!$C$3:$D$45,2,0),0) -> 0 | G43: =IFERROR(VLOOKUP(C43,Т1Зб!$C$3:$E$45,3,0),0) -> 0 | H43: =IFERROR(VLOOKUP(C43,Т2За!$C$3:$D$45,2,0),0) -> 0 | I43: =IFERROR(VLOOKUP(C43,Т2За!$C$3:$E$45,3,0),0) -> 0 | J43: =IFERROR(VLOOKUP(C43,Т2Зб!$C$3:$D$45,2,0),0) -> 216.09 | K43: =IFERROR(VLOOKUP(C43,Т2Зб!$C$3:$E$45,3,0),0) -> 34 | L43: =D43+F43+H43+J43 -> 426.34 | M43: =IF(L43=0,Реглист!$C$89*2+2,E43+G43+I43+K43) -> 71 | N43: =IF(M43=Реглист!$C$89*2+2,Реглист!$C$89*2+1,RANK(M43,$M$4:$M$87,1)) -> 74
A44: =A43+1 -> 41 | B44: =Реглист!B44 -> Gefest | C44: =Реглист!C44 -> Саган Сергей | D44: =IFERROR(VLOOKUP(C44,Т1За!$C$3:$D$45,2,0),0) -> 1890.65 | E44: =IFERROR(VLOOKUP(C44,Т1За!$C$3:$E$45,3,0),0) -> 12 | F44: =IFERROR(VLOOKUP(C44,Т1Зб!$C$3:$D$45,2,0),0) -> 0 | G44: =IFERROR(VLOOKUP(C44,Т1Зб!$C$3:$E$45,3,0),0) -> 0 | H44: =IFERROR(VLOOKUP(C44,Т2За!$C$3:$D$45,2,0),0) -> 0 | I44: =IFERROR(VLOOKUP(C44,Т2За!$C$3:$E$45,3,0),0) -> 0 | J44: =IFERROR(VLOOKUP(C44,Т2Зб!$C$3:$D$45,2,0),0) -> 998.42 | K44: =IFERROR(VLOOKUP(C44,Т2Зб!$C$3:$E$45,3,0),0) -> 17 | L44: =D44+F44+H44+J44 -> 2889.07 | M44: =IF(L44=0,Реглист!$C$89*2+2,E44+G44+I44+K44) -> 29 | N44: =IF(M44=Реглист!$C$89*2+2,Реглист!$C$89*2+1,RANK(M44,$M$4:$M$87,1)) -> 24 | O44: =L44+L45 -> 4855.67 | P44: =IF(O44=0,Реглист!$C$89*4+4,M44+M45) -> 76 | Q44: =IF(P44=Реглист!$C$89*4+4,Реглист!$C$89+1,RANK(P44,$P$4:$P$87,1)) -> 20
A45: =A44+1 -> 42 | B45: =Реглист!B45 -> Gefest | C45: =Реглист!C45 -> Радчук Юрий | D45: =IFERROR(VLOOKUP(C45,Т1За!$C$3:$D$45,2,0),0) -> 0 | E45: =IFERROR(VLOOKUP(C45,Т1За!$C$3:$E$45,3,0),0) -> 0 | F45: =IFERROR(VLOOKUP(C45,Т1Зб!$C$3:$D$45,2,0),0) -> 611.29 | G45: =IFERROR(VLOOKUP(C45,Т1Зб!$C$3:$E$45,3,0),0) -> 31 | H45: =IFERROR(VLOOKUP(C45,Т2За!$C$3:$D$45,2,0),0) -> 1355.31 | I45: =IFERROR(VLOOKUP(C45,Т2За!$C$3:$E$45,3,0),0) -> 16 | J45: =IFERROR(VLOOKUP(C45,Т2Зб!$C$3:$D$45,2,0),0) -> 0 | K45: =IFERROR(VLOOKUP(C45,Т2Зб!$C$3:$E$45,3,0),0) -> 0 | L45: =D45+F45+H45+J45 -> 1966.6 | M45: =IF(L45=0,Реглист!$C$89*2+2,E45+G45+I45+K45) -> 47 | N45: =IF(M45=Реглист!$C$89*2+2,Реглист!$C$89*2+1,RANK(M45,$M$4:$M$87,1)) -> 50
A46: =A45+1 -> 43 | B46: =Реглист!B46 -> West Fishing | C46: =Реглист!C46 -> Непомнящий Виктор | D46: =IFERROR(VLOOKUP(C46,Т1За!$C$3:$D$45,2,0),0) -> 0 | E46: =IFERROR(VLOOKUP(C46,Т1За!$C$3:$E$45,3,0),0) -> 0 | F46: =IFERROR(VLOOKUP(C46,Т1Зб!$C$3:$D$45,2,0),0) -> 1165.43 | G46: =IFERROR(VLOOKUP(C46,Т1Зб!$C$3:$E$45,3,0),0) -> 20 | H46: =IFERROR(VLOOKUP(C46,Т2За!$C$3:$D$45,2,0),0) -> 1992.99 | I46: =IFERROR(VLOOKUP(C46,Т2За!$C$3:$E$45,3,0),0) -> 8 | J46: =IFERROR(VLOOKUP(C46,Т2Зб!$C$3:$D$45,2,0),0) -> 0 | K46: =IFERROR(VLOOKUP(C46,Т2Зб!$C$3:$E$45,3,0),0) -> 0 | L46: =D46+F46+H46+J46 -> 3158.42 | M46: =IF(L46=0,Реглист!$C$89*2+2,E46+G46+I46+K46) -> 28 | N46: =IF(M46=Реглист!$C$89*2+2,Реглист!$C$89*2+1,RANK(M46,$M$4:$M$87,1)) -> 20 | O46: =L46+L47 -> 4797.1 | P46: =IF(O46=0,Реглист!$C$89*4+4,M46+M47) -> 75 | Q46: =IF(P46=Реглист!$C$89*4+4,Реглист!$C$89+1,RANK(P46,$P$4:$P$87,1)) -> 19
A47: =A46+1 -> 44 | B47: =Реглист!B47 -> West Fishing | C47: =Реглист!C47 -> Золотарь Андрей | D47: =IFERROR(VLOOKUP(C47,Т1За!$C$3:$D$45,2,0),0) -> 913.14 | E47: =IFERROR(VLOOKUP(C47,Т1За!$C$3:$E$45,3,0),0) -> 25 | F47: =IFERROR(VLOOKUP(C47,Т1Зб!$C$3:$D$45,2,0),0) -> 0 | G47: =IFERROR(VLOOKUP(C47,Т1Зб!$C$3:$E$45,3,0),0) -> 0 | H47: =IFERROR(VLOOKUP(C47,Т2За!$C$3:$D$45,2,0),0) -> 0 | I47: =IFERROR(VLOOKUP(C47,Т2За!$C$3:$E$45,3,0),0) -> 0 | J47: =IFERROR(VLOOKUP(C47,Т2Зб!$C$3:$D$45,2,0),0) -> 725.54 | K47: =IFERROR(VLOOKUP(C47,Т2Зб!$C$3:$E$45,3,0),0) -> 22 | L47: =D47+F47+H47+J47 -> 1638.68 | M47: =IF(L47=0,Реглист!$C$89*2+2,E47+G47+I47+K47) -> 47 | N47: 51
A48: =A47+1 -> 45 | B48: =Реглист!B48 -> Solfishing | C48: =Реглист!C48 -> Санько Александр | D48: =IFERROR(VLOOKUP(C48,Т1За!$C$3:$D$45,2,0),0) -> 0 | E48: =IFERROR(VLOOKUP(C48,Т1За!$C$3:$E$45,3,0),0) -> 0 | F48: =IFERROR(VLOOKUP(C48,Т1Зб!$C$3:$D$45,2,0),0) -> 1086.19 | G48: =IFERROR(VLOOKUP(C48,Т1Зб!$C$3:$E$45,3,0),0) -> 21 | H48: =IFERROR(VLOOKUP(C48,Т2За!$C$3:$D$45,2,0),0) -> 1490.76 | I48: =IFERROR(VLOOKUP(C48,Т2За!$C$3:$E$45,3,0),0) -> 13 | J48: =IFERROR(VLOOKUP(C48,Т2Зб!$C$3:$D$45,2,0),0) -> 0 | K48: =IFERROR(VLOOKUP(C48,Т2Зб!$C$3:$E$45,3,0),0) -> 0 | L48: =D48+F48+H48+J48 -> 2576.95 | M48: =IF(L48=0,Реглист!$C$89*2+2,E48+G48+I48+K48) -> 34 | N48: 32 | O48: =L48+L49 -> 4828.72 | P48: =IF(O48=0,Реглист!$C$89*4+4,M48+M49) -> 74 | Q48: =IF(P48=Реглист!$C$89*4+4,Реглист!$C$89+1,RANK(P48,$P$4:$P$87,1)) -> 18
A49: =A48+1 -> 46 | B49: =Реглист!B49 -> Solfishing | C49: =Реглист!C49 -> Губчик Александр | D49: =IFERROR(VLOOKUP(C49,Т1За!$C$3:$D$45,2,0),0) -> 1933.93 | E49: =IFERROR(VLOOKUP(C49,Т1За!$C$3:$E$45,3,0),0) -> 10 | F49: =IFERROR(VLOOKUP(C49,Т1Зб!$C$3:$D$45,2,0),0) -> 0 | G49: =IFERROR(VLOOKUP(C49,Т1Зб!$C$3:$E$45,3,0),0) -> 0 | H49: =IFERROR(VLOOKUP(C49,Т2За!$C$3:$D$45,2,0),0) -> 0 | I49: =IFERROR(VLOOKUP(C49,Т2За!$C$3:$E$45,3,0),0) -> 0 | J49: =IFERROR(VLOOKUP(C49,Т2Зб!$C$3:$D$45,2,0),0) -> 317.84 | K49: =IFERROR(VLOOKUP(C49,Т2Зб!$C$3:$E$45,3,0),0) -> 30 | L49: =D49+F49+H49+J49 -> 2251.77 | M49: =IF(L49=0,Реглист!$C$89*2+2,E49+G49+I49+K49) -> 40 | N49: =IF(M49=Реглист!$C$89*2+2,Реглист!$C$89*2+1,RANK(M49,$M$4:$M$87,1)) -> 42
A50: =A49+1 -> 47 | B50: =Реглист!B50 -> Орловские | C50: =Реглист!C50 -> Пластун Вячеслав | D50: =IFERROR(VLOOKUP(C50,Т1За!$C$3:$D$45,2,0),0) -> 585.14 | E50: =IFERROR(VLOOKUP(C50,Т1За!$C$3:$E$45,3,0),0) -> 33 | F50: =IFERROR(VLOOKUP(C50,Т1Зб!$C$3:$D$45,2,0),0) -> 0 | G50: =IFERROR(VLOOKUP(C50,Т1Зб!$C$3:$E$45,3,0),0) -> 0 | H50: =IFERROR(VLOOKUP(C50,Т2За!$C$3:$D$45,2,0),0) -> 0 | I50: =IFERROR(VLOOKUP(C50,Т2За!$C$3:$E$45,3,0),0) -> 0 | J50: =IFERROR(VLOOKUP(C50,Т2Зб!$C$3:$D$45,2,0),0) -> 885.3 | K50: =IFERROR(VLOOKUP(C50,Т2Зб!$C$3:$E$45,3,0),0) -> 18 | L50: =D50+F50+H50+J50 -> 1470.44 | M50: =IF(L50=0,Реглист!$C$89*2+2,E50+G50+I50+K50) -> 51 | N50: =IF(M50=Реглист!$C$89*2+2,Реглист!$C$89*2+1,RANK(M50,$M$4:$M$87,1)) -> 55 | O50: =L50+L51 -> 3802.62 | P50: =IF(O50=0,Реглист!$C$89*4+4,M50+M51) -> 89 | Q50: =IF(P50=Реглист!$C$89*4+4,Реглист!$C$89+1,RANK(P50,$P$4:$P$87,1)) -> 25
A51: =A50+1 -> 48 | B51: =Реглист!B51 -> Орловские | C51: =Реглист!C51 -> Боровик Андрей | D51: =IFERROR(VLOOKUP(C51,Т1За!$C$3:$D$45,2,0),0) -> 0 | E51: =IFERROR(VLOOKUP(C51,Т1За!$C$3:$E$45,3,0),0) -> 0 | F51: =IFERROR(VLOOKUP(C51,Т1Зб!$C$3:$D$45,2,0),0) -> 1645.74 | G51: =IFERROR(VLOOKUP(C51,Т1Зб!$C$3:$E$45,3,0),0) -> 16 | H51: =IFERROR(VLOOKUP(C51,Т2За!$C$3:$D$45,2,0),0) -> 686.44 | I51: =IFERROR(VLOOKUP(C51,Т2За!$C$3:$E$45,3,0),0) -> 22 | J51: =IFERROR(VLOOKUP(C51,Т2Зб!$C$3:$D$45,2,0),0) -> 0 | K51: =IFERROR(VLOOKUP(C51,Т2Зб!$C$3:$E$45,3,0),0) -> 0 | L51: =D51+F51+H51+J51 -> 2332.18 | M51: =IF(L51=0,Реглист!$C$89*2+2,E51+G51+I51+K51) -> 38 | N51: 40
A52: =A51+1 -> 49 | B52: =Реглист!B52 -> Marksman | C52: =Реглист!C52 -> Артёмчик Евгений | D52: =IFERROR(VLOOKUP(C52,Т1За!$C$3:$D$45,2,0),0) -> 0 | E52: =IFERROR(VLOOKUP(C52,Т1За!$C$3:$E$45,3,0),0) -> 0 | F52: =IFERROR(VLOOKUP(C52,Т1Зб!$C$3:$D$45,2,0),0) -> 1242.59 | G52: =IFERROR(VLOOKUP(C52,Т1Зб!$C$3:$E$45,3,0),0) -> 19 | H52: =IFERROR(VLOOKUP(C52,Т2За!$C$3:$D$45,2,0),0) -> 625.63 | I52: =IFERROR(VLOOKUP(C52,Т2За!$C$3:$E$45,3,0),0) -> 25 | J52: =IFERROR(VLOOKUP(C52,Т2Зб!$C$3:$D$45,2,0),0) -> 0 | K52: =IFERROR(VLOOKUP(C52,Т2Зб!$C$3:$E$45,3,0),0) -> 0 | L52: =D52+F52+H52+J52 -> 1868.22 | M52: =IF(L52=0,Реглист!$C$89*2+2,E52+G52+I52+K52) -> 44 | N52: 48 | O52: =L52+L53 -> 5850.87 | P52: =IF(O52=0,Реглист!$C$89*4+4,M52+M53) -> 55 | Q52: =IF(P52=Реглист!$C$89*4+4,Реглист!$C$89+1,RANK(P52,$P$4:$P$87,1)) -> 11
A53: =A52+1 -> 50 | B53: =Реглист!B53 -> Marksman | C53: =Реглист!C53 -> Огейко Юрий | D53: =IFERROR(VLOOKUP(C53,Т1За!$C$3:$D$45,2,0),0) -> 2416.41 | E53: =IFERROR(VLOOKUP(C53,Т1За!$C$3:$E$45,3,0),0) -> 4 | F53: =IFERROR(VLOOKUP(C53,Т1Зб!$C$3:$D$45,2,0),0) -> 0 | G53: =IFERROR(VLOOKUP(C53,Т1Зб!$C$3:$E$45,3,0),0) -> 0 | H53: =IFERROR(VLOOKUP(C53,Т2За!$C$3:$D$45,2,0),0) -> 0 | I53: =IFERROR(VLOOKUP(C53,Т2За!$C$3:$E$45,3,0),0) -> 0 | J53: =IFERROR(VLOOKUP(C53,Т2Зб!$C$3:$D$45,2,0),0) -> 1566.24 | K53: =IFERROR(VLOOKUP(C53,Т2Зб!$C$3:$E$45,3,0),0) -> 7 | L53: =D53+F53+H53+J53 -> 3982.65 | M53: =IF(L53=0,Реглист!$C$89*2+2,E53+G53+I53+K53) -> 11 | N53: =IF(M53=Реглист!$C$89*2+2,Реглист!$C$89*2+1,RANK(M53,$M$4:$M$87,1)) -> 4
A54: =A53+1 -> 51 | B54: =Реглист!B54 -> UL soldiers of fortune | C54: =Реглист!C54 -> Дешкевич Виталий | D54: =IFERROR(VLOOKUP(C54,Т1За!$C$3:$D$45,2,0),0) -> 935.33 | E54: =IFERROR(VLOOKUP(C54,Т1За!$C$3:$E$45,3,0),0) -> 23 | F54: =IFERROR(VLOOKUP(C54,Т1Зб!$C$3:$D$45,2,0),0) -> 0 | G54: =IFERROR(VLOOKUP(C54,Т1Зб!$C$3:$E$45,3,0),0) -> 0 | H54: =IFERROR(VLOOKUP(C54,Т2За!$C$3:$D$45,2,0),0) -> 0 | I54: =IFERROR(VLOOKUP(C54,Т2За!$C$3:$E$45,3,0),0) -> 0 | J54: =IFERROR(VLOOKUP(C54,Т2Зб!$C$3:$D$45,2,0),0) -> 0 | K54: =IFERROR(VLOOKUP(C54,Т2Зб!$C$3:$E$45,3,0),0) -> 43 | L54: =D54+F54+H54+J54 -> 935.33 | M54: =IF(L54=0,Реглист!$C$89*2+2,E54+G54+I54+K54) -> 66 | N54: =IF(M54=Реглист!$C$89*2+2,Реглист!$C$89*2+1,RANK(M54,$M$4:$M$87,1)) -> 69 | O54: =L54+L55 -> 1642.34 | P54: =IF(O54=0,Реглист!$C$89*4+4,M54+M55) -> 134 | Q54: =IF(P54=Реглист!$C$89*4+4,Реглист!$C$89+1,RANK(P54,$P$4:$P$87,1)) -> 38
A55: =A54+1 -> 52 | B55: =Реглист!B55 -> UL soldiers of fortune | C55: =Реглист!C55 -> Андрианов Илья | D55: =IFERROR(VLOOKUP(C55,Т1За!$C$3:$D$45,2,0),0) -> 0 | E55: =IFERROR(VLOOKUP(C55,Т1За!$C$3:$E$45,3,0),0) -> 0 | F55: =IFERROR(VLOOKUP(C55,Т1Зб!$C$3:$D$45,2,0),0) -> 553.25 | G55: =IFERROR(VLOOKUP(C55,Т1Зб!$C$3:$E$45,3,0),0) -> 33 | H55: =IFERROR(VLOOKUP(C55,Т2За!$C$3:$D$45,2,0),0) -> 153.76 | I55: =IFERROR(VLOOKUP(C55,Т2За!$C$3:$E$45,3,0),0) -> 35 | J55: =IFERROR(VLOOKUP(C55,Т2Зб!$C$3:$D$45,2,0),0) -> 0 | K55: =IFERROR(VLOOKUP(C55,Т2Зб!$C$3:$E$45,3,0),0) -> 0 | L55: =D55+F55+H55+J55 -> 707.01 | M55: =IF(L55=0,Реглист!$C$89*2+2,E55+G55+I55+K55) -> 68 | N55: =IF(M55=Реглист!$C$89*2+2,Реглист!$C$89*2+1,RANK(M55,$M$4:$M$87,1)) -> 71
A56: =A55+1 -> 53 | B56: =Реглист!B56 -> Fishka | C56: =Реглист!C56 -> Насиров Эмин | D56: =IFERROR(VLOOKUP(C56,Т1За!$C$3:$D$45,2,0),0) -> 2790.15 | E56: =IFERROR(VLOOKUP(C56,Т1За!$C$3:$E$45,3,0),0) -> 3 | F56: =IFERROR(VLOOKUP(C56,Т1Зб!$C$3:$D$45,2,0),0) -> 0 | G56: =IFERROR(VLOOKUP(C56,Т1Зб!$C$3:$E$45,3,0),0) -> 0 | H56: =IFERROR(VLOOKUP(C56,Т2За!$C$3:$D$45,2,0),0) -> 0 | I56: =IFERROR(VLOOKUP(C56,Т2За!$C$3:$E$45,3,0),0) -> 0 | J56: =IFERROR(VLOOKUP(C56,Т2Зб!$C$3:$D$45,2,0),0) -> 1105.73 | K56: =IFERROR(VLOOKUP(C56,Т2Зб!$C$3:$E$45,3,0),0) -> 15 | L56: =D56+F56+H56+J56 -> 3895.88 | M56: =IF(L56=0,Реглист!$C$89*2+2,E56+G56+I56+K56) -> 18 | N56: 11 | O56: =L56+L57 -> 7118.83 | P56: =IF(O56=0,Реглист!$C$89*4+4,M56+M57) -> 52 | Q56: 10
A57: =A56+1 -> 54 | B57: =Реглист!B57 -> Fishka | C57: =Реглист!C57 -> Наконечник Александр | D57: =IFERROR(VLOOKUP(C57,Т1За!$C$3:$D$45,2,0),0) -> 0 | E57: =IFERROR(VLOOKUP(C57,Т1За!$C$3:$E$45,3,0),0) -> 0 | F57: =IFERROR(VLOOKUP(C57,Т1Зб!$C$3:$D$45,2,0),0) -> 2765.66 | G57: =IFERROR(VLOOKUP(C57,Т1Зб!$C$3:$E$45,3,0),0) -> 7 | H57: =IFERROR(VLOOKUP(C57,Т2За!$C$3:$D$45,2,0),0) -> 457.29 | I57: =IFERROR(VLOOKUP(C57,Т2За!$C$3:$E$45,3,0),0) -> 27 | J57: =IFERROR(VLOOKUP(C57,Т2Зб!$C$3:$D$45,2,0),0) -> 0 | K57: =IFERROR(VLOOKUP(C57,Т2Зб!$C$3:$E$45,3,0),0) -> 0 | L57: =D57+F57+H57+J57 -> 3222.95 | M57: =IF(L57=0,Реглист!$C$89*2+2,E57+G57+I57+K57) -> 34 | N57: =IF(M57=Реглист!$C$89*2+2,Реглист!$C$89*2+1,RANK(M57,$M$4:$M$87,1)) -> 29
A58: =A57+1 -> 55 | B58: =Реглист!B58 -> Бульба з Салам | C58: =Реглист!C58 -> Бобриков Алексей | D58: =IFERROR(VLOOKUP(C58,Т1За!$C$3:$D$45,2,0),0) -> 390.65 | E58: =IFERROR(VLOOKUP(C58,Т1За!$C$3:$E$45,3,0),0) -> 35 | F58: =IFERROR(VLOOKUP(C58,Т1Зб!$C$3:$D$45,2,0),0) -> 0 | G58: =IFERROR(VLOOKUP(C58,Т1Зб!$C$3:$E$45,3,0),0) -> 0 | H58: =IFERROR(VLOOKUP(C58,Т2За!$C$3:$D$45,2,0),0) -> 0 | I58: =IFERROR(VLOOKUP(C58,Т2За!$C$3:$E$45,3,0),0) -> 0 | J58: =IFERROR(VLOOKUP(C58,Т2Зб!$C$3:$D$45,2,0),0) -> 731.15 | K58: =IFERROR(VLOOKUP(C58,Т2Зб!$C$3:$E$45,3,0),0) -> 21 | L58: =D58+F58+H58+J58 -> 1121.8 | M58: =IF(L58=0,Реглист!$C$89*2+2,E58+G58+I58+K58) -> 56 | N58: 60 | O58: =L58+L59 -> 1524.89 | P58: =IF(O58=0,Реглист!$C$89*4+4,M58+M59) -> 129 | Q58: =IF(P58=Реглист!$C$89*4+4,Реглист!$C$89+1,RANK(P58,$P$4:$P$87,1)) -> 36
A59: =A58+1 -> 56 | B59: =Реглист!B59 -> Бульба з Салам | C59: =Реглист!C59 -> Лунякин Олег | D59: =IFERROR(VLOOKUP(C59,Т1За!$C$3:$D$45,2,0),0) -> 0 | E59: =IFERROR(VLOOKUP(C59,Т1За!$C$3:$E$45,3,0),0) -> 0 | F59: =IFERROR(VLOOKUP(C59,Т1Зб!$C$3:$D$45,2,0),0) -> 234.09 | G59: =IFERROR(VLOOKUP(C59,Т1Зб!$C$3:$E$45,3,0),0) -> 39 | H59: =IFERROR(VLOOKUP(C59,Т2За!$C$3:$D$45,2,0),0) -> 169 | I59: =IFERROR(VLOOKUP(C59,Т2За!$C$3:$E$45,3,0),0) -> 34 | J59: =IFERROR(VLOOKUP(C59,Т2Зб!$C$3:$D$45,2,0),0) -> 0 | K59: =IFERROR(VLOOKUP(C59,Т2Зб!$C$3:$E$45,3,0),0) -> 0 | L59: =D59+F59+H59+J59 -> 403.09 | M59: =IF(L59=0,Реглист!$C$89*2+2,E59+G59+I59+K59) -> 73 | N59: =IF(M59=Реглист!$C$89*2+2,Реглист!$C$89*2+1,RANK(M59,$M$4:$M$87,1)) -> 76
A60: =A59+1 -> 57 | B60: =Реглист!B60 -> VODNIK_TEAM | C60: =Реглист!C60 -> Цветков Алексей | D60: =IFERROR(VLOOKUP(C60,Т1За!$C$3:$D$45,2,0),0) -> 0 | E60: =IFERROR(VLOOKUP(C60,Т1За!$C$3:$E$45,3,0),0) -> 0 | F60: =IFERROR(VLOOKUP(C60,Т1Зб!$C$3:$D$45,2,0),0) -> 851.24 | G60: =IFERROR(VLOOKUP(C60,Т1Зб!$C$3:$E$45,3,0),0) -> 27 | H60: =IFERROR(VLOOKUP(C60,Т2За!$C$3:$D$45,2,0),0) -> 0 | I60: =IFERROR(VLOOKUP(C60,Т2За!$C$3:$E$45,3,0),0) -> 43 | J60: =IFERROR(VLOOKUP(C60,Т2Зб!$C$3:$D$45,2,0),0) -> 0 | K60: =IFERROR(VLOOKUP(C60,Т2Зб!$C$3:$E$45,3,0),0) -> 0 | L60: =D60+F60+H60+J60 -> 851.24 | M60: =IF(L60=0,Реглист!$C$89*2+2,E60+G60+I60+K60) -> 70 | N60: =IF(M60=Реглист!$C$89*2+2,Реглист!$C$89*2+1,RANK(M60,$M$4:$M$87,1)) -> 73 | O60: =L60+L61 -> 1703.78 | P60: =IF(O60=0,Реглист!$C$89*4+4,M60+M61) -> 132 | Q60: =IF(P60=Реглист!$C$89*4+4,Реглист!$C$89+1,RANK(P60,$P$4:$P$87,1)) -> 37
A61: =A60+1 -> 58 | B61: =Реглист!B61 -> VODNIK_TEAM | C61: =Реглист!C61 -> Клевко Александр | D61: =IFERROR(VLOOKUP(C61,Т1За!$C$3:$D$45,2,0),0) -> 320.09 | E61: =IFERROR(VLOOKUP(C61,Т1За!$C$3:$E$45,3,0),0) -> 36 | F61: =IFERROR(VLOOKUP(C61,Т1Зб!$C$3:$D$45,2,0),0) -> 0 | G61: =IFERROR(VLOOKUP(C61,Т1Зб!$C$3:$E$45,3,0),0) -> 0 | H61: =IFERROR(VLOOKUP(C61,Т2За!$C$3:$D$45,2,0),0) -> 0 | I61: =IFERROR(VLOOKUP(C61,Т2За!$C$3:$E$45,3,0),0) -> 0 | J61: =IFERROR(VLOOKUP(C61,Т2Зб!$C$3:$D$45,2,0),0) -> 532.45 | K61: =IFERROR(VLOOKUP(C61,Т2Зб!$C$3:$E$45,3,0),0) -> 26 | L61: =D61+F61+H61+J61 -> 852.54 | M61: =IF(L61=0,Реглист!$C$89*2+2,E61+G61+I61+K61) -> 62 | N61: 67
A62: =A61+1 -> 59 | B62: =Реглист!B62 -> Лёлик и Болик | C62: =Реглист!C62 -> Францкевич Александр | D62: =IFERROR(VLOOKUP(C62,Т1За!$C$3:$D$45,2,0),0) -> 0 | E62: =IFERROR(VLOOKUP(C62,Т1За!$C$3:$E$45,3,0),0) -> 43 | F62: =IFERROR(VLOOKUP(C62,Т1Зб!$C$3:$D$45,2,0),0) -> 0 | G62: =IFERROR(VLOOKUP(C62,Т1Зб!$C$3:$E$45,3,0),0) -> 0 | H62: =IFERROR(VLOOKUP(C62,Т2За!$C$3:$D$45,2,0),0) -> 0 | I62: =IFERROR(VLOOKUP(C62,Т2За!$C$3:$E$45,3,0),0) -> 0 | J62: =IFERROR(VLOOKUP(C62,Т2Зб!$C$3:$D$45,2,0),0) -> 0 | K62: =IFERROR(VLOOKUP(C62,Т2Зб!$C$3:$E$45,3,0),0) -> 43 | L62: =D62+F62+H62+J62 -> 0 | M62: =IF(L62=0,Реглист!$C$89*2+2,E62+G62+I62+K62) -> 86 | N62: 81 | O62: =L62+L63 -> 5888.98 | P62: =IF(O62=0,Реглист!$C$89*4+4,M62+M63) -> 104 | Q62: =IF(P62=Реглист!$C$89*4+4,Реглист!$C$89+1,RANK(P62,$P$4:$P$87,1)) -> 28
A63: =A62+1 -> 60 | B63: =Реглист!B63 -> Лёлик и Болик | C63: =Реглист!C63 -> Ежков Игорь | D63: =IFERROR(VLOOKUP(C63,Т1За!$C$3:$D$45,2,0),0) -> 0 | E63: =IFERROR(VLOOKUP(C63,Т1За!$C$3:$E$45,3,0),0) -> 0 | F63: =IFERROR(VLOOKUP(C63,Т1Зб!$C$3:$D$45,2,0),0) -> 1478.25 | G63: =IFERROR(VLOOKUP(C63,Т1Зб!$C$3:$E$45,3,0),0) -> 17 | H63: =IFERROR(VLOOKUP(C63,Т2За!$C$3:$D$45,2,0),0) -> 4410.73 | I63: =IFERROR(VLOOKUP(C63,Т2За!$C$3:$E$45,3,0),0) -> 1 | J63: =IFERROR(VLOOKUP(C63,Т2Зб!$C$3:$D$45,2,0),0) -> 0 | K63: =IFERROR(VLOOKUP(C63,Т2Зб!$C$3:$E$45,3,0),0) -> 0 | L63: =D63+F63+H63+J63 -> 5888.98 | M63: =IF(L63=0,Реглист!$C$89*2+2,E63+G63+I63+K63) -> 18 | N63: =IF(M63=Реглист!$C$89*2+2,Реглист!$C$89*2+1,RANK(M63,$M$4:$M$87,1)) -> 10
A64: =A63+1 -> 61 | B64: =Реглист!B64 -> FavoriteTeamBelarus | C64: =Реглист!C64 -> Анпилов Андрей | D64: =IFERROR(VLOOKUP(C64,Т1За!$C$3:$D$45,2,0),0) -> 1362.15 | E64: =IFERROR(VLOOKUP(C64,Т1За!$C$3:$E$45,3,0),0) -> 21 | F64: =IFERROR(VLOOKUP(C64,Т1Зб!$C$3:$D$45,2,0),0) -> 0 | G64: =IFERROR(VLOOKUP(C64,Т1Зб!$C$3:$E$45,3,0),0) -> 0 | H64: =IFERROR(VLOOKUP(C64,Т2За!$C$3:$D$45,2,0),0) -> 0 | I64: =IFERROR(VLOOKUP(C64,Т2За!$C$3:$E$45,3,0),0) -> 0 | J64: =IFERROR(VLOOKUP(C64,Т2Зб!$C$3:$D$45,2,0),0) -> 2360.75 | K64: =IFERROR(VLOOKUP(C64,Т2Зб!$C$3:$E$45,3,0),0) -> 3 | L64: =D64+F64+H64+J64 -> 3722.9 | M64: =IF(L64=0,Реглист!$C$89*2+2,E64+G64+I64+K64) -> 24 | N64: =IF(M64=Реглист!$C$89*2+2,Реглист!$C$89*2+1,RANK(M64,$M$4:$M$87,1)) -> 17 | O64: =L64+L65 -> 6848.08 | P64: =IF(O64=0,Реглист!$C$89*4+4,M64+M65) -> 51 | Q64: 9
A65: =A64+1 -> 62 | B65: =Реглист!B65 -> FavoriteTeamBelarus | C65: =Реглист!C65 -> Шавшунов Никита | D65: =IFERROR(VLOOKUP(C65,Т1За!$C$3:$D$45,2,0),0) -> 0 | E65: =IFERROR(VLOOKUP(C65,Т1За!$C$3:$E$45,3,0),0) -> 0 | F65: =IFERROR(VLOOKUP(C65,Т1Зб!$C$3:$D$45,2,0),0) -> 1257.97 | G65: =IFERROR(VLOOKUP(C65,Т1Зб!$C$3:$E$45,3,0),0) -> 18 | H65: =IFERROR(VLOOKUP(C65,Т2За!$C$3:$D$45,2,0),0) -> 1867.21 | I65: =IFERROR(VLOOKUP(C65,Т2За!$C$3:$E$45,3,0),0) -> 9 | J65: =IFERROR(VLOOKUP(C65,Т2Зб!$C$3:$D$45,2,0),0) -> 0 | K65: =IFERROR(VLOOKUP(C65,Т2Зб!$C$3:$E$45,3,0),0) -> 0 | L65: =D65+F65+H65+J65 -> 3125.18 | M65: =IF(L65=0,Реглист!$C$89*2+2,E65+G65+I65+K65) -> 27 | N65: =IF(M65=Реглист!$C$89*2+2,Реглист!$C$89*2+1,RANK(M65,$M$4:$M$87,1)) -> 19
A66: =A65+1 -> 63 | B66: =Реглист!B66 -> - | C66: =Реглист!C66 -> - | D66: =IFERROR(VLOOKUP(C66,Т1За!$C$3:$D$45,2,0),0) -> 0 | E66: =IFERROR(VLOOKUP(C66,Т1За!$C$3:$E$45,3,0),0) -> 43 | F66: =IFERROR(VLOOKUP(C66,Т1Зб!$C$3:$D$45,2,0),0) -> 0 | G66: =IFERROR(VLOOKUP(C66,Т1Зб!$C$3:$E$45,3,0),0) -> 43 | H66: =IFERROR(VLOOKUP(C66,Т2За!$C$3:$D$45,2,0),0) -> 0 | I66: =IFERROR(VLOOKUP(C66,Т2За!$C$3:$E$45,3,0),0) -> 43 | J66: =IFERROR(VLOOKUP(C66,Т2Зб!$C$3:$D$45,2,0),0) -> 0 | K66: =IFERROR(VLOOKUP(C66,Т2Зб!$C$3:$E$45,3,0),0) -> 43 | L66: =D66+F66+H66+J66 -> 0 | M66: =IF(L66=0,Реглист!$C$89*2+2,E66+G66+I66+K66) -> 86 | N66: =IF(M66=Реглист!$C$89*2+2,Реглист!$C$89*2+1,RANK(M66,$M$4:$M$87,1)) -> 85 | O66: =L66+L67 -> 0 | P66: =IF(O66=0,Реглист!$C$89*4+4,M66+M67) -> 172 | Q66: =IF(P66=Реглист!$C$89*4+4,Реглист!$C$89+1,RANK(P66,$P$4:$P$87,1)) -> 43
A67: =A66+1 -> 64 | B67: =Реглист!B67 -> - | C67: =Реглист!C67 -> - | D67: =IFERROR(VLOOKUP(C67,Т1За!$C$3:$D$45,2,0),0) -> 0 | E67: =IFERROR(VLOOKUP(C67,Т1За!$C$3:$E$45,3,0),0) -> 43 | F67: =IFERROR(VLOOKUP(C67,Т1Зб!$C$3:$D$45,2,0),0) -> 0 | G67: =IFERROR(VLOOKUP(C67,Т1Зб!$C$3:$E$45,3,0),0) -> 43 | H67: =IFERROR(VLOOKUP(C67,Т2За!$C$3:$D$45,2,0),0) -> 0 | I67: =IFERROR(VLOOKUP(C67,Т2За!$C$3:$E$45,3,0),0) -> 43 | J67: =IFERROR(VLOOKUP(C67,Т2Зб!$C$3:$D$45,2,0),0) -> 0 | K67: =IFERROR(VLOOKUP(C67,Т2Зб!$C$3:$E$45,3,0),0) -> 43 | L67: =D67+F67+H67+J67 -> 0 | M67: =IF(L67=0,Реглист!$C$89*2+2,E67+G67+I67+K67) -> 86 | N67: =IF(M67=Реглист!$C$89*2+2,Реглист!$C$89*2+1,RANK(M67,$M$4:$M$87,1)) -> 85
A68: =A67+1 -> 65 | B68: =Реглист!B68 -> Непредсказуемые | C68: =Реглист!C68 -> Кайсин Иван | D68: =IFERROR(VLOOKUP(C68,Т1За!$C$3:$D$45,2,0),0) -> 1868.96 | E68: =IFERROR(VLOOKUP(C68,Т1За!$C$3:$E$45,3,0),0) -> 13 | F68: =IFERROR(VLOOKUP(C68,Т1Зб!$C$3:$D$45,2,0),0) -> 0 | G68: =IFERROR(VLOOKUP(C68,Т1Зб!$C$3:$E$45,3,0),0) -> 0 | H68: =IFERROR(VLOOKUP(C68,Т2За!$C$3:$D$45,2,0),0) -> 0 | I68: =IFERROR(VLOOKUP(C68,Т2За!$C$3:$E$45,3,0),0) -> 0 | J68: =IFERROR(VLOOKUP(C68,Т2Зб!$C$3:$D$45,2,0),0) -> 478.01 | K68: =IFERROR(VLOOKUP(C68,Т2Зб!$C$3:$E$45,3,0),0) -> 28 | L68: =D68+F68+H68+J68 -> 2346.97 | M68: =IF(L68=0,Реглист!$C$89*2+2,E68+G68+I68+K68) -> 41 | N68: =IF(M68=Реглист!$C$89*2+2,Реглист!$C$89*2+1,RANK(M68,$M$4:$M$87,1)) -> 43 | O68: =L68+L69 -> 3255.08 | P68: =IF(O68=0,Реглист!$C$89*4+4,M68+M69) -> 103 | Q68: =IF(P68=Реглист!$C$89*4+4,Реглист!$C$89+1,RANK(P68,$P$4:$P$87,1)) -> 27
A69: =A68+1 -> 66 | B69: =Реглист!B69 -> Непредсказуемые | C69: =Реглист!C69 -> Хомский Дмитрий | D69: =IFERROR(VLOOKUP(C69,Т1За!$C$3:$D$45,2,0),0) -> 0 | E69: =IFERROR(VLOOKUP(C69,Т1За!$C$3:$E$45,3,0),0) -> 0 | F69: =IFERROR(VLOOKUP(C69,Т1Зб!$C$3:$D$45,2,0),0) -> 482.5 | G69: =IFERROR(VLOOKUP(C69,Т1Зб!$C$3:$E$45,3,0),0) -> 34 | H69: =IFERROR(VLOOKUP(C69,Т2За!$C$3:$D$45,2,0),0) -> 425.61 | I69: =IFERROR(VLOOKUP(C69,Т2За!$C$3:$E$45,3,0),0) -> 28 | J69: =IFERROR(VLOOKUP(C69,Т2Зб!$C$3:$D$45,2,0),0) -> 0 | K69: =IFERROR(VLOOKUP(C69,Т2Зб!$C$3:$E$45,3,0),0) -> 0 | L69: =D69+F69+H69+J69 -> 908.11 | M69: =IF(L69=0,Реглист!$C$89*2+2,E69+G69+I69+K69) -> 62 | N69: 66
A70: =A69+1 -> 67 | B70: =Реглист!B70 -> No Name Team | C70: =Реглист!C70 -> Шевчук Дмитрий | D70: =IFERROR(VLOOKUP(C70,Т1За!$C$3:$D$45,2,0),0) -> 1813.97 | E70: =IFERROR(VLOOKUP(C70,Т1За!$C$3:$E$45,3,0),0) -> 14 | F70: =IFERROR(VLOOKUP(C70,Т1Зб!$C$3:$D$45,2,0),0) -> 0 | G70: =IFERROR(VLOOKUP(C70,Т1Зб!$C$3:$E$45,3,0),0) -> 0 | H70: =IFERROR(VLOOKUP(C70,Т2За!$C$3:$D$45,2,0),0) -> 0 | I70: =IFERROR(VLOOKUP(C70,Т2За!$C$3:$E$45,3,0),0) -> 0 | J70: =IFERROR(VLOOKUP(C70,Т2Зб!$C$3:$D$45,2,0),0) -> 1127.72 | K70: =IFERROR(VLOOKUP(C70,Т2Зб!$C$3:$E$45,3,0),0) -> 14 | L70: =D70+F70+H70+J70 -> 2941.69 | M70: =IF(L70=0,Реглист!$C$89*2+2,E70+G70+I70+K70) -> 28 | N70: 21 | O70: =L70+L71 -> 5441.44 | P70: =IF(O70=0,Реглист!$C$89*4+4,M70+M71) -> 66 | Q70: 16
A71: =A70+1 -> 68 | B71: =Реглист!B71 -> No Name Team | C71: =Реглист!C71 -> Евсеев Александр | D71: =IFERROR(VLOOKUP(C71,Т1За!$C$3:$D$45,2,0),0) -> 0 | E71: =IFERROR(VLOOKUP(C71,Т1За!$C$3:$E$45,3,0),0) -> 0 | F71: =IFERROR(VLOOKUP(C71,Т1Зб!$C$3:$D$45,2,0),0) -> 881.75 | G71: =IFERROR(VLOOKUP(C71,Т1Зб!$C$3:$E$45,3,0),0) -> 26 | H71: =IFERROR(VLOOKUP(C71,Т2За!$C$3:$D$45,2,0),0) -> 1618 | I71: =IFERROR(VLOOKUP(C71,Т2За!$C$3:$E$45,3,0),0) -> 12 | J71: =IFERROR(VLOOKUP(C71,Т2Зб!$C$3:$D$45,2,0),0) -> 0 | K71: =IFERROR(VLOOKUP(C71,Т2Зб!$C$3:$E$45,3,0),0) -> 0 | L71: =D71+F71+H71+J71 -> 2499.75 | M71: =IF(L71=0,Реглист!$C$89*2+2,E71+G71+I71+K71) -> 38 | N71: =IF(M71=Реглист!$C$89*2+2,Реглист!$C$89*2+1,RANK(M71,$M$4:$M$87,1)) -> 39
A72: =A71+1 -> 69 | B72: =Реглист!B72 -> Бобруйский Region | C72: =Реглист!C72 -> Прокопчик Алексей | D72: =IFERROR(VLOOKUP(C72,Т1За!$C$3:$D$45,2,0),0) -> 2037.11 | E72: =IFERROR(VLOOKUP(C72,Т1За!$C$3:$E$45,3,0),0) -> 9 | F72: =IFERROR(VLOOKUP(C72,Т1Зб!$C$3:$D$45,2,0),0) -> 0 | G72: =IFERROR(VLOOKUP(C72,Т1Зб!$C$3:$E$45,3,0),0) -> 0 | H72: =IFERROR(VLOOKUP(C72,Т2За!$C$3:$D$45,2,0),0) -> 0 | I72: =IFERROR(VLOOKUP(C72,Т2За!$C$3:$E$45,3,0),0) -> 0 | J72: =IFERROR(VLOOKUP(C72,Т2Зб!$C$3:$D$45,2,0),0) -> 0 | K72: =IFERROR(VLOOKUP(C72,Т2Зб!$C$3:$E$45,3,0),0) -> 43 | L72: =D72+F72+H72+J72 -> 2037.11 | M72: =IF(L72=0,Реглист!$C$89*2+2,E72+G72+I72+K72) -> 52 | N72: =IF(M72=Реглист!$C$89*2+2,Реглист!$C$89*2+1,RANK(M72,$M$4:$M$87,1)) -> 56 | O72: =L72+L73 -> 2978.6 | P72: =IF(O72=0,Реглист!$C$89*4+4,M72+M73) -> 116 | Q72: =IF(P72=Реглист!$C$89*4+4,Реглист!$C$89+1,RANK(P72,$P$4:$P$87,1)) -> 32
A73: =A72+1 -> 70 | B73: =Реглист!B73 -> Бобруйский Region | C73: =Реглист!C73 -> Желенговский Петр | D73: =IFERROR(VLOOKUP(C73,Т1За!$C$3:$D$45,2,0),0) -> 0 | E73: =IFERROR(VLOOKUP(C73,Т1За!$C$3:$E$45,3,0),0) -> 0 | F73: =IFERROR(VLOOKUP(C73,Т1Зб!$C$3:$D$45,2,0),0) -> 797.49 | G73: =IFERROR(VLOOKUP(C73,Т1Зб!$C$3:$E$45,3,0),0) -> 28 | H73: =IFERROR(VLOOKUP(C73,Т2За!$C$3:$D$45,2,0),0) -> 144 | I73: =IFERROR(VLOOKUP(C73,Т2За!$C$3:$E$45,3,0),0) -> 36 | J73: =IFERROR(VLOOKUP(C73,Т2Зб!$C$3:$D$45,2,0),0) -> 0 | K73: =IFERROR(VLOOKUP(C73,Т2Зб!$C$3:$E$45,3,0),0) -> 0 | L73: =D73+F73+H73+J73 -> 941.49 | M73: =IF(L73=0,Реглист!$C$89*2+2,E73+G73+I73+K73) -> 64 | N73: =IF(M73=Реглист!$C$89*2+2,Реглист!$C$89*2+1,RANK(M73,$M$4:$M$87,1)) -> 68
A74: =A73+1 -> 71 | B74: =Реглист!B74 -> Nalovi.by | C74: =Реглист!C74 -> Ромук Михаил | D74: =IFERROR(VLOOKUP(C74,Т1За!$C$3:$D$45,2,0),0) -> 845.01 | E74: =IFERROR(VLOOKUP(C74,Т1За!$C$3:$E$45,3,0),0) -> 29 | F74: =IFERROR(VLOOKUP(C74,Т1Зб!$C$3:$D$45,2,0),0) -> 0 | G74: =IFERROR(VLOOKUP(C74,Т1Зб!$C$3:$E$45,3,0),0) -> 0 | H74: =IFERROR(VLOOKUP(C74,Т2За!$C$3:$D$45,2,0),0) -> 0 | I74: =IFERROR(VLOOKUP(C74,Т2За!$C$3:$E$45,3,0),0) -> 0 | J74: =IFERROR(VLOOKUP(C74,Т2Зб!$C$3:$D$45,2,0),0) -> 249.64 | K74: =IFERROR(VLOOKUP(C74,Т2Зб!$C$3:$E$45,3,0),0) -> 32 | L74: =D74+F74+H74+J74 -> 1094.65 | M74: =IF(L74=0,Реглист!$C$89*2+2,E74+G74+I74+K74) -> 61 | N74: =IF(M74=Реглист!$C$89*2+2,Реглист!$C$89*2+1,RANK(M74,$M$4:$M$87,1)) -> 63 | O74: =L74+L75 -> 3599.28 | P74: =IF(O74=0,Реглист!$C$89*4+4,M74+M75) -> 104 | Q74: 29
A75: =A74+1 -> 72 | B75: =Реглист!B75 -> Nalovi.by | C75: =Реглист!C75 -> Наумович Николай | D75: =IFERROR(VLOOKUP(C75,Т1За!$C$3:$D$45,2,0),0) -> 0 | E75: =IFERROR(VLOOKUP(C75,Т1За!$C$3:$E$45,3,0),0) -> 0 | F75: =IFERROR(VLOOKUP(C75,Т1Зб!$C$3:$D$45,2,0),0) -> 2322.38 | G75: =IFERROR(VLOOKUP(C75,Т1Зб!$C$3:$E$45,3,0),0) -> 10 | H75: =IFERROR(VLOOKUP(C75,Т2За!$C$3:$D$45,2,0),0) -> 182.25 | I75: =IFERROR(VLOOKUP(C75,Т2За!$C$3:$E$45,3,0),0) -> 33 | J75: =IFERROR(VLOOKUP(C75,Т2Зб!$C$3:$D$45,2,0),0) -> 0 | K75: =IFERROR(VLOOKUP(C75,Т2Зб!$C$3:$E$45,3,0),0) -> 0 | L75: =D75+F75+H75+J75 -> 2504.63 | M75: =IF(L75=0,Реглист!$C$89*2+2,E75+G75+I75+K75) -> 43 | N75: =IF(M75=Реглист!$C$89*2+2,Реглист!$C$89*2+1,RANK(M75,$M$4:$M$87,1)) -> 45
A76: =A75+1 -> 73 | B76: =Реглист!B76 -> NaloviKibas | C76: =Реглист!C76 -> Пахолин Александр | D76: =IFERROR(VLOOKUP(C76,Т1За!$C$3:$D$45,2,0),0) -> 0 | E76: =IFERROR(VLOOKUP(C76,Т1За!$C$3:$E$45,3,0),0) -> 0 | F76: =IFERROR(VLOOKUP(C76,Т1Зб!$C$3:$D$45,2,0),0) -> 0 | G76: =IFERROR(VLOOKUP(C76,Т1Зб!$C$3:$E$45,3,0),0) -> 43 | H76: =IFERROR(VLOOKUP(C76,Т2За!$C$3:$D$45,2,0),0) -> 0 | I76: =IFERROR(VLOOKUP(C76,Т2За!$C$3:$E$45,3,0),0) -> 43 | J76: =IFERROR(VLOOKUP(C76,Т2Зб!$C$3:$D$45,2,0),0) -> 0 | K76: =IFERROR(VLOOKUP(C76,Т2Зб!$C$3:$E$45,3,0),0) -> 0 | L76: =D76+F76+H76+J76 -> 0 | M76: =IF(L76=0,Реглист!$C$89*2+2,E76+G76+I76+K76) -> 86 | N76: 81 | O76: =L76+L77 -> 0 | P76: =IF(O76=0,Реглист!$C$89*4+4,M76+M77) -> 172 | Q76: 41
A77: =A76+1 -> 74 | B77: =Реглист!B77 -> NaloviKibas | C77: =Реглист!C77 -> Шабуня Александр | D77: =IFERROR(VLOOKUP(C77,Т1За!$C$3:$D$45,2,0),0) -> 0 | E77: =IFERROR(VLOOKUP(C77,Т1За!$C$3:$E$45,3,0),0) -> 43 | F77: =IFERROR(VLOOKUP(C77,Т1Зб!$C$3:$D$45,2,0),0) -> 0 | G77: =IFERROR(VLOOKUP(C77,Т1Зб!$C$3:$E$45,3,0),0) -> 0 | H77: =IFERROR(VLOOKUP(C77,Т2За!$C$3:$D$45,2,0),0) -> 0 | I77: =IFERROR(VLOOKUP(C77,Т2За!$C$3:$E$45,3,0),0) -> 0 | J77: =IFERROR(VLOOKUP(C77,Т2Зб!$C$3:$D$45,2,0),0) -> 0 | K77: =IFERROR(VLOOKUP(C77,Т2Зб!$C$3:$E$45,3,0),0) -> 43 | L77: =D77+F77+H77+J77 -> 0 | M77: =IF(L77=0,Реглист!$C$89*2+2,E77+G77+I77+K77) -> 86 | N77: 81
A78: =A77+1 -> 75 | B78: =Реглист!B78 -> LEGION | C78: =Реглист!C78 -> Бойко Сергей | D78: =IFERROR(VLOOKUP(C78,Т1За!$C$3:$D$45,2,0),0) -> 0 | E78: =IFERROR(VLOOKUP(C78,Т1За!$C$3:$E$45,3,0),0) -> 0 | F78: =IFERROR(VLOOKUP(C78,Т1Зб!$C$3:$D$45,2,0),0) -> 3532.56 | G78: =IFERROR(VLOOKUP(C78,Т1Зб!$C$3:$E$45,3,0),0) -> 4 | H78: =IFERROR(VLOOKUP(C78,Т2За!$C$3:$D$45,2,0),0) -> 2271.52 | I78: =IFERROR(VLOOKUP(C78,Т2За!$C$3:$E$45,3,0),0) -> 5 | J78: =IFERROR(VLOOKUP(C78,Т2Зб!$C$3:$D$45,2,0),0) -> 0 | K78: =IFERROR(VLOOKUP(C78,Т2Зб!$C$3:$E$45,3,0),0) -> 0 | L78: =D78+F78+H78+J78 -> 5804.08 | M78: =IF(L78=0,Реглист!$C$89*2+2,E78+G78+I78+K78) -> 9 | N78: =IF(M78=Реглист!$C$89*2+2,Реглист!$C$89*2+1,RANK(M78,$M$4:$M$87,1)) -> 3 | O78: =L78+L79 -> 9087.04 | P78: =IF(O78=0,Реглист!$C$89*4+4,M78+M79) -> 32 | Q78: 2
A79: =A78+1 -> 76 | B79: =Реглист!B79 -> LEGION | C79: =Реглист!C79 -> Полюхович Александр | D79: =IFERROR(VLOOKUP(C79,Т1За!$C$3:$D$45,2,0),0) -> 1758.41 | E79: =IFERROR(VLOOKUP(C79,Т1За!$C$3:$E$45,3,0),0) -> 15 | F79: =IFERROR(VLOOKUP(C79,Т1Зб!$C$3:$D$45,2,0),0) -> 0 | G79: =IFERROR(VLOOKUP(C79,Т1Зб!$C$3:$E$45,3,0),0) -> 0 | H79: =IFERROR(VLOOKUP(C79,Т2За!$C$3:$D$45,2,0),0) -> 0 | I79: =IFERROR(VLOOKUP(C79,Т2За!$C$3:$E$45,3,0),0) -> 0 | J79: =IFERROR(VLOOKUP(C79,Т2Зб!$C$3:$D$45,2,0),0) -> 1524.55 | K79: =IFERROR(VLOOKUP(C79,Т2Зб!$C$3:$E$45,3,0),0) -> 8 | L79: =D79+F79+H79+J79 -> 3282.96 | M79: =IF(L79=0,Реглист!$C$89*2+2,E79+G79+I79+K79) -> 23 | N79: =IF(M79=Реглист!$C$89*2+2,Реглист!$C$89*2+1,RANK(M79,$M$4:$M$87,1)) -> 15
A80: =A79+1 -> 77 | B80: =Реглист!B80 -> Team Ylov | C80: =Реглист!C80 -> Тулупов Александр | D80: =IFERROR(VLOOKUP(C80,Т1За!$C$3:$D$45,2,0),0) -> 0 | E80: =IFERROR(VLOOKUP(C80,Т1За!$C$3:$E$45,3,0),0) -> 0 | F80: =IFERROR(VLOOKUP(C80,Т1Зб!$C$3:$D$45,2,0),0) -> 272.25 | G80: =IFERROR(VLOOKUP(C80,Т1Зб!$C$3:$E$45,3,0),0) -> 38 | H80: =IFERROR(VLOOKUP(C80,Т2За!$C$3:$D$45,2,0),0) -> 869.54 | I80: =IFERROR(VLOOKUP(C80,Т2За!$C$3:$E$45,3,0),0) -> 20 | J80: =IFERROR(VLOOKUP(C80,Т2Зб!$C$3:$D$45,2,0),0) -> 0 | K80: =IFERROR(VLOOKUP(C80,Т2Зб!$C$3:$E$45,3,0),0) -> 0 | L80: =D80+F80+H80+J80 -> 1141.79 | M80: =IF(L80=0,Реглист!$C$89*2+2,E80+G80+I80+K80) -> 58 | N80: =IF(M80=Реглист!$C$89*2+2,Реглист!$C$89*2+1,RANK(M80,$M$4:$M$87,1)) -> 61 | O80: =L80+L81 -> 2044.62 | P80: =IF(O80=0,Реглист!$C$89*4+4,M80+M81) -> 127 | Q80: =IF(P80=Реглист!$C$89*4+4,Реглист!$C$89+1,RANK(P80,$P$4:$P$87,1)) -> 35
A81: =A80+1 -> 78 | B81: =Реглист!B81 -> Team Ylov | C81: =Реглист!C81 -> Кулаженко Владимир | D81: =IFERROR(VLOOKUP(C81,Т1За!$C$3:$D$45,2,0),0) -> 902.83 | E81: =IFERROR(VLOOKUP(C81,Т1За!$C$3:$E$45,3,0),0) -> 26 | F81: =IFERROR(VLOOKUP(C81,Т1Зб!$C$3:$D$45,2,0),0) -> 0 | G81: =IFERROR(VLOOKUP(C81,Т1Зб!$C$3:$E$45,3,0),0) -> 0 | H81: =IFERROR(VLOOKUP(C81,Т2За!$C$3:$D$45,2,0),0) -> 0 | I81: =IFERROR(VLOOKUP(C81,Т2За!$C$3:$E$45,3,0),0) -> 0 | J81: =IFERROR(VLOOKUP(C81,Т2Зб!$C$3:$D$45,2,0),0) -> 0 | K81: =IFERROR(VLOOKUP(C81,Т2Зб!$C$3:$E$45,3,0),0) -> 43 | L81: =D81+F81+H81+J81 -> 902.83 | M81: =IF(L81=0,Реглист!$C$89*2+2,E81+G81+I81+K81) -> 69 | N81: =IF(M81=Реглист!$C$89*2+2,Реглист!$C$89*2+1,RANK(M81,$M$4:$M$87,1)) -> 72
A82: =A81+1 -> 79 | B82: =Реглист!B82 -> ULBroTeaM | C82: =Реглист!C82 -> Василенков Вячеслав | D82: =IFERROR(VLOOKUP(C82,Т1За!$C$3:$D$45,2,0),0) -> 802.25 | E82: =IFERROR(VLOOKUP(C82,Т1За!$C$3:$E$45,3,0),0) -> 30 | F82: =IFERROR(VLOOKUP(C82,Т1Зб!$C$3:$D$45,2,0),0) -> 0 | G82: =IFERROR(VLOOKUP(C82,Т1Зб!$C$3:$E$45,3,0),0) -> 0 | H82: =IFERROR(VLOOKUP(C82,Т2За!$C$3:$D$45,2,0),0) -> 0 | I82: =IFERROR(VLOOKUP(C82,Т2За!$C$3:$E$45,3,0),0) -> 0 | J82: =IFERROR(VLOOKUP(C82,Т2Зб!$C$3:$D$45,2,0),0) -> 1890.77 | K82: =IFERROR(VLOOKUP(C82,Т2Зб!$C$3:$E$45,3,0),0) -> 5 | L82: =D82+F82+H82+J82 -> 2693.02 | M82: =IF(L82=0,Реглист!$C$89*2+2,E82+G82+I82+K82) -> 35 | N82: =IF(M82=Реглист!$C$89*2+2,Реглист!$C$89*2+1,RANK(M82,$M$4:$M$87,1)) -> 33 | O82: =L82+L83 -> 4215.94 | P82: =IF(O82=0,Реглист!$C$89*4+4,M82+M83) -> 88 | Q82: =IF(P82=Реглист!$C$89*4+4,Реглист!$C$89+1,RANK(P82,$P$4:$P$87,1)) -> 24
A83: =A82+1 -> 80 | B83: =Реглист!B83 -> ULBroTeaM | C83: =Реглист!C83 -> Вычиков Павел | D83: =IFERROR(VLOOKUP(C83,Т1За!$C$3:$D$45,2,0),0) -> 0 | E83: =IFERROR(VLOOKUP(C83,Т1За!$C$3:$E$45,3,0),0) -> 0 | F83: =IFERROR(VLOOKUP(C83,Т1Зб!$C$3:$D$45,2,0),0) -> 450.25 | G83: =IFERROR(VLOOKUP(C83,Т1Зб!$C$3:$E$45,3,0),0) -> 35 | H83: =IFERROR(VLOOKUP(C83,Т2За!$C$3:$D$45,2,0),0) -> 1072.67 | I83: =IFERROR(VLOOKUP(C83,Т2За!$C$3:$E$45,3,0),0) -> 18 | J83: =IFERROR(VLOOKUP(C83,Т2Зб!$C$3:$D$45,2,0),0) -> 0 | K83: =IFERROR(VLOOKUP(C83,Т2Зб!$C$3:$E$45,3,0),0) -> 0 | L83: =D83+F83+H83+J83 -> 1522.92 | M83: =IF(L83=0,Реглист!$C$89*2+2,E83+G83+I83+K83) -> 53 | N83: =IF(M83=Реглист!$C$89*2+2,Реглист!$C$89*2+1,RANK(M83,$M$4:$M$87,1)) -> 57
A84: =A83+1 -> 81 | B84: =Реглист!B84 -> K&M | C84: =Реглист!C84 -> Мельников Юрий | D84: =IFERROR(VLOOKUP(C84,Т1За!$C$3:$D$45,2,0),0) -> 0 | E84: =IFERROR(VLOOKUP(C84,Т1За!$C$3:$E$45,3,0),0) -> 0 | F84: =IFERROR(VLOOKUP(C84,Т1Зб!$C$3:$D$45,2,0),0) -> 951.22 | G84: =IFERROR(VLOOKUP(C84,Т1Зб!$C$3:$E$45,3,0),0) -> 25 | H84: =IFERROR(VLOOKUP(C84,Т2За!$C$3:$D$45,2,0),0) -> 2059.1 | I84: =IFERROR(VLOOKUP(C84,Т2За!$C$3:$E$45,3,0),0) -> 7 | J84: =IFERROR(VLOOKUP(C84,Т2Зб!$C$3:$D$45,2,0),0) -> 0 | K84: =IFERROR(VLOOKUP(C84,Т2Зб!$C$3:$E$45,3,0),0) -> 0 | L84: =D84+F84+H84+J84 -> 3010.32 | M84: =IF(L84=0,Реглист!$C$89*2+2,E84+G84+I84+K84) -> 32 | N84: =IF(M84=Реглист!$C$89*2+2,Реглист!$C$89*2+1,RANK(M84,$M$4:$M$87,1)) -> 27 | O84: =L84+L85 -> 5626.83 | P84: =IF(O84=0,Реглист!$C$89*4+4,M84+M85) -> 66 | Q84: =IF(P84=Реглист!$C$89*4+4,Реглист!$C$89+1,RANK(P84,$P$4:$P$87,1)) -> 15
A85: =A84+1 -> 82 | B85: =Реглист!B85 -> K&M | C85: =Реглист!C85 -> Казаченко Владимир | D85: =IFERROR(VLOOKUP(C85,Т1За!$C$3:$D$45,2,0),0) -> 853 | E85: =IFERROR(VLOOKUP(C85,Т1За!$C$3:$E$45,3,0),0) -> 28 | F85: =IFERROR(VLOOKUP(C85,Т1Зб!$C$3:$D$45,2,0),0) -> 0 | G85: =IFERROR(VLOOKUP(C85,Т1Зб!$C$3:$E$45,3,0),0) -> 0 | H85: =IFERROR(VLOOKUP(C85,Т2За!$C$3:$D$45,2,0),0) -> 0 | I85: =IFERROR(VLOOKUP(C85,Т2За!$C$3:$E$45,3,0),0) -> 0 | J85: =IFERROR(VLOOKUP(C85,Т2Зб!$C$3:$D$45,2,0),0) -> 1763.51 | K85: =IFERROR(VLOOKUP(C85,Т2Зб!$C$3:$E$45,3,0),0) -> 6 | L85: =D85+F85+H85+J85 -> 2616.51 | M85: =IF(L85=0,Реглист!$C$89*2+2,E85+G85+I85+K85) -> 34 | N85: 31
A86: =A85+1 -> 83 | B86: =Реглист!B86 -> Позитив | C86: =Реглист!C86 -> Строк Павел | D86: =IFERROR(VLOOKUP(C86,Т1За!$C$3:$D$45,2,0),0) -> 756.25 | E86: =IFERROR(VLOOKUP(C86,Т1За!$C$3:$E$45,3,0),0) -> 31 | F86: =IFERROR(VLOOKUP(C86,Т1Зб!$C$3:$D$45,2,0),0) -> 0 | G86: =IFERROR(VLOOKUP(C86,Т1Зб!$C$3:$E$45,3,0),0) -> 0 | H86: =IFERROR(VLOOKUP(C86,Т2За!$C$3:$D$45,2,0),0) -> 0 | I86: =IFERROR(VLOOKUP(C86,Т2За!$C$3:$E$45,3,0),0) -> 0 | J86: =IFERROR(VLOOKUP(C86,Т2Зб!$C$3:$D$45,2,0),0) -> 259.21 | K86: =IFERROR(VLOOKUP(C86,Т2Зб!$C$3:$E$45,3,0),0) -> 31 | L86: =D86+F86+H86+J86 -> 1015.46 | M86: =IF(L86=0,Реглист!$C$89*2+2,E86+G86+I86+K86) -> 62 | N86: =IF(M86=Реглист!$C$89*2+2,Реглист!$C$89*2+1,RANK(M86,$M$4:$M$87,1)) -> 65 | O86: =L86+L87 -> 1922.96 | P86: =IF(O86=0,Реглист!$C$89*4+4,M86+M87) -> 123 | Q86: =IF(P86=Реглист!$C$89*4+4,Реглист!$C$89+1,RANK(P86,$P$4:$P$87,1)) -> 33
A87: =A86+1 -> 84 | B87: =Реглист!B87 -> Позитив | C87: =Реглист!C87 -> Князев Сергей | D87: =IFERROR(VLOOKUP(C87,Т1За!$C$3:$D$45,2,0),0) -> 0 | E87: =IFERROR(VLOOKUP(C87,Т1За!$C$3:$E$45,3,0),0) -> 0 | F87: =IFERROR(VLOOKUP(C87,Т1Зб!$C$3:$D$45,2,0),0) -> 719.81 | G87: =IFERROR(VLOOKUP(C87,Т1Зб!$C$3:$E$45,3,0),0) -> 29 | H87: =IFERROR(VLOOKUP(C87,Т2За!$C$3:$D$45,2,0),0) -> 187.69 | I87: =IFERROR(VLOOKUP(C87,Т2За!$C$3:$E$45,3,0),0) -> 32 | J87: =IFERROR(VLOOKUP(C87,Т2Зб!$C$3:$D$45,2,0),0) -> 0 | K87: =IFERROR(VLOOKUP(C87,Т2Зб!$C$3:$E$45,3,0),0) -> 0 | L87: =D87+F87+H87+J87 -> 907.5 | M87: =IF(L87=0,Реглист!$C$89*2+2,E87+G87+I87+K87) -> 61 | N87: 64
A90: Средний размер окуня, см: | C90: =(Т1За!F45+Т1Зб!F45+Т2За!F45+Т2Зб!F45)/4 -> 14.667155
A91: Средний размер щуки, см: | C91: =(Т1За!Z45+Т1Зб!Z45+Т2За!U45+Т2Зб!U45)/4 -> 21.980296
