Workbook

Sheet Реглист
A1: 1 этап Чемпионата РБ по спортивной ловле рыбы спиннингом с берега | E1: 43036
A2: Регистрационный лист
A3: № | B3: Команда | C3: Спортсмен | D3: Стартовая зона | E3: Техника безопасности
A4: 1 | B4: Непредсказуемые | C4: Кайсин Иван | D4: Б | E4: +
A5: =A4+1 -> 2 | B5: Непредсказуемые | C5: Хомский Дмитрий | D5: А | E5: +
A6: =A5+1 -> 3 | B6: Фарватер | C6: Попельский Максим | D6: Б | E6: +
A7: =A6+1 -> 4 | B7: Фарватер | C7: Цыганок Михаил | D7: А | E7: +
A8: =A7+1 -> 5 | B8: Neptune fishing team | C8: Мяэлоог Алексей | D8: Б | E8: +
A9: =A8+1 -> 6 | B9: Neptune fishing team | C9: Кирьянов Денис | D9: А | E9: +
A10: =A9+1 -> 7 | B10: Peacock Bass | C10: Сенчуров Иван | D10: А | E10: +
A11: =A10+1 -> 8 | B11: Peacock Bass | C11: Дроздов Виталий | D11: Б | E11: +
A12: =A11+1 -> 9 | B12: Бульба з Салам | C12: Бобриков Алексей | D12: Б | E12: +
A13: =A12+1 -> 10 | B13: Бульба з Салам | C13: Лунякин Олег | D13: А | E13: +
A14: =A13+1 -> 11 | B14: UL soldiers of fortune | C14: Дешкевич Виталий | D14: А | E14: +
A15: =A14+1 -> 12 | B15: UL soldiers of fortune | C15: Андрианов Илья | D15: Б | E15: +
A16: =A15+1 -> 13 | B16: СТАR Fishingstock | C16: Бычик Роман | D16: А | E16: +
... A43: =A42+1 -> 40 | B43: Орловские | C43: Боровик Андрей | D43: А | E43: +
A44: =A43+1 -> 41 | B44: - | C44: -
A45: =A44+1 -> 42 | B45: - | C45: -
A46: =A45+1 -> 43 | B46: SB-fishing | C46: Минков Александр | D46: Б | E46: +
A47: =A46+1 -> 44 | B47: SB-fishing | C47: Сапраненков Евгений | D47: А | E47: +
A48: =A47+1 -> 45 | B48: ULBroTeaM | C48: Василенков Вячеслав | D48: Б | E48: +
A49: =A48+1 -> 46 | B49: ULBroTeaM | C49: Вычиков Павел | D49: А | E49: +
A50: =A49+1 -> 47 | B50: ES team | C50: Боляновский Дмитрий | D50: А | E50: +
A51: =A50+1 -> 48 | B51: ES team | C51: Асинский Александр | D51: Б | E51: +
A52: =A51+1 -> 49 | B52: Bad Fish | C52: Желтов Игорь | D52: Б | E52: +
A53: =A52+1 -> 50 | B53: Bad Fish | C53: Корней Валентин | D53: А | E53: +
A54: =A53+1 -> 51 | B54: Штиль | C54: Козлов Юрий | D54: А | E54: +
A55: =A54+1 -> 52 | B55: Штиль | C55: Рябишников Иван | D55: Б | E55: +
A56: =A55+1 -> 53 | B56: Solfishing | C56: Санько Александр | D56: А | E56: +
A57: =A56+1 -> 54 | B57: Solfishing | C57: Губчик Александр | D57: Б | E57: +
... A61: =A60+1 -> 58 | B61: Team Ylov | C61: Кулаженко Владимир | D61: Б | E61: +
A62: =A61+1 -> 59 | B62: - | C62: -
A63: =A62+1 -> 60 | B63: - | C63: -
A64: =A63+1 -> 61 | B64: Позитив | C64: Строк Павел | D64: Б | E64: +
A65: =A64+1 -> 62 | B65: Позитив | C65: Князев Сергей | D65: А | E65: +
A66: =A65+1 -> 63 | B66: Твичим и джигуем | C66: Синовец Роман | D66: Б | E66: +
A67: =A66+1 -> 64 | B67: Твичим и джигуем | C67: Чернышев Егор | D67: А | E67: +
A68: =A67+1 -> 65 | B68: Vodomotorika TEAM | C68: Круглянин Сергей | D68: Б | E68: +
A69: =A68+1 -> 66 | B69: Vodomotorika TEAM | C69: Ставер Дмитрий | D69: А | E69: +
...

Sheet Т1За
A1: № | B1: команда | C1: участник | D1: сумма баллов | E1: место | F1: окунь | Z1: щука | AE1: судак | AH1: жерех | AK1: голавль | AN1: язь | AQ1: чехонь | AT1: сом
F2: размер, см
A3: 1 | B3: =IF(Реглист!D4="А",Реглист!B4,Реглист!B5) -> Непредсказуемые | C3: =IF(Реглист!D4="А",Реглист!C4,Реглист!C5) -> Хомский Дмитрий | D3: =D50 -> 0 | E3: =E50 -> 43
A4: =A3+1 -> 2 | B4: =IF(Реглист!D6="А",Реглист!B6,Реглист!B7) -> Фарватер | C4: =IF(Реглист!D6="А",Реглист!C6,Реглист!C7) -> Цыганок Михаил | D4: =D51 -> 615.48 | E4: =E51 -> 11 | F4: 105 | G4: 119 | H4: 119 | I4: 149
A5: =A4+1 -> 3 | B5: =IF(Реглист!D8="А",Реглист!B8,Реглист!B9) -> Neptune fishing team | C5: =IF(Реглист!D8="А",Реглист!C8,Реглист!C9) -> Кирьянов Денис | D5: =D52 -> 352.25 | E5: =E52 -> 16 | F5: 125 | G5: 140
A6: =A5+1 -> 4 | B6: =IF(Реглист!D10="А",Реглист!B10,Реглист!B11) -> Peacock Bass | C6: =IF(Реглист!D10="А",Реглист!C10,Реглист!C11) -> Сенчуров Иван | D6: =D53 -> 327.76 | E6: =E53 -> 17 | F6: 130 | G6: 126
A7: =A6+1 -> 5 | B7: =IF(Реглист!D12="А",Реглист!B12,Реглист!B13) -> Бульба з Салам | C7: =IF(Реглист!D12="А",Реглист!C12,Реглист!C13) -> Лунякин Олег | D7: =D54 -> 0 | E7: =E54 -> 43
A8: =A7+1 -> 6 | B8: =IF(Реглист!D14="А",Реглист!B14,Реглист!B15) -> UL soldiers of fortune | C8: =IF(Реглист!D14="А",Реглист!C14,Реглист!C15) -> Дешкевич Виталий | D8: =D55 -> 0 | E8: =E55 -> 43
A9: =A8+1 -> 7 | B9: =IF(Реглист!D16="А",Реглист!B16,Реглист!B17) -> СТАR Fishingstock | C9: =IF(Реглист!D16="А",Реглист!C16,Реглист!C17) -> Бычик Роман | D9: =D56 -> 256 | E9: =E56 -> 19 | F9: 160
A10: =A9+1 -> 8 | B10: =IF(Реглист!D18="А",Реглист!B18,Реглист!B19) -> Poseidon | C10: =IF(Реглист!D18="А",Реглист!C18,Реглист!C19) -> Ананич Геннадий | D10: =D57 -> 1651.24 | E10: =E57 -> 2 | F10: 135 | G10: 118 | H10: 127 | I10: 261 | J10: 169 | K10: 142
A11: =A10+1 -> 9 | B11: =IF(Реглист!D20="А",Реглист!B20,Реглист!B21) -> Team Minsk | C11: =IF(Реглист!D20="А",Реглист!C20,Реглист!C21) -> Огейко Юрий | D11: =D58 -> 139.24 | E11: =E58 -> 27 | F11: 118
A12: =A11+1 -> 10 | B12: =IF(Реглист!D22="А",Реглист!B22,Реглист!B23) -> RVR | C12: =IF(Реглист!D22="А",Реглист!C22,Реглист!C23) -> Золотухин Александр | D12: =D59 -> 0 | E12: =E59 -> 43
A13: =A12+1 -> 11 | B13: =IF(Реглист!D24="А",Реглист!B24,Реглист!B25) -> Perch Legends | C13: =IF(Реглист!D24="А",Реглист!C24,Реглист!C25) -> Каменец Алексей | D13: =D60 -> 0 | E13: =E60 -> 43
A14: =A13+1 -> 12 | B14: =IF(Реглист!D26="А",Реглист!B26,Реглист!B27) -> Студенты | C14: =IF(Реглист!D26="А",Реглист!C26,Реглист!C27) -> Кузнецов Никита | D14: =D61 -> 0 | E14: =E61 -> 43
A15: =A14+1 -> 13 | B15: =IF(Реглист!D28="А",Реглист!B28,Реглист!B29) -> Полесье | C15: =IF(Реглист!D28="А",Реглист!C28,Реглист!C29) -> Марковский Максим | D15: =D62 -> 114.49 | E15: =E62 -> 28 | F15: 107
A16: =A15+1 -> 14 | B16: =IF(Реглист!D30="А",Реглист!B30,Реглист!B31) -> Кобринский МСЗ | C16: =IF(Реглист!D30="А",Реглист!C30,Реглист!C31) -> Барташук Александр | D16: =D63 -> 652.53 | E16: =E63 -> 9 | F16: 136 | G16: 119 | H16: 140 | I16: 114
A17: =A16+1 -> 15 | B17: =IF(Реглист!D32="А",Реглист!B32,Реглист!B33) -> ASpinnTeam | C17: =IF(Реглист!D32="А",Реглист!C32,Реглист!C33) -> Вашкевич Александр | D17: =D64 -> 0 | E17: =E64 -> 43
A18: =A17+1 -> 16 | B18: =IF(Реглист!D34="А",Реглист!B34,Реглист!B35) -> FishMurder | C18: =IF(Реглист!D34="А",Реглист!C34,Реглист!C35) -> Шило Сергей | D18: =D65 -> 166.41 | E18: =E65 -> 24 | F18: 129
A19: =A18+1 -> 17 | B19: =IF(Реглист!D36="А",Реглист!B36,Реглист!B37) -> Бобруйский Region | C19: =IF(Реглист!D36="А",Реглист!C36,Реглист!C37) -> Пархамович Максим | D19: =D66 -> 0 | E19: =E66 -> 43
A20: =A19+1 -> 18 | B20: =IF(Реглист!D38="А",Реглист!B38,Реглист!B39) -> West Fishing | C20: =IF(Реглист!D38="А",Реглист!C38,Реглист!C39) -> Золотарь Андрей | D20: =D67 -> 182.25 | E20: =E67 -> 23 | F20: 135
A21: =A20+1 -> 19 | B21: =IF(Реглист!D40="А",Реглист!B40,Реглист!B41) -> K&M | C21: =IF(Реглист!D40="А",Реглист!C40,Реглист!C41) -> Мельников Юрий | D21: =D68 -> 2153.75 | E21: =E68 -> 1 | F21: 123 | G21: 129 | H21: 134 | I21: 143 | J21: 124 | K21: 129 | L21: 132 | M21: 133 | N21: 137 | O21: 151 | P21: 140 | Q21: 130
A22: =A21+1 -> 20 | B22: =IF(Реглист!D42="А",Реглист!B42,Реглист!B43) -> Орловские | C22: =IF(Реглист!D42="А",Реглист!C42,Реглист!C43) -> Боровик Андрей | D22: =D69 -> 1105.66 | E22: =E69 -> 5 | F22: 137 | G22: 151 | H22: 150 | I22: 164 | J22: 140
A23: =A22+1 -> 21 | B23: =IF(Реглист!D44="А",Реглист!B44,Реглист!B45) -> - | C23: =IF(Реглист!D44="А",Реглист!C44,Реглист!C45) -> - | D23: =D70 -> 0 | E23: =E70 -> 43
A24: =A23+1 -> 22 | B24: =IF(Реглист!D46="А",Реглист!B46,Реглист!B47) -> SB-fishing | C24: =IF(Реглист!D46="А",Реглист!C46,Реглист!C47) -> Сапраненков Евгений | D24: =D71 -> 1160 | E24: =E71 -> 4 | F24: 260 | G24: 220
A25: =A24+1 -> 23 | B25: =IF(Реглист!D48="А",Реглист!B48,Реглист!B49) -> ULBroTeaM | C25: =IF(Реглист!D48="А",Реглист!C48,Реглист!C49) -> Вычиков Павел | D25: =D72 -> 621.17 | E25: =E72 -> 10 | F25: 114 | G25: 126 | H25: 139 | I25: 118
A26: =A25+1 -> 24 | B26: =IF(Реглист!D50="А",Реглист!B50,Реглист!B51) -> ES team | C26: =IF(Реглист!D50="А",Реглист!C50,Реглист!C51) -> Боляновский Дмитрий | D26: =D73 -> 272.25 | E26: =E73 -> 18 | F26: 165
A27: =A26+1 -> 25 | B27: =IF(Реглист!D52="А",Реглист!B52,Реглист!B53) -> Bad Fish | C27: =IF(Реглист!D52="А",Реглист!C52,Реглист!C53) -> Корней Валентин | D27: =D74 -> 156.25 | E27: =E74 -> 26 | F27: 125
A28: =A27+1 -> 26 | B28: =IF(Реглист!D54="А",Реглист!B54,Реглист!B55) -> Штиль | C28: =IF(Реглист!D54="А",Реглист!C54,Реглист!C55) -> Козлов Юрий | D28: =D75 -> 210.25 | E28: =E75 -> 21 | F28: 145
A29: =A28+1 -> 27 | B29: =IF(Реглист!D56="А",Реглист!B56,Реглист!B57) -> Solfishing | C29: =IF(Реглист!D56="А",Реглист!C56,Реглист!C57) -> Санько Александр | D29: =D76 -> 414.83 | E29: =E76 -> 13 | F29: 133 | G29: 105 | H29: 113
A30: =A29+1 -> 28 | B30: =IF(Реглист!D58="А",Реглист!B58,Реглист!B59) -> Favorite Team Belarus | C30: =IF(Реглист!D58="А",Реглист!C58,Реглист!C59) -> Шавшунов Никита | D30: =D77 -> 758.02 | E30: =E77 -> 7 | F30: 131 | G30: 146 | H30: 142 | I30: 131
A31: =A30+1 -> 29 | B31: =IF(Реглист!D60="А",Реглист!B60,Реглист!B61) -> Team Ylov | C31: =IF(Реглист!D60="А",Реглист!C60,Реглист!C61) -> Тулупов Александр | D31: =D78 -> 722.89 | E31: =E78 -> 8 | F31: 145 | G31: 136 | H31: 128 | I31: 128
A32: =A31+1 -> 30 | B32: =IF(Реглист!D62="А",Реглист!B62,Реглист!B63) -> - | C32: =IF(Реглист!D62="А",Реглист!C62,Реглист!C63) -> - | D32: =D79 -> 0 | E32: =E79 -> 43
A33: =A32+1 -> 31 | B33: =IF(Реглист!D64="А",Реглист!B64,Реглист!B65) -> Позитив | C33: =IF(Реглист!D64="А",Реглист!C64,Реглист!C65) -> Князев Сергей | D33: =D80 -> 158.76 | E33: =E80 -> 25 | F33: 126
A34: =A33+1 -> 32 | B34: =IF(Реглист!D66="А",Реглист!B66,Реглист!B67) -> Твичим и джигуем | C34: =IF(Реглист!D66="А",Реглист!C66,Реглист!C67) -> Чернышев Егор | D34: =D81 -> 237.16 | E34: =E81 -> 20 | F34: 154
A35: =A34+1 -> 33 | B35: =IF(Реглист!D68="А",Реглист!B68,Реглист!B69) -> Vodomotorika TEAM | C35: =IF(Реглист!D68="А",Реглист!C68,Реглист!C69) -> Ставер Дмитрий | D35: =D82 -> 369 | E35: =E82 -> 15 | F35: 120 | G35: 150
A36: =A35+1 -> 34 | B36: =IF(Реглист!D70="А",Реглист!B70,Реглист!B71) -> - | C36: =IF(Реглист!D70="А",Реглист!C70,Реглист!C71) -> - | D36: =D83 -> 0 | E36: =E83 -> 43
A37: =A36+1 -> 35 | B37: =IF(Реглист!D72="А",Реглист!B72,Реглист!B73) -> XULи-ULи | C37: =IF(Реглист!D72="А",Реглист!C72,Реглист!C73) -> Вежновец Михаил | D37: =D84 -> 196 | E37: =E84 -> 22 | F37: 140
A38: =A37+1 -> 36 | B38: =IF(Реглист!D74="А",Реглист!B74,Реглист!B75) -> LEGION | C38: =IF(Реглист!D74="А",Реглист!C74,Реглист!C75) -> Полюхович Александр | D38: =D85 -> 0 | E38: =E85 -> 43
A39: =A38+1 -> 37 | B39: =IF(Реглист!D76="А",Реглист!B76,Реглист!B77) -> Брест над Бугом | C39: =IF(Реглист!D76="А",Реглист!C76,Реглист!C77) -> Тысевич Сергей | D39: =D86 -> 375.04 | E39: =E86 -> 14 | F39: 120 | G39: 152
A40: =A39+1 -> 38 | B40: =IF(Реглист!D78="А",Реглист!B78,Реглист!B79) -> Гефест-Техника | C40: =IF(Реглист!D78="А",Реглист!C78,Реглист!C79) -> Лобацевич Виктор | D40: =D87 -> 0 | E40: =E87 -> 43
...

Sheet Т1Зб
A1: № | B1: команда | C1: участник | D1: сумма баллов | E1: место | F1: окунь | Z1: окунь | AF1: судак | AI1: жерех | AL1: голавль | AO1: язь | AR1: чехонь | AU1: сом
F2: размер, см
A3: 1 | B3: =IF(Реглист!D4="Б",Реглист!B4,Реглист!B5) -> Непредсказуемые | C3: =IF(Реглист!D4="Б",Реглист!C4,Реглист!C5) -> Кайсин Иван | D3: =D50 -> 161.29 | E3: =E50 -> 31 | F3: 127
A4: =A3+1 -> 2 | B4: =IF(Реглист!D6="Б",Реглист!B6,Реглист!B7) -> Фарватер | C4: =IF(Реглист!D6="Б",Реглист!C6,Реглист!C7) -> Попельский Максим | D4: =D51 -> 1041.89 | E4: =E51 -> 15 | F4: 148 | G4: 129 | H4: 113 | I4: 119 | J4: 145 | K4: 133
A5: =A4+1 -> 3 | B5: =IF(Реглист!D8="Б",Реглист!B8,Реглист!B9) -> Neptune fishing team | C5: =IF(Реглист!D8="Б",Реглист!C8,Реглист!C9) -> Мяэлоог Алексей | D5: =D52 -> 210.25 | E5: =E52 -> 29 | F5: 145
A6: =A5+1 -> 4 | B6: =IF(Реглист!D10="Б",Реглист!B10,Реглист!B11) -> Peacock Bass | C6: =IF(Реглист!D10="Б",Реглист!C10,Реглист!C11) -> Дроздов Виталий | D6: =D53 -> 1691.32 | E6: =E53 -> 8 | F6: 138 | G6: 118 | H6: 132 | I6: 127 | J6: 126 | K6: 125 | L6: 123 | M6: 136 | N6: 147 | O6: 126
A7: =A6+1 -> 5 | B7: =IF(Реглист!D12="Б",Реглист!B12,Реглист!B13) -> Бульба з Салам | C7: =IF(Реглист!D12="Б",Реглист!C12,Реглист!C13) -> Бобриков Алексей | D7: =D54 -> 225 | E7: =E54 -> 26 | F7: 150
A8: =A7+1 -> 6 | B8: =IF(Реглист!D14="Б",Реглист!B14,Реглист!B15) -> UL soldiers of fortune | C8: =IF(Реглист!D14="Б",Реглист!C14,Реглист!C15) -> Андрианов Илья | D8: =D55 -> 566.74 | E8: =E55 -> 22 | F8: 135 | G8: 145 | H8: 132
A9: =A8+1 -> 7 | B9: =IF(Реглист!D16="Б",Реглист!B16,Реглист!B17) -> СТАR Fishingstock | C9: =IF(Реглист!D16="Б",Реглист!C16,Реглист!C17) -> Пожарский Константин | D9: =D56 -> 1695.39 | E9: =E56 -> 7 | F9: 157 | G9: 145 | H9: 115 | I9: 126 | J9: 116 | K9: 145 | L9: 147 | M9: 143 | N9: 135
A10: =A9+1 -> 8 | B10: =IF(Реглист!D18="Б",Реглист!B18,Реглист!B19) -> Poseidon | C10: =IF(Реглист!D18="Б",Реглист!C18,Реглист!C19) -> Кохно Антон | D10: =D57 -> 1084.2 | E10: =E57 -> 13 | F10: 130 | G10: 137 | H10: 115 | I10: 131 | J10: 142 | K10: 149
A11: =A10+1 -> 9 | B11: =IF(Реглист!D20="Б",Реглист!B20,Реглист!B21) -> Team Minsk | C11: =IF(Реглист!D20="Б",Реглист!C20,Реглист!C21) -> Артёмчик Евгений | D11: =D58 -> 1410.26 | E11: =E58 -> 10 | F11: 125 | G11: 117 | H11: 135 | I11: 121 | J11: 136 | K11: 125 | L11: 120 | M11: 135 | N11: 110
A12: =A11+1 -> 10 | B12: =IF(Реглист!D22="Б",Реглист!B22,Реглист!B23) -> RVR | C12: =IF(Реглист!D22="Б",Реглист!C22,Реглист!C23) -> Масюк Павел | D12: =D59 -> 708.01 | E12: =E59 -> 20 | F12: 112 | G12: 146 | H12: 146 | I12: 125
A13: =A12+1 -> 11 | B13: =IF(Реглист!D24="Б",Реглист!B24,Реглист!B25) -> Perch Legends | C13: =IF(Реглист!D24="Б",Реглист!C24,Реглист!C25) -> Янкович Сергей | D13: =D60 -> 0 | E13: =E60 -> 43
A14: =A13+1 -> 12 | B14: =IF(Реглист!D26="Б",Реглист!B26,Реглист!B27) -> Студенты | C14: =IF(Реглист!D26="Б",Реглист!C26,Реглист!C27) -> Кочанов Александр | D14: =D61 -> 0 | E14: =E61 -> 43
A15: =A14+1 -> 13 | B15: =IF(Реглист!D28="Б",Реглист!B28,Реглист!B29) -> Полесье | C15: =IF(Реглист!D28="Б",Реглист!C28,Реглист!C29) -> Рыбачук Евгений | D15: =D62 -> 420.25 | E15: =E62 -> 24 | F15: 205
A16: =A15+1 -> 14 | B16: =IF(Реглист!D30="Б",Реглист!B30,Реглист!B31) -> Кобринский МСЗ | C16: =IF(Реглист!D30="Б",Реглист!C30,Реглист!C31) -> Жарин Вадим | D16: =D63 -> 840.18 | E16: =E63 -> 19 | F16: 147 | G16: 145 | H16: 120 | I16: 122 | J16: 110
A17: =A16+1 -> 15 | B17: =IF(Реглист!D32="Б",Реглист!B32,Реглист!B33) -> ASpinnTeam | C17: =IF(Реглист!D32="Б",Реглист!C32,Реглист!C33) -> Нугуманов Артём | D17: =D64 -> 0 | E17: =E64 -> 43
A18: =A17+1 -> 16 | B18: =IF(Реглист!D34="Б",Реглист!B34,Реглист!B35) -> FishMurder | C18: =IF(Реглист!D34="Б",Реглист!C34,Реглист!C35) -> Микулов Владимир | D18: =D65 -> 3201.98 | E18: =E65 -> 2 | F18: 139 | G18: 117 | H18: 145 | I18: 117 | J18: 147 | K18: 116 | L18: 151 | M18: 131 | N18: 151 | O18: 113 | P18: 126 | Q18: 324 | R18: 145
A19: =A18+1 -> 17 | B19: =IF(Реглист!D36="Б",Реглист!B36,Реглист!B37) -> Бобруйский Region | C19: =IF(Реглист!D36="Б",Реглист!C36,Реглист!C37) -> Прокопчик Алексей | D19: =D66 -> 1394 | E19: =E66 -> 11 | F19: 130 | G19: 350
A20: =A19+1 -> 18 | B20: =IF(Реглист!D38="Б",Реглист!B38,Реглист!B39) -> West Fishing | C20: =IF(Реглист!D38="Б",Реглист!C38,Реглист!C39) -> Непомнящий Виктор | D20: =D67 -> 1002.18 | E20: =E67 -> 17 | F20: 127 | G20: 217 | H20: 138 | I20: 134
A21: =A20+1 -> 19 | B21: =IF(Реглист!D40="Б",Реглист!B40,Реглист!B41) -> K&M | C21: =IF(Реглист!D40="Б",Реглист!C40,Реглист!C41) -> Казаченко Владимир | D21: =D68 -> 0 | E21: =E68 -> 43
A22: =A21+1 -> 20 | B22: =IF(Реглист!D42="Б",Реглист!B42,Реглист!B43) -> Орловские | C22: =IF(Реглист!D42="Б",Реглист!C42,Реглист!C43) -> Пластун Вячеслав | D22: =D69 -> 1818.74 | E22: =E69 -> 5 | F22: 354 | G22: 118 | H22: 147 | I22: 145
A23: =A22+1 -> 21 | B23: =IF(Реглист!D44="Б",Реглист!B44,Реглист!B45) -> - | C23: =IF(Реглист!D44="Б",Реглист!C44,Реглист!C45) -> - | D23: =D70 -> 0 | E23: =E70 -> 43
A24: =A23+1 -> 22 | B24: =IF(Реглист!D46="Б",Реглист!B46,Реглист!B47) -> SB-fishing | C24: =IF(Реглист!D46="Б",Реглист!C46,Реглист!C47) -> Минков Александр | D24: =D71 -> 193.21 | E24: =E71 -> 30 | F24: 139
A25: =A24+1 -> 23 | B25: =IF(Реглист!D48="Б",Реглист!B48,Реглист!B49) -> ULBroTeaM | C25: =IF(Реглист!D48="Б",Реглист!C48,Реглист!C49) -> Василенков Вячеслав | D25: =D72 -> 1115.13 | E25: =E72 -> 12 | F25: 148 | G25: 128 | H25: 240 | I25: 125
A26: =A25+1 -> 24 | B26: =IF(Реглист!D50="Б",Реглист!B50,Реглист!B51) -> ES team | C26: =IF(Реглист!D50="Б",Реглист!C50,Реглист!C51) -> Асинский Александр | D26: =D73 -> 0 | E26: =E73 -> 43
A27: =A26+1 -> 25 | B27: =IF(Реглист!D52="Б",Реглист!B52,Реглист!B53) -> Bad Fish | C27: =IF(Реглист!D52="Б",Реглист!C52,Реглист!C53) -> Желтов Игорь | D27: =D74 -> 693.54 | E27: =E74 -> 21 | F27: 136 | G27: 127 | H27: 123 | I27: 140
A28: =A27+1 -> 26 | B28: =IF(Реглист!D54="Б",Реглист!B54,Реглист!B55) -> Штиль | C28: =IF(Реглист!D54="Б",Реглист!C54,Реглист!C55) -> Рябишников Иван | D28: =D75 -> 144 | E28: =E75 -> 32 | F28: 120
A29: =A28+1 -> 27 | B29: =IF(Реглист!D56="Б",Реглист!B56,Реглист!B57) -> Solfishing | C29: =IF(Реглист!D56="Б",Реглист!C56,Реглист!C57) -> Губчик Александр | D29: =D76 -> 0 | E29: =E76 -> 43
A30: =A29+1 -> 28 | B30: =IF(Реглист!D58="Б",Реглист!B58,Реглист!B59) -> Favorite Team Belarus | C30: =IF(Реглист!D58="Б",Реглист!C58,Реглист!C59) -> Анпилов Андрей | D30: =D77 -> 1783.64 | E30: =E77 -> 6 | F30: 125 | G30: 127 | H30: 307 | I30: 140 | J30: 181
A31: =A30+1 -> 29 | B31: =IF(Реглист!D60="Б",Реглист!B60,Реглист!B61) -> Team Ylov | C31: =IF(Реглист!D60="Б",Реглист!C60,Реглист!C61) -> Кулаженко Владимир | D31: =D78 -> 1017.95 | E31: =E78 -> 16 | F31: 121 | G31: 123 | H31: 120 | I31: 150 | J31: 130 | K31: 135
A32: =A31+1 -> 30 | B32: =IF(Реглист!D62="Б",Реглист!B62,Реглист!B63) -> - | C32: =IF(Реглист!D62="Б",Реглист!C62,Реглист!C63) -> - | D32: =D79 -> 0 | E32: =E79 -> 43
A33: =A32+1 -> 31 | B33: =IF(Реглист!D64="Б",Реглист!B64,Реглист!B65) -> Позитив | C33: =IF(Реглист!D64="Б",Реглист!C64,Реглист!C65) -> Строк Павел | D33: =D80 -> 1423.57 | E33: =E80 -> 9 | F33: 279 | G33: 254
A34: =A33+1 -> 32 | B34: =IF(Реглист!D66="Б",Реглист!B66,Реглист!B67) -> Твичим и джигуем | C34: =IF(Реглист!D66="Б",Реглист!C66,Реглист!C67) -> Синовец Роман | D34: =D81 -> 538.49 | E34: =E81 -> 23 | F34: 121 | G34: 138 | H34: 142
A35: =A34+1 -> 33 | B35: =IF(Реглист!D68="Б",Реглист!B68,Реглист!B69) -> Vodomotorika TEAM | C35: =IF(Реглист!D68="Б",Реглист!C68,Реглист!C69) -> Круглянин Сергей | D35: =D82 -> 213.16 | E35: =E82 -> 28 | F35: 146
A36: =A35+1 -> 34 | B36: =IF(Реглист!D70="Б",Реглист!B70,Реглист!B71) -> - | C36: =IF(Реглист!D70="Б",Реглист!C70,Реглист!C71) -> - | D36: =D83 -> 0 | E36: =E83 -> 43
A37: =A36+1 -> 35 | B37: =IF(Реглист!D72="Б",Реглист!B72,Реглист!B73) -> XULи-ULи | C37: =IF(Реглист!D72="Б",Реглист!C72,Реглист!C73) -> Лавренчук Станислав | D37: =D84 -> 2745.86 | E37: =E84 -> 3 | F37: 144 | G37: 385 | H37: 325
A38: =A37+1 -> 36 | B38: =IF(Реглист!D74="Б",Реглист!B74,Реглист!B75) -> LEGION | C38: =IF(Реглист!D74="Б",Реглист!C74,Реглист!C75) -> Бойко Сергей | D38: =D85 -> 4035.17 | E38: =E85 -> 1 | F38: 129 | G38: 142 | H38: 106 | I38: 111 | J38: 113 | K38: 135 | L38: 156 | M38: 134 | N38: 127 | O38: 138 | P38: 131 | Q38: 122 | R38: 117 | S38: 116 | T38: 155 | U38: 136 | V38: 156 | W38: 136 | X38: 138 | Y38: 134 | Z38: 139 | AA38: 134 | AB38: 126
A39: =A38+1 -> 37 | B39: =IF(Реглист!D76="Б",Реглист!B76,Реглист!B77) -> Брест над Бугом | C39: =IF(Реглист!D76="Б",Реглист!C76,Реглист!C77) -> Шумко Александр | D39: =D86 -> 962.2 | E39: =E86 -> 18 | F39: 135 | G39: 122 | H39: 105 | I39: 145 | J39: 119 | K39: 130
A40: =A39+1 -> 38 | B40: =IF(Реглист!D78="Б",Реглист!B78,Реглист!B79) -> Гефест-Техника | C40: =IF(Реглист!D78="Б",Реглист!C78,Реглист!C79) -> Остапук Александр | D40: =D87 -> 0 | E40: =E87 -> 43
...

Sheet Т2За
A1: № | B1: команда | C1: участник | D1: сумма баллов | E1: место | F1: окунь | Z1: щука | AC1: судак | AF1: жерех | AI1: голавль | AL1: язь | AO1: чехонь | AR1: сом
F2: размер, см
A3: 1 | B3: =Т1Зб!B3 -> Непредсказуемые | C3: =Т1Зб!C3 -> Кайсин Иван | D3: =D50 -> 0 | E3: =E50 -> 43
A4: =A3+1 -> 2 | B4: =Т1Зб!B4 -> Фарватер | C4: =Т1Зб!C4 -> Попельский Максим | D4: =D51 -> 161.29 | E4: =E51 -> 24 | F4: 127
A5: =A4+1 -> 3 | B5: =Т1Зб!B5 -> Neptune fishing team | C5: =Т1Зб!C5 -> Мяэлоог Алексей | D5: =D52 -> 0 | E5: =E52 -> 43
A6: =A5+1 -> 4 | B6: =Т1Зб!B6 -> Peacock Bass | C6: =Т1Зб!C6 -> Дроздов Виталий | D6: =D53 -> 827.3 | E6: =E53 -> 4 | F6: 115 | G6: 112 | H6: 135 | I6: 156 | J6: 120
A7: =A6+1 -> 5 | B7: =Т1Зб!B7 -> Бульба з Салам | C7: =Т1Зб!C7 -> Бобриков Алексей | D7: =D54 -> 0 | E7: =E54 -> 43
A8: =A7+1 -> 6 | B8: =Т1Зб!B8 -> UL soldiers of fortune | C8: =Т1Зб!C8 -> Андрианов Илья | D8: =D55 -> 823.69 | E8: =E55 -> 5 | F8: 287
A9: =A8+1 -> 7 | B9: =Т1Зб!B9 -> СТАR Fishingstock | C9: =Т1Зб!C9 -> Пожарский Константин | D9: =D56 -> 689.17 | E9: =E56 -> 8 | F9: 150 | G9: 120 | H9: 129 | I9: 124
A10: =A9+1 -> 8 | B10: =Т1Зб!B10 -> Poseidon | C10: =Т1Зб!C10 -> Кохно Антон | D10: =D57 -> 225 | E10: 21.5 | F10: 150
A11: =A10+1 -> 9 | B11: =Т1Зб!B11 -> Team Minsk | C11: =Т1Зб!C11 -> Артёмчик Евгений | D11: =D58 -> 392.5 | E11: =E58 -> 18 | F11: 145 | G11: 135
A12: =A11+1 -> 10 | B12: =Т1Зб!B12 -> RVR | C12: =Т1Зб!C12 -> Масюк Павел | D12: =D59 -> 225 | E12: 21.5 | F12: 150
A13: =A12+1 -> 11 | B13: =Т1Зб!B13 -> Perch Legends | C13: =Т1Зб!C13 -> Янкович Сергей | D13: =D60 -> 0 | E13: =E60 -> 43
A14: =A13+1 -> 12 | B14: =Т1Зб!B14 -> Студенты | C14: =Т1Зб!C14 -> Кочанов Александр | D14: =D61 -> 412.09 | E14: =E61 -> 16 | F14: 147 | G14: 140
A15: =A14+1 -> 13 | B15: =Т1Зб!B15 -> Полесье | C15: =Т1Зб!C15 -> Рыбачук Евгений | D15: =D62 -> 166.41 | E15: =E62 -> 23 | F15: 129
A16: =A15+1 -> 14 | B16: =Т1Зб!B16 -> Кобринский МСЗ | C16: =Т1Зб!C16 -> Жарин Вадим | D16: =D63 -> 2485.43 | E16: =E63 -> 1 | F16: 136 | G16: 146 | H16: 140 | I16: 125 | J16: 168 | K16: 130 | L16: 115 | M16: 114 | N16: 121 | O16: 116 | P16: 152 | Q16: 120 | R16: 116 | S16: 152
A17: =A16+1 -> 15 | B17: =Т1Зб!B17 -> ASpinnTeam | C17: =Т1Зб!C17 -> Нугуманов Артём | D17: =D64 -> 796.29 | E17: =E64 -> 7 | F17: 113 | G17: 119 | H17: 153 | I17: 119 | J17: 123
A18: =A17+1 -> 16 | B18: =Т1Зб!B18 -> FishMurder | C18: =Т1Зб!C18 -> Микулов Владимир | D18: =D65 -> 0 | E18: =E65 -> 43
A19: =A18+1 -> 17 | B19: =Т1Зб!B19 -> Бобруйский Region | C19: =Т1Зб!C19 -> Прокопчик Алексей | D19: =D66 -> 0 | E19: =E66 -> 43
A20: =A19+1 -> 18 | B20: =Т1Зб!B20 -> West Fishing | C20: =Т1Зб!C20 -> Непомнящий Виктор | D20: =D67 -> 616.84 | E20: =E67 -> 10 | F20: 138 | G20: 144 | H20: 148
A21: =A20+1 -> 19 | B21: =Т1Зб!B21 -> K&M | C21: =Т1Зб!C21 -> Казаченко Владимир | D21: =D68 -> 441.09 | E21: =E68 -> 14 | F21: 147 | G21: 150
A22: =A21+1 -> 20 | B22: =Т1Зб!B22 -> Орловские | C22: =Т1Зб!C22 -> Пластун Вячеслав | D22: =D69 -> 800.02 | E22: =E69 -> 6 | F22: 149 | G22: 124 | H22: 139 | I22: 152
A23: =A22+1 -> 21 | B23: =Т1Зб!B23 -> - | C23: =Т1Зб!C23 -> - | D23: =D70 -> 0 | E23: =E70 -> 43
A24: =A23+1 -> 22 | B24: =Т1Зб!B24 -> SB-fishing | C24: =Т1Зб!C24 -> Минков Александр | D24: =D71 -> 1064.61 | E24: =E71 -> 3 | F24: 145 | G24: 141 | H24: 141 | I24: 145 | J24: 157
A25: =A24+1 -> 23 | B25: =Т1Зб!B25 -> ULBroTeaM | C25: =Т1Зб!C25 -> Василенков Вячеслав | D25: =D72 -> 0 | E25: =E72 -> 43
A26: =A25+1 -> 24 | B26: =Т1Зб!B26 -> ES team | C26: =Т1Зб!C26 -> Асинский Александр | D26: =D73 -> 0 | E26: =E73 -> 43
A27: =A26+1 -> 25 | B27: =Т1Зб!B27 -> Bad Fish | C27: =Т1Зб!C27 -> Желтов Игорь | D27: =D74 -> 296.69 | E27: =E74 -> 20 | F27: 113 | G27: 130
A28: =A27+1 -> 26 | B28: =Т1Зб!B28 -> Штиль | C28: =Т1Зб!C28 -> Рябишников Иван | D28: =D75 -> 378.13 | E28: =E75 -> 19 | F28: 137 | G28: 138
A29: =A28+1 -> 27 | B29: =Т1Зб!B29 -> Solfishing | C29: =Т1Зб!C29 -> Губчик Александр | D29: =D76 -> 0 | E29: =E76 -> 43
A30: =A29+1 -> 28 | B30: =Т1Зб!B30 -> Favorite Team Belarus | C30: =Т1Зб!C30 -> Анпилов Андрей | D30: =D77 -> 1536.84 | E30: =E77 -> 2 | F30: 140 | G30: 119 | H30: 123 | I30: 139 | J30: 122 | K30: 133 | L30: 230
A31: =A30+1 -> 29 | B31: =Т1Зб!B31 -> Team Ylov | C31: =Т1Зб!C31 -> Кулаженко Владимир | D31: =D78 -> 156.25 | E31: =E78 -> 25 | F31: 125
A32: =A31+1 -> 30 | B32: =Т1Зб!B32 -> - | C32: =Т1Зб!C32 -> - | D32: =D79 -> 0 | E32: =E79 -> 43
A33: =A32+1 -> 31 | B33: =Т1Зб!B33 -> Позитив | C33: =Т1Зб!C33 -> Строк Павел | D33: =D80 -> 0 | E33: =E80 -> 43
A34: =A33+1 -> 32 | B34: =Т1Зб!B34 -> Твичим и джигуем | C34: =Т1Зб!C34 -> Синовец Роман | D34: =D81 -> 423.45 | E34: =E81 -> 15 | F34: 147 | G34: 144
A35: =A34+1 -> 33 | B35: =Т1Зб!B35 -> Vodomotorika TEAM | C35: =Т1Зб!C35 -> Круглянин Сергей | D35: =D82 -> 0 | E35: =E82 -> 43
A36: =A35+1 -> 34 | B36: =Т1Зб!B36 -> - | C36: =Т1Зб!C36 -> - | D36: =D83 -> 0 | E36: =E83 -> 43
A37: =A36+1 -> 35 | B37: =Т1Зб!B37 -> XULи-ULи | C37: =Т1Зб!C37 -> Лавренчук Станислав | D37: =D84 -> 0 | E37: =E84 -> 43
A38: =A37+1 -> 36 | B38: =Т1Зб!B38 -> LEGION | C38: =Т1Зб!C38 -> Бойко Сергей | D38: =D85 -> 396.25 | E38: =E85 -> 17 | F38: 149 | G38: 132
A39: =A38+1 -> 37 | B39: =Т1Зб!B39 -> Брест над Бугом | C39: =Т1Зб!C39 -> Шумко Александр | D39: =D86 -> 0 | E39: =E86 -> 43
A40: =A39+1 -> 38 | B40: =Т1Зб!B40 -> Гефест-Техника | C40: =Т1Зб!C40 -> Остапук Александр | D40: =D87 -> 0 | E40: =E87 -> 43
...

Sheet Т2Зб
A1: № | B1: команда | C1: участник | D1: сумма баллов | E1: место | F1: окунь | Z1: щука | AC1: судак | AF1: жерех | AI1: голавль | AL1: язь | AO1: чехонь | AR1: сом
F2: размер, см
A3: 1 | B3: =Т1За!B3 -> Непредсказуемые | C3: =Т1За!C3 -> Хомский Дмитрий | D3: =D50 -> 121 | E3: =E50 -> 20 | F3: 110
A4: =A3+1 -> 2 | B4: =Т1За!B4 -> Фарватер | C4: =Т1За!C4 -> Цыганок Михаил | D4: =D51 -> 327.77 | E4: =E51 -> 15 | F4: 116 | G4: 139
A5: =A4+1 -> 3 | B5: =Т1За!B5 -> Neptune fishing team | C5: =Т1За!C5 -> Кирьянов Денис | D5: =D52 -> 1401.41 | E5: =E52 -> 1 | F5: 150 | G5: 145 | H5: 270 | I5: 154
A6: =A5+1 -> 4 | B6: =Т1За!B6 -> Peacock Bass | C6: =Т1За!C6 -> Сенчуров Иван | D6: =D53 -> 0 | E6: =E53 -> 43
A7: =A6+1 -> 5 | B7: =Т1За!B7 -> Бульба з Салам | C7: =Т1За!C7 -> Лунякин Олег | D7: =D54 -> 1176.49 | E7: =E54 -> 3 | F7: 343
A8: =A7+1 -> 6 | B8: =Т1За!B8 -> UL soldiers of fortune | C8: =Т1За!C8 -> Дешкевич Виталий | D8: =D55 -> 282.24 | E8: =E55 -> 17 | F8: 168
A9: =A8+1 -> 7 | B9: =Т1За!B9 -> СТАR Fishingstock | C9: =Т1За!C9 -> Бычик Роман | D9: =D56 -> 0 | E9: =E56 -> 43
A10: =A9+1 -> 8 | B10: =Т1За!B10 -> Poseidon | C10: =Т1За!C10 -> Ананич Геннадий | D10: =D57 -> 719.07 | E10: =E57 -> 9 | F10: 169 | G10: 121 | H10: 111 | I10: 128
A11: =A10+1 -> 9 | B11: =Т1За!B11 -> Team Minsk | C11: =Т1За!C11 -> Огейко Юрий | D11: =D58 -> 0 | E11: =E58 -> 43
A12: =A11+1 -> 10 | B12: =Т1За!B12 -> RVR | C12: =Т1За!C12 -> Золотухин Александр | D12: =D59 -> 0 | E12: =E59 -> 43
A13: =A12+1 -> 11 | B13: =Т1За!B13 -> Perch Legends | C13: =Т1За!C13 -> Каменец Алексей | D13: =D60 -> 0 | E13: =E60 -> 43
A14: =A13+1 -> 12 | B14: =Т1За!B14 -> Студенты | C14: =Т1За!C14 -> Кузнецов Никита | D14: =D61 -> 0 | E14: =E61 -> 43
A15: =A14+1 -> 13 | B15: =Т1За!B15 -> Полесье | C15: =Т1За!C15 -> Марковский Максим | D15: =D62 -> 0 | E15: =E62 -> 43
A16: =A15+1 -> 14 | B16: =Т1За!B16 -> Кобринский МСЗ | C16: =Т1За!C16 -> Барташук Александр | D16: =D63 -> 0 | E16: =E63 -> 43
A17: =A16+1 -> 15 | B17: =Т1За!B17 -> ASpinnTeam | C17: =Т1За!C17 -> Вашкевич Александр | D17: =D64 -> 0 | E17: =E64 -> 43
A18: =A17+1 -> 16 | B18: =Т1За!B18 -> FishMurder | C18: =Т1За!C18 -> Шило Сергей | D18: =D65 -> 605.38 | E18: =E65 -> 11 | F18: 133 | G18: 207
A19: =A18+1 -> 17 | B19: =Т1За!B19 -> Бобруйский Region | C19: =Т1За!C19 -> Пархамович Максим | D19: =D66 -> 0 | E19: =E66 -> 43
A20: =A19+1 -> 18 | B20: =Т1За!B20 -> West Fishing | C20: =Т1За!C20 -> Золотарь Андрей | D20: =D67 -> 657.66 | E20: =E67 -> 10 | F20: 145 | G20: 154 | H20: 145
A21: =A20+1 -> 19 | B21: =Т1За!B21 -> K&M | C21: =Т1За!C21 -> Мельников Юрий | D21: =D68 -> 1262.87 | E21: =E68 -> 2 | F21: 145 | G21: 114 | H21: 167 | I21: 110 | J21: 145 | K21: 124 | L21: 126
A22: =A21+1 -> 20 | B22: =Т1За!B22 -> Орловские | C22: =Т1За!C22 -> Боровик Андрей | D22: =D69 -> 868.89 | E22: =E69 -> 7 | F22: 148 | G22: 138 | H22: 130 | I22: 121 | J22: 120
A23: =A22+1 -> 21 | B23: =Т1За!B23 -> - | C23: =Т1За!C23 -> - | D23: =D70 -> 0 | E23: =E70 -> 43
A24: =A23+1 -> 22 | B24: =Т1За!B24 -> SB-fishing | C24: =Т1За!C24 -> Сапраненков Евгений | D24: =D71 -> 393.64 | E24: =E71 -> 13 | F24: 120 | G24: 158
A25: =A24+1 -> 23 | B25: =Т1За!B25 -> ULBroTeaM | C25: =Т1За!C25 -> Вычиков Павел | D25: =D72 -> 1113.74 | E25: =E72 -> 4 | F25: 146 | G25: 134 | H25: 142 | I25: 144 | J25: 109 | K25: 139
A26: =A25+1 -> 24 | B26: =Т1За!B26 -> ES team | C26: =Т1За!C26 -> Боляновский Дмитрий | D26: =D73 -> 249.64 | E26: =E73 -> 18 | F26: 158
A27: =A26+1 -> 25 | B27: =Т1За!B27 -> Bad Fish | C27: =Т1За!C27 -> Корней Валентин | D27: =D74 -> 0 | E27: =E74 -> 43
A28: =A27+1 -> 26 | B28: =Т1За!B28 -> Штиль | C28: =Т1За!C28 -> Козлов Юрий | D28: =D75 -> 144 | E28: =E75 -> 19 | F28: 120
A29: =A28+1 -> 27 | B29: =Т1За!B29 -> Solfishing | C29: =Т1За!C29 -> Санько Александр | D29: =D76 -> 0 | E29: =E76 -> 43
A30: =A29+1 -> 28 | B30: =Т1За!B30 -> Favorite Team Belarus | C30: =Т1За!C30 -> Шавшунов Никита | D30: =D77 -> 0 | E30: =E77 -> 43
A31: =A30+1 -> 29 | B31: =Т1За!B31 -> Team Ylov | C31: =Т1За!C31 -> Тулупов Александр | D31: =D78 -> 893.74 | E31: =E78 -> 6 | F31: 135 | G31: 125 | H31: 116 | I31: 142 | J31: 148
A32: =A31+1 -> 30 | B32: =Т1За!B32 -> - | C32: =Т1За!C32 -> - | D32: =D79 -> 0 | E32: =E79 -> 43
A33: =A32+1 -> 31 | B33: =Т1За!B33 -> Позитив | C33: =Т1За!C33 -> Князев Сергей | D33: =D80 -> 0 | E33: =E80 -> 43
A34: =A33+1 -> 32 | B34: =Т1За!B34 -> Твичим и джигуем | C34: =Т1За!C34 -> Чернышев Егор | D34: =D81 -> 0 | E34: =E81 -> 43
A35: =A34+1 -> 33 | B35: =Т1За!B35 -> Vodomotorika TEAM | C35: =Т1За!C35 -> Ставер Дмитрий | D35: =D82 -> 0 | E35: =E82 -> 43
A36: =A35+1 -> 34 | B36: =Т1За!B36 -> - | C36: =Т1За!C36 -> - | D36: =D83 -> 0 | E36: =E83 -> 43
A37: =A36+1 -> 35 | B37: =Т1За!B37 -> XULи-ULи | C37: =Т1За!C37 -> Вежновец Михаил | D37: =D84 -> 459.29 | E37: =E84 -> 12 | F37: 148 | G37: 155
A38: =A37+1 -> 36 | B38: =Т1За!B38 -> LEGION | C38: =Т1За!C38 -> Полюхович Александр | D38: =D85 -> 0 | E38: =E85 -> 43
A39: =A38+1 -> 37 | B39: =Т1За!B39 -> Брест над Бугом | C39: =Т1За!C39 -> Тысевич Сергей | D39: =D86 -> 1097.54 | E39: =E86 -> 5 | F39: 135 | G39: 152 | H39: 159 | I39: 162 | J39: 130
A40: =A39+1 -> 38 | B40: =Т1За!B40 -> Гефест-Техника | C40: =Т1За!C40 -> Лобацевич Виктор | D40: =D87 -> 0 | E40: =E87 -> 43
...

Sheet FuzzyLookup_AddIn_Undo_Sheet
A1: № | B1: Команды | C1: Участники | D1: Тур 1 | H1: Тур 2 | L1: Личный зачет | O1: Командный зачет
D2: Зона А | F2: Зона Б | H2: Зона А | J2: Зона Б
D3: баллы | E3: место | F3: баллы | G3: место | H3: баллы | I3: место | J3: баллы | K3: место | L3: баллы | M3: сумма мест | N3: место | O3: баллы | P3: сумма мест | Q3: место
A4: 1 | B4: Cast-Fishing | C4: Лихачев Максим | L4: =D4+F4+H4+J4 -> 0 | M4: =E4+G4+I4+K4 -> 0 | O4: =L4+L5 -> 0 | P4: =M4+M5 -> 0
C5: Ковальчук Дмитрий | L5: =D5+F5+H5+J5 -> 0 | M5: =E5+G5+I5+K5 -> 0
A6: 2 | B6: Peacock Bass | C6: Сенчуров Иван | L6: =D6+F6+H6+J6 -> 0 | M6: =E6+G6+I6+K6 -> 0 | O6: =L6+L7 -> 0 | P6: =M6+M7 -> 0
C7: Дроздов Виталий | L7: =D7+F7+H7+J7 -> 0 | M7: =E7+G7+I7+K7 -> 0
A8: 3 | B8: Adventurers | C8: Бахур Александр | D8: 196 | L8: =D8+F8+H8+J8 -> 196 | M8: =E8+G8+I8+K8 -> 0 | O8: =L8+L9 -> 196 | P8: =M8+M9 -> 0
C9: Зубко Сергей | L9: =D9+F9+H9+J9 -> 0 | M9: =E9+G9+I9+K9 -> 0
A10: 4 | B10: MicroKiller | C10: Купрейчик Сергей | L10: =D10+F10+H10+J10 -> 0 | M10: =E10+G10+I10+K10 -> 0 | O10: =L10+L11 -> 81 | P10: =M10+M11 -> 0
C11: Янкович Сергей | D11: 81 | L11: =D11+F11+H11+J11 -> 81 | M11: =E11+G11+I11+K11 -> 0
A12: 5 | B12: Per4 | C12: Лунякин Олег | L12: =D12+F12+H12+J12 -> 0 | M12: =E12+G12+I12+K12 -> 0 | O12: =L12+L13 -> 36 | P12: =M12+M13 -> 0
C13: Каменец Алексей | D13: 36 | L13: =D13+F13+H13+J13 -> 36 | M13: =E13+G13+I13+K13 -> 0
A14: 6 | B14: Poseidon | C14: Чижонок Сергей | D14: 121 | L14: =D14+F14+H14+J14 -> 121 | M14: =E14+G14+I14+K14 -> 0 | O14: =L14+L15 -> 121 | P14: =M14+M15 -> 0
C15: Строк Павел | L15: =D15+F15+H15+J15 -> 0 | M15: =E15+G15+I15+K15 -> 0
A16: 7 | B16: West Fishing | C16: Непомнящий Виктор | L16: =D16+F16+H16+J16 -> 0 | M16: =E16+G16+I16+K16 -> 0 | O16: =L16+L17 -> 0 | P16: =M16+M17 -> 0
C17: Золотарь Андрей | L17: =D17+F17+H17+J17 -> 0 | M17: =E17+G17+I17+K17 -> 0
A18: 8 | B18: nanobass | C18: Бычик Роман | D18: 100 | L18: =D18+F18+H18+J18 -> 100 | M18: =E18+G18+I18+K18 -> 0 | O18: =L18+L19 -> 100 | P18: =M18+M19 -> 0
C19: Шевко Виталий | L19: =D19+F19+H19+J19 -> 0 | M19: =E19+G19+I19+K19 -> 0
A20: 9 | B20: Трудовые резервы | C20: Пожарский Константин | L20: =D20+F20+H20+J20 -> 0 | M20: =E20+G20+I20+K20 -> 0 | O20: =L20+L21 -> 49 | P20: =M20+M21 -> 0
C21: Бобриков Алексей | D21: 49 | L21: =D21+F21+H21+J21 -> 49 | M21: =E21+G21+I21+K21 -> 0
A22: 10 | B22: Lunker Tail | C22: Козел Вячеслав | L22: =D22+F22+H22+J22 -> 0 | M22: =E22+G22+I22+K22 -> 0 | O22: =L22+L23 -> 64 | P22: =M22+M23 -> 0
C23: Кириевский Андрей | D23: 64 | L23: =D23+F23+H23+J23 -> 64 | M23: =E23+G23+I23+K23 -> 0
A24: 11 | B24: Против Течения | C24: Ананич Геннадий | L24: =D24+F24+H24+J24 -> 0 | M24: =E24+G24+I24+K24 -> 0 | O24: =L24+L25 -> 0 | P24: =M24+M25 -> 0
C25: Кириенко Кирилл | L25: =D25+F25+H25+J25 -> 0 | M25: =E25+G25+I25+K25 -> 0
A26: 12 | B26: ЕК | C26: Ковалев Евгений | D26: 169 | L26: =D26+F26+H26+J26 -> 169 | M26: =E26+G26+I26+K26 -> 0 | O26: =L26+L27 -> 169 | P26: =M26+M27 -> 0
C27: Казанцев Евгений | L27: =D27+F27+H27+J27 -> 0 | M27: =E27+G27+I27+K27 -> 0
A28: 13 | B28: Legion | C28: Бойко Сергей | L28: =D28+F28+H28+J28 -> 0 | M28: =E28+G28+I28+K28 -> 0 | O28: =L28+L29 -> 225 | P28: =M28+M29 -> 0
C29: Микулов Владимир | D29: 225 | L29: =D29+F29+H29+J29 -> 225 | M29: =E29+G29+I29+K29 -> 0
A30: 14 | B30: Степ Гарант | C30: Мельников Ю. В. | D30: 144 | L30: =D30+F30+H30+J30 -> 144 | M30: =E30+G30+I30+K30 -> 0 | O30: =L30+L31 -> 144 | P30: =M30+M31 -> 0
C31: Кравченко И. П. | L31: =D31+F31+H31+J31 -> 0 | M31: =E31+G31+I31+K31 -> 0

Sheet Итоги
A1: № | B1: Команды | C1: Участники | D1: Тур 1 | H1: Тур 2 | L1: Личный зачет | O1: Командный зачет
D2: Зона А | F2: Зона Б | H2: Зона А | J2: Зона Б
D3: баллы | E3: меcто | F3: баллы | G3: место | H3: баллы | I3: место | J3: баллы | K3: место | L3: баллы | M3: сумма мест | N3: место | O3: баллы | P3: сумма мест | Q3: место
A4: 1 | B4: =Реглист!B4 -> Непредсказуемые | C4: =Реглист!C4 -> Кайсин Иван | D4: =IFERROR(VLOOKUP(C4,Т1За!$C$3:$D$47,2,0),0) -> 0 | E4: =IFERROR(VLOOKUP(C4,Т1За!$C$3:$E$47,3,0),0) -> 0 | F4: =IFERROR(VLOOKUP(C4,Т1Зб!$C$3:$D$47,2,0),0) -> 161.29 | G4: =IFERROR(VLOOKUP(C4,Т1Зб!$C$3:$E$47,3,0),0) -> 31 | H4: =IFERROR(VLOOKUP(C4,Т2За!$C$3:$D$47,2,0),0) -> 0 | I4: =IFERROR(VLOOKUP(C4,Т2За!$C$3:$E$47,3,0),0) -> 43 | J4: =IFERROR(VLOOKUP(C4,Т2Зб!$C$3:$D$47,2,0),0) -> 0 | K4: =IFERROR(VLOOKUP(C4,Т2Зб!$C$3:$E$47,3,0),0) -> 0 | L4: =D4+F4+H4+J4 -> 161.29 | M4: =IF(L4=0,Реглист!$C$93*2+2,E4+G4+I4+K4) -> 74 | N4: =IF(M4=Реглист!$C$93*2+2,Реглист!$C$93*2+1,RANK(M4,$M$4:$M$91,1)) -> 67 | O4: =L4+L5 -> 282.29 | P4: =IF(O4=0,Реглист!$C$93*4+4,M4+M5) -> 137 | Q4: =IF(P4=Реглист!$C$93*4+4,Реглист!$C$93+1,RANK(P4,$P$4:$P$91,1)) -> 35
A5: =A4+1 -> 2 | B5: =Реглист!B5 -> Непредсказуемые | C5: =Реглист!C5 -> Хомский Дмитрий | D5: =IFERROR(VLOOKUP(C5,Т1За!$C$3:$D$47,2,0),0) -> 0 | E5: =IFERROR(VLOOKUP(C5,Т1За!$C$3:$E$47,3,0),0) -> 43 | F5: =IFERROR(VLOOKUP(C5,Т1Зб!$C$3:$D$47,2,0),0) -> 0 | G5: =IFERROR(VLOOKUP(C5,Т1Зб!$C$3:$E$47,3,0),0) -> 0 | H5: =IFERROR(VLOOKUP(C5,Т2За!$C$3:$D$47,2,0),0) -> 0 | I5: =IFERROR(VLOOKUP(C5,Т2За!$C$3:$E$47,3,0),0) -> 0 | J5: =IFERROR(VLOOKUP(C5,Т2Зб!$C$3:$D$47,2,0),0) -> 121 | K5: =IFERROR(VLOOKUP(C5,Т2Зб!$C$3:$E$47,3,0),0) -> 20 | L5: =D5+F5+H5+J5 -> 121 | M5: =IF(L5=0,Реглист!$C$93*2+2,E5+G5+I5+K5) -> 63 | N5: 59
A6: =A5+1 -> 3 | B6: =Реглист!B6 -> Фарватер | C6: =Реглист!C6 -> Попельский Максим | D6: =IFERROR(VLOOKUP(C6,Т1За!$C$3:$D$47,2,0),0) -> 0 | E6: =IFERROR(VLOOKUP(C6,Т1За!$C$3:$E$47,3,0),0) -> 0 | F6: =IFERROR(VLOOKUP(C6,Т1Зб!$C$3:$D$47,2,0),0) -> 1041.89 | G6: =IFERROR(VLOOKUP(C6,Т1Зб!$C$3:$E$47,3,0),0) -> 15 | H6: =IFERROR(VLOOKUP(C6,Т2За!$C$3:$D$47,2,0),0) -> 161.29 | I6: =IFERROR(VLOOKUP(C6,Т2За!$C$3:$E$47,3,0),0) -> 24 | J6: =IFERROR(VLOOKUP(C6,Т2Зб!$C$3:$D$47,2,0),0) -> 0 | K6: =IFERROR(VLOOKUP(C6,Т2Зб!$C$3:$E$47,3,0),0) -> 0 | L6: =D6+F6+H6+J6 -> 1203.18 | M6: =IF(L6=0,Реглист!$C$93*2+2,E6+G6+I6+K6) -> 39 | N6: =IF(M6=Реглист!$C$93*2+2,Реглист!$C$93*2+1,RANK(M6,$M$4:$M$91,1)) -> 31 | O6: =L6+L7 -> 2146.43 | P6: =IF(O6=0,Реглист!$C$93*4+4,M6+M7) -> 65 | Q6: =IF(P6=Реглист!$C$93*4+4,Реглист!$C$93+1,RANK(P6,$P$4:$P$91,1)) -> 9
A7: =A6+1 -> 4 | B7: =Реглист!B7 -> Фарватер | C7: =Реглист!C7 -> Цыганок Михаил | D7: =IFERROR(VLOOKUP(C7,Т1За!$C$3:$D$47,2,0),0) -> 615.48 | E7: =IFERROR(VLOOKUP(C7,Т1За!$C$3:$E$47,3,0),0) -> 11 | F7: =IFERROR(VLOOKUP(C7,Т1Зб!$C$3:$D$47,2,0),0) -> 0 | G7: =IFERROR(VLOOKUP(C7,Т1Зб!$C$3:$E$47,3,0),0) -> 0 | H7: =IFERROR(VLOOKUP(C7,Т2За!$C$3:$D$47,2,0),0) -> 0 | I7: =IFERROR(VLOOKUP(C7,Т2За!$C$3:$E$47,3,0),0) -> 0 | J7: =IFERROR(VLOOKUP(C7,Т2Зб!$C$3:$D$47,2,0),0) -> 327.77 | K7: =IFERROR(VLOOKUP(C7,Т2Зб!$C$3:$E$47,3,0),0) -> 15 | L7: =D7+F7+H7+J7 -> 943.25 | M7: =IF(L7=0,Реглист!$C$93*2+2,E7+G7+I7+K7) -> 26 | N7: =IF(M7=Реглист!$C$93*2+2,Реглист!$C$93*2+1,RANK(M7,$M$4:$M$91,1)) -> 18
A8: =A7+1 -> 5 | B8: =Реглист!B8 -> Neptune fishing team | C8: =Реглист!C8 -> Мяэлоог Алексей | D8: =IFERROR(VLOOKUP(C8,Т1За!$C$3:$D$47,2,0),0) -> 0 | E8: =IFERROR(VLOOKUP(C8,Т1За!$C$3:$E$47,3,0),0) -> 0 | F8: =IFERROR(VLOOKUP(C8,Т1Зб!$C$3:$D$47,2,0),0) -> 210.25 | G8: =IFERROR(VLOOKUP(C8,Т1Зб!$C$3:$E$47,3,0),0) -> 29 | H8: =IFERROR(VLOOKUP(C8,Т2За!$C$3:$D$47,2,0),0) -> 0 | I8: =IFERROR(VLOOKUP(C8,Т2За!$C$3:$E$47,3,0),0) -> 43 | J8: =IFERROR(VLOOKUP(C8,Т2Зб!$C$3:$D$47,2,0),0) -> 0 | K8: =IFERROR(VLOOKUP(C8,Т2Зб!$C$3:$E$47,3,0),0) -> 0 | L8: =D8+F8+H8+J8 -> 210.25 | M8: =IF(L8=0,Реглист!$C$93*2+2,E8+G8+I8+K8) -> 72 | N8: =IF(M8=Реглист!$C$93*2+2,Реглист!$C$93*2+1,RANK(M8,$M$4:$M$91,1)) -> 66 | O8: =L8+L9 -> 1963.91 | P8: =IF(O8=0,Реглист!$C$93*4+4,M8+M9) -> 89 | Q8: =IF(P8=Реглист!$C$93*4+4,Реглист!$C$93+1,RANK(P8,$P$4:$P$91,1)) -> 20
A9: =A8+1 -> 6 | B9: =Реглист!B9 -> Neptune fishing team | C9: =Реглист!C9 -> Кирьянов Денис | D9: =IFERROR(VLOOKUP(C9,Т1За!$C$3:$D$47,2,0),0) -> 352.25 | E9: =IFERROR(VLOOKUP(C9,Т1За!$C$3:$E$47,3,0),0) -> 16 | F9: =IFERROR(VLOOKUP(C9,Т1Зб!$C$3:$D$47,2,0),0) -> 0 | G9: =IFERROR(VLOOKUP(C9,Т1Зб!$C$3:$E$47,3,0),0) -> 0 | H9: =IFERROR(VLOOKUP(C9,Т2За!$C$3:$D$47,2,0),0) -> 0 | I9: =IFERROR(VLOOKUP(C9,Т2За!$C$3:$E$47,3,0),0) -> 0 | J9: =IFERROR(VLOOKUP(C9,Т2Зб!$C$3:$D$47,2,0),0) -> 1401.41 | K9: =IFERROR(VLOOKUP(C9,Т2Зб!$C$3:$E$47,3,0),0) -> 1 | L9: =D9+F9+H9+J9 -> 1753.66 | M9: =IF(L9=0,Реглист!$C$93*2+2,E9+G9+I9+K9) -> 17 | N9: =IF(M9=Реглист!$C$93*2+2,Реглист!$C$93*2+1,RANK(M9,$M$4:$M$91,1)) -> 12
A10: =A9+1 -> 7 | B10: =Реглист!B10 -> Peacock Bass | C10: =Реглист!C10 -> Сенчуров Иван | D10: =IFERROR(VLOOKUP(C10,Т1За!$C$3:$D$47,2,0),0) -> 327.76 | E10: =IFERROR(VLOOKUP(C10,Т1За!$C$3:$E$47,3,0),0) -> 17 | F10: =IFERROR(VLOOKUP(C10,Т1Зб!$C$3:$D$47,2,0),0) -> 0 | G10: =IFERROR(VLOOKUP(C10,Т1Зб!$C$3:$E$47,3,0),0) -> 0 | H10: =IFERROR(VLOOKUP(C10,Т2За!$C$3:$D$47,2,0),0) -> 0 | I10: =IFERROR(VLOOKUP(C10,Т2За!$C$3:$E$47,3,0),0) -> 0 | J10: =IFERROR(VLOOKUP(C10,Т2Зб!$C$3:$D$47,2,0),0) -> 0 | K10: =IFERROR(VLOOKUP(C10,Т2Зб!$C$3:$E$47,3,0),0) -> 43 | L10: =D10+F10+H10+J10 -> 327.76 | M10: =IF(L10=0,Реглист!$C$93*2+2,E10+G10+I10+K10) -> 60 | N10: =IF(M10=Реглист!$C$93*2+2,Реглист!$C$93*2+1,RANK(M10,$M$4:$M$91,1)) -> 54 | O10: =L10+L11 -> 2846.38 | P10: =IF(O10=0,Реглист!$C$93*4+4,M10+M11) -> 72 | Q10: 13
A11: =A10+1 -> 8 | B11: =Реглист!B11 -> Peacock Bass | C11: =Реглист!C11 -> Дроздов Виталий | D11: =IFERROR(VLOOKUP(C11,Т1За!$C$3:$D$47,2,0),0) -> 0 | E11: =IFERROR(VLOOKUP(C11,Т1За!$C$3:$E$47,3,0),0) -> 0 | F11: =IFERROR(VLOOKUP(C11,Т1Зб!$C$3:$D$47,2,0),0) -> 1691.32 | G11: =IFERROR(VLOOKUP(C11,Т1Зб!$C$3:$E$47,3,0),0) -> 8 | H11: =IFERROR(VLOOKUP(C11,Т2За!$C$3:$D$47,2,0),0) -> 827.3 | I11: =IFERROR(VLOOKUP(C11,Т2За!$C$3:$E$47,3,0),0) -> 4 | J11: =IFERROR(VLOOKUP(C11,Т2Зб!$C$3:$D$47,2,0),0) -> 0 | K11: =IFERROR(VLOOKUP(C11,Т2Зб!$C$3:$E$47,3,0),0) -> 0 | L11: =D11+F11+H11+J11 -> 2518.62 | M11: =IF(L11=0,Реглист!$C$93*2+2,E11+G11+I11+K11) -> 12 | N11: 6
A12: =A11+1 -> 9 | B12: =Реглист!B12 -> Бульба з Салам | C12: =Реглист!C12 -> Бобриков Алексей | D12: =IFERROR(VLOOKUP(C12,Т1За!$C$3:$D$47,2,0),0) -> 0 | E12: =IFERROR(VLOOKUP(C12,Т1За!$C$3:$E$47,3,0),0) -> 0 | F12: =IFERROR(VLOOKUP(C12,Т1Зб!$C$3:$D$47,2,0),0) -> 225 | G12: =IFERROR(VLOOKUP(C12,Т1Зб!$C$3:$E$47,3,0),0) -> 26 | H12: =IFERROR(VLOOKUP(C12,Т2За!$C$3:$D$47,2,0),0) -> 0 | I12: =IFERROR(VLOOKUP(C12,Т2За!$C$3:$E$47,3,0),0) -> 43 | J12: =IFERROR(VLOOKUP(C12,Т2Зб!$C$3:$D$47,2,0),0) -> 0 | K12: =IFERROR(VLOOKUP(C12,Т2Зб!$C$3:$E$47,3,0),0) -> 0 | L12: =D12+F12+H12+J12 -> 225 | M12: =IF(L12=0,Реглист!$C$93*2+2,E12+G12+I12+K12) -> 69 | N12: 61 | O12: =L12+L13 -> 1401.49 | P12: =IF(O12=0,Реглист!$C$93*4+4,M12+M13) -> 115 | Q12: =IF(P12=Реглист!$C$93*4+4,Реглист!$C$93+1,RANK(P12,$P$4:$P$91,1)) -> 26
A13: =A12+1 -> 10 | B13: =Реглист!B13 -> Бульба з Салам | C13: =Реглист!C13 -> Лунякин Олег | D13: =IFERROR(VLOOKUP(C13,Т1За!$C$3:$D$47,2,0),0) -> 0 | E13: =IFERROR(VLOOKUP(C13,Т1За!$C$3:$E$47,3,0),0) -> 43 | F13: =IFERROR(VLOOKUP(C13,Т1Зб!$C$3:$D$47,2,0),0) -> 0 | G13: =IFERROR(VLOOKUP(C13,Т1Зб!$C$3:$E$47,3,0),0) -> 0 | H13: =IFERROR(VLOOKUP(C13,Т2За!$C$3:$D$47,2,0),0) -> 0 | I13: =IFERROR(VLOOKUP(C13,Т2За!$C$3:$E$47,3,0),0) -> 0 | J13: =IFERROR(VLOOKUP(C13,Т2Зб!$C$3:$D$47,2,0),0) -> 1176.49 | K13: =IFERROR(VLOOKUP(C13,Т2Зб!$C$3:$E$47,3,0),0) -> 3 | L13: =D13+F13+H13+J13 -> 1176.49 | M13: =IF(L13=0,Реглист!$C$93*2+2,E13+G13+I13+K13) -> 46 | N13: 39
A14: =A13+1 -> 11 | B14: =Реглист!B14 -> UL soldiers of fortune | C14: =Реглист!C14 -> Дешкевич Виталий | D14: =IFERROR(VLOOKUP(C14,Т1За!$C$3:$D$47,2,0),0) -> 0 | E14: =IFERROR(VLOOKUP(C14,Т1За!$C$3:$E$47,3,0),0) -> 43 | F14: =IFERROR(VLOOKUP(C14,Т1Зб!$C$3:$D$47,2,0),0) -> 0 | G14: =IFERROR(VLOOKUP(C14,Т1Зб!$C$3:$E$47,3,0),0) -> 0 | H14: =IFERROR(VLOOKUP(C14,Т2За!$C$3:$D$47,2,0),0) -> 0 | I14: =IFERROR(VLOOKUP(C14,Т2За!$C$3:$E$47,3,0),0) -> 0 | J14: =IFERROR(VLOOKUP(C14,Т2Зб!$C$3:$D$47,2,0),0) -> 282.24 | K14: =IFERROR(VLOOKUP(C14,Т2Зб!$C$3:$E$47,3,0),0) -> 17 | L14: =D14+F14+H14+J14 -> 282.24 | M14: =IF(L14=0,Реглист!$C$93*2+2,E14+G14+I14+K14) -> 60 | N14: 55 | O14: =L14+L15 -> 1672.67 | P14: =IF(O14=0,Реглист!$C$93*4+4,M14+M15) -> 87 | Q14: =IF(P14=Реглист!$C$93*4+4,Реглист!$C$93+1,RANK(P14,$P$4:$P$91,1)) -> 19
A15: =A14+1 -> 12 | B15: =Реглист!B15 -> UL soldiers of fortune | C15: =Реглист!C15 -> Андрианов Илья | D15: =IFERROR(VLOOKUP(C15,Т1За!$C$3:$D$47,2,0),0) -> 0 | E15: =IFERROR(VLOOKUP(C15,Т1За!$C$3:$E$47,3,0),0) -> 0 | F15: =IFERROR(VLOOKUP(C15,Т1Зб!$C$3:$D$47,2,0),0) -> 566.74 | G15: =IFERROR(VLOOKUP(C15,Т1Зб!$C$3:$E$47,3,0),0) -> 22 | H15: =IFERROR(VLOOKUP(C15,Т2За!$C$3:$D$47,2,0),0) -> 823.69 | I15: =IFERROR(VLOOKUP(C15,Т2За!$C$3:$E$47,3,0),0) -> 5 | J15: =IFERROR(VLOOKUP(C15,Т2Зб!$C$3:$D$47,2,0),0) -> 0 | K15: =IFERROR(VLOOKUP(C15,Т2Зб!$C$3:$E$47,3,0),0) -> 0 | L15: =D15+F15+H15+J15 -> 1390.43 | M15: =IF(L15=0,Реглист!$C$93*2+2,E15+G15+I15+K15) -> 27 | N15: 20
A16: =A15+1 -> 13 | B16: =Реглист!B16 -> СТАR Fishingstock | C16: =Реглист!C16 -> Бычик Роман | D16: =IFERROR(VLOOKUP(C16,Т1За!$C$3:$D$47,2,0),0) -> 256 | E16: =IFERROR(VLOOKUP(C16,Т1За!$C$3:$E$47,3,0),0) -> 19 | F16: =IFERROR(VLOOKUP(C16,Т1Зб!$C$3:$D$47,2,0),0) -> 0 | G16: =IFERROR(VLOOKUP(C16,Т1Зб!$C$3:$E$47,3,0),0) -> 0 | H16: =IFERROR(VLOOKUP(C16,Т2За!$C$3:$D$47,2,0),0) -> 0 | I16: =IFERROR(VLOOKUP(C16,Т2За!$C$3:$E$47,3,0),0) -> 0 | J16: =IFERROR(VLOOKUP(C16,Т2Зб!$C$3:$D$47,2,0),0) -> 0 | K16: =IFERROR(VLOOKUP(C16,Т2Зб!$C$3:$E$47,3,0),0) -> 43 | L16: =D16+F16+H16+J16 -> 256 | M16: =IF(L16=0,Реглист!$C$93*2+2,E16+G16+I16+K16) -> 62 | N16: =IF(M16=Реглист!$C$93*2+2,Реглист!$C$93*2+1,RANK(M16,$M$4:$M$91,1)) -> 57 | O16: =L16+L17 -> 2640.56 | P16: =IF(O16=0,Реглист!$C$93*4+4,M16+M17) -> 77 | Q16: =IF(P16=Реглист!$C$93*4+4,Реглист!$C$93+1,RANK(P16,$P$4:$P$91,1)) -> 15
A17: =A16+1 -> 14 | B17: =Реглист!B17 -> СТАR Fishingstock | C17: =Реглист!C17 -> Пожарский Константин | D17: =IFERROR(VLOOKUP(C17,Т1За!$C$3:$D$47,2,0),0) -> 0 | E17: =IFERROR(VLOOKUP(C17,Т1За!$C$3:$E$47,3,0),0) -> 0 | F17: =IFERROR(VLOOKUP(C17,Т1Зб!$C$3:$D$47,2,0),0) -> 1695.39 | G17: =IFERROR(VLOOKUP(C17,Т1Зб!$C$3:$E$47,3,0),0) -> 7 | H17: =IFERROR(VLOOKUP(C17,Т2За!$C$3:$D$47,2,0),0) -> 689.17 | I17: =IFERROR(VLOOKUP(C17,Т2За!$C$3:$E$47,3,0),0) -> 8 | J17: =IFERROR(VLOOKUP(C17,Т2Зб!$C$3:$D$47,2,0),0) -> 0 | K17: =IFERROR(VLOOKUP(C17,Т2Зб!$C$3:$E$47,3,0),0) -> 0 | L17: =D17+F17+H17+J17 -> 2384.56 | M17: =IF(L17=0,Реглист!$C$93*2+2,E17+G17+I17+K17) -> 15 | N17: =IF(M17=Реглист!$C$93*2+2,Реглист!$C$93*2+1,RANK(M17,$M$4:$M$91,1)) -> 10
A18: =A17+1 -> 15 | B18: =Реглист!B18 -> Poseidon | C18: =Реглист!C18 -> Ананич Геннадий | D18: =IFERROR(VLOOKUP(C18,Т1За!$C$3:$D$47,2,0),0) -> 1651.24 | E18: =IFERROR(VLOOKUP(C18,Т1За!$C$3:$E$47,3,0),0) -> 2 | F18: =IFERROR(VLOOKUP(C18,Т1Зб!$C$3:$D$47,2,0),0) -> 0 | G18: =IFERROR(VLOOKUP(C18,Т1Зб!$C$3:$E$47,3,0),0) -> 0 | H18: =IFERROR(VLOOKUP(C18,Т2За!$C$3:$D$47,2,0),0) -> 0 | I18: =IFERROR(VLOOKUP(C18,Т2За!$C$3:$E$47,3,0),0) -> 0 | J18: =IFERROR(VLOOKUP(C18,Т2Зб!$C$3:$D$47,2,0),0) -> 719.07 | K18: =IFERROR(VLOOKUP(C18,Т2Зб!$C$3:$E$47,3,0),0) -> 9 | L18: =D18+F18+H18+J18 -> 2370.31 | M18: =IF(L18=0,Реглист!$C$93*2+2,E18+G18+I18+K18) -> 11 | N18: 4 | O18: =L18+L19 -> 3679.51 | P18: =IF(O18=0,Реглист!$C$93*4+4,M18+M19) -> 45.5 | Q18: =IF(P18=Реглист!$C$93*4+4,Реглист!$C$93+1,RANK(P18,$P$4:$P$91,1)) -> 3
A19: =A18+1 -> 16 | B19: =Реглист!B19 -> Poseidon | C19: =Реглист!C19 -> Кохно Антон | D19: =IFERROR(VLOOKUP(C19,Т1За!$C$3:$D$47,2,0),0) -> 0 | E19: =IFERROR(VLOOKUP(C19,Т1За!$C$3:$E$47,3,0),0) -> 0 | F19: =IFERROR(VLOOKUP(C19,Т1Зб!$C$3:$D$47,2,0),0) -> 1084.2 | G19: =IFERROR(VLOOKUP(C19,Т1Зб!$C$3:$E$47,3,0),0) -> 13 | H19: =IFERROR(VLOOKUP(C19,Т2За!$C$3:$D$47,2,0),0) -> 225 | I19: =IFERROR(VLOOKUP(C19,Т2За!$C$3:$E$47,3,0),0) -> 21.5 | J19: =IFERROR(VLOOKUP(C19,Т2Зб!$C$3:$D$47,2,0),0) -> 0 | K19: =IFERROR(VLOOKUP(C19,Т2Зб!$C$3:$E$47,3,0),0) -> 0 | L19: =D19+F19+H19+J19 -> 1309.2 | M19: =IF(L19=0,Реглист!$C$93*2+2,E19+G19+I19+K19) -> 34.5 | N19: =IF(M19=Реглист!$C$93*2+2,Реглист!$C$93*2+1,RANK(M19,$M$4:$M$91,1)) -> 27
A20: =A19+1 -> 17 | B20: =Реглист!B20 -> Team Minsk | C20: =Реглист!C20 -> Артёмчик Евгений | D20: =IFERROR(VLOOKUP(C20,Т1За!$C$3:$D$47,2,0),0) -> 0 | E20: =IFERROR(VLOOKUP(C20,Т1За!$C$3:$E$47,3,0),0) -> 0 | F20: =IFERROR(VLOOKUP(C20,Т1Зб!$C$3:$D$47,2,0),0) -> 1410.26 | G20: =IFERROR(VLOOKUP(C20,Т1Зб!$C$3:$E$47,3,0),0) -> 10 | H20: =IFERROR(VLOOKUP(C20,Т2За!$C$3:$D$47,2,0),0) -> 392.5 | I20: =IFERROR(VLOOKUP(C20,Т2За!$C$3:$E$47,3,0),0) -> 18 | J20: =IFERROR(VLOOKUP(C20,Т2Зб!$C$3:$D$47,2,0),0) -> 0 | K20: =IFERROR(VLOOKUP(C20,Т2Зб!$C$3:$E$47,3,0),0) -> 0 | L20: =D20+F20+H20+J20 -> 1802.76 | M20: =IF(L20=0,Реглист!$C$93*2+2,E20+G20+I20+K20) -> 28 | N20: =IF(M20=Реглист!$C$93*2+2,Реглист!$C$93*2+1,RANK(M20,$M$4:$M$91,1)) -> 21 | O20: =L20+L21 -> 1942 | P20: =IF(O20=0,Реглист!$C$93*4+4,M20+M21) -> 98 | Q20: =IF(P20=Реглист!$C$93*4+4,Реглист!$C$93+1,RANK(P20,$P$4:$P$91,1)) -> 22
A21: =A20+1 -> 18 | B21: =Реглист!B21 -> Team Minsk | C21: =Реглист!C21 -> Огейко Юрий | D21: =IFERROR(VLOOKUP(C21,Т1За!$C$3:$D$47,2,0),0) -> 139.24 | E21: =IFERROR(VLOOKUP(C21,Т1За!$C$3:$E$47,3,0),0) -> 27 | F21: =IFERROR(VLOOKUP(C21,Т1Зб!$C$3:$D$47,2,0),0) -> 0 | G21: =IFERROR(VLOOKUP(C21,Т1Зб!$C$3:$E$47,3,0),0) -> 0 | H21: =IFERROR(VLOOKUP(C21,Т2За!$C$3:$D$47,2,0),0) -> 0 | I21: =IFERROR(VLOOKUP(C21,Т2За!$C$3:$E$47,3,0),0) -> 0 | J21: =IFERROR(VLOOKUP(C21,Т2Зб!$C$3:$D$47,2,0),0) -> 0 | K21: =IFERROR(VLOOKUP(C21,Т2Зб!$C$3:$E$47,3,0),0) -> 43 | L21: =D21+F21+H21+J21 -> 139.24 | M21: =IF(L21=0,Реглист!$C$93*2+2,E21+G21+I21+K21) -> 70 | N21: =IF(M21=Реглист!$C$93*2+2,Реглист!$C$93*2+1,RANK(M21,$M$4:$M$91,1)) -> 63
A22: =A21+1 -> 19 | B22: =Реглист!B22 -> RVR | C22: =Реглист!C22 -> Золотухин Александр | D22: =IFERROR(VLOOKUP(C22,Т1За!$C$3:$D$47,2,0),0) -> 0 | E22: =IFERROR(VLOOKUP(C22,Т1За!$C$3:$E$47,3,0),0) -> 43 | F22: =IFERROR(VLOOKUP(C22,Т1Зб!$C$3:$D$47,2,0),0) -> 0 | G22: =IFERROR(VLOOKUP(C22,Т1Зб!$C$3:$E$47,3,0),0) -> 0 | H22: =IFERROR(VLOOKUP(C22,Т2За!$C$3:$D$47,2,0),0) -> 0 | I22: =IFERROR(VLOOKUP(C22,Т2За!$C$3:$E$47,3,0),0) -> 0 | J22: =IFERROR(VLOOKUP(C22,Т2Зб!$C$3:$D$47,2,0),0) -> 0 | K22: =IFERROR(VLOOKUP(C22,Т2Зб!$C$3:$E$47,3,0),0) -> 43 | L22: =D22+F22+H22+J22 -> 0 | M22: =IF(L22=0,Реглист!$C$93*2+2,E22+G22+I22+K22) -> 86 | N22: 81 | O22: =L22+L23 -> 933.01 | P22: =IF(O22=0,Реглист!$C$93*4+4,M22+M23) -> 127.5 | Q22: =IF(P22=Реглист!$C$93*4+4,Реглист!$C$93+1,RANK(P22,$P$4:$P$91,1)) -> 31
A23: =A22+1 -> 20 | B23: =Реглист!B23 -> RVR | C23: =Реглист!C23 -> Масюк Павел | D23: =IFERROR(VLOOKUP(C23,Т1За!$C$3:$D$47,2,0),0) -> 0 | E23: =IFERROR(VLOOKUP(C23,Т1За!$C$3:$E$47,3,0),0) -> 0 | F23: =IFERROR(VLOOKUP(C23,Т1Зб!$C$3:$D$47,2,0),0) -> 708.01 | G23: =IFERROR(VLOOKUP(C23,Т1Зб!$C$3:$E$47,3,0),0) -> 20 | H23: =IFERROR(VLOOKUP(C23,Т2За!$C$3:$D$47,2,0),0) -> 225 | I23: =IFERROR(VLOOKUP(C23,Т2За!$C$3:$E$47,3,0),0) -> 21.5 | J23: =IFERROR(VLOOKUP(C23,Т2Зб!$C$3:$D$47,2,0),0) -> 0 | K23: =IFERROR(VLOOKUP(C23,Т2Зб!$C$3:$E$47,3,0),0) -> 0 | L23: =D23+F23+H23+J23 -> 933.01 | M23: =IF(L23=0,Реглист!$C$93*2+2,E23+G23+I23+K23) -> 41.5 | N23: =IF(M23=Реглист!$C$93*2+2,Реглист!$C$93*2+1,RANK(M23,$M$4:$M$91,1)) -> 36
A24: =A23+1 -> 21 | B24: =Реглист!B24 -> Perch Legends | C24: =Реглист!C24 -> Каменец Алексей | D24: =IFERROR(VLOOKUP(C24,Т1За!$C$3:$D$47,2,0),0) -> 0 | E24: =IFERROR(VLOOKUP(C24,Т1За!$C$3:$E$47,3,0),0) -> 43 | F24: =IFERROR(VLOOKUP(C24,Т1Зб!$C$3:$D$47,2,0),0) -> 0 | G24: =IFERROR(VLOOKUP(C24,Т1Зб!$C$3:$E$47,3,0),0) -> 0 | H24: =IFERROR(VLOOKUP(C24,Т2За!$C$3:$D$47,2,0),0) -> 0 | I24: =IFERROR(VLOOKUP(C24,Т2За!$C$3:$E$47,3,0),0) -> 0 | J24: =IFERROR(VLOOKUP(C24,Т2Зб!$C$3:$D$47,2,0),0) -> 0 | K24: =IFERROR(VLOOKUP(C24,Т2Зб!$C$3:$E$47,3,0),0) -> 43 | L24: =D24+F24+H24+J24 -> 0 | M24: =IF(L24=0,Реглист!$C$93*2+2,E24+G24+I24+K24) -> 86 | N24: 81 | O24: =L24+L25 -> 0 | P24: =IF(O24=0,Реглист!$C$93*4+4,M24+M25) -> 172 | Q24: 41
A25: =A24+1 -> 22 | B25: =Реглист!B25 -> Perch Legends | C25: =Реглист!C25 -> Янкович Сергей | D25: =IFERROR(VLOOKUP(C25,Т1За!$C$3:$D$47,2,0),0) -> 0 | E25: =IFERROR(VLOOKUP(C25,Т1За!$C$3:$E$47,3,0),0) -> 0 | F25: =IFERROR(VLOOKUP(C25,Т1Зб!$C$3:$D$47,2,0),0) -> 0 | G25: =IFERROR(VLOOKUP(C25,Т1Зб!$C$3:$E$47,3,0),0) -> 43 | H25: =IFERROR(VLOOKUP(C25,Т2За!$C$3:$D$47,2,0),0) -> 0 | I25: =IFERROR(VLOOKUP(C25,Т2За!$C$3:$E$47,3,0),0) -> 43 | J25: =IFERROR(VLOOKUP(C25,Т2Зб!$C$3:$D$47,2,0),0) -> 0 | K25: =IFERROR(VLOOKUP(C25,Т2Зб!$C$3:$E$47,3,0),0) -> 0 | L25: =D25+F25+H25+J25 -> 0 | M25: =IF(L25=0,Реглист!$C$93*2+2,E25+G25+I25+K25) -> 86 | N25: 81
A26: =A25+1 -> 23 | B26: =Реглист!B26 -> Студенты | C26: =Реглист!C26 -> Кочанов Александр | D26: =IFERROR(VLOOKUP(C26,Т1За!$C$3:$D$47,2,0),0) -> 0 | E26: =IFERROR(VLOOKUP(C26,Т1За!$C$3:$E$47,3,0),0) -> 0 | F26: =IFERROR(VLOOKUP(C26,Т1Зб!$C$3:$D$47,2,0),0) -> 0 | G26: =IFERROR(VLOOKUP(C26,Т1Зб!$C$3:$E$47,3,0),0) -> 43 | H26: =IFERROR(VLOOKUP(C26,Т2За!$C$3:$D$47,2,0),0) -> 412.09 | I26: =IFERROR(VLOOKUP(C26,Т2За!$C$3:$E$47,3,0),0) -> 16 | J26: =IFERROR(VLOOKUP(C26,Т2Зб!$C$3:$D$47,2,0),0) -> 0 | K26: =IFERROR(VLOOKUP(C26,Т2Зб!$C$3:$E$47,3,0),0) -> 0 | L26: =D26+F26+H26+J26 -> 412.09 | M26: =IF(L26=0,Реглист!$C$93*2+2,E26+G26+I26+K26) -> 59 | N26: =IF(M26=Реглист!$C$93*2+2,Реглист!$C$93*2+1,RANK(M26,$M$4:$M$91,1)) -> 53 | O26: =L26+L27 -> 412.09 | P26: =IF(O26=0,Реглист!$C$93*4+4,M26+M27) -> 145 | Q26: =IF(P26=Реглист!$C$93*4+4,Реглист!$C$93+1,RANK(P26,$P$4:$P$91,1)) -> 38
A27: =A26+1 -> 24 | B27: =Реглист!B27 -> Студенты | C27: =Реглист!C27 -> Кузнецов Никита | D27: =IFERROR(VLOOKUP(C27,Т1За!$C$3:$D$47,2,0),0) -> 0 | E27: =IFERROR(VLOOKUP(C27,Т1За!$C$3:$E$47,3,0),0) -> 43 | F27: =IFERROR(VLOOKUP(C27,Т1Зб!$C$3:$D$47,2,0),0) -> 0 | G27: =IFERROR(VLOOKUP(C27,Т1Зб!$C$3:$E$47,3,0),0) -> 0 | H27: =IFERROR(VLOOKUP(C27,Т2За!$C$3:$D$47,2,0),0) -> 0 | I27: =IFERROR(VLOOKUP(C27,Т2За!$C$3:$E$47,3,0),0) -> 0 | J27: =IFERROR(VLOOKUP(C27,Т2Зб!$C$3:$D$47,2,0),0) -> 0 | K27: =IFERROR(VLOOKUP(C27,Т2Зб!$C$3:$E$47,3,0),0) -> 43 | L27: =D27+F27+H27+J27 -> 0 | M27: =IF(L27=0,Реглист!$C$93*2+2,E27+G27+I27+K27) -> 86 | N27: 81
A28: =A27+1 -> 25 | B28: =Реглист!B28 -> Полесье | C28: =Реглист!C28 -> Марковский Максим | D28: =IFERROR(VLOOKUP(C28,Т1За!$C$3:$D$47,2,0),0) -> 114.49 | E28: =IFERROR(VLOOKUP(C28,Т1За!$C$3:$E$47,3,0),0) -> 28 | F28: =IFERROR(VLOOKUP(C28,Т1Зб!$C$3:$D$47,2,0),0) -> 0 | G28: =IFERROR(VLOOKUP(C28,Т1Зб!$C$3:$E$47,3,0),0) -> 0 | H28: =IFERROR(VLOOKUP(C28,Т2За!$C$3:$D$47,2,0),0) -> 0 | I28: =IFERROR(VLOOKUP(C28,Т2За!$C$3:$E$47,3,0),0) -> 0 | J28: =IFERROR(VLOOKUP(C28,Т2Зб!$C$3:$D$47,2,0),0) -> 0 | K28: =IFERROR(VLOOKUP(C28,Т2Зб!$C$3:$E$47,3,0),0) -> 43 | L28: =D28+F28+H28+J28 -> 114.49 | M28: =IF(L28=0,Реглист!$C$93*2+2,E28+G28+I28+K28) -> 71 | N28: 65 | O28: =L28+L29 -> 701.15 | P28: =IF(O28=0,Реглист!$C$93*4+4,M28+M29) -> 118 | Q28: =IF(P28=Реглист!$C$93*4+4,Реглист!$C$93+1,RANK(P28,$P$4:$P$91,1)) -> 27
A29: =A28+1 -> 26 | B29: =Реглист!B29 -> Полесье | C29: =Реглист!C29 -> Рыбачук Евгений | D29: =IFERROR(VLOOKUP(C29,Т1За!$C$3:$D$47,2,0),0) -> 0 | E29: =IFERROR(VLOOKUP(C29,Т1За!$C$3:$E$47,3,0),0) -> 0 | F29: =IFERROR(VLOOKUP(C29,Т1Зб!$C$3:$D$47,2,0),0) -> 420.25 | G29: =IFERROR(VLOOKUP(C29,Т1Зб!$C$3:$E$47,3,0),0) -> 24 | H29: =IFERROR(VLOOKUP(C29,Т2За!$C$3:$D$47,2,0),0) -> 166.41 | I29: =IFERROR(VLOOKUP(C29,Т2За!$C$3:$E$47,3,0),0) -> 23 | J29: =IFERROR(VLOOKUP(C29,Т2Зб!$C$3:$D$47,2,0),0) -> 0 | K29: =IFERROR(VLOOKUP(C29,Т2Зб!$C$3:$E$47,3,0),0) -> 0 | L29: =D29+F29+H29+J29 -> 586.66 | M29: =IF(L29=0,Реглист!$C$93*2+2,E29+G29+I29+K29) -> 47 | N29: =IF(M29=Реглист!$C$93*2+2,Реглист!$C$93*2+1,RANK(M29,$M$4:$M$91,1)) -> 40
A30: =A29+1 -> 27 | B30: =Реглист!B30 -> Кобринский МСЗ | C30: =Реглист!C30 -> Барташук Александр | D30: =IFERROR(VLOOKUP(C30,Т1За!$C$3:$D$47,2,0),0) -> 652.53 | E30: =IFERROR(VLOOKUP(C30,Т1За!$C$3:$E$47,3,0),0) -> 9 | F30: =IFERROR(VLOOKUP(C30,Т1Зб!$C$3:$D$47,2,0),0) -> 0 | G30: =IFERROR(VLOOKUP(C30,Т1Зб!$C$3:$E$47,3,0),0) -> 0 | H30: =IFERROR(VLOOKUP(C30,Т2За!$C$3:$D$47,2,0),0) -> 0 | I30: =IFERROR(VLOOKUP(C30,Т2За!$C$3:$E$47,3,0),0) -> 0 | J30: =IFERROR(VLOOKUP(C30,Т2Зб!$C$3:$D$47,2,0),0) -> 0 | K30: =IFERROR(VLOOKUP(C30,Т2Зб!$C$3:$E$47,3,0),0) -> 43 | L30: =D30+F30+H30+J30 -> 652.53 | M30: =IF(L30=0,Реглист!$C$93*2+2,E30+G30+I30+K30) -> 52 | N30: 46 | O30: =L30+L31 -> 3978.14 | P30: =IF(O30=0,Реглист!$C$93*4+4,M30+M31) -> 72 | Q30: =IF(P30=Реглист!$C$93*4+4,Реглист!$C$93+1,RANK(P30,$P$4:$P$91,1)) -> 12
A31: =A30+1 -> 28 | B31: =Реглист!B31 -> Кобринский МСЗ | C31: =Реглист!C31 -> Жарин Вадим | D31: =IFERROR(VLOOKUP(C31,Т1За!$C$3:$D$47,2,0),0) -> 0 | E31: =IFERROR(VLOOKUP(C31,Т1За!$C$3:$E$47,3,0),0) -> 0 | F31: =IFERROR(VLOOKUP(C31,Т1Зб!$C$3:$D$47,2,0),0) -> 840.18 | G31: =IFERROR(VLOOKUP(C31,Т1Зб!$C$3:$E$47,3,0),0) -> 19 | H31: =IFERROR(VLOOKUP(C31,Т2За!$C$3:$D$47,2,0),0) -> 2485.43 | I31: =IFERROR(VLOOKUP(C31,Т2За!$C$3:$E$47,3,0),0) -> 1 | J31: =IFERROR(VLOOKUP(C31,Т2Зб!$C$3:$D$47,2,0),0) -> 0 | K31: =IFERROR(VLOOKUP(C31,Т2Зб!$C$3:$E$47,3,0),0) -> 0 | L31: =D31+F31+H31+J31 -> 3325.61 | M31: =IF(L31=0,Реглист!$C$93*2+2,E31+G31+I31+K31) -> 20 | N31: =IF(M31=Реглист!$C$93*2+2,Реглист!$C$93*2+1,RANK(M31,$M$4:$M$91,1)) -> 16
A32: =A31+1 -> 29 | B32: =Реглист!B32 -> ASpinnTeam | C32: =Реглист!C32 -> Нугуманов Артём | D32: =IFERROR(VLOOKUP(C32,Т1За!$C$3:$D$47,2,0),0) -> 0 | E32: =IFERROR(VLOOKUP(C32,Т1За!$C$3:$E$47,3,0),0) -> 0 | F32: =IFERROR(VLOOKUP(C32,Т1Зб!$C$3:$D$47,2,0),0) -> 0 | G32: =IFERROR(VLOOKUP(C32,Т1Зб!$C$3:$E$47,3,0),0) -> 43 | H32: =IFERROR(VLOOKUP(C32,Т2За!$C$3:$D$47,2,0),0) -> 796.29 | I32: =IFERROR(VLOOKUP(C32,Т2За!$C$3:$E$47,3,0),0) -> 7 | J32: =IFERROR(VLOOKUP(C32,Т2Зб!$C$3:$D$47,2,0),0) -> 0 | K32: =IFERROR(VLOOKUP(C32,Т2Зб!$C$3:$E$47,3,0),0) -> 0 | L32: =D32+F32+H32+J32 -> 796.29 | M32: =IF(L32=0,Реглист!$C$93*2+2,E32+G32+I32+K32) -> 50 | N32: =IF(M32=Реглист!$C$93*2+2,Реглист!$C$93*2+1,RANK(M32,$M$4:$M$91,1)) -> 42 | O32: =L32+L33 -> 796.29 | P32: =IF(O32=0,Реглист!$C$93*4+4,M32+M33) -> 136 | Q32: =IF(P32=Реглист!$C$93*4+4,Реглист!$C$93+1,RANK(P32,$P$4:$P$91,1)) -> 34
A33: =A32+1 -> 30 | B33: =Реглист!B33 -> ASpinnTeam | C33: =Реглист!C33 -> Вашкевич Александр | D33: =IFERROR(VLOOKUP(C33,Т1За!$C$3:$D$47,2,0),0) -> 0 | E33: =IFERROR(VLOOKUP(C33,Т1За!$C$3:$E$47,3,0),0) -> 43 | F33: =IFERROR(VLOOKUP(C33,Т1Зб!$C$3:$D$47,2,0),0) -> 0 | G33: =IFERROR(VLOOKUP(C33,Т1Зб!$C$3:$E$47,3,0),0) -> 0 | H33: =IFERROR(VLOOKUP(C33,Т2За!$C$3:$D$47,2,0),0) -> 0 | I33: =IFERROR(VLOOKUP(C33,Т2За!$C$3:$E$47,3,0),0) -> 0 | J33: =IFERROR(VLOOKUP(C33,Т2Зб!$C$3:$D$47,2,0),0) -> 0 | K33: =IFERROR(VLOOKUP(C33,Т2Зб!$C$3:$E$47,3,0),0) -> 43 | L33: =D33+F33+H33+J33 -> 0 | M33: =IF(L33=0,Реглист!$C$93*2+2,E33+G33+I33+K33) -> 86 | N33: 81
A34: =A33+1 -> 31 | B34: =Реглист!B34 -> FishMurder | C34: =Реглист!C34 -> Микулов Владимир | D34: =IFERROR(VLOOKUP(C34,Т1За!$C$3:$D$47,2,0),0) -> 0 | E34: =IFERROR(VLOOKUP(C34,Т1За!$C$3:$E$47,3,0),0) -> 0 | F34: =IFERROR(VLOOKUP(C34,Т1Зб!$C$3:$D$47,2,0),0) -> 3201.98 | G34: =IFERROR(VLOOKUP(C34,Т1Зб!$C$3:$E$47,3,0),0) -> 2 | H34: =IFERROR(VLOOKUP(C34,Т2За!$C$3:$D$47,2,0),0) -> 0 | I34: =IFERROR(VLOOKUP(C34,Т2За!$C$3:$E$47,3,0),0) -> 43 | J34: =IFERROR(VLOOKUP(C34,Т2Зб!$C$3:$D$47,2,0),0) -> 0 | K34: =IFERROR(VLOOKUP(C34,Т2Зб!$C$3:$E$47,3,0),0) -> 0 | L34: =D34+F34+H34+J34 -> 3201.98 | M34: =IF(L34=0,Реглист!$C$93*2+2,E34+G34+I34+K34) -> 45 | N34: =IF(M34=Реглист!$C$93*2+2,Реглист!$C$93*2+1,RANK(M34,$M$4:$M$91,1)) -> 37 | O34: =L34+L35 -> 3973.77 | P34: =IF(O34=0,Реглист!$C$93*4+4,M34+M35) -> 80 | Q34: =IF(P34=Реглист!$C$93*4+4,Реглист!$C$93+1,RANK(P34,$P$4:$P$91,1)) -> 16
A35: =A34+1 -> 32 | B35: =Реглист!B35 -> FishMurder | C35: =Реглист!C35 -> Шило Сергей | D35: =IFERROR(VLOOKUP(C35,Т1За!$C$3:$D$47,2,0),0) -> 166.41 | E35: =IFERROR(VLOOKUP(C35,Т1За!$C$3:$E$47,3,0),0) -> 24 | F35: =IFERROR(VLOOKUP(C35,Т1Зб!$C$3:$D$47,2,0),0) -> 0 | G35: =IFERROR(VLOOKUP(C35,Т1Зб!$C$3:$E$47,3,0),0) -> 0 | H35: =IFERROR(VLOOKUP(C35,Т2За!$C$3:$D$47,2,0),0) -> 0 | I35: =IFERROR(VLOOKUP(C35,Т2За!$C$3:$E$47,3,0),0) -> 0 | J35: =IFERROR(VLOOKUP(C35,Т2Зб!$C$3:$D$47,2,0),0) -> 605.38 | K35: =IFERROR(VLOOKUP(C35,Т2Зб!$C$3:$E$47,3,0),0) -> 11 | L35: =D35+F35+H35+J35 -> 771.79 | M35: =IF(L35=0,Реглист!$C$93*2+2,E35+G35+I35+K35) -> 35 | N35: =IF(M35=Реглист!$C$93*2+2,Реглист!$C$93*2+1,RANK(M35,$M$4:$M$91,1)) -> 28
A36: =A35+1 -> 33 | B36: =Реглист!B36 -> Бобруйский Region | C36: =Реглист!C36 -> Прокопчик Алексей | D36: =IFERROR(VLOOKUP(C36,Т1За!$C$3:$D$47,2,0),0) -> 0 | E36: =IFERROR(VLOOKUP(C36,Т1За!$C$3:$E$47,3,0),0) -> 0 | F36: =IFERROR(VLOOKUP(C36,Т1Зб!$C$3:$D$47,2,0),0) -> 1394 | G36: =IFERROR(VLOOKUP(C36,Т1Зб!$C$3:$E$47,3,0),0) -> 11 | H36: =IFERROR(VLOOKUP(C36,Т2За!$C$3:$D$47,2,0),0) -> 0 | I36: =IFERROR(VLOOKUP(C36,Т2За!$C$3:$E$47,3,0),0) -> 43 | J36: =IFERROR(VLOOKUP(C36,Т2Зб!$C$3:$D$47,2,0),0) -> 0 | K36: =IFERROR(VLOOKUP(C36,Т2Зб!$C$3:$E$47,3,0),0) -> 0 | L36: =D36+F36+H36+J36 -> 1394 | M36: =IF(L36=0,Реглист!$C$93*2+2,E36+G36+I36+K36) -> 54 | N36: =IF(M36=Реглист!$C$93*2+2,Реглист!$C$93*2+1,RANK(M36,$M$4:$M$91,1)) -> 47 | O36: =L36+L37 -> 1394 | P36: =IF(O36=0,Реглист!$C$93*4+4,M36+M37) -> 140 | Q36: =IF(P36=Реглист!$C$93*4+4,Реглист!$C$93+1,RANK(P36,$P$4:$P$91,1)) -> 36
