Workbook

Sheet Реглист
A1: 1 этап Чемпионата РБ по спортивной ловле рыбы спиннингом с берега | E1: 43036
A2: Регистрационный лист
A3: № | B3: Команда | C3: Спортсмен | D3: Стартовая зона | E3: Техника безопасности
A4: 1 | B4: Непредсказуемые | C4: Кайсин Иван | D4: Б | E4: +
A5: =A4+1 -> 2 | B5: Непредсказуемые | C5: Хомский Дмитрий | D5: А | E5: +
A6: =A5+1 -> 3 | B6: Фарватер | C6: Попельский Максим | D6: Б | E6: +
A7: =A6+1 -> 4 | B7: Фарватер | C7: Цыганок Михаил | D7: А | E7: +
A8: =A7+1 -> 5 | B8: Neptune fishing team | C8: Мяэлоог Алексей | D8: Б | E8: +
A9: =A8+1 -> 6 | B9: Neptune fishing team | C9: Кирьянов Денис | D9: А | E9: +
A10: =A9+1 -> 7 | B10: Peacock Bass | C10: Сенчуров Иван | D10: А | E10: +
A11: =A10+1 -> 8 | B11: Peacock Bass | C11: Дроздов Виталий | D11: Б | E11: +
A12: =A11+1 -> 9 | B12: Бульба з Салам | C12: Бобриков Алексей | D12: Б | E12: +
A13: =A12+1 -> 10 | B13: Бульба з Салам | C13: Лунякин Олег | D13: А | E13: +
A14: =A13+1 -> 11 | B14: UL soldiers of fortune | C14: Дешкевич Виталий | D14: А | E14: +
A15: =A14+1 -> 12 | B15: UL soldiers of fortune | C15: Андрианов Илья | D15: Б | E15: +
A16: =A15+1 -> 13 | B16: СТАR Fishingstock | C16: Бычик Роман | D16: А | E16: +
... A43: =A42+1 -> 40 | B43: Орловские | C43: Боровик Андрей | D43: А | E43: +
A44: =A43+1 -> 41 | B44: - | C44: -
A45: =A44+1 -> 42 | B45: - | C45: -
A46: =A45+1 -> 43 | B46: SB-fishing | C46: Минков Александр | D46: Б | E46: +
A47: =A46+1 -> 44 | B47: SB-fishing | C47: Сапраненков Евгений | D47: А | E47: +
A48: =A47+1 -> 45 | B48: ULBroTeaM | C48: Василенков Вячеслав | D48: Б | E48: +
A49: =A48+1 -> 46 | B49: ULBroTeaM | C49: Вычиков Павел | D49: А | E49: +
A50: =A49+1 -> 47 | B50: ES team | C50: Боляновский Дмитрий | D50: А | E50: +
A51: =A50+1 -> 48 | B51: ES team | C51: Асинский Александр | D51: Б | E51: +
A52: =A51+1 -> 49 | B52: Bad Fish | C52: Желтов Игорь | D52: Б | E52: +
A53: =A52+1 -> 50 | B53: Bad Fish | C53: Корней Валентин | D53: А | E53: +
A54: =A53+1 -> 51 | B54: Штиль | C54: Козлов Юрий | D54: А | E54: +
A55: =A54+1 -> 52 | B55: Штиль | C55: Рябишников Иван | D55: Б | E55: +
A56: =A55+1 -> 53 | B56: Solfishing | C56: Санько Александр | D56: А | E56: +
A57: =A56+1 -> 54 | B57: Solfishing | C57: Губчик Александр | D57: Б | E57: +
... A61: =A60+1 -> 58 | B61: Team Ylov | C61: Кулаженко Владимир | D61: Б | E61: +
A62: =A61+1 -> 59 | B62: - | C62: -
A63: =A62+1 -> 60 | B63: - | C63: -
A64: =A63+1 -> 61 | B64: Позитив | C64: Строк Павел | D64: Б | E64: +
A65: =A64+1 -> 62 | B65: Позитив | C65: Князев Сергей | D65: А | E65: +
A66: =A65+1 -> 63 | B66: Твичим и джигуем | C66: Синовец Роман | D66: Б | E66: +
A67: =A66+1 -> 64 | B67: Твичим и джигуем | C67: Чернышев Егор | D67: А | E67: +
A68: =A67+1 -> 65 | B68: Vodomotorika TEAM | C68: Круглянин Сергей | D68: Б | E68: +
A69: =A68+1 -> 66 | B69: Vodomotorika TEAM | C69: Ставер Дмитрий | D69: А | E69: +
A70: =A69+1 -> 67 | B70: - | C70: -
A71: =A70+1 -> 68 | B71: - | C71: -
A72: =A71+1 -> 69 | B72: XULи-ULи | C72: Лавренчук Станислав | D72: Б | E72: +
A73: =A72+1 -> 70 | B73: XULи-ULи | C73: Вежновец Михаил | D73: А | E73: +
A74: =A73+1 -> 71 | B74: LEGION | C74: Бойко Сергей | D74: Б | E74: +
A75: =A74+1 -> 72 | B75: LEGION | C75: Полюхович Александр | D75: А | E75: +
A76: =A75+1 -> 73 | B76: Брест над Бугом | C76: Шумко Александр | D76: Б | E76: +
A77: =A76+1 -> 74 | B77: Брест над Бугом | C77: Тысевич Сергей | D77: А | E77: +
A78: =A77+1 -> 75 | B78: Гефест-Техника | C78: Остапук Александр | D78: Б | E78: +
A79: =A78+1 -> 76 | B79: Гефест-Техника | C79: Лобацевич Виктор | D79: А | E79: +
A80: =A79+1 -> 77 | B80: Gefest | C80: Саган Сергей | D80: А | E80: +
A81: =A80+1 -> 78 | B81: Gefest | C81: Радчук Юрий | D81: Б | E81: +
A82: =A81+1 -> 79 | B82: Bait Breath Team | C82: Бахур Александр | D82: А | E82: +
A83: =A82+1 -> 80 | B83: Bait Breath Team | C83: Зубко Сергей | D83: Б | E83: +
A84: =A83+1 -> 81 | B84: - | C84: -
A85: =A84+1 -> 82 | B85: - | C85: -
A86: =A85+1 -> 83 | B86: BASS HUNTER | C86: Шевко Виталий | D86: Б | E86: +
A87: =A86+1 -> 84 | B87: BASS HUNTER | C87: Кириевский Андрей | D87: А | E87: +
A88: =A87+1 -> 85 | B88: LOVISNAMI | C88: Мазовка Иван | D88: А | E88: +
A89: =A88+1 -> 86 | B89: LOVISNAMI | C89: Кузмич Алексей | D89: Б | E89: +
A90: =A89+1 -> 87 | B90: Fishka | C90: Наконечник Александр | D90: А | E90: +
A91: =A90+1 -> 88 | B91: Fishka | C91: Короленок Вадим | D91: Б | E91: +
B93: Количество команд | C93: 42

Sheet Т1За
A1: № | B1: команда | C1: участник | D1: сумма баллов | E1: место | F1: окунь | Z1: щука | AE1: судак | AH1: жерех | AK1: голавль | AN1: язь | AQ1: чехонь | AT1: сом
F2: размер, см
A3: 1 | B3: =IF(Реглист!D4="А",Реглист!B4,Реглист!B5) -> Непредсказуемые | C3: =IF(Реглист!D4="А",Реглист!C4,Реглист!C5) -> Хомский Дмитрий | D3: =D50 -> 0 | E3: =E50 -> 43
A4: =A3+1 -> 2 | B4: =IF(Реглист!D6="А",Реглист!B6,Реглист!B7) -> Фарватер | C4: =IF(Реглист!D6="А",Реглист!C6,Реглист!C7) -> Цыганок Михаил | D4: =D51 -> 615.48 | E4: =E51 -> 11 | F4: 105 | G4: 119 | H4: 119 | I4: 149
A5: =A4+1 -> 3 | B5: =IF(Реглист!D8="А",Реглист!B8,Реглист!B9) -> Neptune fishing team | C5: =IF(Реглист!D8="А",Реглист!C8,Реглист!C9) -> Кирьянов Денис | D5: =D52 -> 352.25 | E5: =E52 -> 16 | F5: 125 | G5: 140
A6: =A5+1 -> 4 | B6: =IF(Реглист!D10="А",Реглист!B10,Реглист!B11) -> Peacock Bass | C6: =IF(Реглист!D10="А",Реглист!C10,Реглист!C11) -> Сенчуров Иван | D6: =D53 -> 327.76 | E6: =E53 -> 17 | F6: 130 | G6: 126
A7: =A6+1 -> 5 | B7: =IF(Реглист!D12="А",Реглист!B12,Реглист!B13) -> Бульба з Салам | C7: =IF(Реглист!D12="А",Реглист!C12,Реглист!C13) -> Лунякин Олег | D7: =D54 -> 0 | E7: =E54 -> 43
A8: =A7+1 -> 6 | B8: =IF(Реглист!D14="А",Реглист!B14,Реглист!B15) -> UL soldiers of fortune | C8: =IF(Реглист!D14="А",Реглист!C14,Реглист!C15) -> Дешкевич Виталий | D8: =D55 -> 0 | E8: =E55 -> 43
A9: =A8+1 -> 7 | B9: =IF(Реглист!D16="А",Реглист!B16,Реглист!B17) -> СТАR Fishingstock | C9: =IF(Реглист!D16="А",Реглист!C16,Реглист!C17) -> Бычик Роман | D9: =D56 -> 256 | E9: =E56 -> 19 | F9: 160
A10: =A9+1 -> 8 | B10: =IF(Реглист!D18="А",Реглист!B18,Реглист!B19) -> Poseidon | C10: =IF(Реглист!D18="А",Реглист!C18,Реглист!C19) -> Ананич Геннадий | D10: =D57 -> 1651.24 | E10: =E57 -> 2 | F10: 135 | G10: 118 | H10: 127 | I10: 261 | J10: 169 | K10: 142
A11: =A10+1 -> 9 | B11: =IF(Реглист!D20="А",Реглист!B20,Реглист!B21) -> Team Minsk | C11: =IF(Реглист!D20="А",Реглист!C20,Реглист!C21) -> Огейко Юрий | D11: =D58 -> 139.24 | E11: =E58 -> 27 | F11: 118
A12: =A11+1 -> 10 | B12: =IF(Реглист!D22="А",Реглист!B22,Реглист!B23) -> RVR | C12: =IF(Реглист!D22="А",Реглист!C22,Реглист!C23) -> Золотухин Александр | D12: =D59 -> 0 | E12: =E59 -> 43
A13: =A12+1 -> 11 | B13: =IF(Реглист!D24="А",Реглист!B24,Реглист!B25) -> Perch Legends | C13: =IF(Реглист!D24="А",Реглист!C24,Реглист!C25) -> Каменец Алексей | D13: =D60 -> 0 | E13: =E60 -> 43
A14: =A13+1 -> 12 | B14: =IF(Реглист!D26="А",Реглист!B26,Реглист!B27) -> Студенты | C14: =IF(Реглист!D26="А",Реглист!C26,Реглист!C27) -> Кузнецов Никита | D14: =D61 -> 0 | E14: =E61 -> 43
A15: =A14+1 -> 13 | B15: =IF(Реглист!D28="А",Реглист!B28,Реглист!B29) -> Полесье | C15: =IF(Реглист!D28="А",Реглист!C28,Реглист!C29) -> Марковский Максим | D15: =D62 -> 114.49 | E15: =E62 -> 28 | F15: 107
A16: =A15+1 -> 14 | B16: =IF(Реглист!D30="А",Реглист!B30,Реглист!B31) -> Кобринский МСЗ | C16: =IF(Реглист!D30="А",Реглист!C30,Реглист!C31) -> Барташук Александр | D16: =D63 -> 652.53 | E16: =E63 -> 9 | F16: 136 | G16: 119 | H16: 140 | I16: 114
A17: =A16+1 -> 15 | B17: =IF(Реглист!D32="А",Реглист!B32,Реглист!B33) -> ASpinnTeam | C17: =IF(Реглист!D32="А",Реглист!C32,Реглист!C33) -> Вашкевич Александр | D17: =D64 -> 0 | E17: =E64 -> 43
A18: =A17+1 -> 16 | B18: =IF(Реглист!D34="А",Реглист!B34,Реглист!B35) -> FishMurder | C18: =IF(Реглист!D34="А",Реглист!C34,Реглист!C35) -> Шило Сергей | D18: =D65 -> 166.41 | E18: =E65 -> 24 | F18: 129
A19: =A18+1 -> 17 | B19: =IF(Реглист!D36="А",Реглист!B36,Реглист!B37) -> Бобруйский Region | C19: =IF(Реглист!D36="А",Реглист!C36,Реглист!C37) -> Пархамович Максим | D19: =D66 -> 0 | E19: =E66 -> 43
A20: =A19+1 -> 18 | B20: =IF(Реглист!D38="А",Реглист!B38,Реглист!B39) -> West Fishing | C20: =IF(Реглист!D38="А",Реглист!C38,Реглист!C39) -> Золотарь Андрей | D20: =D67 -> 182.25 | E20: =E67 -> 23 | F20: 135
A21: =A20+1 -> 19 | B21: =IF(Реглист!D40="А",Реглист!B40,Реглист!B41) -> K&M | C21: =IF(Реглист!D40="А",Реглист!C40,Реглист!C41) -> Мельников Юрий | D21: =D68 -> 2153.75 | E21: =E68 -> 1 | F21: 123 | G21: 129 | H21: 134 | I21: 143 | J21: 124 | K21: 129 | L21: 132 | M21: 133 | N21: 137 | O21: 151 | P21: 140 | Q21: 130
A22: =A21+1 -> 20 | B22: =IF(Реглист!D42="А",Реглист!B42,Реглист!B43) -> Орловские | C22: =IF(Реглист!D42="А",Реглист!C42,Реглист!C43) -> Боровик Андрей | D22: =D69 -> 1105.66 | E22: =E69 -> 5 | F22: 137 | G22: 151 | H22: 150 | I22: 164 | J22: 140
A23: =A22+1 -> 21 | B23: =IF(Реглист!D44="А",Реглист!B44,Реглист!B45) -> - | C23: =IF(Реглист!D44="А",Реглист!C44,Реглист!C45) -> - | D23: =D70 -> 0 | E23: =E70 -> 43
A24: =A23+1 -> 22 | B24: =IF(Реглист!D46="А",Реглист!B46,Реглист!B47) -> SB-fishing | C24: =IF(Реглист!D46="А",Реглист!C46,Реглист!C47) -> Сапраненков Евгений | D24: =D71 -> 1160 | E24: =E71 -> 4 | F24: 260 | G24: 220
A25: =A24+1 -> 23 | B25: =IF(Реглист!D48="А",Реглист!B48,Реглист!B49) -> ULBroTeaM | C25: =IF(Реглист!D48="А",Реглист!C48,Реглист!C49) -> Вычиков Павел | D25: =D72 -> 621.17 | E25: =E72 -> 10 | F25: 114 | G25: 126 | H25: 139 | I25: 118
A26: =A25+1 -> 24 | B26: =IF(Реглист!D50="А",Реглист!B50,Реглист!B51) -> ES team | C26: =IF(Реглист!D50="А",Реглист!C50,Реглист!C51) -> Боляновский Дмитрий | D26: =D73 -> 272.25 | E26: =E73 -> 18 | F26: 165
A27: =A26+1 -> 25 | B27: =IF(Реглист!D52="А",Реглист!B52,Реглист!B53) -> Bad Fish | C27: =IF(Реглист!D52="А",Реглист!C52,Реглист!C53) -> Корней Валентин | D27: =D74 -> 156.25 | E27: =E74 -> 26 | F27: 125
A28: =A27+1 -> 26 | B28: =IF(Реглист!D54="А",Реглист!B54,Реглист!B55) -> Штиль | C28: =IF(Реглист!D54="А",Реглист!C54,Реглист!C55) -> Козлов Юрий | D28: =D75 -> 210.25 | E28: =E75 -> 21 | F28: 145
A29: =A28+1 -> 27 | B29: =IF(Реглист!D56="А",Реглист!B56,Реглист!B57) -> Solfishing | C29: =IF(Реглист!D56="А",Реглист!C56,Реглист!C57) -> Санько Александр | D29: =D76 -> 414.83 | E29: =E76 -> 13 | F29: 133 | G29: 105 | H29: 113
A30: =A29+1 -> 28 | B30: =IF(Реглист!D58="А",Реглист!B58,Реглист!B59) -> Favorite Team Belarus | C30: =IF(Реглист!D58="А",Реглист!C58,Реглист!C59) -> Шавшунов Никита | D30: =D77 -> 758.02 | E30: =E77 -> 7 | F30: 131 | G30: 146 | H30: 142 | I30: 131
A31: =A30+1 -> 29 | B31: =IF(Реглист!D60="А",Реглист!B60,Реглист!B61) -> Team Ylov | C31: =IF(Реглист!D60="А",Реглист!C60,Реглист!C61) -> Тулупов Александр | D31: =D78 -> 722.89 | E31: =E78 -> 8 | F31: 145 | G31: 136 | H31: 128 | I31: 128
A32: =A31+1 -> 30 | B32: =IF(Реглист!D62="А",Реглист!B62,Реглист!B63) -> - | C32: =IF(Реглист!D62="А",Реглист!C62,Реглист!C63) -> - | D32: =D79 -> 0 | E32: =E79 -> 43
A33: =A32+1 -> 31 | B33: =IF(Реглист!D64="А",Реглист!B64,Реглист!B65) -> Позитив | C33: =IF(Реглист!D64="А",Реглист!C64,Реглист!C65) -> Князев Сергей | D33: =D80 -> 158.76 | E33: =E80 -> 25 | F33: 126
A34: =A33+1 -> 32 | B34: =IF(Реглист!D66="А",Реглист!B66,Реглист!B67) -> Твичим и джигуем | C34: =IF(Реглист!D66="А",Реглист!C66,Реглист!C67) -> Чернышев Егор | D34: =D81 -> 237.16 | E34: =E81 -> 20 | F34: 154
A35: =A34+1 -> 33 | B35: =IF(Реглист!D68="А",Реглист!B68,Реглист!B69) -> Vodomotorika TEAM | C35: =IF(Реглист!D68="А",Реглист!C68,Реглист!C69) -> Ставер Дмитрий | D35: =D82 -> 369 | E35: =E82 -> 15 | F35: 120 | G35: 150
A36: =A35+1 -> 34 | B36: =IF(Реглист!D70="А",Реглист!B70,Реглист!B71) -> - | C36: =IF(Реглист!D70="А",Реглист!C70,Реглист!C71) -> - | D36: =D83 -> 0 | E36: =E83 -> 43
A37: =A36+1 -> 35 | B37: =IF(Реглист!D72="А",Реглист!B72,Реглист!B73) -> XULи-ULи | C37: =IF(Реглист!D72="А",Реглист!C72,Реглист!C73) -> Вежновец Михаил | D37: =D84 -> 196 | E37: =E84 -> 22 | F37: 140
A38: =A37+1 -> 36 | B38: =IF(Реглист!D74="А",Реглист!B74,Реглист!B75) -> LEGION | C38: =IF(Реглист!D74="А",Реглист!C74,Реглист!C75) -> Полюхович Александр | D38: =D85 -> 0 | E38: =E85 -> 43
A39: =A38+1 -> 37 | B39: =IF(Реглист!D76="А",Реглист!B76,Реглист!B77) -> Брест над Бугом | C39: =IF(Реглист!D76="А",Реглист!C76,Реглист!C77) -> Тысевич Сергей | D39: =D86 -> 375.04 | E39: =E86 -> 14 | F39: 120 | G39: 152
A40: =A39+1 -> 38 | B40: =IF(Реглист!D78="А",Реглист!B78,Реглист!B79) -> Гефест-Техника | C40: =IF(Реглист!D78="А",Реглист!C78,Реглист!C79) -> Лобацевич Виктор | D40: =D87 -> 0 | E40: =E87 -> 43
A41: =A40+1 -> 39 | B41: =IF(Реглист!D80="А",Реглист!B80,Реглист!B81) -> Gefest | C41: =IF(Реглист!D80="А",Реглист!C80,Реглист!C81) -> Саган Сергей | D41: =D88 -> 548.69 | E41: =E88 -> 12 | F41: 137 | G41: 190
A42: =A41+1 -> 40 | B42: =IF(Реглист!D82="А",Реглист!B82,Реглист!B83) -> Bait Breath Team | C42: =IF(Реглист!D82="А",Реглист!C82,Реглист!C83) -> Бахур Александр | D42: =D89 -> 0 | E42: =E89 -> 43
A43: =A42+1 -> 41 | B43: =IF(Реглист!D84="А",Реглист!B84,Реглист!B85) -> - | C43: =IF(Реглист!D84="А",Реглист!C84,Реглист!C85) -> - | D43: =D90 -> 0 | E43: =E90 -> 43
A44: =A43+1 -> 42 | B44: =IF(Реглист!D86="А",Реглист!B86,Реглист!B87) -> BASS HUNTER | C44: =IF(Реглист!D86="А",Реглист!C86,Реглист!C87) -> Кириевский Андрей | D44: =D91 -> 1175.68 | E44: =E91 -> 3 | F44: 130 | G44: 112 | H44: 140 | I44: 128 | J44: 118 | K44: 130 | L44: 146
A45: =A44+1 -> 43 | B45: =IF(Реглист!D88="А",Реглист!B88,Реглист!B89) -> LOVISNAMI | C45: =IF(Реглист!D88="А",Реглист!C88,Реглист!C89) -> Мазовка Иван | D45: =D92 -> 992.25 | E45: =E92 -> 6 | F45: 315
A46: =A45+1 -> 44 | B46: =IF(Реглист!D90="А",Реглист!B90,Реглист!B91) -> Fishka | C46: =IF(Реглист!D90="А",Реглист!C90,Реглист!C91) -> Наконечник Александр | D46: =D93 -> 0 | E46: =E93 -> 43
C47: средняя длина рыб по виду: | F47: =AVERAGE(F3:Y46) -> 140.62338 | Z47: =AVERAGE(Z3:AD46) -> #DIV/0! | AE47: =AVERAGE(AE3:AG46) -> #DIV/0! | AH47: =AVERAGE(AH3:AJ46) -> #DIV/0! | AK47: =AVERAGE(AK3:AM46) -> #DIV/0! | AN47: =AVERAGE(AN3:AP46) -> #DIV/0! | AQ47: =AVERAGE(AQ3:AS46) -> #DIV/0!
A48: № | B48: команда | C48: участник | D48: сумма баллов | E48: место | F48: баллы
A50: 1 | B50: =B3 -> Непредсказуемые | C50: =C3 -> Хомский Дмитрий | D50: =SUM(F50:AV50) -> 0 | E50: =IF(D50>0,RANK(D50,$D$50:$D$93),Реглист!$C$93+1) -> 43 | F50: =POWER(F3/10,2) -> 0 | G50: =POWER(G3/10,2) -> 0 | H50: =POWER(H3/10,2) -> 0 | I50: =POWER(I3/10,2) -> 0 | J50: =POWER(J3/10,2) -> 0 | K50: =POWER(K3/10,2) -> 0 | L50: =POWER(L3/10,2) -> 0 | M50: =POWER(M3/10,2) -> 0 | ... AV50: =POWER(AV3/10,2) -> 0
A51: =A50+1 -> 2 | B51: =B4 -> Фарватер | C51: =C4 -> Цыганок Михаил | D51: =SUM(F51:AV51) -> 615.48 | E51: =IF(D51>0,RANK(D51,$D$50:$D$93),Реглист!$C$93+1) -> 11 | F51: =POWER(F4/10,2) -> 110.25 | G51: =POWER(G4/10,2) -> 141.61 | H51: =POWER(H4/10,2) -> 141.61 | I51: =POWER(I4/10,2) -> 222.01 | J51: =POWER(J4/10,2) -> 0 | K51: =POWER(K4/10,2) -> 0 | L51: =POWER(L4/10,2) -> 0 | M51: =POWER(M4/10,2) -> 0 | ... AV51: =POWER(AV4/10,2) -> 0
A52: =A51+1 -> 3 | B52: =B5 -> Neptune fishing team | C52: =C5 -> Кирьянов Денис | D52: =SUM(F52:AV52) -> 352.25 | E52: =IF(D52>0,RANK(D52,$D$50:$D$93),Реглист!$C$93+1) -> 16 | F52: =POWER(F5/10,2) -> 156.25 | G52: =POWER(G5/10,2) -> 196 | H52: =POWER(H5/10,2) -> 0 | I52: =POWER(I5/10,2) -> 0 | J52: =POWER(J5/10,2) -> 0 | K52: =POWER(K5/10,2) -> 0 | L52: =POWER(L5/10,2) -> 0 | M52: =POWER(M5/10,2) -> 0 | ... AV52: =POWER(AV5/10,2) -> 0
A53: =A52+1 -> 4 | B53: =B6 -> Peacock Bass | C53: =C6 -> Сенчуров Иван | D53: =SUM(F53:AV53) -> 327.76 | E53: =IF(D53>0,RANK(D53,$D$50:$D$93),Реглист!$C$93+1) -> 17 | F53: =POWER(F6/10,2) -> 169 | G53: =POWER(G6/10,2) -> 158.76 | H53: =POWER(H6/10,2) -> 0 | I53: =POWER(I6/10,2) -> 0 | J53: =POWER(J6/10,2) -> 0 | K53: =POWER(K6/10,2) -> 0 | L53: =POWER(L6/10,2) -> 0 | M53: =POWER(M6/10,2) -> 0 | ... AV53: =POWER(AV6/10,2) -> 0
A54: =A53+1 -> 5 | B54: =B7 -> Бульба з Салам | C54: =C7 -> Лунякин Олег | D54: =SUM(F54:AV54) -> 0 | E54: =IF(D54>0,RANK(D54,$D$50:$D$93),Реглист!$C$93+1) -> 43 | F54: =POWER(F7/10,2) -> 0 | G54: =POWER(G7/10,2) -> 0 | H54: =POWER(H7/10,2) -> 0 | I54: =POWER(I7/10,2) -> 0 | J54: =POWER(J7/10,2) -> 0 | K54: =POWER(K7/10,2) -> 0 | L54: =POWER(L7/10,2) -> 0 | M54: =POWER(M7/10,2) -> 0 | ... AV54: =POWER(AV7/10,2) -> 0
A55: =A54+1 -> 6 | B55: =B8 -> UL soldiers of fortune | C55: =C8 -> Дешкевич Виталий | D55: =SUM(F55:AV55) -> 0 | E55: =IF(D55>0,RANK(D55,$D$50:$D$93),Реглист!$C$93+1) -> 43 | F55: =POWER(F8/10,2) -> 0 | G55: =POWER(G8/10,2) -> 0 | H55: =POWER(H8/10,2) -> 0 | I55: =POWER(I8/10,2) -> 0 | J55: =POWER(J8/10,2) -> 0 | K55: =POWER(K8/10,2) -> 0 | L55: =POWER(L8/10,2) -> 0 | M55: =POWER(M8/10,2) -> 0 | ... AV55: =POWER(AV8/10,2) -> 0
A56: =A55+1 -> 7 | B56: =B9 -> СТАR Fishingstock | C56: =C9 -> Бычик Роман | D56: =SUM(F56:AV56) -> 256 | E56: =IF(D56>0,RANK(D56,$D$50:$D$93),Реглист!$C$93+1) -> 19 | F56: =POWER(F9/10,2) -> 256 | G56: =POWER(G9/10,2) -> 0 | H56: =POWER(H9/10,2) -> 0 | I56: =POWER(I9/10,2) -> 0 | J56: =POWER(J9/10,2) -> 0 | K56: =POWER(K9/10,2) -> 0 | L56: =POWER(L9/10,2) -> 0 | M56: =POWER(M9/10,2) -> 0 | ... AV56: =POWER(AV9/10,2) -> 0
A57: =A56+1 -> 8 | B57: =B10 -> Poseidon | C57: =C10 -> Ананич Геннадий | D57: =SUM(F57:AV57) -> 1651.24 | E57: =IF(D57>0,RANK(D57,$D$50:$D$93),Реглист!$C$93+1) -> 2 | F57: =POWER(F10/10,2) -> 182.25 | G57: =POWER(G10/10,2) -> 139.24 | H57: =POWER(H10/10,2) -> 161.29 | I57: =POWER(I10/10,2) -> 681.21 | J57: =POWER(J10/10,2) -> 285.61 | K57: =POWER(K10/10,2) -> 201.64 | L57: =POWER(L10/10,2) -> 0 | M57: =POWER(M10/10,2) -> 0 | ... AV57: =POWER(AV10/10,2) -> 0
A58: =A57+1 -> 9 | B58: =B11 -> Team Minsk | C58: =C11 -> Огейко Юрий | D58: =SUM(F58:AV58) -> 139.24 | E58: =IF(D58>0,RANK(D58,$D$50:$D$93),Реглист!$C$93+1) -> 27 | F58: =POWER(F11/10,2) -> 139.24 | G58: =POWER(G11/10,2) -> 0 | H58: =POWER(H11/10,2) -> 0 | I58: =POWER(I11/10,2) -> 0 | J58: =POWER(J11/10,2) -> 0 | K58: =POWER(K11/10,2) -> 0 | L58: =POWER(L11/10,2) -> 0 | M58: =POWER(M11/10,2) -> 0 | ... AV58: =POWER(AV11/10,2) -> 0
A59: =A58+1 -> 10 | B59: =B12 -> RVR | C59: =C12 -> Золотухин Александр | D59: =SUM(F59:AV59) -> 0 | E59: =IF(D59>0,RANK(D59,$D$50:$D$93),Реглист!$C$93+1) -> 43 | F59: =POWER(F12/10,2) -> 0 | G59: =POWER(G12/10,2) -> 0 | H59: =POWER(H12/10,2) -> 0 | I59: =POWER(I12/10,2) -> 0 | J59: =POWER(J12/10,2) -> 0 | K59: =POWER(K12/10,2) -> 0 | L59: =POWER(L12/10,2) -> 0 | M59: =POWER(M12/10,2) -> 0 | ... AV59: =POWER(AV12/10,2) -> 0
A60: =A59+1 -> 11 | B60: =B13 -> Perch Legends | C60: =C13 -> Каменец Алексей | D60: =SUM(F60:AV60) -> 0 | E60: =IF(D60>0,RANK(D60,$D$50:$D$93),Реглист!$C$93+1) -> 43 | F60: =POWER(F13/10,2) -> 0 | G60: =POWER(G13/10,2) -> 0 | H60: =POWER(H13/10,2) -> 0 | I60: =POWER(I13/10,2) -> 0 | J60: =POWER(J13/10,2) -> 0 | K60: =POWER(K13/10,2) -> 0 | L60: =POWER(L13/10,2) -> 0 | M60: =POWER(M13/10,2) -> 0 | ... AV60: =POWER(AV13/10,2) -> 0
A61: =A60+1 -> 12 | B61: =B14 -> Студенты | C61: =C14 -> Кузнецов Никита | D61: =SUM(F61:AV61) -> 0 | E61: =IF(D61>0,RANK(D61,$D$50:$D$93),Реглист!$C$93+1) -> 43 | F61: =POWER(F14/10,2) -> 0 | G61: =POWER(G14/10,2) -> 0 | H61: =POWER(H14/10,2) -> 0 | I61: =POWER(I14/10,2) -> 0 | J61: =POWER(J14/10,2) -> 0 | K61: =POWER(K14/10,2) -> 0 | L61: =POWER(L14/10,2) -> 0 | M61: =POWER(M14/10,2) -> 0 | ... AV61: =POWER(AV14/10,2) -> 0
A62: =A61+1 -> 13 | B62: =B15 -> Полесье | C62: =C15 -> Марковский Максим | D62: =SUM(F62:AV62) -> 114.49 | E62: =IF(D62>0,RANK(D62,$D$50:$D$93),Реглист!$C$93+1) -> 28 | F62: =POWER(F15/10,2) -> 114.49 | G62: =POWER(G15/10,2) -> 0 | H62: =POWER(H15/10,2) -> 0 | I62: =POWER(I15/10,2) -> 0 | J62: =POWER(J15/10,2) -> 0 | K62: =POWER(K15/10,2) -> 0 | L62: =POWER(L15/10,2) -> 0 | M62: =POWER(M15/10,2) -> 0 | ... AV62: =POWER(AV15/10,2) -> 0
... A93: =A92+1 -> 44 | B93: =B46 -> Fishka | C93: =C46 -> Наконечник Александр | D93: =SUM(F93:AV93) -> 0 | E93: =IF(D93>0,RANK(D93,$D$50:$D$93),Реглист!$C$93+1) -> 43 | F93: =POWER(F46/10,2) -> 0 | G93: =POWER(G46/10,2) -> 0 | H93: =POWER(H46/10,2) -> 0 | I93: =POWER(I46/10,2) -> 0 | J93: =POWER(J46/10,2) -> 0 | K93: =POWER(K46/10,2) -> 0 | L93: =POWER(L46/10,2) -> 0 | M93: =POWER(M46/10,2) -> 0 | ... AV93: =POWER(AV46/10,2) -> 0

Sheet Т1Зб
A1: № | B1: команда | C1: участник | D1: сумма баллов | E1: место | F1: окунь | Z1: окунь | AF1: судак | AI1: жерех | AL1: голавль | AO1: язь | AR1: чехонь | AU1: сом
F2: размер, см
A3: 1 | B3: =IF(Реглист!D4="Б",Реглист!B4,Реглист!B5) -> Непредсказуемые | C3: =IF(Реглист!D4="Б",Реглист!C4,Реглист!C5) -> Кайсин Иван | D3: =D50 -> 161.29 | E3: =E50 -> 31 | F3: 127
A4: =A3+1 -> 2 | B4: =IF(Реглист!D6="Б",Реглист!B6,Реглист!B7) -> Фарватер | C4: =IF(Реглист!D6="Б",Реглист!C6,Реглист!C7) -> Попельский Максим | D4: =D51 -> 1041.89 | E4: =E51 -> 15 | F4: 148 | G4: 129 | H4: 113 | I4: 119 | J4: 145 | K4: 133
A5: =A4+1 -> 3 | B5: =IF(Реглист!D8="Б",Реглист!B8,Реглист!B9) -> Neptune fishing team | C5: =IF(Реглист!D8="Б",Реглист!C8,Реглист!C9) -> Мяэлоог Алексей | D5: =D52 -> 210.25 | E5: =E52 -> 29 | F5: 145
A6: =A5+1 -> 4 | B6: =IF(Реглист!D10="Б",Реглист!B10,Реглист!B11) -> Peacock Bass | C6: =IF(Реглист!D10="Б",Реглист!C10,Реглист!C11) -> Дроздов Виталий | D6: =D53 -> 1691.32 | E6: =E53 -> 8 | F6: 138 | G6: 118 | H6: 132 | I6: 127 | J6: 126 | K6: 125 | L6: 123 | M6: 136 | N6: 147 | O6: 126
A7: =A6+1 -> 5 | B7: =IF(Реглист!D12="Б",Реглист!B12,Реглист!B13) -> Бульба з Салам | C7: =IF(Реглист!D12="Б",Реглист!C12,Реглист!C13) -> Бобриков Алексей | D7: =D54 -> 225 | E7: =E54 -> 26 | F7: 150
A8: =A7+1 -> 6 | B8: =IF(Реглист!D14="Б",Реглист!B14,Реглист!B15) -> UL soldiers of fortune | C8: =IF(Реглист!D14="Б",Реглист!C14,Реглист!C15) -> Андрианов Илья | D8: =D55 -> 566.74 | E8: =E55 -> 22 | F8: 135 | G8: 145 | H8: 132
A9: =A8+1 -> 7 | B9: =IF(Реглист!D16="Б",Реглист!B16,Реглист!B17) -> СТАR Fishingstock | C9: =IF(Реглист!D16="Б",Реглист!C16,Реглист!C17) -> Пожарский Константин | D9: =D56 -> 1695.39 | E9: =E56 -> 7 | F9: 157 | G9: 145 | H9: 115 | I9: 126 | J9: 116 | K9: 145 | L9: 147 | M9: 143 | N9: 135
A10: =A9+1 -> 8 | B10: =IF(Реглист!D18="Б",Реглист!B18,Реглист!B19) -> Poseidon | C10: =IF(Реглист!D18="Б",Реглист!C18,Реглист!C19) -> Кохно Антон | D10: =D57 -> 1084.2 | E10: =E57 -> 13 | F10: 130 | G10: 137 | H10: 115 | I10: 131 | J10: 142 | K10: 149
A11: =A10+1 -> 9 | B11: =IF(Реглист!D20="Б",Реглист!B20,Реглист!B21) -> Team Minsk | C11: =IF(Реглист!D20="Б",Реглист!C20,Реглист!C21) -> Артёмчик Евгений | D11: =D58 -> 1410.26 | E11: =E58 -> 10 | F11: 125 | G11: 117 | H11: 135 | I11: 121 | J11: 136 | K11: 125 | L11: 120 | M11: 135 | N11: 110
A12: =A11+1 -> 10 | B12: =IF(Реглист!D22="Б",Реглист!B22,Реглист!B23) -> RVR | C12: =IF(Реглист!D22="Б",Реглист!C22,Реглист!C23) -> Масюк Павел | D12: =D59 -> 708.01 | E12: =E59 -> 20 | F12: 112 | G12: 146 | H12: 146 | I12: 125
A13: =A12+1 -> 11 | B13: =IF(Реглист!D24="Б",Реглист!B24,Реглист!B25) -> Perch Legends | C13: =IF(Реглист!D24="Б",Реглист!C24,Реглист!C25) -> Янкович Сергей | D13: =D60 -> 0 | E13: =E60 -> 43
A14: =A13+1 -> 12 | B14: =IF(Реглист!D26="Б",Реглист!B26,Реглист!B27) -> Студенты | C14: =IF(Реглист!D26="Б",Реглист!C26,Реглист!C27) -> Кочанов Александр | D14: =D61 -> 0 | E14: =E61 -> 43
A15: =A14+1 -> 13 | B15: =IF(Реглист!D28="Б",Реглист!B28,Реглист!B29) -> Полесье | C15: =IF(Реглист!D28="Б",Реглист!C28,Реглист!C29) -> Рыбачук Евгений | D15: =D62 -> 420.25 | E15: =E62 -> 24 | F15: 205
A16: =A15+1 -> 14 | B16: =IF(Реглист!D30="Б",Реглист!B30,Реглист!B31) -> Кобринский МСЗ | C16: =IF(Реглист!D30="Б",Реглист!C30,Реглист!C31) -> Жарин Вадим | D16: =D63 -> 840.18 | E16: =E63 -> 19 | F16: 147 | G16: 145 | H16: 120 | I16: 122 | J16: 110
A17: =A16+1 -> 15 | B17: =IF(Реглист!D32="Б",Реглист!B32,Реглист!B33) -> ASpinnTeam | C17: =IF(Реглист!D32="Б",Реглист!C32,Реглист!C33) -> Нугуманов Артём | D17: =D64 -> 0 | E17: =E64 -> 43
A18: =A17+1 -> 16 | B18: =IF(Реглист!D34="Б",Реглист!B34,Реглист!B35) -> FishMurder | C18: =IF(Реглист!D34="Б",Реглист!C34,Реглист!C35) -> Микулов Владимир | D18: =D65 -> 3201.98 | E18: =E65 -> 2 | F18: 139 | G18: 117 | H18: 145 | I18: 117 | J18: 147 | K18: 116 | L18: 151 | M18: 131 | N18: 151 | O18: 113 | P18: 126 | Q18: 324 | R18: 145
A19: =A18+1 -> 17 | B19: =IF(Реглист!D36="Б",Реглист!B36,Реглист!B37) -> Бобруйский Region | C19: =IF(Реглист!D36="Б",Реглист!C36,Реглист!C37) -> Прокопчик Алексей | D19: =D66 -> 1394 | E19: =E66 -> 11 | F19: 130 | G19: 350
A20: =A19+1 -> 18 | B20: =IF(Реглист!D38="Б",Реглист!B38,Реглист!B39) -> West Fishing | C20: =IF(Реглист!D38="Б",Реглист!C38,Реглист!C39) -> Непомнящий Виктор | D20: =D67 -> 1002.18 | E20: =E67 -> 17 | F20: 127 | G20: 217 | H20: 138 | I20: 134
A21: =A20+1 -> 19 | B21: =IF(Реглист!D40="Б",Реглист!B40,Реглист!B41) -> K&M | C21: =IF(Реглист!D40="Б",Реглист!C40,Реглист!C41) -> Казаченко Владимир | D21: =D68 -> 0 | E21: =E68 -> 43
A22: =A21+1 -> 20 | B22: =IF(Реглист!D42="Б",Реглист!B42,Реглист!B43) -> Орловские | C22: =IF(Реглист!D42="Б",Реглист!C42,Реглист!C43) -> Пластун Вячеслав | D22: =D69 -> 1818.74 | E22: =E69 -> 5 | F22: 354 | G22: 118 | H22: 147 | I22: 145
A23: =A22+1 -> 21 | B23: =IF(Реглист!D44="Б",Реглист!B44,Реглист!B45) -> - | C23: =IF(Реглист!D44="Б",Реглист!C44,Реглист!C45) -> - | D23: =D70 -> 0 | E23: =E70 -> 43
A24: =A23+1 -> 22 | B24: =IF(Реглист!D46="Б",Реглист!B46,Реглист!B47) -> SB-fishing | C24: =IF(Реглист!D46="Б",Реглист!C46,Реглист!C47) -> Минков Александр | D24: =D71 -> 193.21 | E24: =E71 -> 30 | F24: 139
A25: =A24+1 -> 23 | B25: =IF(Реглист!D48="Б",Реглист!B48,Реглист!B49) -> ULBroTeaM | C25: =IF(Реглист!D48="Б",Реглист!C48,Реглист!C49) -> Василенков Вячеслав | D25: =D72 -> 1115.13 | E25: =E72 -> 12 | F25: 148 | G25: 128 | H25: 240 | I25: 125
A26: =A25+1 -> 24 | B26: =IF(Реглист!D50="Б",Реглист!B50,Реглист!B51) -> ES team | C26: =IF(Реглист!D50="Б",Реглист!C50,Реглист!C51) -> Асинский Александр | D26: =D73 -> 0 | E26: =E73 -> 43
A27: =A26+1 -> 25 | B27: =IF(Реглист!D52="Б",Реглист!B52,Реглист!B53) -> Bad Fish | C27: =IF(Реглист!D52="Б",Реглист!C52,Реглист!C53) -> Желтов Игорь | D27: =D74 -> 693.54 | E27: =E74 -> 21 | F27: 136 | G27: 127 | H27: 123 | I27: 140
A28: =A27+1 -> 26 | B28: =IF(Реглист!D54="Б",Реглист!B54,Реглист!B55) -> Штиль | C28: =IF(Реглист!D54="Б",Реглист!C54,Реглист!C55) -> Рябишников Иван | D28: =D75 -> 144 | E28: =E75 -> 32 | F28: 120
A29: =A28+1 -> 27 | B29: =IF(Реглист!D56="Б",Реглист!B56,Реглист!B57) -> Solfishing | C29: =IF(Реглист!D56="Б",Реглист!C56,Реглист!C57) -> Губчик Александр | D29: =D76 -> 0 | E29: =E76 -> 43
A30: =A29+1 -> 28 | B30: =IF(Реглист!D58="Б",Реглист!B58,Реглист!B59) -> Favorite Team Belarus | C30: =IF(Реглист!D58="Б",Реглист!C58,Реглист!C59) -> Анпилов Андрей | D30: =D77 -> 1783.64 | E30: =E77 -> 6 | F30: 125 | G30: 127 | H30: 307 | I30: 140 | J30: 181
A31: =A30+1 -> 29 | B31: =IF(Реглист!D60="Б",Реглист!B60,Реглист!B61) -> Team Ylov | C31: =IF(Реглист!D60="Б",Реглист!C60,Реглист!C61) -> Кулаженко Владимир | D31: =D78 -> 1017.95 | E31: =E78 -> 16 | F31: 121 | G31: 123 | H31: 120 | I31: 150 | J31: 130 | K31: 135
A32: =A31+1 -> 30 | B32: =IF(Реглист!D62="Б",Реглист!B62,Реглист!B63) -> - | C32: =IF(Реглист!D62="Б",Реглист!C62,Реглист!C63) -> - | D32: =D79 -> 0 | E32: =E79 -> 43
A33: =A32+1 -> 31 | B33: =IF(Реглист!D64="Б",Реглист!B64,Реглист!B65) -> Позитив | C33: =IF(Реглист!D64="Б",Реглист!C64,Реглист!C65) -> Строк Павел | D33: =D80 -> 1423.57 | E33: =E80 -> 9 | F33: 279 | G33: 254
A34: =A33+1 -> 32 | B34: =IF(Реглист!D66="Б",Реглист!B66,Реглист!B67) -> Твичим и джигуем | C34: =IF(Реглист!D66="Б",Реглист!C66,Реглист!C67) -> Синовец Роман | D34: =D81 -> 538.49 | E34: =E81 -> 23 | F34: 121 | G34: 138 | H34: 142
A35: =A34+1 -> 33 | B35: =IF(Реглист!D68="Б",Реглист!B68,Реглист!B69) -> Vodomotorika TEAM | C35: =IF(Реглист!D68="Б",Реглист!C68,Реглист!C69) -> Круглянин Сергей | D35: =D82 -> 213.16 | E35: =E82 -> 28 | F35: 146
A36: =A35+1 -> 34 | B36: =IF(Реглист!D70="Б",Реглист!B70,Реглист!B71) -> - | C36: =IF(Реглист!D70="Б",Реглист!C70,Реглист!C71) -> - | D36: =D83 -> 0 | E36: =E83 -> 43
A37: =A36+1 -> 35 | B37: =IF(Реглист!D72="Б",Реглист!B72,Реглист!B73) -> XULи-ULи | C37: =IF(Реглист!D72="Б",Реглист!C72,Реглист!C73) -> Лавренчук Станислав | D37: =D84 -> 2745.86 | E37: =E84 -> 3 | F37: 144 | G37: 385 | H37: 325
A38: =A37+1 -> 36 | B38: =IF(Реглист!D74="Б",Реглист!B74,Реглист!B75) -> LEGION | C38: =IF(Реглист!D74="Б",Реглист!C74,Реглист!C75) -> Бойко Сергей | D38: =D85 -> 4035.17 | E38: =E85 -> 1 | F38: 129 | G38: 142 | H38: 106 | I38: 111 | J38: 113 | K38: 135 | L38: 156 | M38: 134 | N38: 127 | O38: 138 | P38: 131 | Q38: 122 | R38: 117 | S38: 116 | T38: 155 | U38: 136 | V38: 156 | W38: 136 | X38: 138 | Y38: 134 | Z38: 139 | AA38: 134 | AB38: 126
A39: =A38+1 -> 37 | B39: =IF(Реглист!D76="Б",Реглист!B76,Реглист!B77) -> Брест над Бугом | C39: =IF(Реглист!D76="Б",Реглист!C76,Реглист!C77) -> Шумко Александр | D39: =D86 -> 962.2 | E39: =E86 -> 18 | F39: 135 | G39: 122 | H39: 105 | I39: 145 | J39: 119 | K39: 130
A40: =A39+1 -> 38 | B40: =IF(Реглист!D78="Б",Реглист!B78,Реглист!B79) -> Гефест-Техника | C40: =IF(Реглист!D78="Б",Реглист!C78,Реглист!C79) -> Остапук Александр | D40: =D87 -> 0 | E40: =E87 -> 43
A41: =A40+1 -> 39 | B41: =IF(Реглист!D80="Б",Реглист!B80,Реглист!B81) -> Gefest | C41: =IF(Реглист!D80="Б",Реглист!C80,Реглист!C81) -> Радчук Юрий | D41: =D88 -> 219.04 | E41: =E88 -> 27 | F41: 148
A42: =A41+1 -> 40 | B42: =IF(Реглист!D82="Б",Реглист!B82,Реглист!B83) -> Bait Breath Team | C42: =IF(Реглист!D82="Б",Реглист!C82,Реглист!C83) -> Зубко Сергей | D42: =D89 -> 2280.1 | E42: =E89 -> 4 | F42: 111 | G42: 127 | H42: 105 | I42: 122 | J42: 102 | K42: 110 | L42: 108 | M42: 133 | N42: 120 | O42: 132 | P42: 127 | Q42: 136 | R42: 111 | S42: 160 | T42: 132
A43: =A42+1 -> 41 | B43: =IF(Реглист!D84="Б",Реглист!B84,Реглист!B85) -> - | C43: =IF(Реглист!D84="Б",Реглист!C84,Реглист!C85) -> - | D43: =D90 -> 0 | E43: =E90 -> 43
A44: =A43+1 -> 42 | B44: =IF(Реглист!D86="Б",Реглист!B86,Реглист!B87) -> BASS HUNTER | C44: =IF(Реглист!D86="Б",Реглист!C86,Реглист!C87) -> Шевко Виталий | D44: =D91 -> 1056.91 | E44: =E91 -> 14 | F44: 165 | G44: 141 | H44: 138 | I44: 146 | J44: 135
A45: =A44+1 -> 43 | B45: =IF(Реглист!D88="Б",Реглист!B88,Реглист!B89) -> LOVISNAMI | C45: =IF(Реглист!D88="Б",Реглист!C88,Реглист!C89) -> Кузмич Алексей | D45: =D92 -> 0 | E45: =E92 -> 43
A46: =A45+1 -> 44 | B46: =IF(Реглист!D90="Б",Реглист!B90,Реглист!B91) -> Fishka | C46: =IF(Реглист!D90="Б",Реглист!C90,Реглист!C91) -> Короленок Вадим | D46: =D93 -> 327.61 | E46: =E93 -> 25 | F46: 181
C47: средняя длина рыб по виду: | F47: =AVERAGE(F3:Y46) -> 143.52229 | Z47: =AVERAGE(Z5:AE46) -> 133 | AF47: =AVERAGE(AF3:AH46) -> #DIV/0! | AI47: =AVERAGE(AI3:AK46) -> #DIV/0! | AL47: =AVERAGE(AL3:AN46) -> #DIV/0! | AO47: =AVERAGE(AO3:AQ46) -> #DIV/0! | AR47: =AVERAGE(AR3:AT46) -> #DIV/0!
A48: № | B48: команда | C48: участник | D48: сумма баллов | E48: место | F48: баллы
A50: 1 | B50: =B3 -> Непредсказуемые | C50: =C3 -> Кайсин Иван | D50: =SUM(F50:AW50) -> 161.29 | E50: =IF(D50>0,RANK(D50,$D$50:$D$93),Реглист!$C$93+1) -> 31 | F50: =POWER(F3/10,2) -> 161.29 | G50: =POWER(G3/10,2) -> 0 | H50: =POWER(H3/10,2) -> 0 | I50: =POWER(I3/10,2) -> 0 | J50: =POWER(J3/10,2) -> 0 | K50: =POWER(K3/10,2) -> 0 | L50: =POWER(L3/10,2) -> 0 | M50: =POWER(M3/10,2) -> 0 | ... AW50: =POWER(AW3/10,2) -> 0
A51: =A50+1 -> 2 | B51: =B4 -> Фарватер | C51: =C4 -> Попельский Максим | D51: =SUM(F51:AW51) -> 1041.89 | E51: =IF(D51>0,RANK(D51,$D$50:$D$93),Реглист!$C$93+1) -> 15 | F51: =POWER(F4/10,2) -> 219.04 | G51: =POWER(G4/10,2) -> 166.41 | H51: =POWER(H4/10,2) -> 127.69 | I51: =POWER(I4/10,2) -> 141.61 | J51: =POWER(J4/10,2) -> 210.25 | K51: =POWER(K4/10,2) -> 176.89 | L51: =POWER(L4/10,2) -> 0 | M51: =POWER(M4/10,2) -> 0 | ... AW51: =POWER(AW4/10,2) -> 0
A52: =A51+1 -> 3 | B52: =B5 -> Neptune fishing team | C52: =C5 -> Мяэлоог Алексей | D52: =SUM(F52:AW52) -> 210.25 | E52: =IF(D52>0,RANK(D52,$D$50:$D$93),Реглист!$C$93+1) -> 29 | F52: =POWER(F5/10,2) -> 210.25 | G52: =POWER(G5/10,2) -> 0 | H52: =POWER(H5/10,2) -> 0 | I52: =POWER(I5/10,2) -> 0 | J52: =POWER(J5/10,2) -> 0 | K52: =POWER(K5/10,2) -> 0 | L52: =POWER(L5/10,2) -> 0 | M52: =POWER(M5/10,2) -> 0 | ... AW52: =POWER(AW5/10,2) -> 0
A53: =A52+1 -> 4 | B53: =B6 -> Peacock Bass | C53: =C6 -> Дроздов Виталий | D53: =SUM(F53:AW53) -> 1691.32 | E53: =IF(D53>0,RANK(D53,$D$50:$D$93),Реглист!$C$93+1) -> 8 | F53: =POWER(F6/10,2) -> 190.44 | G53: =POWER(G6/10,2) -> 139.24 | H53: =POWER(H6/10,2) -> 174.24 | I53: =POWER(I6/10,2) -> 161.29 | J53: =POWER(J6/10,2) -> 158.76 | K53: =POWER(K6/10,2) -> 156.25 | L53: =POWER(L6/10,2) -> 151.29 | M53: =POWER(M6/10,2) -> 184.96 | ... AW53: =POWER(AW6/10,2) -> 0
A54: =A53+1 -> 5 | B54: =B7 -> Бульба з Салам | C54: =C7 -> Бобриков Алексей | D54: =SUM(F54:AW54) -> 225 | E54: =IF(D54>0,RANK(D54,$D$50:$D$93),Реглист!$C$93+1) -> 26 | F54: =POWER(F7/10,2) -> 225 | G54: =POWER(G7/10,2) -> 0 | H54: =POWER(H7/10,2) -> 0 | I54: =POWER(I7/10,2) -> 0 | J54: =POWER(J7/10,2) -> 0 | K54: =POWER(K7/10,2) -> 0 | L54: =POWER(L7/10,2) -> 0 | M54: =POWER(M7/10,2) -> 0 | ... AW54: =POWER(AW7/10,2) -> 0
A55: =A54+1 -> 6 | B55: =B8 -> UL soldiers of fortune | C55: =C8 -> Андрианов Илья | D55: =SUM(F55:AW55) -> 566.74 | E55: =IF(D55>0,RANK(D55,$D$50:$D$93),Реглист!$C$93+1) -> 22 | F55: =POWER(F8/10,2) -> 182.25 | G55: =POWER(G8/10,2) -> 210.25 | H55: =POWER(H8/10,2) -> 174.24 | I55: =POWER(I8/10,2) -> 0 | J55: =POWER(J8/10,2) -> 0 | K55: =POWER(K8/10,2) -> 0 | L55: =POWER(L8/10,2) -> 0 | M55: =POWER(M8/10,2) -> 0 | ... AW55: =POWER(AW8/10,2) -> 0
A56: =A55+1 -> 7 | B56: =B9 -> СТАR Fishingstock | C56: =C9 -> Пожарский Константин | D56: =SUM(F56:AW56) -> 1695.39 | E56: =IF(D56>0,RANK(D56,$D$50:$D$93),Реглист!$C$93+1) -> 7 | F56: =POWER(F9/10,2) -> 246.49 | G56: =POWER(G9/10,2) -> 210.25 | H56: =POWER(H9/10,2) -> 132.25 | I56: =POWER(I9/10,2) -> 158.76 | J56: =POWER(J9/10,2) -> 134.56 | K56: =POWER(K9/10,2) -> 210.25 | L56: =POWER(L9/10,2) -> 216.09 | M56: =POWER(M9/10,2) -> 204.49 | ... AW56: =POWER(AW9/10,2) -> 0
A57: =A56+1 -> 8 | B57: =B10 -> Poseidon | C57: =C10 -> Кохно Антон | D57: =SUM(F57:AW57) -> 1084.2 | E57: =IF(D57>0,RANK(D57,$D$50:$D$93),Реглист!$C$93+1) -> 13 | F57: =POWER(F10/10,2) -> 169 | G57: =POWER(G10/10,2) -> 187.69 | H57: =POWER(H10/10,2) -> 132.25 | I57: =POWER(I10/10,2) -> 171.61 | J57: =POWER(J10/10,2) -> 201.64 | K57: =POWER(K10/10,2) -> 222.01 | L57: =POWER(L10/10,2) -> 0 | M57: =POWER(M10/10,2) -> 0 | ... AW57: =POWER(AW10/10,2) -> 0
A58: =A57+1 -> 9 | B58: =B11 -> Team Minsk | C58: =C11 -> Артёмчик Евгений | D58: =SUM(F58:AW58) -> 1410.26 | E58: =IF(D58>0,RANK(D58,$D$50:$D$93),Реглист!$C$93+1) -> 10 | F58: =POWER(F11/10,2) -> 156.25 | G58: =POWER(G11/10,2) -> 136.89 | H58: =POWER(H11/10,2) -> 182.25 | I58: =POWER(I11/10,2) -> 146.41 | J58: =POWER(J11/10,2) -> 184.96 | K58: =POWER(K11/10,2) -> 156.25 | L58: =POWER(L11/10,2) -> 144 | M58: =POWER(M11/10,2) -> 182.25 | ... AW58: =POWER(AW11/10,2) -> 0
A59: =A58+1 -> 10 | B59: =B12 -> RVR | C59: =C12 -> Масюк Павел | D59: =SUM(F59:AW59) -> 708.01 | E59: =IF(D59>0,RANK(D59,$D$50:$D$93),Реглист!$C$93+1) -> 20 | F59: =POWER(F12/10,2) -> 125.44 | G59: =POWER(G12/10,2) -> 213.16 | H59: =POWER(H12/10,2) -> 213.16 | I59: =POWER(I12/10,2) -> 156.25 | J59: =POWER(J12/10,2) -> 0 | K59: =POWER(K12/10,2) -> 0 | L59: =POWER(L12/10,2) -> 0 | M59: =POWER(M12/10,2) -> 0 | ... AW59: =POWER(AW12/10,2) -> 0
A60: =A59+1 -> 11 | B60: =B13 -> Perch Legends | C60: =C13 -> Янкович Сергей | D60: =SUM(F60:AW60) -> 0 | E60: =IF(D60>0,RANK(D60,$D$50:$D$93),Реглист!$C$93+1) -> 43 | F60: =POWER(F13/10,2) -> 0 | G60: =POWER(G13/10,2) -> 0 | H60: =POWER(H13/10,2) -> 0 | I60: =POWER(I13/10,2) -> 0 | J60: =POWER(J13/10,2) -> 0 | K60: =POWER(K13/10,2) -> 0 | L60: =POWER(L13/10,2) -> 0 | M60: =POWER(M13/10,2) -> 0 | ... AW60: =POWER(AW13/10,2) -> 0
A61: =A60+1 -> 12 | B61: =B14 -> Студенты | C61: =C14 -> Кочанов Александр | D61: =SUM(F61:AW61) -> 0 | E61: =IF(D61>0,RANK(D61,$D$50:$D$93),Реглист!$C$93+1) -> 43 | F61: =POWER(F14/10,2) -> 0 | G61: =POWER(G14/10,2) -> 0 | H61: =POWER(H14/10,2) -> 0 | I61: =POWER(I14/10,2) -> 0 | J61: =POWER(J14/10,2) -> 0 | K61: =POWER(K14/10,2) -> 0 | L61: =POWER(L14/10,2) -> 0 | M61: =POWER(M14/10,2) -> 0 | ... AW61: =POWER(AW14/10,2) -> 0
A62: =A61+1 -> 13 | B62: =B15 -> Полесье | C62: =C15 -> Рыбачук Евгений | D62: =SUM(F62:AW62) -> 420.25 | E62: =IF(D62>0,RANK(D62,$D$50:$D$93),Реглист!$C$93+1) -> 24 | F62: =POWER(F15/10,2) -> 420.25 | G62: =POWER(G15/10,2) -> 0 | H62: =POWER(H15/10,2) -> 0 | I62: =POWER(I15/10,2) -> 0 | J62: =POWER(J15/10,2) -> 0 | K62: =POWER(K15/10,2) -> 0 | L62: =POWER(L15/10,2) -> 0 | M62: =POWER(M15/10,2) -> 0 | ... AW62: =POWER(AW15/10,2) -> 0
... A93: =A92+1 -> 44 | B93: =B46 -> Fishka | C93: =C46 -> Короленок Вадим | D93: =SUM(F93:AW93) -> 327.61 | E93: =IF(D93>0,RANK(D93,$D$50:$D$93),Реглист!$C$93+1) -> 25 | F93: =POWER(F46/10,2) -> 327.61 | G93: =POWER(G46/10,2) -> 0 | H93: =POWER(H46/10,2) -> 0 | I93: =POWER(I46/10,2) -> 0 | J93: =POWER(J46/10,2) -> 0 | K93: =POWER(K46/10,2) -> 0 | L93: =POWER(L46/10,2) -> 0 | M93: =POWER(M46/10,2) -> 0 | ... AW93: =POWER(AW46/10,2) -> 0

Sheet Т2За
A1: № | B1: команда | C1: участник | D1: сумма баллов | E1: место | F1: окунь | Z1: щука | AC1: судак | AF1: жерех | AI1: голавль | AL1: язь | AO1: чехонь | AR1: сом
F2: размер, см
A3: 1 | B3: =Т1Зб!B3 -> Непредсказуемые | C3: =Т1Зб!C3 -> Кайсин Иван | D3: =D50 -> 0 | E3: =E50 -> 43
A4: =A3+1 -> 2 | B4: =Т1Зб!B4 -> Фарватер | C4: =Т1Зб!C4 -> Попельский Максим | D4: =D51 -> 161.29 | E4: =E51 -> 24 | F4: 127
A5: =A4+1 -> 3 | B5: =Т1Зб!B5 -> Neptune fishing team | C5: =Т1Зб!C5 -> Мяэлоог Алексей | D5: =D52 -> 0 | E5: =E52 -> 43
A6: =A5+1 -> 4 | B6: =Т1Зб!B6 -> Peacock Bass | C6: =Т1Зб!C6 -> Дроздов Виталий | D6: =D53 -> 827.3 | E6: =E53 -> 4 | F6: 115 | G6: 112 | H6: 135 | I6: 156 | J6: 120
A7: =A6+1 -> 5 | B7: =Т1Зб!B7 -> Бульба з Салам | C7: =Т1Зб!C7 -> Бобриков Алексей | D7: =D54 -> 0 | E7: =E54 -> 43
A8: =A7+1 -> 6 | B8: =Т1Зб!B8 -> UL soldiers of fortune | C8: =Т1Зб!C8 -> Андрианов Илья | D8: =D55 -> 823.69 | E8: =E55 -> 5 | F8: 287
A9: =A8+1 -> 7 | B9: =Т1Зб!B9 -> СТАR Fishingstock | C9: =Т1Зб!C9 -> Пожарский Константин | D9: =D56 -> 689.17 | E9: =E56 -> 8 | F9: 150 | G9: 120 | H9: 129 | I9: 124
A10: =A9+1 -> 8 | B10: =Т1Зб!B10 -> Poseidon | C10: =Т1Зб!C10 -> Кохно Антон | D10: =D57 -> 225 | E10: 21.5 | F10: 150
A11: =A10+1 -> 9 | B11: =Т1Зб!B11 -> Team Minsk | C11: =Т1Зб!C11 -> Артёмчик Евгений | D11: =D58 -> 392.5 | E11: =E58 -> 18 | F11: 145 | G11: 135
A12: =A11+1 -> 10 | B12: =Т1Зб!B12 -> RVR | C12: =Т1Зб!C12 -> Масюк Павел | D12: =D59 -> 225 | E12: 21.5 | F12: 150
A13: =A12+1 -> 11 | B13: =Т1Зб!B13 -> Perch Legends | C13: =Т1Зб!C13 -> Янкович Сергей | D13: =D60 -> 0 | E13: =E60 -> 43
A14: =A13+1 -> 12 | B14: =Т1Зб!B14 -> Студенты | C14: =Т1Зб!C14 -> Кочанов Александр | D14: =D61 -> 412.09 | E14: =E61 -> 16 | F14: 147 | G14: 140
A15: =A14+1 -> 13 | B15: =Т1Зб!B15 -> Полесье | C15: =Т1Зб!C15 -> Рыбачук Евгений | D15: =D62 -> 166.41 | E15: =E62 -> 23 | F15: 129
A16: =A15+1 -> 14 | B16: =Т1Зб!B16 -> Кобринский МСЗ | C16: =Т1Зб!C16 -> Жарин Вадим | D16: =D63 -> 2485.43 | E16: =E63 -> 1 | F16: 136 | G16: 146 | H16: 140 | I16: 125 | J16: 168 | K16: 130 | L16: 115 | M16: 114 | N16: 121 | O16: 116 | P16: 152 | Q16: 120 | R16: 116 | S16: 152
A17: =A16+1 -> 15 | B17: =Т1Зб!B17 -> ASpinnTeam | C17: =Т1Зб!C17 -> Нугуманов Артём | D17: =D64 -> 796.29 | E17: =E64 -> 7 | F17: 113 | G17: 119 | H17: 153 | I17: 119 | J17: 123
A18: =A17+1 -> 16 | B18: =Т1Зб!B18 -> FishMurder | C18: =Т1Зб!C18 -> Микулов Владимир | D18: =D65 -> 0 | E18: =E65 -> 43
A19: =A18+1 -> 17 | B19: =Т1Зб!B19 -> Бобруйский Region | C19: =Т1Зб!C19 -> Прокопчик Алексей | D19: =D66 -> 0 | E19: =E66 -> 43
A20: =A19+1 -> 18 | B20: =Т1Зб!B20 -> West Fishing | C20: =Т1Зб!C20 -> Непомнящий Виктор | D20: =D67 -> 616.84 | E20: =E67 -> 10 | F20: 138 | G20: 144 | H20: 148
A21: =A20+1 -> 19 | B21: =Т1Зб!B21 -> K&M | C21: =Т1Зб!C21 -> Казаченко Владимир | D21: =D68 -> 441.09 | E21: =E68 -> 14 | F21: 147 | G21: 150
A22: =A21+1 -> 20 | B22: =Т1Зб!B22 -> Орловские | C22: =Т1Зб!C22 -> Пластун Вячеслав | D22: =D69 -> 800.02 | E22: =E69 -> 6 | F22: 149 | G22: 124 | H22: 139 | I22: 152
A23: =A22+1 -> 21 | B23: =Т1Зб!B23 -> - | C23: =Т1Зб!C23 -> - | D23: =D70 -> 0 | E23: =E70 -> 43
A24: =A23+1 -> 22 | B24: =Т1Зб!B24 -> SB-fishing | C24: =Т1Зб!C24 -> Минков Александр | D24: =D71 -> 1064.61 | E24: =E71 -> 3 | F24: 145 | G24: 141 | H24: 141 | I24: 145 | J24: 157
A25: =A24+1 -> 23 | B25: =Т1Зб!B25 -> ULBroTeaM | C25: =Т1Зб!C25 -> Василенков Вячеслав | D25: =D72 -> 0 | E25: =E72 -> 43
A26: =A25+1 -> 24 | B26: =Т1Зб!B26 -> ES team | C26: =Т1Зб!C26 -> Асинский Александр | D26: =D73 -> 0 | E26: =E73 -> 43
A27: =A26+1 -> 25 | B27: =Т1Зб!B27 -> Bad Fish | C27: =Т1Зб!C27 -> Желтов Игорь | D27: =D74 -> 296.69 | E27: =E74 -> 20 | F27: 113 | G27: 130
A28: =A27+1 -> 26 | B28: =Т1Зб!B28 -> Штиль | C28: =Т1Зб!C28 -> Рябишников Иван | D28: =D75 -> 378.13 | E28: =E75 -> 19 | F28: 137 | G28: 138
A29: =A28+1 -> 27 | B29: =Т1Зб!B29 -> Solfishing | C29: =Т1Зб!C29 -> Губчик Александр | D29: =D76 -> 0 | E29: =E76 -> 43
A30: =A29+1 -> 28 | B30: =Т1Зб!B30 -> Favorite Team Belarus | C30: =Т1Зб!C30 -> Анпилов Андрей | D30: =D77 -> 1536.84 | E30: =E77 -> 2 | F30: 140 | G30: 119 | H30: 123 | I30: 139 | J30: 122 | K30: 133 | L30: 230
A31: =A30+1 -> 29 | B31: =Т1Зб!B31 -> Team Ylov | C31: =Т1Зб!C31 -> Кулаженко Владимир | D31: =D78 -> 156.25 | E31: =E78 -> 25 | F31: 125
A32: =A31+1 -> 30 | B32: =Т1Зб!B32 -> - | C32: =Т1Зб!C32 -> - | D32: =D79 -> 0 | E32: =E79 -> 43
A33: =A32+1 -> 31 | B33: =Т1Зб!B33 -> Позитив | C33: =Т1Зб!C33 -> Строк Павел | D33: =D80 -> 0 | E33: =E80 -> 43
A34: =A33+1 -> 32 | B34: =Т1Зб!B34 -> Твичим и джигуем | C34: =Т1Зб!C34 -> Синовец Роман | D34: =D81 -> 423.45 | E34: =E81 -> 15 | F34: 147 | G34: 144
A35: =A34+1 -> 33 | B35: =Т1Зб!B35 -> Vodomotorika TEAM | C35: =Т1Зб!C35 -> Круглянин Сергей | D35: =D82 -> 0 | E35: =E82 -> 43
A36: =A35+1 -> 34 | B36: =Т1Зб!B36 -> - | C36: =Т1Зб!C36 -> - | D36: =D83 -> 0 | E36: =E83 -> 43
A37: =A36+1 -> 35 | B37: =Т1Зб!B37 -> XULи-ULи | C37: =Т1Зб!C37 -> Лавренчук Станислав | D37: =D84 -> 0 | E37: =E84 -> 43
A38: =A37+1 -> 36 | B38: =Т1Зб!B38 -> LEGION | C38: =Т1Зб!C38 -> Бойко Сергей | D38: =D85 -> 396.25 | E38: =E85 -> 17 | F38: 149 | G38: 132
A39: =A38+1 -> 37 | B39: =Т1Зб!B39 -> Брест над Бугом | C39: =Т1Зб!C39 -> Шумко Александр | D39: =D86 -> 0 | E39: =E86 -> 43
A40: =A39+1 -> 38 | B40: =Т1Зб!B40 -> Гефест-Техника | C40: =Т1Зб!C40 -> Остапук Александр | D40: =D87 -> 0 | E40: =E87 -> 43
A41: =A40+1 -> 39 | B41: =Т1Зб!B41 -> Gefest | C41: =Т1Зб!C41 -> Радчук Юрий | D41: =D88 -> 520.89 | E41: =E88 -> 13 | F41: 128 | G41: 128 | H41: 139
A42: =A41+1 -> 40 | B42: =Т1Зб!B42 -> Bait Breath Team | C42: =Т1Зб!C42 -> Зубко Сергей | D42: =D89 -> 577.25 | E42: =E89 -> 12 | F42: 150 | G42: 125 | H42: 140
A43: =A42+1 -> 41 | B43: =Т1Зб!B43 -> - | C43: =Т1Зб!C43 -> - | D43: =D90 -> 0 | E43: =E90 -> 43
A44: =A43+1 -> 42 | B44: =Т1Зб!B44 -> BASS HUNTER | C44: =Т1Зб!C44 -> Шевко Виталий | D44: =D91 -> 582.29 | E44: =E91 -> 11 | F44: 140 | G44: 150 | H44: 127
A45: =A44+1 -> 43 | B45: =Т1Зб!B45 -> LOVISNAMI | C45: =Т1Зб!C45 -> Кузмич Алексей | D45: =D92 -> 0 | E45: =E92 -> 43
A46: =A45+1 -> 44 | B46: =Т1Зб!B46 -> Fishka | C46: =Т1Зб!C46 -> Короленок Вадим | D46: =D93 -> 630.01 | E46: =E93 -> 9 | F46: 251
C47: средняя длина рыб по виду: | F47: =AVERAGE(F3:O46) -> 140.10959 | Z47: =AVERAGE(Z3:AB46) -> #DIV/0! | AC47: =AVERAGE(AC3:AE46) -> #DIV/0! | AF47: =AVERAGE(AF3:AH46) -> #DIV/0! | AI47: =AVERAGE(AI3:AK46) -> #DIV/0! | AL47: =AVERAGE(AL3:AN46) -> #DIV/0! | AO47: =AVERAGE(AO3:AQ46) -> #DIV/0!
A48: № | B48: команда | C48: участник | D48: сумма баллов | E48: место | F48: баллы
A50: 1 | B50: =B3 -> Непредсказуемые | C50: =C3 -> Кайсин Иван | D50: =SUM(F50:AT50) -> 0 | E50: =IF(D50>0,RANK(D50,$D$50:$D$93),Реглист!$C$93+1) -> 43 | F50: =POWER(F3/10,2) -> 0 | G50: =POWER(G3/10,2) -> 0 | H50: =POWER(H3/10,2) -> 0 | I50: =POWER(I3/10,2) -> 0 | J50: =POWER(J3/10,2) -> 0 | K50: =POWER(K3/10,2) -> 0 | L50: =POWER(L3/10,2) -> 0 | M50: =POWER(M3/10,2) -> 0 | ... AT50: =POWER(AT3/10,2) -> 0
A51: =A50+1 -> 2 | B51: =B4 -> Фарватер | C51: =C4 -> Попельский Максим | D51: =SUM(F51:AT51) -> 161.29 | E51: =IF(D51>0,RANK(D51,$D$50:$D$93),Реглист!$C$93+1) -> 24 | F51: =POWER(F4/10,2) -> 161.29 | G51: =POWER(G4/10,2) -> 0 | H51: =POWER(H4/10,2) -> 0 | I51: =POWER(I4/10,2) -> 0 | J51: =POWER(J4/10,2) -> 0 | K51: =POWER(K4/10,2) -> 0 | L51: =POWER(L4/10,2) -> 0 | M51: =POWER(M4/10,2) -> 0 | ... AT51: =POWER(AT4/10,2) -> 0
A52: =A51+1 -> 3 | B52: =B5 -> Neptune fishing team | C52: =C5 -> Мяэлоог Алексей | D52: =SUM(F52:AT52) -> 0 | E52: =IF(D52>0,RANK(D52,$D$50:$D$93),Реглист!$C$93+1) -> 43 | F52: =POWER(F5/10,2) -> 0 | G52: =POWER(G5/10,2) -> 0 | H52: =POWER(H5/10,2) -> 0 | I52: =POWER(I5/10,2) -> 0 | J52: =POWER(J5/10,2) -> 0 | K52: =POWER(K5/10,2) -> 0 | L52: =POWER(L5/10,2) -> 0 | M52: =POWER(M5/10,2) -> 0 | ... AT52: =POWER(AT5/10,2) -> 0
A53: =A52+1 -> 4 | B53: =B6 -> Peacock Bass | C53: =C6 -> Дроздов Виталий | D53: =SUM(F53:AT53) -> 827.3 | E53: =IF(D53>0,RANK(D53,$D$50:$D$93),Реглист!$C$93+1) -> 4 | F53: =POWER(F6/10,2) -> 132.25 | G53: =POWER(G6/10,2) -> 125.44 | H53: =POWER(H6/10,2) -> 182.25 | I53: =POWER(I6/10,2) -> 243.36 | J53: =POWER(J6/10,2) -> 144 | K53: =POWER(K6/10,2) -> 0 | L53: =POWER(L6/10,2) -> 0 | M53: =POWER(M6/10,2) -> 0 | ... AT53: =POWER(AT6/10,2) -> 0
A54: =A53+1 -> 5 | B54: =B7 -> Бульба з Салам | C54: =C7 -> Бобриков Алексей | D54: =SUM(F54:AT54) -> 0 | E54: =IF(D54>0,RANK(D54,$D$50:$D$93),Реглист!$C$93+1) -> 43 | F54: =POWER(F7/10,2) -> 0 | G54: =POWER(G7/10,2) -> 0 | H54: =POWER(H7/10,2) -> 0 | I54: =POWER(I7/10,2) -> 0 | J54: =POWER(J7/10,2) -> 0 | K54: =POWER(K7/10,2) -> 0 | L54: =POWER(L7/10,2) -> 0 | M54: =POWER(M7/10,2) -> 0 | ... AT54: =POWER(AT7/10,2) -> 0
A55: =A54+1 -> 6 | B55: =B8 -> UL soldiers of fortune | C55: =C8 -> Андрианов Илья | D55: =SUM(F55:AT55) -> 823.69 | E55: =IF(D55>0,RANK(D55,$D$50:$D$93),Реглист!$C$93+1) -> 5 | F55: =POWER(F8/10,2) -> 823.69 | G55: =POWER(G8/10,2) -> 0 | H55: =POWER(H8/10,2) -> 0 | I55: =POWER(I8/10,2) -> 0 | J55: =POWER(J8/10,2) -> 0 | K55: =POWER(K8/10,2) -> 0 | L55: =POWER(L8/10,2) -> 0 | M55: =POWER(M8/10,2) -> 0 | ... AT55: =POWER(AT8/10,2) -> 0
A56: =A55+1 -> 7 | B56: =B9 -> СТАR Fishingstock | C56: =C9 -> Пожарский Константин | D56: =SUM(F56:AT56) -> 689.17 | E56: =IF(D56>0,RANK(D56,$D$50:$D$93),Реглист!$C$93+1) -> 8 | F56: =POWER(F9/10,2) -> 225 | G56: =POWER(G9/10,2) -> 144 | H56: =POWER(H9/10,2) -> 166.41 | I56: =POWER(I9/10,2) -> 153.76 | J56: =POWER(J9/10,2) -> 0 | K56: =POWER(K9/10,2) -> 0 | L56: =POWER(L9/10,2) -> 0 | M56: =POWER(M9/10,2) -> 0 | ... AT56: =POWER(AT9/10,2) -> 0
A57: =A56+1 -> 8 | B57: =B10 -> Poseidon | C57: =C10 -> Кохно Антон | D57: =SUM(F57:AT57) -> 225 | E57: =IF(D57>0,RANK(D57,$D$50:$D$93),Реглист!$C$93+1) -> 21 | F57: =POWER(F10/10,2) -> 225 | G57: =POWER(G10/10,2) -> 0 | H57: =POWER(H10/10,2) -> 0 | I57: =POWER(I10/10,2) -> 0 | J57: =POWER(J10/10,2) -> 0 | K57: =POWER(K10/10,2) -> 0 | L57: =POWER(L10/10,2) -> 0 | M57: =POWER(M10/10,2) -> 0 | ... AT57: =POWER(AT10/10,2) -> 0
A58: =A57+1 -> 9 | B58: =B11 -> Team Minsk | C58: =C11 -> Артёмчик Евгений | D58: =SUM(F58:AT58) -> 392.5 | E58: =IF(D58>0,RANK(D58,$D$50:$D$93),Реглист!$C$93+1) -> 18 | F58: =POWER(F11/10,2) -> 210.25 | G58: =POWER(G11/10,2) -> 182.25 | H58: =POWER(H11/10,2) -> 0 | I58: =POWER(I11/10,2) -> 0 | J58: =POWER(J11/10,2) -> 0 | K58: =POWER(K11/10,2) -> 0 | L58: =POWER(L11/10,2) -> 0 | M58: =POWER(M11/10,2) -> 0 | ... AT58: =POWER(AT11/10,2) -> 0
A59: =A58+1 -> 10 | B59: =B12 -> RVR | C59: =C12 -> Масюк Павел | D59: =SUM(F59:AT59) -> 225 | E59: =IF(D59>0,RANK(D59,$D$50:$D$93),Реглист!$C$93+1) -> 21 | F59: =POWER(F12/10,2) -> 225 | G59: =POWER(G12/10,2) -> 0 | H59: =POWER(H12/10,2) -> 0 | I59: =POWER(I12/10,2) -> 0 | J59: =POWER(J12/10,2) -> 0 | K59: =POWER(K12/10,2) -> 0 | L59: =POWER(L12/10,2) -> 0 | M59: =POWER(M12/10,2) -> 0 | ... AT59: =POWER(AT12/10,2) -> 0
A60: =A59+1 -> 11 | B60: =B13 -> Perch Legends | C60: =C13 -> Янкович Сергей | D60: =SUM(F60:AT60) -> 0 | E60: =IF(D60>0,RANK(D60,$D$50:$D$93),Реглист!$C$93+1) -> 43 | F60: =POWER(F13/10,2) -> 0 | G60: =POWER(G13/10,2) -> 0 | H60: =POWER(H13/10,2) -> 0 | I60: =POWER(I13/10,2) -> 0 | J60: =POWER(J13/10,2) -> 0 | K60: =POWER(K13/10,2) -> 0 | L60: =POWER(L13/10,2) -> 0 | M60: =POWER(M13/10,2) -> 0 | ... AT60: =POWER(AT13/10,2) -> 0
A61: =A60+1 -> 12 | B61: =B14 -> Студенты | C61: =C14 -> Кочанов Александр | D61: =SUM(F61:AT61) -> 412.09 | E61: =IF(D61>0,RANK(D61,$D$50:$D$93),Реглист!$C$93+1) -> 16 | F61: =POWER(F14/10,2) -> 216.09 | G61: =POWER(G14/10,2) -> 196 | H61: =POWER(H14/10,2) -> 0 | I61: =POWER(I14/10,2) -> 0 | J61: =POWER(J14/10,2) -> 0 | K61: =POWER(K14/10,2) -> 0 | L61: =POWER(L14/10,2) -> 0 | M61: =POWER(M14/10,2) -> 0 | ... AT61: =POWER(AT14/10,2) -> 0
A62: =A61+1 -> 13 | B62: =B15 -> Полесье | C62: =C15 -> Рыбачук Евгений | D62: =SUM(F62:AT62) -> 166.41 | E62: =IF(D62>0,RANK(D62,$D$50:$D$93),Реглист!$C$93+1) -> 23 | F62: =POWER(F15/10,2) -> 166.41 | G62: =POWER(G15/10,2) -> 0 | H62: =POWER(H15/10,2) -> 0 | I62: =POWER(I15/10,2) -> 0 | J62: =POWER(J15/10,2) -> 0 | K62: =POWER(K15/10,2) -> 0 | L62: =POWER(L15/10,2) -> 0 | M62: =POWER(M15/10,2) -> 0 | ... AT62: =POWER(AT15/10,2) -> 0
... A93: =A92+1 -> 44 | B93: =B46 -> Fishka | C93: =C46 -> Короленок Вадим | D93: =SUM(F93:AT93) -> 630.01 | E93: =IF(D93>0,RANK(D93,$D$50:$D$93),Реглист!$C$93+1) -> 9 | F93: =POWER(F46/10,2) -> 630.01 | G93: =POWER(G46/10,2) -> 0 | H93: =POWER(H46/10,2) -> 0 | I93: =POWER(I46/10,2) -> 0 | J93: =POWER(J46/10,2) -> 0 | K93: =POWER(K46/10,2) -> 0 | L93: =POWER(L46/10,2) -> 0 | M93: =POWER(M46/10,2) -> 0 | ... AT93: =POWER(AT46/10,2) -> 0

Sheet Т2Зб
A1: № | B1: команда | C1: участник | D1: сумма баллов | E1: место | F1: окунь | Z1: щука | AC1: судак | AF1: жерех | AI1: голавль | AL1: язь | AO1: чехонь | AR1: сом
F2: размер, см
A3: 1 | B3: =Т1За!B3 -> Непредсказуемые | C3: =Т1За!C3 -> Хомский Дмитрий | D3: =D50 -> 121 | E3: =E50 -> 20 | F3: 110
A4: =A3+1 -> 2 | B4: =Т1За!B4 -> Фарватер | C4: =Т1За!C4 -> Цыганок Михаил | D4: =D51 -> 327.77 | E4: =E51 -> 15 | F4: 116 | G4: 139
A5: =A4+1 -> 3 | B5: =Т1За!B5 -> Neptune fishing team | C5: =Т1За!C5 -> Кирьянов Денис | D5: =D52 -> 1401.41 | E5: =E52 -> 1 | F5: 150 | G5: 145 | H5: 270 | I5: 154
A6: =A5+1 -> 4 | B6: =Т1За!B6 -> Peacock Bass | C6: =Т1За!C6 -> Сенчуров Иван | D6: =D53 -> 0 | E6: =E53 -> 43
A7: =A6+1 -> 5 | B7: =Т1За!B7 -> Бульба з Салам | C7: =Т1За!C7 -> Лунякин Олег | D7: =D54 -> 1176.49 | E7: =E54 -> 3 | F7: 343
A8: =A7+1 -> 6 | B8: =Т1За!B8 -> UL soldiers of fortune | C8: =Т1За!C8 -> Дешкевич Виталий | D8: =D55 -> 282.24 | E8: =E55 -> 17 | F8: 168
A9: =A8+1 -> 7 | B9: =Т1За!B9 -> СТАR Fishingstock | C9: =Т1За!C9 -> Бычик Роман | D9: =D56 -> 0 | E9: =E56 -> 43
A10: =A9+1 -> 8 | B10: =Т1За!B10 -> Poseidon | C10: =Т1За!C10 -> Ананич Геннадий | D10: =D57 -> 719.07 | E10: =E57 -> 9 | F10: 169 | G10: 121 | H10: 111 | I10: 128
A11: =A10+1 -> 9 | B11: =Т1За!B11 -> Team Minsk | C11: =Т1За!C11 -> Огейко Юрий | D11: =D58 -> 0 | E11: =E58 -> 43
A12: =A11+1 -> 10 | B12: =Т1За!B12 -> RVR | C12: =Т1За!C12 -> Золотухин Александр | D12: =D59 -> 0 | E12: =E59 -> 43
A13: =A12+1 -> 11 | B13: =Т1За!B13 -> Perch Legends | C13: =Т1За!C13 -> Каменец Алексей | D13: =D60 -> 0 | E13: =E60 -> 43
A14: =A13+1 -> 12 | B14: =Т1За!B14 -> Студенты | C14: =Т1За!C14 -> Кузнецов Никита | D14: =D61 -> 0 | E14: =E61 -> 43
A15: =A14+1 -> 13 | B15: =Т1За!B15 -> Полесье | C15: =Т1За!C15 -> Марковский Максим | D15: =D62 -> 0 | E15: =E62 -> 43
A16: =A15+1 -> 14 | B16: =Т1За!B16 -> Кобринский МСЗ | C16: =Т1За!C16 -> Барташук Александр | D16: =D63 -> 0 | E16: =E63 -> 43
A17: =A16+1 -> 15 | B17: =Т1За!B17 -> ASpinnTeam | C17: =Т1За!C17 -> Вашкевич Александр | D17: =D64 -> 0 | E17: =E64 -> 43
A18: =A17+1 -> 16 | B18: =Т1За!B18 -> FishMurder | C18: =Т1За!C18 -> Шило Сергей | D18: =D65 -> 605.38 | E18: =E65 -> 11 | F18: 133 | G18: 207
A19: =A18+1 -> 17 | B19: =Т1За!B19 -> Бобруйский Region | C19: =Т1За!C19 -> Пархамович Максим | D19: =D66 -> 0 | E19: =E66 -> 43
A20: =A19+1 -> 18 | B20: =Т1За!B20 -> West Fishing | C20: =Т1За!C20 -> Золотарь Андрей | D20: =D67 -> 657.66 | E20: =E67 -> 10 | F20: 145 | G20: 154 | H20: 145
A21: =A20+1 -> 19 | B21: =Т1За!B21 -> K&M | C21: =Т1За!C21 -> Мельников Юрий | D21: =D68 -> 1262.87 | E21: =E68 -> 2 | F21: 145 | G21: 114 | H21: 167 | I21: 110 | J21: 145 | K21: 124 | L21: 126
A22: =A21+1 -> 20 | B22: =Т1За!B22 -> Орловские | C22: =Т1За!C22 -> Боровик Андрей | D22: =D69 -> 868.89 | E22: =E69 -> 7 | F22: 148 | G22: 138 | H22: 130 | I22: 121 | J22: 120
A23: =A22+1 -> 21 | B23: =Т1За!B23 -> - | C23: =Т1За!C23 -> - | D23: =D70 -> 0 | E23: =E70 -> 43
A24: =A23+1 -> 22 | B24: =Т1За!B24 -> SB-fishing | C24: =Т1За!C24 -> Сапраненков Евгений | D24: =D71 -> 393.64 | E24: =E71 -> 13 | F24: 120 | G24: 158
A25: =A24+1 -> 23 | B25: =Т1За!B25 -> ULBroTeaM | C25: =Т1За!C25 -> Вычиков Павел | D25: =D72 -> 1113.74 | E25: =E72 -> 4 | F25: 146 | G25: 134 | H25: 142 | I25: 144 | J25: 109 | K25: 139
A26: =A25+1 -> 24 | B26: =Т1За!B26 -> ES team | C26: =Т1За!C26 -> Боляновский Дмитрий | D26: =D73 -> 249.64 | E26: =E73 -> 18 | F26: 158
A27: =A26+1 -> 25 | B27: =Т1За!B27 -> Bad Fish | C27: =Т1За!C27 -> Корней Валентин | D27: =D74 -> 0 | E27: =E74 -> 43
A28: =A27+1 -> 26 | B28: =Т1За!B28 -> Штиль | C28: =Т1За!C28 -> Козлов Юрий | D28: =D75 -> 144 | E28: =E75 -> 19 | F28: 120
A29: =A28+1 -> 27 | B29: =Т1За!B29 -> Solfishing | C29: =Т1За!C29 -> Санько Александр | D29: =D76 -> 0 | E29: =E76 -> 43
A30: =A29+1 -> 28 | B30: =Т1За!B30 -> Favorite Team Belarus | C30: =Т1За!C30 -> Шавшунов Никита | D30: =D77 -> 0 | E30: =E77 -> 43
A31: =A30+1 -> 29 | B31: =Т1За!B31 -> Team Ylov | C31: =Т1За!C31 -> Тулупов Александр | D31: =D78 -> 893.74 | E31: =E78 -> 6 | F31: 135 | G31: 125 | H31: 116 | I31: 142 | J31: 148
A32: =A31+1 -> 30 | B32: =Т1За!B32 -> - | C32: =Т1За!C32 -> - | D32: =D79 -> 0 | E32: =E79 -> 43
A33: =A32+1 -> 31 | B33: =Т1За!B33 -> Позитив | C33: =Т1За!C33 -> Князев Сергей | D33: =D80 -> 0 | E33: =E80 -> 43
A34: =A33+1 -> 32 | B34: =Т1За!B34 -> Твичим и джигуем | C34: =Т1За!C34 -> Чернышев Егор | D34: =D81 -> 0 | E34: =E81 -> 43
A35: =A34+1 -> 33 | B35: =Т1За!B35 -> Vodomotorika TEAM | C35: =Т1За!C35 -> Ставер Дмитрий | D35: =D82 -> 0 | E35: =E82 -> 43
A36: =A35+1 -> 34 | B36: =Т1За!B36 -> - | C36: =Т1За!C36 -> - | D36: =D83 -> 0 | E36: =E83 -> 43
A37: =A36+1 -> 35 | B37: =Т1За!B37 -> XULи-ULи | C37: =Т1За!C37 -> Вежновец Михаил | D37: =D84 -> 459.29 | E37: =E84 -> 12 | F37: 148 | G37: 155
A38: =A37+1 -> 36 | B38: =Т1За!B38 -> LEGION | C38: =Т1За!C38 -> Полюхович Александр | D38: =D85 -> 0 | E38: =E85 -> 43
A39: =A38+1 -> 37 | B39: =Т1За!B39 -> Брест над Бугом | C39: =Т1За!C39 -> Тысевич Сергей | D39: =D86 -> 1097.54 | E39: =E86 -> 5 | F39: 135 | G39: 152 | H39: 159 | I39: 162 | J39: 130
A40: =A39+1 -> 38 | B40: =Т1За!B40 -> Гефест-Техника | C40: =Т1За!C40 -> Лобацевич Виктор | D40: =D87 -> 0 | E40: =E87 -> 43
A41: =A40+1 -> 39 | B41: =Т1За!B41 -> Gefest | C41: =Т1За!C41 -> Саган Сергей | D41: =D88 -> 302.76 | E41: =E88 -> 16 | F41: 174
A42: =A41+1 -> 40 | B42: =Т1За!B42 -> Bait Breath Team | C42: =Т1За!C42 -> Бахур Александр | D42: =D89 -> 358.25 | E42: =E89 -> 14 | F42: 143 | G42: 124
A43: =A42+1 -> 41 | B43: =Т1За!B43 -> - | C43: =Т1За!C43 -> - | D43: =D90 -> 0 | E43: =E90 -> 43
A44: =A43+1 -> 42 | B44: =Т1За!B44 -> BASS HUNTER | C44: =Т1За!C44 -> Кириевский Андрей | D44: =D91 -> 856.58 | E44: =E91 -> 8 | F44: 105 | G44: 130 | H44: 130 | I44: 153 | J44: 132
A45: =A44+1 -> 43 | B45: =Т1За!B45 -> LOVISNAMI | C45: =Т1За!C45 -> Мазовка Иван | D45: =D92 -> 0 | E45: =E92 -> 43
A46: =A45+1 -> 44 | B46: =Т1За!B46 -> Fishka | C46: =Т1За!C46 -> Наконечник Александр | D46: =D93 -> 0 | E46: =E93 -> 43
C47: средняя длина рыб по виду: | F47: =AVERAGE(F3:O46) -> 144.4 | Z47: =AVERAGE(Z3:AB46) -> #DIV/0! | AC47: =AVERAGE(AC3:AE46) -> #DIV/0! | AF47: =AVERAGE(AF3:AH46) -> #DIV/0! | AI47: =AVERAGE(AI3:AK46) -> #DIV/0! | AL47: =AVERAGE(AL3:AN46) -> #DIV/0! | AO47: =AVERAGE(AO3:AQ46) -> #DIV/0!
A48: № | B48: команда | C48: участник | D48: сумма баллов | E48: место | F48: баллы
A50: 1 | B50: =B3 -> Непредсказуемые | C50: =C3 -> Хомский Дмитрий | D50: =SUM(F50:AT50) -> 121 | E50: =IF(D50>0,RANK(D50,$D$50:$D$93),Реглист!$C$93+1) -> 20 | F50: =POWER(F3/10,2) -> 121 | G50: =POWER(G3/10,2) -> 0 | H50: =POWER(H3/10,2) -> 0 | I50: =POWER(I3/10,2) -> 0 | J50: =POWER(J3/10,2) -> 0 | K50: =POWER(K3/10,2) -> 0 | L50: =POWER(L3/10,2) -> 0 | M50: =POWER(M3/10,2) -> 0 | ... AT50: =POWER(AT3/10,2) -> 0
A51: =A50+1 -> 2 | B51: =B4 -> Фарватер | C51: =C4 -> Цыганок Михаил | D51: =SUM(F51:AT51) -> 327.77 | E51: =IF(D51>0,RANK(D51,$D$50:$D$93),Реглист!$C$93+1) -> 15 | F51: =POWER(F4/10,2) -> 134.56 | G51: =POWER(G4/10,2) -> 193.21 | H51: =POWER(H4/10,2) -> 0 | I51: =POWER(I4/10,2) -> 0 | J51: =POWER(J4/10,2) -> 0 | K51: =POWER(K4/10,2) -> 0 | L51: =POWER(L4/10,2) -> 0 | M51: =POWER(M4/10,2) -> 0 | ... AT51: =POWER(AT4/10,2) -> 0
A52: =A51+1 -> 3 | B52: =B5 -> Neptune fishing team | C52: =C5 -> Кирьянов Денис | D52: =SUM(F52:AT52) -> 1401.41 | E52: =IF(D52>0,RANK(D52,$D$50:$D$93),Реглист!$C$93+1) -> 1 | F52: =POWER(F5/10,2) -> 225 | G52: =POWER(G5/10,2) -> 210.25 | H52: =POWER(H5/10,2) -> 729 | I52: =POWER(I5/10,2) -> 237.16 | J52: =POWER(J5/10,2) -> 0 | K52: =POWER(K5/10,2) -> 0 | L52: =POWER(L5/10,2) -> 0 | M52: =POWER(M5/10,2) -> 0 | ... AT52: =POWER(AT5/10,2) -> 0
A53: =A52+1 -> 4 | B53: =B6 -> Peacock Bass | C53: =C6 -> Сенчуров Иван | D53: =SUM(F53:AT53) -> 0 | E53: =IF(D53>0,RANK(D53,$D$50:$D$93),Реглист!$C$93+1) -> 43 | F53: =POWER(F6/10,2) -> 0 | G53: =POWER(G6/10,2) -> 0 | H53: =POWER(H6/10,2) -> 0 | I53: =POWER(I6/10,2) -> 0 | J53: =POWER(J6/10,2) -> 0 | K53: =POWER(K6/10,2) -> 0 | L53: =POWER(L6/10,2) -> 0 | M53: =POWER(M6/10,2) -> 0 | ... AT53: =POWER(AT6/10,2) -> 0
A54: =A53+1 -> 5 | B54: =B7 -> Бульба з Салам | C54: =C7 -> Лунякин Олег | D54: =SUM(F54:AT54) -> 1176.49 | E54: =IF(D54>0,RANK(D54,$D$50:$D$93),Реглист!$C$93+1) -> 3 | F54: =POWER(F7/10,2) -> 1176.49 | G54: =POWER(G7/10,2) -> 0 | H54: =POWER(H7/10,2) -> 0 | I54: =POWER(I7/10,2) -> 0 | J54: =POWER(J7/10,2) -> 0 | K54: =POWER(K7/10,2) -> 0 | L54: =POWER(L7/10,2) -> 0 | M54: =POWER(M7/10,2) -> 0 | ... AT54: =POWER(AT7/10,2) -> 0
A55: =A54+1 -> 6 | B55: =B8 -> UL soldiers of fortune | C55: =C8 -> Дешкевич Виталий | D55: =SUM(F55:AT55) -> 282.24 | E55: =IF(D55>0,RANK(D55,$D$50:$D$93),Реглист!$C$93+1) -> 17 | F55: =POWER(F8/10,2) -> 282.24 | G55: =POWER(G8/10,2) -> 0 | H55: =POWER(H8/10,2) -> 0 | I55: =POWER(I8/10,2) -> 0 | J55: =POWER(J8/10,2) -> 0 | K55: =POWER(K8/10,2) -> 0 | L55: =POWER(L8/10,2) -> 0 | M55: =POWER(M8/10,2) -> 0 | ... AT55: =POWER(AT8/10,2) -> 0
A56: =A55+1 -> 7 | B56: =B9 -> СТАR Fishingstock | C56: =C9 -> Бычик Роман | D56: =SUM(F56:AT56) -> 0 | E56: =IF(D56>0,RANK(D56,$D$50:$D$93),Реглист!$C$93+1) -> 43 | F56: =POWER(F9/10,2) -> 0 | G56: =POWER(G9/10,2) -> 0 | H56: =POWER(H9/10,2) -> 0 | I56: =POWER(I9/10,2) -> 0 | J56: =POWER(J9/10,2) -> 0 | K56: =POWER(K9/10,2) -> 0 | L56: =POWER(L9/10,2) -> 0 | M56: =POWER(M9/10,2) -> 0 | ... AT56: =POWER(AT9/10,2) -> 0
A57: =A56+1 -> 8 | B57: =B10 -> Poseidon | C57: =C10 -> Ананич Геннадий | D57: =SUM(F57:AT57) -> 719.07 | E57: =IF(D57>0,RANK(D57,$D$50:$D$93),Реглист!$C$93+1) -> 9 | F57: =POWER(F10/10,2) -> 285.61 | G57: =POWER(G10/10,2) -> 146.41 | H57: =POWER(H10/10,2) -> 123.21 | I57: =POWER(I10/10,2) -> 163.84 | J57: =POWER(J10/10,2) -> 0 | K57: =POWER(K10/10,2) -> 0 | L57: =POWER(L10/10,2) -> 0 | M57: =POWER(M10/10,2) -> 0 | ... AT57: =POWER(AT10/10,2) -> 0
A58: =A57+1 -> 9 | B58: =B11 -> Team Minsk | C58: =C11 -> Огейко Юрий | D58: =SUM(F58:AT58) -> 0 | E58: =IF(D58>0,RANK(D58,$D$50:$D$93),Реглист!$C$93+1) -> 43 | F58: =POWER(F11/10,2) -> 0 | G58: =POWER(G11/10,2) -> 0 | H58: =POWER(H11/10,2) -> 0 | I58: =POWER(I11/10,2) -> 0 | J58: =POWER(J11/10,2) -> 0 | K58: =POWER(K11/10,2) -> 0 | L58: =POWER(L11/10,2) -> 0 | M58: =POWER(M11/10,2) -> 0 | ... AT58: =POWER(AT11/10,2) -> 0
A59: =A58+1 -> 10 | B59: =B12 -> RVR | C59: =C12 -> Золотухин Александр | D59: =SUM(F59:AT59) -> 0 | E59: =IF(D59>0,RANK(D59,$D$50:$D$93),Реглист!$C$93+1) -> 43 | F59: =POWER(F12/10,2) -> 0 | G59: =POWER(G12/10,2) -> 0 | H59: =POWER(H12/10,2) -> 0 | I59: =POWER(I12/10,2) -> 0 | J59: =POWER(J12/10,2) -> 0 | K59: =POWER(K12/10,2) -> 0 | L59: =POWER(L12/10,2) -> 0 | M59: =POWER(M12/10,2) -> 0 | ... AT59: =POWER(AT12/10,2) -> 0
A60: =A59+1 -> 11 | B60: =B13 -> Perch Legends | C60: =C13 -> Каменец Алексей | D60: =SUM(F60:AT60) -> 0 | E60: =IF(D60>0,RANK(D60,$D$50:$D$93),Реглист!$C$93+1) -> 43 | F60: =POWER(F13/10,2) -> 0 | G60: =POWER(G13/10,2) -> 0 | H60: =POWER(H13/10,2) -> 0 | I60: =POWER(I13/10,2) -> 0 | J60: =POWER(J13/10,2) -> 0 | K60: =POWER(K13/10,2) -> 0 | L60: =POWER(L13/10,2) -> 0 | M60: =POWER(M13/10,2) -> 0 | ... AT60: =POWER(AT13/10,2) -> 0
A61: =A60+1 -> 12 | B61: =B14 -> Студенты | C61: =C14 -> Кузнецов Никита | D61: =SUM(F61:AT61) -> 0 | E61: =IF(D61>0,RANK(D61,$D$50:$D$93),Реглист!$C$93+1) -> 43 | F61: =POWER(F14/10,2) -> 0 | G61: =POWER(G14/10,2) -> 0 | H61: =POWER(H14/10,2) -> 0 | I61: =POWER(I14/10,2) -> 0 | J61: =POWER(J14/10,2) -> 0 | K61: =POWER(K14/10,2) -> 0 | L61: =POWER(L14/10,2) -> 0 | M61: =POWER(M14/10,2) -> 0 | ... AT61: =POWER(AT14/10,2) -> 0
A62: =A61+1 -> 13 | B62: =B15 -> Полесье | C62: =C15 -> Марковский Максим | D62: =SUM(F62:AT62) -> 0 | E62: =IF(D62>0,RANK(D62,$D$50:$D$93),Реглист!$C$93+1) -> 43 | F62: =POWER(F15/10,2) -> 0 | G62: =POWER(G15/10,2) -> 0 | H62: =POWER(H15/10,2) -> 0 | I62: =POWER(I15/10,2) -> 0 | J62: =POWER(J15/10,2) -> 0 | K62: =POWER(K15/10,2) -> 0 | L62: =POWER(L15/10,2) -> 0 | M62: =POWER(M15/10,2) -> 0 | ... AT62: =POWER(AT15/10,2) -> 0
... A93: =A92+1 -> 44 | B93: =B46 -> Fishka | C93: =C46 -> Наконечник Александр | D93: =SUM(F93:AT93) -> 0 | E93: =IF(D93>0,RANK(D93,$D$50:$D$93),Реглист!$C$93+1) -> 43 | F93: =POWER(F46/10,2) -> 0 | G93: =POWER(G46/10,2) -> 0 | H93: =POWER(H46/10,2) -> 0 | I93: =POWER(I46/10,2) -> 0 | J93: =POWER(J46/10,2) -> 0 | K93: =POWER(K46/10,2) -> 0 | L93: =POWER(L46/10,2) -> 0 | M93: =POWER(M46/10,2) -> 0 | ... AT93: =POWER(AT46/10,2) -> 0

Sheet FuzzyLookup_AddIn_Undo_Sheet
A1: № | B1: Команды | C1: Участники | D1: Тур 1 | H1: Тур 2 | L1: Личный зачет | O1: Командный зачет
D2: Зона А | F2: Зона Б | H2: Зона А | J2: Зона Б
D3: баллы | E3: место | F3: баллы | G3: место | H3: баллы | I3: место | J3: баллы | K3: место | L3: баллы | M3: сумма мест | N3: место | O3: баллы | P3: сумма мест | Q3: место
A4: 1 | B4: Cast-Fishing | C4: Лихачев Максим | L4: =D4+F4+H4+J4 -> 0 | M4: =E4+G4+I4+K4 -> 0 | O4: =L4+L5 -> 0 | P4: =M4+M5 -> 0
C5: Ковальчук Дмитрий | L5: =D5+F5+H5+J5 -> 0 | M5: =E5+G5+I5+K5 -> 0
A6: 2 | B6: Peacock Bass | C6: Сенчуров Иван | L6: =D6+F6+H6+J6 -> 0 | M6: =E6+G6+I6+K6 -> 0 | O6: =L6+L7 -> 0 | P6: =M6+M7 -> 0
C7: Дроздов Виталий | L7: =D7+F7+H7+J7 -> 0 | M7: =E7+G7+I7+K7 -> 0
A8: 3 | B8: Adventurers | C8: Бахур Александр | D8: 196 | L8: =D8+F8+H8+J8 -> 196 | M8: =E8+G8+I8+K8 -> 0 | O8: =L8+L9 -> 196 | P8: =M8+M9 -> 0
C9: Зубко Сергей | L9: =D9+F9+H9+J9 -> 0 | M9: =E9+G9+I9+K9 -> 0
A10: 4 | B10: MicroKiller | C10: Купрейчик Сергей | L10: =D10+F10+H10+J10 -> 0 | M10: =E10+G10+I10+K10 -> 0 | O10: =L10+L11 -> 81 | P10: =M10+M11 -> 0
C11: Янкович Сергей | D11: 81 | L11: =D11+F11+H11+J11 -> 81 | M11: =E11+G11+I11+K11 -> 0
A12: 5 | B12: Per4 | C12: Лунякин Олег | L12: =D12+F12+H12+J12 -> 0 | M12: =E12+G12+I12+K12 -> 0 | O12: =L12+L13 -> 36 | P12: =M12+M13 -> 0
C13: Каменец Алексей | D13: 36 | L13: =D13+F13+H13+J13 -> 36 | M13: =E13+G13+I13+K13 -> 0
A14: 6 | B14: Poseidon | C14: Чижонок Сергей | D14: 121 | L14: =D14+F14+H14+J14 -> 121 | M14: =E14+G14+I14+K14 -> 0 | O14: =L14+L15 -> 121 | P14: =M14+M15 -> 0
C15: Строк Павел | L15: =D15+F15+H15+J15 -> 0 | M15: =E15+G15+I15+K15 -> 0
A16: 7 | B16: West Fishing | C16: Непомнящий Виктор | L16: =D16+F16+H16+J16 -> 0 | M16: =E16+G16+I16+K16 -> 0 | O16: =L16+L17 -> 0 | P16: =M16+M17 -> 0
C17: Золотарь Андрей | L17: =D17+F17+H17+J17 -> 0 | M17: =E17+G17+I17+K17 -> 0
A18: 8 | B18: nanobass | C18: Бычик Роман | D18: 100 | L18: =D18+F18+H18+J18 -> 100 | M18: =E18+G18+I18+K18 -> 0 | O18: =L18+L19 -> 100 | P18: =M18+M19 -> 0
C19: Шевко Виталий | L19: =D19+F19+H19+J19 -> 0 | M19: =E19+G19+I19+K19 -> 0
A20: 9 | B20: Трудовые резервы | C20: Пожарский Константин | L20: =D20+F20+H20+J20 -> 0 | M20: =E20+G20+I20+K20 -> 0 | O20: =L20+L21 -> 49 | P20: =M20+M21 -> 0
C21: Бобриков Алексей | D21: 49 | L21: =D21+F21+H21+J21 -> 49 | M21: =E21+G21+I21+K21 -> 0
A22: 10 | B22: Lunker Tail | C22: Козел Вячеслав | L22: =D22+F22+H22+J22 -> 0 | M22: =E22+G22+I22+K22 -> 0 | O22: =L22+L23 -> 64 | P22: =M22+M23 -> 0
C23: Кириевский Андрей | D23: 64 | L23: =D23+F23+H23+J23 -> 64 | M23: =E23+G23+I23+K23 -> 0
A24: 11 | B24: Против Течения | C24: Ананич Геннадий | L24: =D24+F24+H24+J24 -> 0 | M24: =E24+G24+I24+K24 -> 0 | O24: =L24+L25 -> 0 | P24: =M24+M25 -> 0
C25: Кириенко Кирилл | L25: =D25+F25+H25+J25 -> 0 | M25: =E25+G25+I25+K25 -> 0
A26: 12 | B26: ЕК | C26: Ковалев Евгений | D26: 169 | L26: =D26+F26+H26+J26 -> 169 | M26: =E26+G26+I26+K26 -> 0 | O26: =L26+L27 -> 169 | P26: =M26+M27 -> 0
C27: Казанцев Евгений | L27: =D27+F27+H27+J27 -> 0 | M27: =E27+G27+I27+K27 -> 0
A28: 13 | B28: Legion | C28: Бойко Сергей | L28: =D28+F28+H28+J28 -> 0 | M28: =E28+G28+I28+K28 -> 0 | O28: =L28+L29 -> 225 | P28: =M28+M29 -> 0
C29: Микулов Владимир | D29: 225 | L29: =D29+F29+H29+J29 -> 225 | M29: =E29+G29+I29+K29 -> 0
A30: 14 | B30: Степ Гарант | C30: Мельников Ю. В. | D30: 144 | L30: =D30+F30+H30+J30 -> 144 | M30: =E30+G30+I30+K30 -> 0 | O30: =L30+L31 -> 144 | P30: =M30+M31 -> 0
C31: Кравченко И. П. | L31: =D31+F31+H31+J31 -> 0 | M31: =E31+G31+I31+K31 -> 0

Sheet Итоги
A1: № | B1: Команды | C1: Участники | D1: Тур 1 | H1: Тур 2 | L1: Личный зачет | O1: Командный зачет
D2: Зона А | F2: Зона Б | H2: Зона А | J2: Зона Б
D3: баллы | E3: меcто | F3: баллы | G3: место | H3: баллы | I3: место | J3: баллы | K3: место | L3: баллы | M3: сумма мест | N3: место | O3: баллы | P3: сумма мест | Q3: место
A4: 1 | B4: =Реглист!B4 -> Непредсказуемые | C4: =Реглист!C4 -> Кайсин Иван | D4: =IFERROR(VLOOKUP(C4,Т1За!$C$3:$D$47,2,0),0) -> 0 | E4: =IFERROR(VLOOKUP(C4,Т1За!$C$3:$E$47,3,0),0) -> 0 | F4: =IFERROR(VLOOKUP(C4,Т1Зб!$C$3:$D$47,2,0),0) -> 161.29 | G4: =IFERROR(VLOOKUP(C4,Т1Зб!$C$3:$E$47,3,0),0) -> 31 | H4: =IFERROR(VLOOKUP(C4,Т2За!$C$3:$D$47,2,0),0) -> 0 | I4: =IFERROR(VLOOKUP(C4,Т2За!$C$3:$E$47,3,0),0) -> 43 | J4: =IFERROR(VLOOKUP(C4,Т2Зб!$C$3:$D$47,2,0),0) -> 0 | K4: =IFERROR(VLOOKUP(C4,Т2Зб!$C$3:$E$47,3,0),0) -> 0 | L4: =D4+F4+H4+J4 -> 161.29 | M4: =IF(L4=0,Реглист!$C$93*2+2,E4+G4+I4+K4) -> 74 | N4: =IF(M4=Реглист!$C$93*2+2,Реглист!$C$93*2+1,RANK(M4,$M$4:$M$91,1)) -> 67 | O4: =L4+L5 -> 282.29 | P4: =IF(O4=0,Реглист!$C$93*4+4,M4+M5) -> 137 | Q4: =IF(P4=Реглист!$C$93*4+4,Реглист!$C$93+1,RANK(P4,$P$4:$P$91,1)) -> 35
A5: =A4+1 -> 2 | B5: =Реглист!B5 -> Непредсказуемые | C5: =Реглист!C5 -> Хомский Дмитрий | D5: =IFERROR(VLOOKUP(C5,Т1За!$C$3:$D$47,2,0),0) -> 0 | E5: =IFERROR(VLOOKUP(C5,Т1За!$C$3:$E$47,3,0),0) -> 43 | F5: =IFERROR(VLOOKUP(C5,Т1Зб!$C$3:$D$47,2,0),0) -> 0 | G5: =IFERROR(VLOOKUP(C5,Т1Зб!$C$3:$E$47,3,0),0) -> 0 | H5: =IFERROR(VLOOKUP(C5,Т2За!$C$3:$D$47,2,0),0) -> 0 | I5: =IFERROR(VLOOKUP(C5,Т2За!$C$3:$E$47,3,0),0) -> 0 | J5: =IFERROR(VLOOKUP(C5,Т2Зб!$C$3:$D$47,2,0),0) -> 121 | K5: =IFERROR(VLOOKUP(C5,Т2Зб!$C$3:$E$47,3,0),0) -> 20 | L5: =D5+F5+H5+J5 -> 121 | M5: =IF(L5=0,Реглист!$C$93*2+2,E5+G5+I5+K5) -> 63 | N5: 59
A6: =A5+1 -> 3 | B6: =Реглист!B6 -> Фарватер | C6: =Реглист!C6 -> Попельский Максим | D6: =IFERROR(VLOOKUP(C6,Т1За!$C$3:$D$47,2,0),0) -> 0 | E6: =IFERROR(VLOOKUP(C6,Т1За!$C$3:$E$47,3,0),0) -> 0 | F6: =IFERROR(VLOOKUP(C6,Т1Зб!$C$3:$D$47,2,0),0) -> 1041.89 | G6: =IFERROR(VLOOKUP(C6,Т1Зб!$C$3:$E$47,3,0),0) -> 15 | H6: =IFERROR(VLOOKUP(C6,Т2За!$C$3:$D$47,2,0),0) -> 161.29 | I6: =IFERROR(VLOOKUP(C6,Т2За!$C$3:$E$47,3,0),0) -> 24 | J6: =IFERROR(VLOOKUP(C6,Т2Зб!$C$3:$D$47,2,0),0) -> 0 | K6: =IFERROR(VLOOKUP(C6,Т2Зб!$C$3:$E$47,3,0),0) -> 0 | L6: =D6+F6+H6+J6 -> 1203.18 | M6: =IF(L6=0,Реглист!$C$93*2+2,E6+G6+I6+K6) -> 39 | N6: =IF(M6=Реглист!$C$93*2+2,Реглист!$C$93*2+1,RANK(M6,$M$4:$M$91,1)) -> 31 | O6: =L6+L7 -> 2146.43 | P6: =IF(O6=0,Реглист!$C$93*4+4,M6+M7) -> 65 | Q6: =IF(P6=Реглист!$C$93*4+4,Реглист!$C$93+1,RANK(P6,$P$4:$P$91,1)) -> 9
A7: =A6+1 -> 4 | B7: =Реглист!B7 -> Фарватер | C7: =Реглист!C7 -> Цыганок Михаил | D7: =IFERROR(VLOOKUP(C7,Т1За!$C$3:$D$47,2,0),0) -> 615.48 | E7: =IFERROR(VLOOKUP(C7,Т1За!$C$3:$E$47,3,0),0) -> 11 | F7: =IFERROR(VLOOKUP(C7,Т1Зб!$C$3:$D$47,2,0),0) -> 0 | G7: =IFERROR(VLOOKUP(C7,Т1Зб!$C$3:$E$47,3,0),0) -> 0 | H7: =IFERROR(VLOOKUP(C7,Т2За!$C$3:$D$47,2,0),0) -> 0 | I7: =IFERROR(VLOOKUP(C7,Т2За!$C$3:$E$47,3,0),0) -> 0 | J7: =IFERROR(VLOOKUP(C7,Т2Зб!$C$3:$D$47,2,0),0) -> 327.77 | K7: =IFERROR(VLOOKUP(C7,Т2Зб!$C$3:$E$47,3,0),0) -> 15 | L7: =D7+F7+H7+J7 -> 943.25 | M7: =IF(L7=0,Реглист!$C$93*2+2,E7+G7+I7+K7) -> 26 | N7: =IF(M7=Реглист!$C$93*2+2,Реглист!$C$93*2+1,RANK(M7,$M$4:$M$91,1)) -> 18
A8: =A7+1 -> 5 | B8: =Реглист!B8 -> Neptune fishing team | C8: =Реглист!C8 -> Мяэлоог Алексей | D8: =IFERROR(VLOOKUP(C8,Т1За!$C$3:$D$47,2,0),0) -> 0 | E8: =IFERROR(VLOOKUP(C8,Т1За!$C$3:$E$47,3,0),0) -> 0 | F8: =IFERROR(VLOOKUP(C8,Т1Зб!$C$3:$D$47,2,0),0) -> 210.25 | G8: =IFERROR(VLOOKUP(C8,Т1Зб!$C$3:$E$47,3,0),0) -> 29 | H8: =IFERROR(VLOOKUP(C8,Т2За!$C$3:$D$47,2,0),0) -> 0 | I8: =IFERROR(VLOOKUP(C8,Т2За!$C$3:$E$47,3,0),0) -> 43 | J8: =IFERROR(VLOOKUP(C8,Т2Зб!$C$3:$D$47,2,0),0) -> 0 | K8: =IFERROR(VLOOKUP(C8,Т2Зб!$C$3:$E$47,3,0),0) -> 0 | L8: =D8+F8+H8+J8 -> 210.25 | M8: =IF(L8=0,Реглист!$C$93*2+2,E8+G8+I8+K8) -> 72 | N8: =IF(M8=Реглист!$C$93*2+2,Реглист!$C$93*2+1,RANK(M8,$M$4:$M$91,1)) -> 66 | O8: =L8+L9 -> 1963.91 | P8: =IF(O8=0,Реглист!$C$93*4+4,M8+M9) -> 89 | Q8: =IF(P8=Реглист!$C$93*4+4,Реглист!$C$93+1,RANK(P8,$P$4:$P$91,1)) -> 20
A9: =A8+1 -> 6 | B9: =Реглист!B9 -> Neptune fishing team | C9: =Реглист!C9 -> Кирьянов Денис | D9: =IFERROR(VLOOKUP(C9,Т1За!$C$3:$D$47,2,0),0) -> 352.25 | E9: =IFERROR(VLOOKUP(C9,Т1За!$C$3:$E$47,3,0),0) -> 16 | F9: =IFERROR(VLOOKUP(C9,Т1Зб!$C$3:$D$47,2,0),0) -> 0 | G9: =IFERROR(VLOOKUP(C9,Т1Зб!$C$3:$E$47,3,0),0) -> 0 | H9: =IFERROR(VLOOKUP(C9,Т2За!$C$3:$D$47,2,0),0) -> 0 | I9: =IFERROR(VLOOKUP(C9,Т2За!$C$3:$E$47,3,0),0) -> 0 | J9: =IFERROR(VLOOKUP(C9,Т2Зб!$C$3:$D$47,2,0),0) -> 1401.41 | K9: =IFERROR(VLOOKUP(C9,Т2Зб!$C$3:$E$47,3,0),0) -> 1 | L9: =D9+F9+H9+J9 -> 1753.66 | M9: =IF(L9=0,Реглист!$C$93*2+2,E9+G9+I9+K9) -> 17 | N9: =IF(M9=Реглист!$C$93*2+2,Реглист!$C$93*2+1,RANK(M9,$M$4:$M$91,1)) -> 12
A10: =A9+1 -> 7 | B10: =Реглист!B10 -> Peacock Bass | C10: =Реглист!C10 -> Сенчуров Иван | D10: =IFERROR(VLOOKUP(C10,Т1За!$C$3:$D$47,2,0),0) -> 327.76 | E10: =IFERROR(VLOOKUP(C10,Т1За!$C$3:$E$47,3,0),0) -> 17 | F10: =IFERROR(VLOOKUP(C10,Т1Зб!$C$3:$D$47,2,0),0) -> 0 | G10: =IFERROR(VLOOKUP(C10,Т1Зб!$C$3:$E$47,3,0),0) -> 0 | H10: =IFERROR(VLOOKUP(C10,Т2За!$C$3:$D$47,2,0),0) -> 0 | I10: =IFERROR(VLOOKUP(C10,Т2За!$C$3:$E$47,3,0),0) -> 0 | J10: =IFERROR(VLOOKUP(C10,Т2Зб!$C$3:$D$47,2,0),0) -> 0 | K10: =IFERROR(VLOOKUP(C10,Т2Зб!$C$3:$E$47,3,0),0) -> 43 | L10: =D10+F10+H10+J10 -> 327.76 | M10: =IF(L10=0,Реглист!$C$93*2+2,E10+G10+I10+K10) -> 60 | N10: =IF(M10=Реглист!$C$93*2+2,Реглист!$C$93*2+1,RANK(M10,$M$4:$M$91,1)) -> 54 | O10: =L10+L11 -> 2846.38 | P10: =IF(O10=0,Реглист!$C$93*4+4,M10+M11) -> 72 | Q10: 13
A11: =A10+1 -> 8 | B11: =Реглист!B11 -> Peacock Bass | C11: =Реглист!C11 -> Дроздов Виталий | D11: =IFERROR(VLOOKUP(C11,Т1За!$C$3:$D$47,2,0),0) -> 0 | E11: =IFERROR(VLOOKUP(C11,Т1За!$C$3:$E$47,3,0),0) -> 0 | F11: =IFERROR(VLOOKUP(C11,Т1Зб!$C$3:$D$47,2,0),0) -> 1691.32 | G11: =IFERROR(VLOOKUP(C11,Т1Зб!$C$3:$E$47,3,0),0) -> 8 | H11: =IFERROR(VLOOKUP(C11,Т2За!$C$3:$D$47,2,0),0) -> 827.3 | I11: =IFERROR(VLOOKUP(C11,Т2За!$C$3:$E$47,3,0),0) -> 4 | J11: =IFERROR(VLOOKUP(C11,Т2Зб!$C$3:$D$47,2,0),0) -> 0 | K11: =IFERROR(VLOOKUP(C11,Т2Зб!$C$3:$E$47,3,0),0) -> 0 | L11: =D11+F11+H11+J11 -> 2518.62 | M11: =IF(L11=0,Реглист!$C$93*2+2,E11+G11+I11+K11) -> 12 | N11: 6
A12: =A11+1 -> 9 | B12: =Реглист!B12 -> Бульба з Салам | C12: =Реглист!C12 -> Бобриков Алексей | D12: =IFERROR(VLOOKUP(C12,Т1За!$C$3:$D$47,2,0),0) -> 0 | E12: =IFERROR(VLOOKUP(C12,Т1За!$C$3:$E$47,3,0),0) -> 0 | F12: =IFERROR(VLOOKUP(C12,Т1Зб!$C$3:$D$47,2,0),0) -> 225 | G12: =IFERROR(VLOOKUP(C12,Т1Зб!$C$3:$E$47,3,0),0) -> 26 | H12: =IFERROR(VLOOKUP(C12,Т2За!$C$3:$D$47,2,0),0) -> 0 | I12: =IFERROR(VLOOKUP(C12,Т2За!$C$3:$E$47,3,0),0) -> 43 | J12: =IFERROR(VLOOKUP(C12,Т2Зб!$C$3:$D$47,2,0),0) -> 0 | K12: =IFERROR(VLOOKUP(C12,Т2Зб!$C$3:$E$47,3,0),0) -> 0 | L12: =D12+F12+H12+J12 -> 225 | M12: =IF(L12=0,Реглист!$C$93*2+2,E12+G12+I12+K12) -> 69 | N12: 61 | O12: =L12+L13 -> 1401.49 | P12: =IF(O12=0,Реглист!$C$93*4+4,M12+M13) -> 115 | Q12: =IF(P12=Реглист!$C$93*4+4,Реглист!$C$93+1,RANK(P12,$P$4:$P$91,1)) -> 26
A13: =A12+1 -> 10 | B13: =Реглист!B13 -> Бульба з Салам | C13: =Реглист!C13 -> Лунякин Олег | D13: =IFERROR(VLOOKUP(C13,Т1За!$C$3:$D$47,2,0),0) -> 0 | E13: =IFERROR(VLOOKUP(C13,Т1За!$C$3:$E$47,3,0),0) -> 43 | F13: =IFERROR(VLOOKUP(C13,Т1Зб!$C$3:$D$47,2,0),0) -> 0 | G13: =IFERROR(VLOOKUP(C13,Т1Зб!$C$3:$E$47,3,0),0) -> 0 | H13: =IFERROR(VLOOKUP(C13,Т2За!$C$3:$D$47,2,0),0) -> 0 | I13: =IFERROR(VLOOKUP(C13,Т2За!$C$3:$E$47,3,0),0) -> 0 | J13: =IFERROR(VLOOKUP(C13,Т2Зб!$C$3:$D$47,2,0),0) -> 1176.49 | K13: =IFERROR(VLOOKUP(C13,Т2Зб!$C$3:$E$47,3,0),0) -> 3 | L13: =D13+F13+H13+J13 -> 1176.49 | M13: =IF(L13=0,Реглист!$C$93*2+2,E13+G13+I13+K13) -> 46 | N13: 39
A14: =A13+1 -> 11 | B14: =Реглист!B14 -> UL soldiers of fortune | C14: =Реглист!C14 -> Дешкевич Виталий | D14: =IFERROR(VLOOKUP(C14,Т1За!$C$3:$D$47,2,0),0) -> 0 | E14: =IFERROR(VLOOKUP(C14,Т1За!$C$3:$E$47,3,0),0) -> 43 | F14: =IFERROR(VLOOKUP(C14,Т1Зб!$C$3:$D$47,2,0),0) -> 0 | G14: =IFERROR(VLOOKUP(C14,Т1Зб!$C$3:$E$47,3,0),0) -> 0 | H14: =IFERROR(VLOOKUP(C14,Т2За!$C$3:$D$47,2,0),0) -> 0 | I14: =IFERROR(VLOOKUP(C14,Т2За!$C$3:$E$47,3,0),0) -> 0 | J14: =IFERROR(VLOOKUP(C14,Т2Зб!$C$3:$D$47,2,0),0) -> 282.24 | K14: =IFERROR(VLOOKUP(C14,Т2Зб!$C$3:$E$47,3,0),0) -> 17 | L14: =D14+F14+H14+J14 -> 282.24 | M14: =IF(L14=0,Реглист!$C$93*2+2,E14+G14+I14+K14) -> 60 | N14: 55 | O14: =L14+L15 -> 1672.67 | P14: =IF(O14=0,Реглист!$C$93*4+4,M14+M15) -> 87 | Q14: =IF(P14=Реглист!$C$93*4+4,Реглист!$C$93+1,RANK(P14,$P$4:$P$91,1)) -> 19
A15: =A14+1 -> 12 | B15: =Реглист!B15 -> UL soldiers of fortune | C15: =Реглист!C15 -> Андрианов Илья | D15: =IFERROR(VLOOKUP(C15,Т1За!$C$3:$D$47,2,0),0) -> 0 | E15: =IFERROR(VLOOKUP(C15,Т1За!$C$3:$E$47,3,0),0) -> 0 | F15: =IFERROR(VLOOKUP(C15,Т1Зб!$C$3:$D$47,2,0),0) -> 566.74 | G15: =IFERROR(VLOOKUP(C15,Т1Зб!$C$3:$E$47,3,0),0) -> 22 | H15: =IFERROR(VLOOKUP(C15,Т2За!$C$3:$D$47,2,0),0) -> 823.69 | I15: =IFERROR(VLOOKUP(C15,Т2За!$C$3:$E$47,3,0),0) -> 5 | J15: =IFERROR(VLOOKUP(C15,Т2Зб!$C$3:$D$47,2,0),0) -> 0 | K15: =IFERROR(VLOOKUP(C15,Т2Зб!$C$3:$E$47,3,0),0) -> 0 | L15: =D15+F15+H15+J15 -> 1390.43 | M15: =IF(L15=0,Реглист!$C$93*2+2,E15+G15+I15+K15) -> 27 | N15: 20
A16: =A15+1 -> 13 | B16: =Реглист!B16 -> СТАR Fishingstock | C16: =Реглист!C16 -> Бычик Роман | D16: =IFERROR(VLOOKUP(C16,Т1За!$C$3:$D$47,2,0),0) -> 256 | E16: =IFERROR(VLOOKUP(C16,Т1За!$C$3:$E$47,3,0),0) -> 19 | F16: =IFERROR(VLOOKUP(C16,Т1Зб!$C$3:$D$47,2,0),0) -> 0 | G16: =IFERROR(VLOOKUP(C16,Т1Зб!$C$3:$E$47,3,0),0) -> 0 | H16: =IFERROR(VLOOKUP(C16,Т2За!$C$3:$D$47,2,0),0) -> 0 | I16: =IFERROR(VLOOKUP(C16,Т2За!$C$3:$E$47,3,0),0) -> 0 | J16: =IFERROR(VLOOKUP(C16,Т2Зб!$C$3:$D$47,2,0),0) -> 0 | K16: =IFERROR(VLOOKUP(C16,Т2Зб!$C$3:$E$47,3,0),0) -> 43 | L16: =D16+F16+H16+J16 -> 256 | M16: =IF(L16=0,Реглист!$C$93*2+2,E16+G16+I16+K16) -> 62 | N16: =IF(M16=Реглист!$C$93*2+2,Реглист!$C$93*2+1,RANK(M16,$M$4:$M$91,1)) -> 57 | O16: =L16+L17 -> 2640.56 | P16: =IF(O16=0,Реглист!$C$93*4+4,M16+M17) -> 77 | Q16: =IF(P16=Реглист!$C$93*4+4,Реглист!$C$93+1,RANK(P16,$P$4:$P$91,1)) -> 15
A17: =A16+1 -> 14 | B17: =Реглист!B17 -> СТАR Fishingstock | C17: =Реглист!C17 -> Пожарский Константин | D17: =IFERROR(VLOOKUP(C17,Т1За!$C$3:$D$47,2,0),0) -> 0 | E17: =IFERROR(VLOOKUP(C17,Т1За!$C$3:$E$47,3,0),0) -> 0 | F17: =IFERROR(VLOOKUP(C17,Т1Зб!$C$3:$D$47,2,0),0) -> 1695.39 | G17: =IFERROR(VLOOKUP(C17,Т1Зб!$C$3:$E$47,3,0),0) -> 7 | H17: =IFERROR(VLOOKUP(C17,Т2За!$C$3:$D$47,2,0),0) -> 689.17 | I17: =IFERROR(VLOOKUP(C17,Т2За!$C$3:$E$47,3,0),0) -> 8 | J17: =IFERROR(VLOOKUP(C17,Т2Зб!$C$3:$D$47,2,0),0) -> 0 | K17: =IFERROR(VLOOKUP(C17,Т2Зб!$C$3:$E$47,3,0),0) -> 0 | L17: =D17+F17+H17+J17 -> 2384.56 | M17: =IF(L17=0,Реглист!$C$93*2+2,E17+G17+I17+K17) -> 15 | N17: =IF(M17=Реглист!$C$93*2+2,Реглист!$C$93*2+1,RANK(M17,$M$4:$M$91,1)) -> 10
A18: =A17+1 -> 15 | B18: =Реглист!B18 -> Poseidon | C18: =Реглист!C18 -> Ананич Геннадий | D18: =IFERROR(VLOOKUP(C18,Т1За!$C$3:$D$47,2,0),0) -> 1651.24 | E18: =IFERROR(VLOOKUP(C18,Т1За!$C$3:$E$47,3,0),0) -> 2 | F18: =IFERROR(VLOOKUP(C18,Т1Зб!$C$3:$D$47,2,0),0) -> 0 | G18: =IFERROR(VLOOKUP(C18,Т1Зб!$C$3:$E$47,3,0),0) -> 0 | H18: =IFERROR(VLOOKUP(C18,Т2За!$C$3:$D$47,2,0),0) -> 0 | I18: =IFERROR(VLOOKUP(C18,Т2За!$C$3:$E$47,3,0),0) -> 0 | J18: =IFERROR(VLOOKUP(C18,Т2Зб!$C$3:$D$47,2,0),0) -> 719.07 | K18: =IFERROR(VLOOKUP(C18,Т2Зб!$C$3:$E$47,3,0),0) -> 9 | L18: =D18+F18+H18+J18 -> 2370.31 | M18: =IF(L18=0,Реглист!$C$93*2+2,E18+G18+I18+K18) -> 11 | N18: 4 | O18: =L18+L19 -> 3679.51 | P18: =IF(O18=0,Реглист!$C$93*4+4,M18+M19) -> 45.5 | Q18: =IF(P18=Реглист!$C$93*4+4,Реглист!$C$93+1,RANK(P18,$P$4:$P$91,1)) -> 3
A19: =A18+1 -> 16 | B19: =Реглист!B19 -> Poseidon | C19: =Реглист!C19 -> Кохно Антон | D19: =IFERROR(VLOOKUP(C19,Т1За!$C$3:$D$47,2,0),0) -> 0 | E19: =IFERROR(VLOOKUP(C19,Т1За!$C$3:$E$47,3,0),0) -> 0 | F19: =IFERROR(VLOOKUP(C19,Т1Зб!$C$3:$D$47,2,0),0) -> 1084.2 | G19: =IFERROR(VLOOKUP(C19,Т1Зб!$C$3:$E$47,3,0),0) -> 13 | H19: =IFERROR(VLOOKUP(C19,Т2За!$C$3:$D$47,2,0),0) -> 225 | I19: =IFERROR(VLOOKUP(C19,Т2За!$C$3:$E$47,3,0),0) -> 21.5 | J19: =IFERROR(VLOOKUP(C19,Т2Зб!$C$3:$D$47,2,0),0) -> 0 | K19: =IFERROR(VLOOKUP(C19,Т2Зб!$C$3:$E$47,3,0),0) -> 0 | L19: =D19+F19+H19+J19 -> 1309.2 | M19: =IF(L19=0,Реглист!$C$93*2+2,E19+G19+I19+K19) -> 34.5 | N19: =IF(M19=Реглист!$C$93*2+2,Реглист!$C$93*2+1,RANK(M19,$M$4:$M$91,1)) -> 27
A20: =A19+1 -> 17 | B20: =Реглист!B20 -> Team Minsk | C20: =Реглист!C20 -> Артёмчик Евгений | D20: =IFERROR(VLOOKUP(C20,Т1За!$C$3:$D$47,2,0),0) -> 0 | E20: =IFERROR(VLOOKUP(C20,Т1За!$C$3:$E$47,3,0),0) -> 0 | F20: =IFERROR(VLOOKUP(C20,Т1Зб!$C$3:$D$47,2,0),0) -> 1410.26 | G20: =IFERROR(VLOOKUP(C20,Т1Зб!$C$3:$E$47,3,0),0) -> 10 | H20: =IFERROR(VLOOKUP(C20,Т2За!$C$3:$D$47,2,0),0) -> 392.5 | I20: =IFERROR(VLOOKUP(C20,Т2За!$C$3:$E$47,3,0),0) -> 18 | J20: =IFERROR(VLOOKUP(C20,Т2Зб!$C$3:$D$47,2,0),0) -> 0 | K20: =IFERROR(VLOOKUP(C20,Т2Зб!$C$3:$E$47,3,0),0) -> 0 | L20: =D20+F20+H20+J20 -> 1802.76 | M20: =IF(L20=0,Реглист!$C$93*2+2,E20+G20+I20+K20) -> 28 | N20: =IF(M20=Реглист!$C$93*2+2,Реглист!$C$93*2+1,RANK(M20,$M$4:$M$91,1)) -> 21 | O20: =L20+L21 -> 1942 | P20: =IF(O20=0,Реглист!$C$93*4+4,M20+M21) -> 98 | Q20: =IF(P20=Реглист!$C$93*4+4,Реглист!$C$93+1,RANK(P20,$P$4:$P$91,1)) -> 22
A21: =A20+1 -> 18 | B21: =Реглист!B21 -> Team Minsk | C21: =Реглист!C21 -> Огейко Юрий | D21: =IFERROR(VLOOKUP(C21,Т1За!$C$3:$D$47,2,0),0) -> 139.24 | E21: =IFERROR(VLOOKUP(C21,Т1За!$C$3:$E$47,3,0),0) -> 27 | F21: =IFERROR(VLOOKUP(C21,Т1Зб!$C$3:$D$47,2,0),0) -> 0 | G21: =IFERROR(VLOOKUP(C21,Т1Зб!$C$3:$E$47,3,0),0) -> 0 | H21: =IFERROR(VLOOKUP(C21,Т2За!$C$3:$D$47,2,0),0) -> 0 | I21: =IFERROR(VLOOKUP(C21,Т2За!$C$3:$E$47,3,0),0) -> 0 | J21: =IFERROR(VLOOKUP(C21,Т2Зб!$C$3:$D$47,2,0),0) -> 0 | K21: =IFERROR(VLOOKUP(C21,Т2Зб!$C$3:$E$47,3,0),0) -> 43 | L21: =D21+F21+H21+J21 -> 139.24 | M21: =IF(L21=0,Реглист!$C$93*2+2,E21+G21+I21+K21) -> 70 | N21: =IF(M21=Реглист!$C$93*2+2,Реглист!$C$93*2+1,RANK(M21,$M$4:$M$91,1)) -> 63
A22: =A21+1 -> 19 | B22: =Реглист!B22 -> RVR | C22: =Реглист!C22 -> Золотухин Александр | D22: =IFERROR(VLOOKUP(C22,Т1За!$C$3:$D$47,2,0),0) -> 0 | E22: =IFERROR(VLOOKUP(C22,Т1За!$C$3:$E$47,3,0),0) -> 43 | F22: =IFERROR(VLOOKUP(C22,Т1Зб!$C$3:$D$47,2,0),0) -> 0 | G22: =IFERROR(VLOOKUP(C22,Т1Зб!$C$3:$E$47,3,0),0) -> 0 | H22: =IFERROR(VLOOKUP(C22,Т2За!$C$3:$D$47,2,0),0) -> 0 | I22: =IFERROR(VLOOKUP(C22,Т2За!$C$3:$E$47,3,0),0) -> 0 | J22: =IFERROR(VLOOKUP(C22,Т2Зб!$C$3:$D$47,2,0),0) -> 0 | K22: =IFERROR(VLOOKUP(C22,Т2Зб!$C$3:$E$47,3,0),0) -> 43 | L22: =D22+F22+H22+J22 -> 0 | M22: =IF(L22=0,Реглист!$C$93*2+2,E22+G22+I22+K22) -> 86 | N22: 81 | O22: =L22+L23 -> 933.01 | P22: =IF(O22=0,Реглист!$C$93*4+4,M22+M23) -> 127.5 | Q22: =IF(P22=Реглист!$C$93*4+4,Реглист!$C$93+1,RANK(P22,$P$4:$P$91,1)) -> 31
A23: =A22+1 -> 20 | B23: =Реглист!B23 -> RVR | C23: =Реглист!C23 -> Масюк Павел | D23: =IFERROR(VLOOKUP(C23,Т1За!$C$3:$D$47,2,0),0) -> 0 | E23: =IFERROR(VLOOKUP(C23,Т1За!$C$3:$E$47,3,0),0) -> 0 | F23: =IFERROR(VLOOKUP(C23,Т1Зб!$C$3:$D$47,2,0),0) -> 708.01 | G23: =IFERROR(VLOOKUP(C23,Т1Зб!$C$3:$E$47,3,0),0) -> 20 | H23: =IFERROR(VLOOKUP(C23,Т2За!$C$3:$D$47,2,0),0) -> 225 | I23: =IFERROR(VLOOKUP(C23,Т2За!$C$3:$E$47,3,0),0) -> 21.5 | J23: =IFERROR(VLOOKUP(C23,Т2Зб!$C$3:$D$47,2,0),0) -> 0 | K23: =IFERROR(VLOOKUP(C23,Т2Зб!$C$3:$E$47,3,0),0) -> 0 | L23: =D23+F23+H23+J23 -> 933.01 | M23: =IF(L23=0,Реглист!$C$93*2+2,E23+G23+I23+K23) -> 41.5 | N23: =IF(M23=Реглист!$C$93*2+2,Реглист!$C$93*2+1,RANK(M23,$M$4:$M$91,1)) -> 36
A24: =A23+1 -> 21 | B24: =Реглист!B24 -> Perch Legends | C24: =Реглист!C24 -> Каменец Алексей | D24: =IFERROR(VLOOKUP(C24,Т1За!$C$3:$D$47,2,0),0) -> 0 | E24: =IFERROR(VLOOKUP(C24,Т1За!$C$3:$E$47,3,0),0) -> 43 | F24: =IFERROR(VLOOKUP(C24,Т1Зб!$C$3:$D$47,2,0),0) -> 0 | G24: =IFERROR(VLOOKUP(C24,Т1Зб!$C$3:$E$47,3,0),0) -> 0 | H24: =IFERROR(VLOOKUP(C24,Т2За!$C$3:$D$47,2,0),0) -> 0 | I24: =IFERROR(VLOOKUP(C24,Т2За!$C$3:$E$47,3,0),0) -> 0 | J24: =IFERROR(VLOOKUP(C24,Т2Зб!$C$3:$D$47,2,0),0) -> 0 | K24: =IFERROR(VLOOKUP(C24,Т2Зб!$C$3:$E$47,3,0),0) -> 43 | L24: =D24+F24+H24+J24 -> 0 | M24: =IF(L24=0,Реглист!$C$93*2+2,E24+G24+I24+K24) -> 86 | N24: 81 | O24: =L24+L25 -> 0 | P24: =IF(O24=0,Реглист!$C$93*4+4,M24+M25) -> 172 | Q24: 41
A25: =A24+1 -> 22 | B25: =Реглист!B25 -> Perch Legends | C25: =Реглист!C25 -> Янкович Сергей | D25: =IFERROR(VLOOKUP(C25,Т1За!$C$3:$D$47,2,0),0) -> 0 | E25: =IFERROR(VLOOKUP(C25,Т1За!$C$3:$E$47,3,0),0) -> 0 | F25: =IFERROR(VLOOKUP(C25,Т1Зб!$C$3:$D$47,2,0),0) -> 0 | G25: =IFERROR(VLOOKUP(C25,Т1Зб!$C$3:$E$47,3,0),0) -> 43 | H25: =IFERROR(VLOOKUP(C25,Т2За!$C$3:$D$47,2,0),0) -> 0 | I25: =IFERROR(VLOOKUP(C25,Т2За!$C$3:$E$47,3,0),0) -> 43 | J25: =IFERROR(VLOOKUP(C25,Т2Зб!$C$3:$D$47,2,0),0) -> 0 | K25: =IFERROR(VLOOKUP(C25,Т2Зб!$C$3:$E$47,3,0),0) -> 0 | L25: =D25+F25+H25+J25 -> 0 | M25: =IF(L25=0,Реглист!$C$93*2+2,E25+G25+I25+K25) -> 86 | N25: 81
A26: =A25+1 -> 23 | B26: =Реглист!B26 -> Студенты | C26: =Реглист!C26 -> Кочанов Александр | D26: =IFERROR(VLOOKUP(C26,Т1За!$C$3:$D$47,2,0),0) -> 0 | E26: =IFERROR(VLOOKUP(C26,Т1За!$C$3:$E$47,3,0),0) -> 0 | F26: =IFERROR(VLOOKUP(C26,Т1Зб!$C$3:$D$47,2,0),0) -> 0 | G26: =IFERROR(VLOOKUP(C26,Т1Зб!$C$3:$E$47,3,0),0) -> 43 | H26: =IFERROR(VLOOKUP(C26,Т2За!$C$3:$D$47,2,0),0) -> 412.09 | I26: =IFERROR(VLOOKUP(C26,Т2За!$C$3:$E$47,3,0),0) -> 16 | J26: =IFERROR(VLOOKUP(C26,Т2Зб!$C$3:$D$47,2,0),0) -> 0 | K26: =IFERROR(VLOOKUP(C26,Т2Зб!$C$3:$E$47,3,0),0) -> 0 | L26: =D26+F26+H26+J26 -> 412.09 | M26: =IF(L26=0,Реглист!$C$93*2+2,E26+G26+I26+K26) -> 59 | N26: =IF(M26=Реглист!$C$93*2+2,Реглист!$C$93*2+1,RANK(M26,$M$4:$M$91,1)) -> 53 | O26: =L26+L27 -> 412.09 | P26: =IF(O26=0,Реглист!$C$93*4+4,M26+M27) -> 145 | Q26: =IF(P26=Реглист!$C$93*4+4,Реглист!$C$93+1,RANK(P26,$P$4:$P$91,1)) -> 38
A27: =A26+1 -> 24 | B27: =Реглист!B27 -> Студенты | C27: =Реглист!C27 -> Кузнецов Никита | D27: =IFERROR(VLOOKUP(C27,Т1За!$C$3:$D$47,2,0),0) -> 0 | E27: =IFERROR(VLOOKUP(C27,Т1За!$C$3:$E$47,3,0),0) -> 43 | F27: =IFERROR(VLOOKUP(C27,Т1Зб!$C$3:$D$47,2,0),0) -> 0 | G27: =IFERROR(VLOOKUP(C27,Т1Зб!$C$3:$E$47,3,0),0) -> 0 | H27: =IFERROR(VLOOKUP(C27,Т2За!$C$3:$D$47,2,0),0) -> 0 | I27: =IFERROR(VLOOKUP(C27,Т2За!$C$3:$E$47,3,0),0) -> 0 | J27: =IFERROR(VLOOKUP(C27,Т2Зб!$C$3:$D$47,2,0),0) -> 0 | K27: =IFERROR(VLOOKUP(C27,Т2Зб!$C$3:$E$47,3,0),0) -> 43 | L27: =D27+F27+H27+J27 -> 0 | M27: =IF(L27=0,Реглист!$C$93*2+2,E27+G27+I27+K27) -> 86 | N27: 81
A28: =A27+1 -> 25 | B28: =Реглист!B28 -> Полесье | C28: =Реглист!C28 -> Марковский Максим | D28: =IFERROR(VLOOKUP(C28,Т1За!$C$3:$D$47,2,0),0) -> 114.49 | E28: =IFERROR(VLOOKUP(C28,Т1За!$C$3:$E$47,3,0),0) -> 28 | F28: =IFERROR(VLOOKUP(C28,Т1Зб!$C$3:$D$47,2,0),0) -> 0 | G28: =IFERROR(VLOOKUP(C28,Т1Зб!$C$3:$E$47,3,0),0) -> 0 | H28: =IFERROR(VLOOKUP(C28,Т2За!$C$3:$D$47,2,0),0) -> 0 | I28: =IFERROR(VLOOKUP(C28,Т2За!$C$3:$E$47,3,0),0) -> 0 | J28: =IFERROR(VLOOKUP(C28,Т2Зб!$C$3:$D$47,2,0),0) -> 0 | K28: =IFERROR(VLOOKUP(C28,Т2Зб!$C$3:$E$47,3,0),0) -> 43 | L28: =D28+F28+H28+J28 -> 114.49 | M28: =IF(L28=0,Реглист!$C$93*2+2,E28+G28+I28+K28) -> 71 | N28: 65 | O28: =L28+L29 -> 701.15 | P28: =IF(O28=0,Реглист!$C$93*4+4,M28+M29) -> 118 | Q28: =IF(P28=Реглист!$C$93*4+4,Реглист!$C$93+1,RANK(P28,$P$4:$P$91,1)) -> 27
A29: =A28+1 -> 26 | B29: =Реглист!B29 -> Полесье | C29: =Реглист!C29 -> Рыбачук Евгений | D29: =IFERROR(VLOOKUP(C29,Т1За!$C$3:$D$47,2,0),0) -> 0 | E29: =IFERROR(VLOOKUP(C29,Т1За!$C$3:$E$47,3,0),0) -> 0 | F29: =IFERROR(VLOOKUP(C29,Т1Зб!$C$3:$D$47,2,0),0) -> 420.25 | G29: =IFERROR(VLOOKUP(C29,Т1Зб!$C$3:$E$47,3,0),0) -> 24 | H29: =IFERROR(VLOOKUP(C29,Т2За!$C$3:$D$47,2,0),0) -> 166.41 | I29: =IFERROR(VLOOKUP(C29,Т2За!$C$3:$E$47,3,0),0) -> 23 | J29: =IFERROR(VLOOKUP(C29,Т2Зб!$C$3:$D$47,2,0),0) -> 0 | K29: =IFERROR(VLOOKUP(C29,Т2Зб!$C$3:$E$47,3,0),0) -> 0 | L29: =D29+F29+H29+J29 -> 586.66 | M29: =IF(L29=0,Реглист!$C$93*2+2,E29+G29+I29+K29) -> 47 | N29: =IF(M29=Реглист!$C$93*2+2,Реглист!$C$93*2+1,RANK(M29,$M$4:$M$91,1)) -> 40
A30: =A29+1 -> 27 | B30: =Реглист!B30 -> Кобринский МСЗ | C30: =Реглист!C30 -> Барташук Александр | D30: =IFERROR(VLOOKUP(C30,Т1За!$C$3:$D$47,2,0),0) -> 652.53 | E30: =IFERROR(VLOOKUP(C30,Т1За!$C$3:$E$47,3,0),0) -> 9 | F30: =IFERROR(VLOOKUP(C30,Т1Зб!$C$3:$D$47,2,0),0) -> 0 | G30: =IFERROR(VLOOKUP(C30,Т1Зб!$C$3:$E$47,3,0),0) -> 0 | H30: =IFERROR(VLOOKUP(C30,Т2За!$C$3:$D$47,2,0),0) -> 0 | I30: =IFERROR(VLOOKUP(C30,Т2За!$C$3:$E$47,3,0),0) -> 0 | J30: =IFERROR(VLOOKUP(C30,Т2Зб!$C$3:$D$47,2,0),0) -> 0 | K30: =IFERROR(VLOOKUP(C30,Т2Зб!$C$3:$E$47,3,0),0) -> 43 | L30: =D30+F30+H30+J30 -> 652.53 | M30: =IF(L30=0,Реглист!$C$93*2+2,E30+G30+I30+K30) -> 52 | N30: 46 | O30: =L30+L31 -> 3978.14 | P30: =IF(O30=0,Реглист!$C$93*4+4,M30+M31) -> 72 | Q30: =IF(P30=Реглист!$C$93*4+4,Реглист!$C$93+1,RANK(P30,$P$4:$P$91,1)) -> 12
A31: =A30+1 -> 28 | B31: =Реглист!B31 -> Кобринский МСЗ | C31: =Реглист!C31 -> Жарин Вадим | D31: =IFERROR(VLOOKUP(C31,Т1За!$C$3:$D$47,2,0),0) -> 0 | E31: =IFERROR(VLOOKUP(C31,Т1За!$C$3:$E$47,3,0),0) -> 0 | F31: =IFERROR(VLOOKUP(C31,Т1Зб!$C$3:$D$47,2,0),0) -> 840.18 | G31: =IFERROR(VLOOKUP(C31,Т1Зб!$C$3:$E$47,3,0),0) -> 19 | H31: =IFERROR(VLOOKUP(C31,Т2За!$C$3:$D$47,2,0),0) -> 2485.43 | I31: =IFERROR(VLOOKUP(C31,Т2За!$C$3:$E$47,3,0),0) -> 1 | J31: =IFERROR(VLOOKUP(C31,Т2Зб!$C$3:$D$47,2,0),0) -> 0 | K31: =IFERROR(VLOOKUP(C31,Т2Зб!$C$3:$E$47,3,0),0) -> 0 | L31: =D31+F31+H31+J31 -> 3325.61 | M31: =IF(L31=0,Реглист!$C$93*2+2,E31+G31+I31+K31) -> 20 | N31: =IF(M31=Реглист!$C$93*2+2,Реглист!$C$93*2+1,RANK(M31,$M$4:$M$91,1)) -> 16
A32: =A31+1 -> 29 | B32: =Реглист!B32 -> ASpinnTeam | C32: =Реглист!C32 -> Нугуманов Артём | D32: =IFERROR(VLOOKUP(C32,Т1За!$C$3:$D$47,2,0),0) -> 0 | E32: =IFERROR(VLOOKUP(C32,Т1За!$C$3:$E$47,3,0),0) -> 0 | F32: =IFERROR(VLOOKUP(C32,Т1Зб!$C$3:$D$47,2,0),0) -> 0 | G32: =IFERROR(VLOOKUP(C32,Т1Зб!$C$3:$E$47,3,0),0) -> 43 | H32: =IFERROR(VLOOKUP(C32,Т2За!$C$3:$D$47,2,0),0) -> 796.29 | I32: =IFERROR(VLOOKUP(C32,Т2За!$C$3:$E$47,3,0),0) -> 7 | J32: =IFERROR(VLOOKUP(C32,Т2Зб!$C$3:$D$47,2,0),0) -> 0 | K32: =IFERROR(VLOOKUP(C32,Т2Зб!$C$3:$E$47,3,0),0) -> 0 | L32: =D32+F32+H32+J32 -> 796.29 | M32: =IF(L32=0,Реглист!$C$93*2+2,E32+G32+I32+K32) -> 50 | N32: =IF(M32=Реглист!$C$93*2+2,Реглист!$C$93*2+1,RANK(M32,$M$4:$M$91,1)) -> 42 | O32: =L32+L33 -> 796.29 | P32: =IF(O32=0,Реглист!$C$93*4+4,M32+M33) -> 136 | Q32: =IF(P32=Реглист!$C$93*4+4,Реглист!$C$93+1,RANK(P32,$P$4:$P$91,1)) -> 34
A33: =A32+1 -> 30 | B33: =Реглист!B33 -> ASpinnTeam | C33: =Реглист!C33 -> Вашкевич Александр | D33: =IFERROR(VLOOKUP(C33,Т1За!$C$3:$D$47,2,0),0) -> 0 | E33: =IFERROR(VLOOKUP(C33,Т1За!$C$3:$E$47,3,0),0) -> 43 | F33: =IFERROR(VLOOKUP(C33,Т1Зб!$C$3:$D$47,2,0),0) -> 0 | G33: =IFERROR(VLOOKUP(C33,Т1Зб!$C$3:$E$47,3,0),0) -> 0 | H33: =IFERROR(VLOOKUP(C33,Т2За!$C$3:$D$47,2,0),0) -> 0 | I33: =IFERROR(VLOOKUP(C33,Т2За!$C$3:$E$47,3,0),0) -> 0 | J33: =IFERROR(VLOOKUP(C33,Т2Зб!$C$3:$D$47,2,0),0) -> 0 | K33: =IFERROR(VLOOKUP(C33,Т2Зб!$C$3:$E$47,3,0),0) -> 43 | L33: =D33+F33+H33+J33 -> 0 | M33: =IF(L33=0,Реглист!$C$93*2+2,E33+G33+I33+K33) -> 86 | N33: 81
A34: =A33+1 -> 31 | B34: =Реглист!B34 -> FishMurder | C34: =Реглист!C34 -> Микулов Владимир | D34: =IFERROR(VLOOKUP(C34,Т1За!$C$3:$D$47,2,0),0) -> 0 | E34: =IFERROR(VLOOKUP(C34,Т1За!$C$3:$E$47,3,0),0) -> 0 | F34: =IFERROR(VLOOKUP(C34,Т1Зб!$C$3:$D$47,2,0),0) -> 3201.98 | G34: =IFERROR(VLOOKUP(C34,Т1Зб!$C$3:$E$47,3,0),0) -> 2 | H34: =IFERROR(VLOOKUP(C34,Т2За!$C$3:$D$47,2,0),0) -> 0 | I34: =IFERROR(VLOOKUP(C34,Т2За!$C$3:$E$47,3,0),0) -> 43 | J34: =IFERROR(VLOOKUP(C34,Т2Зб!$C$3:$D$47,2,0),0) -> 0 | K34: =IFERROR(VLOOKUP(C34,Т2Зб!$C$3:$E$47,3,0),0) -> 0 | L34: =D34+F34+H34+J34 -> 3201.98 | M34: =IF(L34=0,Реглист!$C$93*2+2,E34+G34+I34+K34) -> 45 | N34: =IF(M34=Реглист!$C$93*2+2,Реглист!$C$93*2+1,RANK(M34,$M$4:$M$91,1)) -> 37 | O34: =L34+L35 -> 3973.77 | P34: =IF(O34=0,Реглист!$C$93*4+4,M34+M35) -> 80 | Q34: =IF(P34=Реглист!$C$93*4+4,Реглист!$C$93+1,RANK(P34,$P$4:$P$91,1)) -> 16
A35: =A34+1 -> 32 | B35: =Реглист!B35 -> FishMurder | C35: =Реглист!C35 -> Шило Сергей | D35: =IFERROR(VLOOKUP(C35,Т1За!$C$3:$D$47,2,0),0) -> 166.41 | E35: =IFERROR(VLOOKUP(C35,Т1За!$C$3:$E$47,3,0),0) -> 24 | F35: =IFERROR(VLOOKUP(C35,Т1Зб!$C$3:$D$47,2,0),0) -> 0 | G35: =IFERROR(VLOOKUP(C35,Т1Зб!$C$3:$E$47,3,0),0) -> 0 | H35: =IFERROR(VLOOKUP(C35,Т2За!$C$3:$D$47,2,0),0) -> 0 | I35: =IFERROR(VLOOKUP(C35,Т2За!$C$3:$E$47,3,0),0) -> 0 | J35: =IFERROR(VLOOKUP(C35,Т2Зб!$C$3:$D$47,2,0),0) -> 605.38 | K35: =IFERROR(VLOOKUP(C35,Т2Зб!$C$3:$E$47,3,0),0) -> 11 | L35: =D35+F35+H35+J35 -> 771.79 | M35: =IF(L35=0,Реглист!$C$93*2+2,E35+G35+I35+K35) -> 35 | N35: =IF(M35=Реглист!$C$93*2+2,Реглист!$C$93*2+1,RANK(M35,$M$4:$M$91,1)) -> 28
A36: =A35+1 -> 33 | B36: =Реглист!B36 -> Бобруйский Region | C36: =Реглист!C36 -> Прокопчик Алексей | D36: =IFERROR(VLOOKUP(C36,Т1За!$C$3:$D$47,2,0),0) -> 0 | E36: =IFERROR(VLOOKUP(C36,Т1За!$C$3:$E$47,3,0),0) -> 0 | F36: =IFERROR(VLOOKUP(C36,Т1Зб!$C$3:$D$47,2,0),0) -> 1394 | G36: =IFERROR(VLOOKUP(C36,Т1Зб!$C$3:$E$47,3,0),0) -> 11 | H36: =IFERROR(VLOOKUP(C36,Т2За!$C$3:$D$47,2,0),0) -> 0 | I36: =IFERROR(VLOOKUP(C36,Т2За!$C$3:$E$47,3,0),0) -> 43 | J36: =IFERROR(VLOOKUP(C36,Т2Зб!$C$3:$D$47,2,0),0) -> 0 | K36: =IFERROR(VLOOKUP(C36,Т2Зб!$C$3:$E$47,3,0),0) -> 0 | L36: =D36+F36+H36+J36 -> 1394 | M36: =IF(L36=0,Реглист!$C$93*2+2,E36+G36+I36+K36) -> 54 | N36: =IF(M36=Реглист!$C$93*2+2,Реглист!$C$93*2+1,RANK(M36,$M$4:$M$91,1)) -> 47 | O36: =L36+L37 -> 1394 | P36: =IF(O36=0,Реглист!$C$93*4+4,M36+M37) -> 140 | Q36: =IF(P36=Реглист!$C$93*4+4,Реглист!$C$93+1,RANK(P36,$P$4:$P$91,1)) -> 36
A37: =A36+1 -> 34 | B37: =Реглист!B37 -> Бобруйский Region | C37: =Реглист!C37 -> Пархамович Максим | D37: =IFERROR(VLOOKUP(C37,Т1За!$C$3:$D$47,2,0),0) -> 0 | E37: =IFERROR(VLOOKUP(C37,Т1За!$C$3:$E$47,3,0),0) -> 43 | F37: =IFERROR(VLOOKUP(C37,Т1Зб!$C$3:$D$47,2,0),0) -> 0 | G37: =IFERROR(VLOOKUP(C37,Т1Зб!$C$3:$E$47,3,0),0) -> 0 | H37: =IFERROR(VLOOKUP(C37,Т2За!$C$3:$D$47,2,0),0) -> 0 | I37: =IFERROR(VLOOKUP(C37,Т2За!$C$3:$E$47,3,0),0) -> 0 | J37: =IFERROR(VLOOKUP(C37,Т2Зб!$C$3:$D$47,2,0),0) -> 0 | K37: =IFERROR(VLOOKUP(C37,Т2Зб!$C$3:$E$47,3,0),0) -> 43 | L37: =D37+F37+H37+J37 -> 0 | M37: =IF(L37=0,Реглист!$C$93*2+2,E37+G37+I37+K37) -> 86 | N37: 81
A38: =A37+1 -> 35 | B38: =Реглист!B38 -> West Fishing | C38: =Реглист!C38 -> Непомнящий Виктор | D38: =IFERROR(VLOOKUP(C38,Т1За!$C$3:$D$47,2,0),0) -> 0 | E38: =IFERROR(VLOOKUP(C38,Т1За!$C$3:$E$47,3,0),0) -> 0 | F38: =IFERROR(VLOOKUP(C38,Т1Зб!$C$3:$D$47,2,0),0) -> 1002.18 | G38: =IFERROR(VLOOKUP(C38,Т1Зб!$C$3:$E$47,3,0),0) -> 17 | H38: =IFERROR(VLOOKUP(C38,Т2За!$C$3:$D$47,2,0),0) -> 616.84 | I38: =IFERROR(VLOOKUP(C38,Т2За!$C$3:$E$47,3,0),0) -> 10 | J38: =IFERROR(VLOOKUP(C38,Т2Зб!$C$3:$D$47,2,0),0) -> 0 | K38: =IFERROR(VLOOKUP(C38,Т2Зб!$C$3:$E$47,3,0),0) -> 0 | L38: =D38+F38+H38+J38 -> 1619.02 | M38: =IF(L38=0,Реглист!$C$93*2+2,E38+G38+I38+K38) -> 27 | N38: =IF(M38=Реглист!$C$93*2+2,Реглист!$C$93*2+1,RANK(M38,$M$4:$M$91,1)) -> 19 | O38: =L38+L39 -> 2458.93 | P38: =IF(O38=0,Реглист!$C$93*4+4,M38+M39) -> 60 | Q38: 8
A39: =A38+1 -> 36 | B39: =Реглист!B39 -> West Fishing | C39: =Реглист!C39 -> Золотарь Андрей | D39: =IFERROR(VLOOKUP(C39,Т1За!$C$3:$D$47,2,0),0) -> 182.25 | E39: =IFERROR(VLOOKUP(C39,Т1За!$C$3:$E$47,3,0),0) -> 23 | F39: =IFERROR(VLOOKUP(C39,Т1Зб!$C$3:$D$47,2,0),0) -> 0 | G39: =IFERROR(VLOOKUP(C39,Т1Зб!$C$3:$E$47,3,0),0) -> 0 | H39: =IFERROR(VLOOKUP(C39,Т2За!$C$3:$D$47,2,0),0) -> 0 | I39: =IFERROR(VLOOKUP(C39,Т2За!$C$3:$E$47,3,0),0) -> 0 | J39: =IFERROR(VLOOKUP(C39,Т2Зб!$C$3:$D$47,2,0),0) -> 657.66 | K39: =IFERROR(VLOOKUP(C39,Т2Зб!$C$3:$E$47,3,0),0) -> 10 | L39: =D39+F39+H39+J39 -> 839.91 | M39: =IF(L39=0,Реглист!$C$93*2+2,E39+G39+I39+K39) -> 33 | N39: 24
A40: =A39+1 -> 37 | B40: =Реглист!B40 -> K&M | C40: =Реглист!C40 -> Мельников Юрий | D40: =IFERROR(VLOOKUP(C40,Т1За!$C$3:$D$47,2,0),0) -> 2153.75 | E40: =IFERROR(VLOOKUP(C40,Т1За!$C$3:$E$47,3,0),0) -> 1 | F40: =IFERROR(VLOOKUP(C40,Т1Зб!$C$3:$D$47,2,0),0) -> 0 | G40: =IFERROR(VLOOKUP(C40,Т1Зб!$C$3:$E$47,3,0),0) -> 0 | H40: =IFERROR(VLOOKUP(C40,Т2За!$C$3:$D$47,2,0),0) -> 0 | I40: =IFERROR(VLOOKUP(C40,Т2За!$C$3:$E$47,3,0),0) -> 0 | J40: =IFERROR(VLOOKUP(C40,Т2Зб!$C$3:$D$47,2,0),0) -> 1262.87 | K40: =IFERROR(VLOOKUP(C40,Т2Зб!$C$3:$E$47,3,0),0) -> 2 | L40: =D40+F40+H40+J40 -> 3416.62 | M40: =IF(L40=0,Реглист!$C$93*2+2,E40+G40+I40+K40) -> 3 | N40: =IF(M40=Реглист!$C$93*2+2,Реглист!$C$93*2+1,RANK(M40,$M$4:$M$91,1)) -> 1 | O40: =L40+L41 -> 3857.71 | P40: =IF(O40=0,Реглист!$C$93*4+4,M40+M41) -> 60 | Q40: =IF(P40=Реглист!$C$93*4+4,Реглист!$C$93+1,RANK(P40,$P$4:$P$91,1)) -> 7
A41: =A40+1 -> 38 | B41: =Реглист!B41 -> K&M | C41: =Реглист!C41 -> Казаченко Владимир | D41: =IFERROR(VLOOKUP(C41,Т1За!$C$3:$D$47,2,0),0) -> 0 | E41: =IFERROR(VLOOKUP(C41,Т1За!$C$3:$E$47,3,0),0) -> 0 | F41: =IFERROR(VLOOKUP(C41,Т1Зб!$C$3:$D$47,2,0),0) -> 0 | G41: =IFERROR(VLOOKUP(C41,Т1Зб!$C$3:$E$47,3,0),0) -> 43 | H41: =IFERROR(VLOOKUP(C41,Т2За!$C$3:$D$47,2,0),0) -> 441.09 | I41: =IFERROR(VLOOKUP(C41,Т2За!$C$3:$E$47,3,0),0) -> 14 | J41: =IFERROR(VLOOKUP(C41,Т2Зб!$C$3:$D$47,2,0),0) -> 0 | K41: =IFERROR(VLOOKUP(C41,Т2Зб!$C$3:$E$47,3,0),0) -> 0 | L41: =D41+F41+H41+J41 -> 441.09 | M41: =IF(L41=0,Реглист!$C$93*2+2,E41+G41+I41+K41) -> 57 | N41: =IF(M41=Реглист!$C$93*2+2,Реглист!$C$93*2+1,RANK(M41,$M$4:$M$91,1)) -> 50
A42: =A41+1 -> 39 | B42: =Реглист!B42 -> Орловские | C42: =Реглист!C42 -> Пластун Вячеслав | D42: =IFERROR(VLOOKUP(C42,Т1За!$C$3:$D$47,2,0),0) -> 0 | E42: =IFERROR(VLOOKUP(C42,Т1За!$C$3:$E$47,3,0),0) -> 0 | F42: =IFERROR(VLOOKUP(C42,Т1Зб!$C$3:$D$47,2,0),0) -> 1818.74 | G42: =IFERROR(VLOOKUP(C42,Т1Зб!$C$3:$E$47,3,0),0) -> 5 | H42: =IFERROR(VLOOKUP(C42,Т2За!$C$3:$D$47,2,0),0) -> 800.02 | I42: =IFERROR(VLOOKUP(C42,Т2За!$C$3:$E$47,3,0),0) -> 6 | J42: =IFERROR(VLOOKUP(C42,Т2Зб!$C$3:$D$47,2,0),0) -> 0 | K42: =IFERROR(VLOOKUP(C42,Т2Зб!$C$3:$E$47,3,0),0) -> 0 | L42: =D42+F42+H42+J42 -> 2618.76 | M42: =IF(L42=0,Реглист!$C$93*2+2,E42+G42+I42+K42) -> 11 | N42: =IF(M42=Реглист!$C$93*2+2,Реглист!$C$93*2+1,RANK(M42,$M$4:$M$91,1)) -> 3 | O42: =L42+L43 -> 4593.31 | P42: =IF(O42=0,Реглист!$C$93*4+4,M42+M43) -> 23 | Q42: =IF(P42=Реглист!$C$93*4+4,Реглист!$C$93+1,RANK(P42,$P$4:$P$91,1)) -> 1
A43: =A42+1 -> 40 | B43: =Реглист!B43 -> Орловские | C43: =Реглист!C43 -> Боровик Андрей | D43: =IFERROR(VLOOKUP(C43,Т1За!$C$3:$D$47,2,0),0) -> 1105.66 | E43: =IFERROR(VLOOKUP(C43,Т1За!$C$3:$E$47,3,0),0) -> 5 | F43: =IFERROR(VLOOKUP(C43,Т1Зб!$C$3:$D$47,2,0),0) -> 0 | G43: =IFERROR(VLOOKUP(C43,Т1Зб!$C$3:$E$47,3,0),0) -> 0 | H43: =IFERROR(VLOOKUP(C43,Т2За!$C$3:$D$47,2,0),0) -> 0 | I43: =IFERROR(VLOOKUP(C43,Т2За!$C$3:$E$47,3,0),0) -> 0 | J43: =IFERROR(VLOOKUP(C43,Т2Зб!$C$3:$D$47,2,0),0) -> 868.89 | K43: =IFERROR(VLOOKUP(C43,Т2Зб!$C$3:$E$47,3,0),0) -> 7 | L43: =D43+F43+H43+J43 -> 1974.55 | M43: =IF(L43=0,Реглист!$C$93*2+2,E43+G43+I43+K43) -> 12 | N43: 7
A44: =A43+1 -> 41 | B44: =Реглист!B44 -> - | C44: =Реглист!C44 -> - | D44: =IFERROR(VLOOKUP(C44,Т1За!$C$3:$D$47,2,0),0) -> 0 | E44: =IFERROR(VLOOKUP(C44,Т1За!$C$3:$E$47,3,0),0) -> 43 | F44: =IFERROR(VLOOKUP(C44,Т1Зб!$C$3:$D$47,2,0),0) -> 0 | G44: =IFERROR(VLOOKUP(C44,Т1Зб!$C$3:$E$47,3,0),0) -> 43 | H44: =IFERROR(VLOOKUP(C44,Т2За!$C$3:$D$47,2,0),0) -> 0 | I44: =IFERROR(VLOOKUP(C44,Т2За!$C$3:$E$47,3,0),0) -> 43 | J44: =IFERROR(VLOOKUP(C44,Т2Зб!$C$3:$D$47,2,0),0) -> 0 | K44: =IFERROR(VLOOKUP(C44,Т2Зб!$C$3:$E$47,3,0),0) -> 43 | L44: =D44+F44+H44+J44 -> 0 | M44: =IF(L44=0,Реглист!$C$93*2+2,E44+G44+I44+K44) -> 86 | N44: 81 | O44: =L44+L45 -> 0 | P44: =IF(O44=0,Реглист!$C$93*4+4,M44+M45) -> 172 | Q44: 41
A45: =A44+1 -> 42 | B45: =Реглист!B45 -> - | C45: =Реглист!C45 -> - | D45: =IFERROR(VLOOKUP(C45,Т1За!$C$3:$D$47,2,0),0) -> 0 | E45: =IFERROR(VLOOKUP(C45,Т1За!$C$3:$E$47,3,0),0) -> 43 | F45: =IFERROR(VLOOKUP(C45,Т1Зб!$C$3:$D$47,2,0),0) -> 0 | G45: =IFERROR(VLOOKUP(C45,Т1Зб!$C$3:$E$47,3,0),0) -> 43 | H45: =IFERROR(VLOOKUP(C45,Т2За!$C$3:$D$47,2,0),0) -> 0 | I45: =IFERROR(VLOOKUP(C45,Т2За!$C$3:$E$47,3,0),0) -> 43 | J45: =IFERROR(VLOOKUP(C45,Т2Зб!$C$3:$D$47,2,0),0) -> 0 | K45: =IFERROR(VLOOKUP(C45,Т2Зб!$C$3:$E$47,3,0),0) -> 43 | L45: =D45+F45+H45+J45 -> 0 | M45: =IF(L45=0,Реглист!$C$93*2+2,E45+G45+I45+K45) -> 86 | N45: 81
A46: =A45+1 -> 43 | B46: =Реглист!B46 -> SB-fishing | C46: =Реглист!C46 -> Минков Александр | D46: =IFERROR(VLOOKUP(C46,Т1За!$C$3:$D$47,2,0),0) -> 0 | E46: =IFERROR(VLOOKUP(C46,Т1За!$C$3:$E$47,3,0),0) -> 0 | F46: =IFERROR(VLOOKUP(C46,Т1Зб!$C$3:$D$47,2,0),0) -> 193.21 | G46: =IFERROR(VLOOKUP(C46,Т1Зб!$C$3:$E$47,3,0),0) -> 30 | H46: =IFERROR(VLOOKUP(C46,Т2За!$C$3:$D$47,2,0),0) -> 1064.61 | I46: =IFERROR(VLOOKUP(C46,Т2За!$C$3:$E$47,3,0),0) -> 3 | J46: =IFERROR(VLOOKUP(C46,Т2Зб!$C$3:$D$47,2,0),0) -> 0 | K46: =IFERROR(VLOOKUP(C46,Т2Зб!$C$3:$E$47,3,0),0) -> 0 | L46: =D46+F46+H46+J46 -> 1257.82 | M46: =IF(L46=0,Реглист!$C$93*2+2,E46+G46+I46+K46) -> 33 | N46: =IF(M46=Реглист!$C$93*2+2,Реглист!$C$93*2+1,RANK(M46,$M$4:$M$91,1)) -> 23 | O46: =L46+L47 -> 2811.46 | P46: =IF(O46=0,Реглист!$C$93*4+4,M46+M47) -> 50 | Q46: =IF(P46=Реглист!$C$93*4+4,Реглист!$C$93+1,RANK(P46,$P$4:$P$91,1)) -> 4
A47: =A46+1 -> 44 | B47: =Реглист!B47 -> SB-fishing | C47: =Реглист!C47 -> Сапраненков Евгений | D47: =IFERROR(VLOOKUP(C47,Т1За!$C$3:$D$47,2,0),0) -> 1160 | E47: =IFERROR(VLOOKUP(C47,Т1За!$C$3:$E$47,3,0),0) -> 4 | F47: =IFERROR(VLOOKUP(C47,Т1Зб!$C$3:$D$47,2,0),0) -> 0 | G47: =IFERROR(VLOOKUP(C47,Т1Зб!$C$3:$E$47,3,0),0) -> 0 | H47: =IFERROR(VLOOKUP(C47,Т2За!$C$3:$D$47,2,0),0) -> 0 | I47: =IFERROR(VLOOKUP(C47,Т2За!$C$3:$E$47,3,0),0) -> 0 | J47: =IFERROR(VLOOKUP(C47,Т2Зб!$C$3:$D$47,2,0),0) -> 393.64 | K47: =IFERROR(VLOOKUP(C47,Т2Зб!$C$3:$E$47,3,0),0) -> 13 | L47: =D47+F47+H47+J47 -> 1553.64 | M47: =IF(L47=0,Реглист!$C$93*2+2,E47+G47+I47+K47) -> 17 | N47: 13
A48: =A47+1 -> 45 | B48: =Реглист!B48 -> ULBroTeaM | C48: =Реглист!C48 -> Василенков Вячеслав | D48: =IFERROR(VLOOKUP(C48,Т1За!$C$3:$D$47,2,0),0) -> 0 | E48: =IFERROR(VLOOKUP(C48,Т1За!$C$3:$E$47,3,0),0) -> 0 | F48: =IFERROR(VLOOKUP(C48,Т1Зб!$C$3:$D$47,2,0),0) -> 1115.13 | G48: =IFERROR(VLOOKUP(C48,Т1Зб!$C$3:$E$47,3,0),0) -> 12 | H48: =IFERROR(VLOOKUP(C48,Т2За!$C$3:$D$47,2,0),0) -> 0 | I48: =IFERROR(VLOOKUP(C48,Т2За!$C$3:$E$47,3,0),0) -> 43 | J48: =IFERROR(VLOOKUP(C48,Т2Зб!$C$3:$D$47,2,0),0) -> 0 | K48: =IFERROR(VLOOKUP(C48,Т2Зб!$C$3:$E$47,3,0),0) -> 0 | L48: =D48+F48+H48+J48 -> 1115.13 | M48: =IF(L48=0,Реглист!$C$93*2+2,E48+G48+I48+K48) -> 55 | N48: =IF(M48=Реглист!$C$93*2+2,Реглист!$C$93*2+1,RANK(M48,$M$4:$M$91,1)) -> 48 | O48: =L48+L49 -> 2850.04 | P48: =IF(O48=0,Реглист!$C$93*4+4,M48+M49) -> 69 | Q48: =IF(P48=Реглист!$C$93*4+4,Реглист!$C$93+1,RANK(P48,$P$4:$P$91,1)) -> 11
A49: =A48+1 -> 46 | B49: =Реглист!B49 -> ULBroTeaM | C49: =Реглист!C49 -> Вычиков Павел | D49: =IFERROR(VLOOKUP(C49,Т1За!$C$3:$D$47,2,0),0) -> 621.17 | E49: =IFERROR(VLOOKUP(C49,Т1За!$C$3:$E$47,3,0),0) -> 10 | F49: =IFERROR(VLOOKUP(C49,Т1Зб!$C$3:$D$47,2,0),0) -> 0 | G49: =IFERROR(VLOOKUP(C49,Т1Зб!$C$3:$E$47,3,0),0) -> 0 | H49: =IFERROR(VLOOKUP(C49,Т2За!$C$3:$D$47,2,0),0) -> 0 | I49: =IFERROR(VLOOKUP(C49,Т2За!$C$3:$E$47,3,0),0) -> 0 | J49: =IFERROR(VLOOKUP(C49,Т2Зб!$C$3:$D$47,2,0),0) -> 1113.74 | K49: =IFERROR(VLOOKUP(C49,Т2Зб!$C$3:$E$47,3,0),0) -> 4 | L49: =D49+F49+H49+J49 -> 1734.91 | M49: =IF(L49=0,Реглист!$C$93*2+2,E49+G49+I49+K49) -> 14 | N49: =IF(M49=Реглист!$C$93*2+2,Реглист!$C$93*2+1,RANK(M49,$M$4:$M$91,1)) -> 8
A50: =A49+1 -> 47 | B50: =Реглист!B50 -> ES team | C50: =Реглист!C50 -> Боляновский Дмитрий | D50: =IFERROR(VLOOKUP(C50,Т1За!$C$3:$D$47,2,0),0) -> 272.25 | E50: =IFERROR(VLOOKUP(C50,Т1За!$C$3:$E$47,3,0),0) -> 18 | F50: =IFERROR(VLOOKUP(C50,Т1Зб!$C$3:$D$47,2,0),0) -> 0 | G50: =IFERROR(VLOOKUP(C50,Т1Зб!$C$3:$E$47,3,0),0) -> 0 | H50: =IFERROR(VLOOKUP(C50,Т2За!$C$3:$D$47,2,0),0) -> 0 | I50: =IFERROR(VLOOKUP(C50,Т2За!$C$3:$E$47,3,0),0) -> 0 | J50: =IFERROR(VLOOKUP(C50,Т2Зб!$C$3:$D$47,2,0),0) -> 249.64 | K50: =IFERROR(VLOOKUP(C50,Т2Зб!$C$3:$E$47,3,0),0) -> 18 | L50: =D50+F50+H50+J50 -> 521.89 | M50: =IF(L50=0,Реглист!$C$93*2+2,E50+G50+I50+K50) -> 36 | N50: =IF(M50=Реглист!$C$93*2+2,Реглист!$C$93*2+1,RANK(M50,$M$4:$M$91,1)) -> 29 | O50: =L50+L51 -> 521.89 | P50: =IF(O50=0,Реглист!$C$93*4+4,M50+M51) -> 122 | Q50: =IF(P50=Реглист!$C$93*4+4,Реглист!$C$93+1,RANK(P50,$P$4:$P$91,1)) -> 30
A51: =A50+1 -> 48 | B51: =Реглист!B51 -> ES team | C51: =Реглист!C51 -> Асинский Александр | D51: =IFERROR(VLOOKUP(C51,Т1За!$C$3:$D$47,2,0),0) -> 0 | E51: =IFERROR(VLOOKUP(C51,Т1За!$C$3:$E$47,3,0),0) -> 0 | F51: =IFERROR(VLOOKUP(C51,Т1Зб!$C$3:$D$47,2,0),0) -> 0 | G51: =IFERROR(VLOOKUP(C51,Т1Зб!$C$3:$E$47,3,0),0) -> 43 | H51: =IFERROR(VLOOKUP(C51,Т2За!$C$3:$D$47,2,0),0) -> 0 | I51: =IFERROR(VLOOKUP(C51,Т2За!$C$3:$E$47,3,0),0) -> 43 | J51: =IFERROR(VLOOKUP(C51,Т2Зб!$C$3:$D$47,2,0),0) -> 0 | K51: =IFERROR(VLOOKUP(C51,Т2Зб!$C$3:$E$47,3,0),0) -> 0 | L51: =D51+F51+H51+J51 -> 0 | M51: =IF(L51=0,Реглист!$C$93*2+2,E51+G51+I51+K51) -> 86 | N51: 81
A52: =A51+1 -> 49 | B52: =Реглист!B52 -> Bad Fish | C52: =Реглист!C52 -> Желтов Игорь | D52: =IFERROR(VLOOKUP(C52,Т1За!$C$3:$D$47,2,0),0) -> 0 | E52: =IFERROR(VLOOKUP(C52,Т1За!$C$3:$E$47,3,0),0) -> 0 | F52: =IFERROR(VLOOKUP(C52,Т1Зб!$C$3:$D$47,2,0),0) -> 693.54 | G52: =IFERROR(VLOOKUP(C52,Т1Зб!$C$3:$E$47,3,0),0) -> 21 | H52: =IFERROR(VLOOKUP(C52,Т2За!$C$3:$D$47,2,0),0) -> 296.69 | I52: =IFERROR(VLOOKUP(C52,Т2За!$C$3:$E$47,3,0),0) -> 20 | J52: =IFERROR(VLOOKUP(C52,Т2Зб!$C$3:$D$47,2,0),0) -> 0 | K52: =IFERROR(VLOOKUP(C52,Т2Зб!$C$3:$E$47,3,0),0) -> 0 | L52: =D52+F52+H52+J52 -> 990.23 | M52: =IF(L52=0,Реглист!$C$93*2+2,E52+G52+I52+K52) -> 41 | N52: 35 | O52: =L52+L53 -> 1146.48 | P52: =IF(O52=0,Реглист!$C$93*4+4,M52+M53) -> 110 | Q52: =IF(P52=Реглист!$C$93*4+4,Реглист!$C$93+1,RANK(P52,$P$4:$P$91,1)) -> 25
A53: =A52+1 -> 50 | B53: =Реглист!B53 -> Bad Fish | C53: =Реглист!C53 -> Корней Валентин | D53: =IFERROR(VLOOKUP(C53,Т1За!$C$3:$D$47,2,0),0) -> 156.25 | E53: =IFERROR(VLOOKUP(C53,Т1За!$C$3:$E$47,3,0),0) -> 26 | F53: =IFERROR(VLOOKUP(C53,Т1Зб!$C$3:$D$47,2,0),0) -> 0 | G53: =IFERROR(VLOOKUP(C53,Т1Зб!$C$3:$E$47,3,0),0) -> 0 | H53: =IFERROR(VLOOKUP(C53,Т2За!$C$3:$D$47,2,0),0) -> 0 | I53: =IFERROR(VLOOKUP(C53,Т2За!$C$3:$E$47,3,0),0) -> 0 | J53: =IFERROR(VLOOKUP(C53,Т2Зб!$C$3:$D$47,2,0),0) -> 0 | K53: =IFERROR(VLOOKUP(C53,Т2Зб!$C$3:$E$47,3,0),0) -> 43 | L53: =D53+F53+H53+J53 -> 156.25 | M53: =IF(L53=0,Реглист!$C$93*2+2,E53+G53+I53+K53) -> 69 | N53: 62
A54: =A53+1 -> 51 | B54: =Реглист!B54 -> Штиль | C54: =Реглист!C54 -> Козлов Юрий | D54: =IFERROR(VLOOKUP(C54,Т1За!$C$3:$D$47,2,0),0) -> 210.25 | E54: =IFERROR(VLOOKUP(C54,Т1За!$C$3:$E$47,3,0),0) -> 21 | F54: =IFERROR(VLOOKUP(C54,Т1Зб!$C$3:$D$47,2,0),0) -> 0 | G54: =IFERROR(VLOOKUP(C54,Т1Зб!$C$3:$E$47,3,0),0) -> 0 | H54: =IFERROR(VLOOKUP(C54,Т2За!$C$3:$D$47,2,0),0) -> 0 | I54: =IFERROR(VLOOKUP(C54,Т2За!$C$3:$E$47,3,0),0) -> 0 | J54: =IFERROR(VLOOKUP(C54,Т2Зб!$C$3:$D$47,2,0),0) -> 144 | K54: =IFERROR(VLOOKUP(C54,Т2Зб!$C$3:$E$47,3,0),0) -> 19 | L54: =D54+F54+H54+J54 -> 354.25 | M54: =IF(L54=0,Реглист!$C$93*2+2,E54+G54+I54+K54) -> 40 | N54: 33 | O54: =L54+L55 -> 876.38 | P54: =IF(O54=0,Реглист!$C$93*4+4,M54+M55) -> 91 | Q54: =IF(P54=Реглист!$C$93*4+4,Реглист!$C$93+1,RANK(P54,$P$4:$P$91,1)) -> 21
A55: =A54+1 -> 52 | B55: =Реглист!B55 -> Штиль | C55: =Реглист!C55 -> Рябишников Иван | D55: =IFERROR(VLOOKUP(C55,Т1За!$C$3:$D$47,2,0),0) -> 0 | E55: =IFERROR(VLOOKUP(C55,Т1За!$C$3:$E$47,3,0),0) -> 0 | F55: =IFERROR(VLOOKUP(C55,Т1Зб!$C$3:$D$47,2,0),0) -> 144 | G55: =IFERROR(VLOOKUP(C55,Т1Зб!$C$3:$E$47,3,0),0) -> 32 | H55: =IFERROR(VLOOKUP(C55,Т2За!$C$3:$D$47,2,0),0) -> 378.13 | I55: =IFERROR(VLOOKUP(C55,Т2За!$C$3:$E$47,3,0),0) -> 19 | J55: =IFERROR(VLOOKUP(C55,Т2Зб!$C$3:$D$47,2,0),0) -> 0 | K55: =IFERROR(VLOOKUP(C55,Т2Зб!$C$3:$E$47,3,0),0) -> 0 | L55: =D55+F55+H55+J55 -> 522.13 | M55: =IF(L55=0,Реглист!$C$93*2+2,E55+G55+I55+K55) -> 51 | N55: =IF(M55=Реглист!$C$93*2+2,Реглист!$C$93*2+1,RANK(M55,$M$4:$M$91,1)) -> 44
A56: =A55+1 -> 53 | B56: =Реглист!B56 -> Solfishing | C56: =Реглист!C56 -> Санько Александр | D56: =IFERROR(VLOOKUP(C56,Т1За!$C$3:$D$47,2,0),0) -> 414.83 | E56: =IFERROR(VLOOKUP(C56,Т1За!$C$3:$E$47,3,0),0) -> 13 | F56: =IFERROR(VLOOKUP(C56,Т1Зб!$C$3:$D$47,2,0),0) -> 0 | G56: =IFERROR(VLOOKUP(C56,Т1Зб!$C$3:$E$47,3,0),0) -> 0 | H56: =IFERROR(VLOOKUP(C56,Т2За!$C$3:$D$47,2,0),0) -> 0 | I56: =IFERROR(VLOOKUP(C56,Т2За!$C$3:$E$47,3,0),0) -> 0 | J56: =IFERROR(VLOOKUP(C56,Т2Зб!$C$3:$D$47,2,0),0) -> 0 | K56: =IFERROR(VLOOKUP(C56,Т2Зб!$C$3:$E$47,3,0),0) -> 43 | L56: =D56+F56+H56+J56 -> 414.83 | M56: =IF(L56=0,Реглист!$C$93*2+2,E56+G56+I56+K56) -> 56 | N56: =IF(M56=Реглист!$C$93*2+2,Реглист!$C$93*2+1,RANK(M56,$M$4:$M$91,1)) -> 49 | O56: =L56+L57 -> 414.83 | P56: =IF(O56=0,Реглист!$C$93*4+4,M56+M57) -> 142 | Q56: =IF(P56=Реглист!$C$93*4+4,Реглист!$C$93+1,RANK(P56,$P$4:$P$91,1)) -> 37
A57: =A56+1 -> 54 | B57: =Реглист!B57 -> Solfishing | C57: =Реглист!C57 -> Губчик Александр | D57: =IFERROR(VLOOKUP(C57,Т1За!$C$3:$D$47,2,0),0) -> 0 | E57: =IFERROR(VLOOKUP(C57,Т1За!$C$3:$E$47,3,0),0) -> 0 | F57: =IFERROR(VLOOKUP(C57,Т1Зб!$C$3:$D$47,2,0),0) -> 0 | G57: =IFERROR(VLOOKUP(C57,Т1Зб!$C$3:$E$47,3,0),0) -> 43 | H57: =IFERROR(VLOOKUP(C57,Т2За!$C$3:$D$47,2,0),0) -> 0 | I57: =IFERROR(VLOOKUP(C57,Т2За!$C$3:$E$47,3,0),0) -> 43 | J57: =IFERROR(VLOOKUP(C57,Т2Зб!$C$3:$D$47,2,0),0) -> 0 | K57: =IFERROR(VLOOKUP(C57,Т2Зб!$C$3:$E$47,3,0),0) -> 0 | L57: =D57+F57+H57+J57 -> 0 | M57: =IF(L57=0,Реглист!$C$93*2+2,E57+G57+I57+K57) -> 86 | N57: 81
A58: =A57+1 -> 55 | B58: =Реглист!B58 -> Favorite Team Belarus | C58: =Реглист!C58 -> Анпилов Андрей | D58: =IFERROR(VLOOKUP(C58,Т1За!$C$3:$D$47,2,0),0) -> 0 | E58: =IFERROR(VLOOKUP(C58,Т1За!$C$3:$E$47,3,0),0) -> 0 | F58: =IFERROR(VLOOKUP(C58,Т1Зб!$C$3:$D$47,2,0),0) -> 1783.64 | G58: =IFERROR(VLOOKUP(C58,Т1Зб!$C$3:$E$47,3,0),0) -> 6 | H58: =IFERROR(VLOOKUP(C58,Т2За!$C$3:$D$47,2,0),0) -> 1536.84 | I58: =IFERROR(VLOOKUP(C58,Т2За!$C$3:$E$47,3,0),0) -> 2 | J58: =IFERROR(VLOOKUP(C58,Т2Зб!$C$3:$D$47,2,0),0) -> 0 | K58: =IFERROR(VLOOKUP(C58,Т2Зб!$C$3:$E$47,3,0),0) -> 0 | L58: =D58+F58+H58+J58 -> 3320.48 | M58: =IF(L58=0,Реглист!$C$93*2+2,E58+G58+I58+K58) -> 8 | N58: =IF(M58=Реглист!$C$93*2+2,Реглист!$C$93*2+1,RANK(M58,$M$4:$M$91,1)) -> 2 | O58: =L58+L59 -> 4078.5 | P58: =IF(O58=0,Реглист!$C$93*4+4,M58+M59) -> 58 | Q58: =IF(P58=Реглист!$C$93*4+4,Реглист!$C$93+1,RANK(P58,$P$4:$P$91,1)) -> 6
A59: =A58+1 -> 56 | B59: =Реглист!B59 -> Favorite Team Belarus | C59: =Реглист!C59 -> Шавшунов Никита | D59: =IFERROR(VLOOKUP(C59,Т1За!$C$3:$D$47,2,0),0) -> 758.02 | E59: =IFERROR(VLOOKUP(C59,Т1За!$C$3:$E$47,3,0),0) -> 7 | F59: =IFERROR(VLOOKUP(C59,Т1Зб!$C$3:$D$47,2,0),0) -> 0 | G59: =IFERROR(VLOOKUP(C59,Т1Зб!$C$3:$E$47,3,0),0) -> 0 | H59: =IFERROR(VLOOKUP(C59,Т2За!$C$3:$D$47,2,0),0) -> 0 | I59: =IFERROR(VLOOKUP(C59,Т2За!$C$3:$E$47,3,0),0) -> 0 | J59: =IFERROR(VLOOKUP(C59,Т2Зб!$C$3:$D$47,2,0),0) -> 0 | K59: =IFERROR(VLOOKUP(C59,Т2Зб!$C$3:$E$47,3,0),0) -> 43 | L59: =D59+F59+H59+J59 -> 758.02 | M59: =IF(L59=0,Реглист!$C$93*2+2,E59+G59+I59+K59) -> 50 | N59: 43
A60: =A59+1 -> 57 | B60: =Реглист!B60 -> Team Ylov | C60: =Реглист!C60 -> Тулупов Александр | D60: =IFERROR(VLOOKUP(C60,Т1За!$C$3:$D$47,2,0),0) -> 722.89 | E60: =IFERROR(VLOOKUP(C60,Т1За!$C$3:$E$47,3,0),0) -> 8 | F60: =IFERROR(VLOOKUP(C60,Т1Зб!$C$3:$D$47,2,0),0) -> 0 | G60: =IFERROR(VLOOKUP(C60,Т1Зб!$C$3:$E$47,3,0),0) -> 0 | H60: =IFERROR(VLOOKUP(C60,Т2За!$C$3:$D$47,2,0),0) -> 0 | I60: =IFERROR(VLOOKUP(C60,Т2За!$C$3:$E$47,3,0),0) -> 0 | J60: =IFERROR(VLOOKUP(C60,Т2Зб!$C$3:$D$47,2,0),0) -> 893.74 | K60: =IFERROR(VLOOKUP(C60,Т2Зб!$C$3:$E$47,3,0),0) -> 6 | L60: =D60+F60+H60+J60 -> 1616.63 | M60: =IF(L60=0,Реглист!$C$93*2+2,E60+G60+I60+K60) -> 14 | N60: 9 | O60: =L60+L61 -> 2790.83 | P60: =IF(O60=0,Реглист!$C$93*4+4,M60+M61) -> 55 | Q60: =IF(P60=Реглист!$C$93*4+4,Реглист!$C$93+1,RANK(P60,$P$4:$P$91,1)) -> 5
A61: =A60+1 -> 58 | B61: =Реглист!B61 -> Team Ylov | C61: =Реглист!C61 -> Кулаженко Владимир | D61: =IFERROR(VLOOKUP(C61,Т1За!$C$3:$D$47,2,0),0) -> 0 | E61: =IFERROR(VLOOKUP(C61,Т1За!$C$3:$E$47,3,0),0) -> 0 | F61: =IFERROR(VLOOKUP(C61,Т1Зб!$C$3:$D$47,2,0),0) -> 1017.95 | G61: =IFERROR(VLOOKUP(C61,Т1Зб!$C$3:$E$47,3,0),0) -> 16 | H61: =IFERROR(VLOOKUP(C61,Т2За!$C$3:$D$47,2,0),0) -> 156.25 | I61: =IFERROR(VLOOKUP(C61,Т2За!$C$3:$E$47,3,0),0) -> 25 | J61: =IFERROR(VLOOKUP(C61,Т2Зб!$C$3:$D$47,2,0),0) -> 0 | K61: =IFERROR(VLOOKUP(C61,Т2Зб!$C$3:$E$47,3,0),0) -> 0 | L61: =D61+F61+H61+J61 -> 1174.2 | M61: =IF(L61=0,Реглист!$C$93*2+2,E61+G61+I61+K61) -> 41 | N61: =IF(M61=Реглист!$C$93*2+2,Реглист!$C$93*2+1,RANK(M61,$M$4:$M$91,1)) -> 34
A62: =A61+1 -> 59 | B62: =Реглист!B62 -> - | C62: =Реглист!C62 -> - | D62: =IFERROR(VLOOKUP(C62,Т1За!$C$3:$D$47,2,0),0) -> 0 | E62: =IFERROR(VLOOKUP(C62,Т1За!$C$3:$E$47,3,0),0) -> 43 | F62: =IFERROR(VLOOKUP(C62,Т1Зб!$C$3:$D$47,2,0),0) -> 0 | G62: =IFERROR(VLOOKUP(C62,Т1Зб!$C$3:$E$47,3,0),0) -> 43 | H62: =IFERROR(VLOOKUP(C62,Т2За!$C$3:$D$47,2,0),0) -> 0 | I62: =IFERROR(VLOOKUP(C62,Т2За!$C$3:$E$47,3,0),0) -> 43 | J62: =IFERROR(VLOOKUP(C62,Т2Зб!$C$3:$D$47,2,0),0) -> 0 | K62: =IFERROR(VLOOKUP(C62,Т2Зб!$C$3:$E$47,3,0),0) -> 43 | L62: =D62+F62+H62+J62 -> 0 | M62: =IF(L62=0,Реглист!$C$93*2+2,E62+G62+I62+K62) -> 86 | N62: 81 | O62: =L62+L63 -> 0 | P62: =IF(O62=0,Реглист!$C$93*4+4,M62+M63) -> 172 | Q62: 41
A63: =A62+1 -> 60 | B63: =Реглист!B63 -> - | C63: =Реглист!C63 -> - | D63: =IFERROR(VLOOKUP(C63,Т1За!$C$3:$D$47,2,0),0) -> 0 | E63: =IFERROR(VLOOKUP(C63,Т1За!$C$3:$E$47,3,0),0) -> 43 | F63: =IFERROR(VLOOKUP(C63,Т1Зб!$C$3:$D$47,2,0),0) -> 0 | G63: =IFERROR(VLOOKUP(C63,Т1Зб!$C$3:$E$47,3,0),0) -> 43 | H63: =IFERROR(VLOOKUP(C63,Т2За!$C$3:$D$47,2,0),0) -> 0 | I63: =IFERROR(VLOOKUP(C63,Т2За!$C$3:$E$47,3,0),0) -> 43 | J63: =IFERROR(VLOOKUP(C63,Т2Зб!$C$3:$D$47,2,0),0) -> 0 | K63: =IFERROR(VLOOKUP(C63,Т2Зб!$C$3:$E$47,3,0),0) -> 43 | L63: =D63+F63+H63+J63 -> 0 | M63: =IF(L63=0,Реглист!$C$93*2+2,E63+G63+I63+K63) -> 86 | N63: 81
A64: =A63+1 -> 61 | B64: =Реглист!B64 -> Позитив | C64: =Реглист!C64 -> Строк Павел | D64: =IFERROR(VLOOKUP(C64,Т1За!$C$3:$D$47,2,0),0) -> 0 | E64: =IFERROR(VLOOKUP(C64,Т1За!$C$3:$E$47,3,0),0) -> 0 | F64: =IFERROR(VLOOKUP(C64,Т1Зб!$C$3:$D$47,2,0),0) -> 1423.57 | G64: =IFERROR(VLOOKUP(C64,Т1Зб!$C$3:$E$47,3,0),0) -> 9 | H64: =IFERROR(VLOOKUP(C64,Т2За!$C$3:$D$47,2,0),0) -> 0 | I64: =IFERROR(VLOOKUP(C64,Т2За!$C$3:$E$47,3,0),0) -> 43 | J64: =IFERROR(VLOOKUP(C64,Т2Зб!$C$3:$D$47,2,0),0) -> 0 | K64: =IFERROR(VLOOKUP(C64,Т2Зб!$C$3:$E$47,3,0),0) -> 0 | L64: =D64+F64+H64+J64 -> 1423.57 | M64: =IF(L64=0,Реглист!$C$93*2+2,E64+G64+I64+K64) -> 52 | N64: =IF(M64=Реглист!$C$93*2+2,Реглист!$C$93*2+1,RANK(M64,$M$4:$M$91,1)) -> 45 | O64: =L64+L65 -> 1582.33 | P64: =IF(O64=0,Реглист!$C$93*4+4,M64+M65) -> 120 | Q64: =IF(P64=Реглист!$C$93*4+4,Реглист!$C$93+1,RANK(P64,$P$4:$P$91,1)) -> 28
A65: =A64+1 -> 62 | B65: =Реглист!B65 -> Позитив | C65: =Реглист!C65 -> Князев Сергей | D65: =IFERROR(VLOOKUP(C65,Т1За!$C$3:$D$47,2,0),0) -> 158.76 | E65: =IFERROR(VLOOKUP(C65,Т1За!$C$3:$E$47,3,0),0) -> 25 | F65: =IFERROR(VLOOKUP(C65,Т1Зб!$C$3:$D$47,2,0),0) -> 0 | G65: =IFERROR(VLOOKUP(C65,Т1Зб!$C$3:$E$47,3,0),0) -> 0 | H65: =IFERROR(VLOOKUP(C65,Т2За!$C$3:$D$47,2,0),0) -> 0 | I65: =IFERROR(VLOOKUP(C65,Т2За!$C$3:$E$47,3,0),0) -> 0 | J65: =IFERROR(VLOOKUP(C65,Т2Зб!$C$3:$D$47,2,0),0) -> 0 | K65: =IFERROR(VLOOKUP(C65,Т2Зб!$C$3:$E$47,3,0),0) -> 43 | L65: =D65+F65+H65+J65 -> 158.76 | M65: =IF(L65=0,Реглист!$C$93*2+2,E65+G65+I65+K65) -> 68 | N65: =IF(M65=Реглист!$C$93*2+2,Реглист!$C$93*2+1,RANK(M65,$M$4:$M$91,1)) -> 60
A66: =A65+1 -> 63 | B66: =Реглист!B66 -> Твичим и джигуем | C66: =Реглист!C66 -> Синовец Роман | D66: =IFERROR(VLOOKUP(C66,Т1За!$C$3:$D$47,2,0),0) -> 0 | E66: =IFERROR(VLOOKUP(C66,Т1За!$C$3:$E$47,3,0),0) -> 0 | F66: =IFERROR(VLOOKUP(C66,Т1Зб!$C$3:$D$47,2,0),0) -> 538.49 | G66: =IFERROR(VLOOKUP(C66,Т1Зб!$C$3:$E$47,3,0),0) -> 23 | H66: =IFERROR(VLOOKUP(C66,Т2За!$C$3:$D$47,2,0),0) -> 423.45 | I66: =IFERROR(VLOOKUP(C66,Т2За!$C$3:$E$47,3,0),0) -> 15 | J66: =IFERROR(VLOOKUP(C66,Т2Зб!$C$3:$D$47,2,0),0) -> 0 | K66: =IFERROR(VLOOKUP(C66,Т2Зб!$C$3:$E$47,3,0),0) -> 0 | L66: =D66+F66+H66+J66 -> 961.94 | M66: =IF(L66=0,Реглист!$C$93*2+2,E66+G66+I66+K66) -> 38 | N66: =IF(M66=Реглист!$C$93*2+2,Реглист!$C$93*2+1,RANK(M66,$M$4:$M$91,1)) -> 30 | O66: =L66+L67 -> 1199.1 | P66: =IF(O66=0,Реглист!$C$93*4+4,M66+M67) -> 101 | Q66: =IF(P66=Реглист!$C$93*4+4,Реглист!$C$93+1,RANK(P66,$P$4:$P$91,1)) -> 23
A67: =A66+1 -> 64 | B67: =Реглист!B67 -> Твичим и джигуем | C67: =Реглист!C67 -> Чернышев Егор | D67: =IFERROR(VLOOKUP(C67,Т1За!$C$3:$D$47,2,0),0) -> 237.16 | E67: =IFERROR(VLOOKUP(C67,Т1За!$C$3:$E$47,3,0),0) -> 20 | F67: =IFERROR(VLOOKUP(C67,Т1Зб!$C$3:$D$47,2,0),0) -> 0 | G67: =IFERROR(VLOOKUP(C67,Т1Зб!$C$3:$E$47,3,0),0) -> 0 | H67: =IFERROR(VLOOKUP(C67,Т2За!$C$3:$D$47,2,0),0) -> 0 | I67: =IFERROR(VLOOKUP(C67,Т2За!$C$3:$E$47,3,0),0) -> 0 | J67: =IFERROR(VLOOKUP(C67,Т2Зб!$C$3:$D$47,2,0),0) -> 0 | K67: =IFERROR(VLOOKUP(C67,Т2Зб!$C$3:$E$47,3,0),0) -> 43 | L67: =D67+F67+H67+J67 -> 237.16 | M67: =IF(L67=0,Реглист!$C$93*2+2,E67+G67+I67+K67) -> 63 | N67: =IF(M67=Реглист!$C$93*2+2,Реглист!$C$93*2+1,RANK(M67,$M$4:$M$91,1)) -> 58
A68: =A67+1 -> 65 | B68: =Реглист!B68 -> Vodomotorika TEAM | C68: =Реглист!C68 -> Круглянин Сергей | D68: =IFERROR(VLOOKUP(C68,Т1За!$C$3:$D$47,2,0),0) -> 0 | E68: =IFERROR(VLOOKUP(C68,Т1За!$C$3:$E$47,3,0),0) -> 0 | F68: =IFERROR(VLOOKUP(C68,Т1Зб!$C$3:$D$47,2,0),0) -> 213.16 | G68: =IFERROR(VLOOKUP(C68,Т1Зб!$C$3:$E$47,3,0),0) -> 28 | H68: =IFERROR(VLOOKUP(C68,Т2За!$C$3:$D$47,2,0),0) -> 0 | I68: =IFERROR(VLOOKUP(C68,Т2За!$C$3:$E$47,3,0),0) -> 43 | J68: =IFERROR(VLOOKUP(C68,Т2Зб!$C$3:$D$47,2,0),0) -> 0 | K68: =IFERROR(VLOOKUP(C68,Т2Зб!$C$3:$E$47,3,0),0) -> 0 | L68: =D68+F68+H68+J68 -> 213.16 | M68: =IF(L68=0,Реглист!$C$93*2+2,E68+G68+I68+K68) -> 71 | N68: =IF(M68=Реглист!$C$93*2+2,Реглист!$C$93*2+1,RANK(M68,$M$4:$M$91,1)) -> 64 | O68: =L68+L69 -> 582.16 | P68: =IF(O68=0,Реглист!$C$93*4+4,M68+M69) -> 129 | Q68: =IF(P68=Реглист!$C$93*4+4,Реглист!$C$93+1,RANK(P68,$P$4:$P$91,1)) -> 32
A69: =A68+1 -> 66 | B69: =Реглист!B69 -> Vodomotorika TEAM | C69: =Реглист!C69 -> Ставер Дмитрий | D69: =IFERROR(VLOOKUP(C69,Т1За!$C$3:$D$47,2,0),0) -> 369 | E69: =IFERROR(VLOOKUP(C69,Т1За!$C$3:$E$47,3,0),0) -> 15 | F69: =IFERROR(VLOOKUP(C69,Т1Зб!$C$3:$D$47,2,0),0) -> 0 | G69: =IFERROR(VLOOKUP(C69,Т1Зб!$C$3:$E$47,3,0),0) -> 0 | H69: =IFERROR(VLOOKUP(C69,Т2За!$C$3:$D$47,2,0),0) -> 0 | I69: =IFERROR(VLOOKUP(C69,Т2За!$C$3:$E$47,3,0),0) -> 0 | J69: =IFERROR(VLOOKUP(C69,Т2Зб!$C$3:$D$47,2,0),0) -> 0 | K69: =IFERROR(VLOOKUP(C69,Т2Зб!$C$3:$E$47,3,0),0) -> 43 | L69: =D69+F69+H69+J69 -> 369 | M69: =IF(L69=0,Реглист!$C$93*2+2,E69+G69+I69+K69) -> 58 | N69: =IF(M69=Реглист!$C$93*2+2,Реглист!$C$93*2+1,RANK(M69,$M$4:$M$91,1)) -> 52
A70: =A69+1 -> 67 | B70: =Реглист!B70 -> - | C70: =Реглист!C70 -> - | D70: =IFERROR(VLOOKUP(C70,Т1За!$C$3:$D$47,2,0),0) -> 0 | E70: =IFERROR(VLOOKUP(C70,Т1За!$C$3:$E$47,3,0),0) -> 43 | F70: =IFERROR(VLOOKUP(C70,Т1Зб!$C$3:$D$47,2,0),0) -> 0 | G70: =IFERROR(VLOOKUP(C70,Т1Зб!$C$3:$E$47,3,0),0) -> 43 | H70: =IFERROR(VLOOKUP(C70,Т2За!$C$3:$D$47,2,0),0) -> 0 | I70: =IFERROR(VLOOKUP(C70,Т2За!$C$3:$E$47,3,0),0) -> 43 | J70: =IFERROR(VLOOKUP(C70,Т2Зб!$C$3:$D$47,2,0),0) -> 0 | K70: =IFERROR(VLOOKUP(C70,Т2Зб!$C$3:$E$47,3,0),0) -> 43 | L70: =D70+F70+H70+J70 -> 0 | M70: =IF(L70=0,Реглист!$C$93*2+2,E70+G70+I70+K70) -> 86 | N70: 81 | O70: =L70+L71 -> 0 | P70: =IF(O70=0,Реглист!$C$93*4+4,M70+M71) -> 172 | Q70: 41
A71: =A70+1 -> 68 | B71: =Реглист!B71 -> - | C71: =Реглист!C71 -> - | D71: =IFERROR(VLOOKUP(C71,Т1За!$C$3:$D$47,2,0),0) -> 0 | E71: =IFERROR(VLOOKUP(C71,Т1За!$C$3:$E$47,3,0),0) -> 43 | F71: =IFERROR(VLOOKUP(C71,Т1Зб!$C$3:$D$47,2,0),0) -> 0 | G71: =IFERROR(VLOOKUP(C71,Т1Зб!$C$3:$E$47,3,0),0) -> 43 | H71: =IFERROR(VLOOKUP(C71,Т2За!$C$3:$D$47,2,0),0) -> 0 | I71: =IFERROR(VLOOKUP(C71,Т2За!$C$3:$E$47,3,0),0) -> 43 | J71: =IFERROR(VLOOKUP(C71,Т2Зб!$C$3:$D$47,2,0),0) -> 0 | K71: =IFERROR(VLOOKUP(C71,Т2Зб!$C$3:$E$47,3,0),0) -> 43 | L71: =D71+F71+H71+J71 -> 0 | M71: =IF(L71=0,Реглист!$C$93*2+2,E71+G71+I71+K71) -> 86 | N71: 81
A72: =A71+1 -> 69 | B72: =Реглист!B72 -> XULи-ULи | C72: =Реглист!C72 -> Лавренчук Станислав | D72: =IFERROR(VLOOKUP(C72,Т1За!$C$3:$D$47,2,0),0) -> 0 | E72: =IFERROR(VLOOKUP(C72,Т1За!$C$3:$E$47,3,0),0) -> 0 | F72: =IFERROR(VLOOKUP(C72,Т1Зб!$C$3:$D$47,2,0),0) -> 2745.86 | G72: =IFERROR(VLOOKUP(C72,Т1Зб!$C$3:$E$47,3,0),0) -> 3 | H72: =IFERROR(VLOOKUP(C72,Т2За!$C$3:$D$47,2,0),0) -> 0 | I72: =IFERROR(VLOOKUP(C72,Т2За!$C$3:$E$47,3,0),0) -> 43 | J72: =IFERROR(VLOOKUP(C72,Т2Зб!$C$3:$D$47,2,0),0) -> 0 | K72: =IFERROR(VLOOKUP(C72,Т2Зб!$C$3:$E$47,3,0),0) -> 0 | L72: =D72+F72+H72+J72 -> 2745.86 | M72: =IF(L72=0,Реглист!$C$93*2+2,E72+G72+I72+K72) -> 46 | N72: =IF(M72=Реглист!$C$93*2+2,Реглист!$C$93*2+1,RANK(M72,$M$4:$M$91,1)) -> 38 | O72: =L72+L73 -> 3401.15 | P72: =IF(O72=0,Реглист!$C$93*4+4,M72+M73) -> 80 | Q72: 17
A73: =A72+1 -> 70 | B73: =Реглист!B73 -> XULи-ULи | C73: =Реглист!C73 -> Вежновец Михаил | D73: =IFERROR(VLOOKUP(C73,Т1За!$C$3:$D$47,2,0),0) -> 196 | E73: =IFERROR(VLOOKUP(C73,Т1За!$C$3:$E$47,3,0),0) -> 22 | F73: =IFERROR(VLOOKUP(C73,Т1Зб!$C$3:$D$47,2,0),0) -> 0 | G73: =IFERROR(VLOOKUP(C73,Т1Зб!$C$3:$E$47,3,0),0) -> 0 | H73: =IFERROR(VLOOKUP(C73,Т2За!$C$3:$D$47,2,0),0) -> 0 | I73: =IFERROR(VLOOKUP(C73,Т2За!$C$3:$E$47,3,0),0) -> 0 | J73: =IFERROR(VLOOKUP(C73,Т2Зб!$C$3:$D$47,2,0),0) -> 459.29 | K73: =IFERROR(VLOOKUP(C73,Т2Зб!$C$3:$E$47,3,0),0) -> 12 | L73: =D73+F73+H73+J73 -> 655.29 | M73: =IF(L73=0,Реглист!$C$93*2+2,E73+G73+I73+K73) -> 34 | N73: 26
A74: =A73+1 -> 71 | B74: =Реглист!B74 -> LEGION | C74: =Реглист!C74 -> Бойко Сергей | D74: =IFERROR(VLOOKUP(C74,Т1За!$C$3:$D$47,2,0),0) -> 0 | E74: =IFERROR(VLOOKUP(C74,Т1За!$C$3:$E$47,3,0),0) -> 0 | F74: =IFERROR(VLOOKUP(C74,Т1Зб!$C$3:$D$47,2,0),0) -> 4035.17 | G74: =IFERROR(VLOOKUP(C74,Т1Зб!$C$3:$E$47,3,0),0) -> 1 | H74: =IFERROR(VLOOKUP(C74,Т2За!$C$3:$D$47,2,0),0) -> 396.25 | I74: =IFERROR(VLOOKUP(C74,Т2За!$C$3:$E$47,3,0),0) -> 17 | J74: =IFERROR(VLOOKUP(C74,Т2Зб!$C$3:$D$47,2,0),0) -> 0 | K74: =IFERROR(VLOOKUP(C74,Т2Зб!$C$3:$E$47,3,0),0) -> 0 | L74: =D74+F74+H74+J74 -> 4431.42 | M74: =IF(L74=0,Реглист!$C$93*2+2,E74+G74+I74+K74) -> 18 | N74: =IF(M74=Реглист!$C$93*2+2,Реглист!$C$93*2+1,RANK(M74,$M$4:$M$91,1)) -> 14 | O74: =L74+L75 -> 4431.42 | P74: =IF(O74=0,Реглист!$C$93*4+4,M74+M75) -> 104 | Q74: =IF(P74=Реглист!$C$93*4+4,Реглист!$C$93+1,RANK(P74,$P$4:$P$91,1)) -> 24
A75: =A74+1 -> 72 | B75: =Реглист!B75 -> LEGION | C75: =Реглист!C75 -> Полюхович Александр | D75: =IFERROR(VLOOKUP(C75,Т1За!$C$3:$D$47,2,0),0) -> 0 | E75: =IFERROR(VLOOKUP(C75,Т1За!$C$3:$E$47,3,0),0) -> 43 | F75: =IFERROR(VLOOKUP(C75,Т1Зб!$C$3:$D$47,2,0),0) -> 0 | G75: =IFERROR(VLOOKUP(C75,Т1Зб!$C$3:$E$47,3,0),0) -> 0 | H75: =IFERROR(VLOOKUP(C75,Т2За!$C$3:$D$47,2,0),0) -> 0 | I75: =IFERROR(VLOOKUP(C75,Т2За!$C$3:$E$47,3,0),0) -> 0 | J75: =IFERROR(VLOOKUP(C75,Т2Зб!$C$3:$D$47,2,0),0) -> 0 | K75: =IFERROR(VLOOKUP(C75,Т2Зб!$C$3:$E$47,3,0),0) -> 43 | L75: =D75+F75+H75+J75 -> 0 | M75: =IF(L75=0,Реглист!$C$93*2+2,E75+G75+I75+K75) -> 86 | N75: 81
A76: =A75+1 -> 73 | B76: =Реглист!B76 -> Брест над Бугом | C76: =Реглист!C76 -> Шумко Александр | D76: =IFERROR(VLOOKUP(C76,Т1За!$C$3:$D$47,2,0),0) -> 0 | E76: =IFERROR(VLOOKUP(C76,Т1За!$C$3:$E$47,3,0),0) -> 0 | F76: =IFERROR(VLOOKUP(C76,Т1Зб!$C$3:$D$47,2,0),0) -> 962.2 | G76: =IFERROR(VLOOKUP(C76,Т1Зб!$C$3:$E$47,3,0),0) -> 18 | H76: =IFERROR(VLOOKUP(C76,Т2За!$C$3:$D$47,2,0),0) -> 0 | I76: =IFERROR(VLOOKUP(C76,Т2За!$C$3:$E$47,3,0),0) -> 43 | J76: =IFERROR(VLOOKUP(C76,Т2Зб!$C$3:$D$47,2,0),0) -> 0 | K76: =IFERROR(VLOOKUP(C76,Т2Зб!$C$3:$E$47,3,0),0) -> 0 | L76: =D76+F76+H76+J76 -> 962.2 | M76: =IF(L76=0,Реглист!$C$93*2+2,E76+G76+I76+K76) -> 61 | N76: =IF(M76=Реглист!$C$93*2+2,Реглист!$C$93*2+1,RANK(M76,$M$4:$M$91,1)) -> 56 | O76: =L76+L77 -> 2434.78 | P76: =IF(O76=0,Реглист!$C$93*4+4,M76+M77) -> 80 | Q76: 18
A77: =A76+1 -> 74 | B77: =Реглист!B77 -> Брест над Бугом | C77: =Реглист!C77 -> Тысевич Сергей | D77: =IFERROR(VLOOKUP(C77,Т1За!$C$3:$D$47,2,0),0) -> 375.04 | E77: =IFERROR(VLOOKUP(C77,Т1За!$C$3:$E$47,3,0),0) -> 14 | F77: =IFERROR(VLOOKUP(C77,Т1Зб!$C$3:$D$47,2,0),0) -> 0 | G77: =IFERROR(VLOOKUP(C77,Т1Зб!$C$3:$E$47,3,0),0) -> 0 | H77: =IFERROR(VLOOKUP(C77,Т2За!$C$3:$D$47,2,0),0) -> 0 | I77: =IFERROR(VLOOKUP(C77,Т2За!$C$3:$E$47,3,0),0) -> 0 | J77: =IFERROR(VLOOKUP(C77,Т2Зб!$C$3:$D$47,2,0),0) -> 1097.54 | K77: =IFERROR(VLOOKUP(C77,Т2Зб!$C$3:$E$47,3,0),0) -> 5 | L77: =D77+F77+H77+J77 -> 1472.58 | M77: =IF(L77=0,Реглист!$C$93*2+2,E77+G77+I77+K77) -> 19 | N77: =IF(M77=Реглист!$C$93*2+2,Реглист!$C$93*2+1,RANK(M77,$M$4:$M$91,1)) -> 15
A78: =A77+1 -> 75 | B78: =Реглист!B78 -> Гефест-Техника | C78: =Реглист!C78 -> Остапук Александр | D78: =IFERROR(VLOOKUP(C78,Т1За!$C$3:$D$47,2,0),0) -> 0 | E78: =IFERROR(VLOOKUP(C78,Т1За!$C$3:$E$47,3,0),0) -> 0 | F78: =IFERROR(VLOOKUP(C78,Т1Зб!$C$3:$D$47,2,0),0) -> 0 | G78: =IFERROR(VLOOKUP(C78,Т1Зб!$C$3:$E$47,3,0),0) -> 43 | H78: =IFERROR(VLOOKUP(C78,Т2За!$C$3:$D$47,2,0),0) -> 0 | I78: =IFERROR(VLOOKUP(C78,Т2За!$C$3:$E$47,3,0),0) -> 43 | J78: =IFERROR(VLOOKUP(C78,Т2Зб!$C$3:$D$47,2,0),0) -> 0 | K78: =IFERROR(VLOOKUP(C78,Т2Зб!$C$3:$E$47,3,0),0) -> 0 | L78: =D78+F78+H78+J78 -> 0 | M78: =IF(L78=0,Реглист!$C$93*2+2,E78+G78+I78+K78) -> 86 | N78: 81 | O78: =L78+L79 -> 0 | P78: =IF(O78=0,Реглист!$C$93*4+4,M78+M79) -> 172 | Q78: 41
A79: =A78+1 -> 76 | B79: =Реглист!B79 -> Гефест-Техника | C79: =Реглист!C79 -> Лобацевич Виктор | D79: =IFERROR(VLOOKUP(C79,Т1За!$C$3:$D$47,2,0),0) -> 0 | E79: =IFERROR(VLOOKUP(C79,Т1За!$C$3:$E$47,3,0),0) -> 43 | F79: =IFERROR(VLOOKUP(C79,Т1Зб!$C$3:$D$47,2,0),0) -> 0 | G79: =IFERROR(VLOOKUP(C79,Т1Зб!$C$3:$E$47,3,0),0) -> 0 | H79: =IFERROR(VLOOKUP(C79,Т2За!$C$3:$D$47,2,0),0) -> 0 | I79: =IFERROR(VLOOKUP(C79,Т2За!$C$3:$E$47,3,0),0) -> 0 | J79: =IFERROR(VLOOKUP(C79,Т2Зб!$C$3:$D$47,2,0),0) -> 0 | K79: =IFERROR(VLOOKUP(C79,Т2Зб!$C$3:$E$47,3,0),0) -> 43 | L79: =D79+F79+H79+J79 -> 0 | M79: =IF(L79=0,Реглист!$C$93*2+2,E79+G79+I79+K79) -> 86 | N79: 81
A80: =A79+1 -> 77 | B80: =Реглист!B80 -> Gefest | C80: =Реглист!C80 -> Саган Сергей | D80: =IFERROR(VLOOKUP(C80,Т1За!$C$3:$D$47,2,0),0) -> 548.69 | E80: =IFERROR(VLOOKUP(C80,Т1За!$C$3:$E$47,3,0),0) -> 12 | F80: =IFERROR(VLOOKUP(C80,Т1Зб!$C$3:$D$47,2,0),0) -> 0 | G80: =IFERROR(VLOOKUP(C80,Т1Зб!$C$3:$E$47,3,0),0) -> 0 | H80: =IFERROR(VLOOKUP(C80,Т2За!$C$3:$D$47,2,0),0) -> 0 | I80: =IFERROR(VLOOKUP(C80,Т2За!$C$3:$E$47,3,0),0) -> 0 | J80: =IFERROR(VLOOKUP(C80,Т2Зб!$C$3:$D$47,2,0),0) -> 302.76 | K80: =IFERROR(VLOOKUP(C80,Т2Зб!$C$3:$E$47,3,0),0) -> 16 | L80: =D80+F80+H80+J80 -> 851.45 | M80: =IF(L80=0,Реглист!$C$93*2+2,E80+G80+I80+K80) -> 28 | N80: 22 | O80: =L80+L81 -> 1591.38 | P80: =IF(O80=0,Реглист!$C$93*4+4,M80+M81) -> 68 | Q80: =IF(P80=Реглист!$C$93*4+4,Реглист!$C$93+1,RANK(P80,$P$4:$P$91,1)) -> 10
A81: =A80+1 -> 78 | B81: =Реглист!B81 -> Gefest | C81: =Реглист!C81 -> Радчук Юрий | D81: =IFERROR(VLOOKUP(C81,Т1За!$C$3:$D$47,2,0),0) -> 0 | E81: =IFERROR(VLOOKUP(C81,Т1За!$C$3:$E$47,3,0),0) -> 0 | F81: =IFERROR(VLOOKUP(C81,Т1Зб!$C$3:$D$47,2,0),0) -> 219.04 | G81: =IFERROR(VLOOKUP(C81,Т1Зб!$C$3:$E$47,3,0),0) -> 27 | H81: =IFERROR(VLOOKUP(C81,Т2За!$C$3:$D$47,2,0),0) -> 520.89 | I81: =IFERROR(VLOOKUP(C81,Т2За!$C$3:$E$47,3,0),0) -> 13 | J81: =IFERROR(VLOOKUP(C81,Т2Зб!$C$3:$D$47,2,0),0) -> 0 | K81: =IFERROR(VLOOKUP(C81,Т2Зб!$C$3:$E$47,3,0),0) -> 0 | L81: =D81+F81+H81+J81 -> 739.93 | M81: =IF(L81=0,Реглист!$C$93*2+2,E81+G81+I81+K81) -> 40 | N81: =IF(M81=Реглист!$C$93*2+2,Реглист!$C$93*2+1,RANK(M81,$M$4:$M$91,1)) -> 32
A82: =A81+1 -> 79 | B82: =Реглист!B82 -> Bait Breath Team | C82: =Реглист!C82 -> Бахур Александр | D82: =IFERROR(VLOOKUP(C82,Т1За!$C$3:$D$47,2,0),0) -> 0 | E82: =IFERROR(VLOOKUP(C82,Т1За!$C$3:$E$47,3,0),0) -> 43 | F82: =IFERROR(VLOOKUP(C82,Т1Зб!$C$3:$D$47,2,0),0) -> 0 | G82: =IFERROR(VLOOKUP(C82,Т1Зб!$C$3:$E$47,3,0),0) -> 0 | H82: =IFERROR(VLOOKUP(C82,Т2За!$C$3:$D$47,2,0),0) -> 0 | I82: =IFERROR(VLOOKUP(C82,Т2За!$C$3:$E$47,3,0),0) -> 0 | J82: =IFERROR(VLOOKUP(C82,Т2Зб!$C$3:$D$47,2,0),0) -> 358.25 | K82: =IFERROR(VLOOKUP(C82,Т2Зб!$C$3:$E$47,3,0),0) -> 14 | L82: =D82+F82+H82+J82 -> 358.25 | M82: =IF(L82=0,Реглист!$C$93*2+2,E82+G82+I82+K82) -> 57 | N82: 51 | O82: =L82+L83 -> 3215.6 | P82: =IF(O82=0,Реглист!$C$93*4+4,M82+M83) -> 73 | Q82: =IF(P82=Реглист!$C$93*4+4,Реглист!$C$93+1,RANK(P82,$P$4:$P$91,1)) -> 14
A83: =A82+1 -> 80 | B83: =Реглист!B83 -> Bait Breath Team | C83: =Реглист!C83 -> Зубко Сергей | D83: =IFERROR(VLOOKUP(C83,Т1За!$C$3:$D$47,2,0),0) -> 0 | E83: =IFERROR(VLOOKUP(C83,Т1За!$C$3:$E$47,3,0),0) -> 0 | F83: =IFERROR(VLOOKUP(C83,Т1Зб!$C$3:$D$47,2,0),0) -> 2280.1 | G83: =IFERROR(VLOOKUP(C83,Т1Зб!$C$3:$E$47,3,0),0) -> 4 | H83: =IFERROR(VLOOKUP(C83,Т2За!$C$3:$D$47,2,0),0) -> 577.25 | I83: =IFERROR(VLOOKUP(C83,Т2За!$C$3:$E$47,3,0),0) -> 12 | J83: =IFERROR(VLOOKUP(C83,Т2Зб!$C$3:$D$47,2,0),0) -> 0 | K83: =IFERROR(VLOOKUP(C83,Т2Зб!$C$3:$E$47,3,0),0) -> 0 | L83: =D83+F83+H83+J83 -> 2857.35 | M83: =IF(L83=0,Реглист!$C$93*2+2,E83+G83+I83+K83) -> 16 | N83: =IF(M83=Реглист!$C$93*2+2,Реглист!$C$93*2+1,RANK(M83,$M$4:$M$91,1)) -> 11
A84: =A83+1 -> 81 | B84: =Реглист!B84 -> - | C84: =Реглист!C84 -> - | D84: =IFERROR(VLOOKUP(C84,Т1За!$C$3:$D$47,2,0),0) -> 0 | E84: =IFERROR(VLOOKUP(C84,Т1За!$C$3:$E$47,3,0),0) -> 43 | F84: =IFERROR(VLOOKUP(C84,Т1Зб!$C$3:$D$47,2,0),0) -> 0 | G84: =IFERROR(VLOOKUP(C84,Т1Зб!$C$3:$E$47,3,0),0) -> 43 | H84: =IFERROR(VLOOKUP(C84,Т2За!$C$3:$D$47,2,0),0) -> 0 | I84: =IFERROR(VLOOKUP(C84,Т2За!$C$3:$E$47,3,0),0) -> 43 | J84: =IFERROR(VLOOKUP(C84,Т2Зб!$C$3:$D$47,2,0),0) -> 0 | K84: =IFERROR(VLOOKUP(C84,Т2Зб!$C$3:$E$47,3,0),0) -> 43 | L84: =D84+F84+H84+J84 -> 0 | M84: =IF(L84=0,Реглист!$C$93*2+2,E84+G84+I84+K84) -> 86 | N84: 81 | O84: =L84+L85 -> 0 | P84: =IF(O84=0,Реглист!$C$93*4+4,M84+M85) -> 172 | Q84: 41
A85: =A84+1 -> 82 | B85: =Реглист!B85 -> - | C85: =Реглист!C85 -> - | D85: =IFERROR(VLOOKUP(C85,Т1За!$C$3:$D$47,2,0),0) -> 0 | E85: =IFERROR(VLOOKUP(C85,Т1За!$C$3:$E$47,3,0),0) -> 43 | F85: =IFERROR(VLOOKUP(C85,Т1Зб!$C$3:$D$47,2,0),0) -> 0 | G85: =IFERROR(VLOOKUP(C85,Т1Зб!$C$3:$E$47,3,0),0) -> 43 | H85: =IFERROR(VLOOKUP(C85,Т2За!$C$3:$D$47,2,0),0) -> 0 | I85: =IFERROR(VLOOKUP(C85,Т2За!$C$3:$E$47,3,0),0) -> 43 | J85: =IFERROR(VLOOKUP(C85,Т2Зб!$C$3:$D$47,2,0),0) -> 0 | K85: =IFERROR(VLOOKUP(C85,Т2Зб!$C$3:$E$47,3,0),0) -> 43 | L85: =D85+F85+H85+J85 -> 0 | M85: =IF(L85=0,Реглист!$C$93*2+2,E85+G85+I85+K85) -> 86 | N85: 81
A86: =A85+1 -> 83 | B86: =Реглист!B86 -> BASS HUNTER | C86: =Реглист!C86 -> Шевко Виталий | D86: =IFERROR(VLOOKUP(C86,Т1За!$C$3:$D$47,2,0),0) -> 0 | E86: =IFERROR(VLOOKUP(C86,Т1За!$C$3:$E$47,3,0),0) -> 0 | F86: =IFERROR(VLOOKUP(C86,Т1Зб!$C$3:$D$47,2,0),0) -> 1056.91 | G86: =IFERROR(VLOOKUP(C86,Т1Зб!$C$3:$E$47,3,0),0) -> 14 | H86: =IFERROR(VLOOKUP(C86,Т2За!$C$3:$D$47,2,0),0) -> 582.29 | I86: =IFERROR(VLOOKUP(C86,Т2За!$C$3:$E$47,3,0),0) -> 11 | J86: =IFERROR(VLOOKUP(C86,Т2Зб!$C$3:$D$47,2,0),0) -> 0 | K86: =IFERROR(VLOOKUP(C86,Т2Зб!$C$3:$E$47,3,0),0) -> 0 | L86: =D86+F86+H86+J86 -> 1639.2 | M86: =IF(L86=0,Реглист!$C$93*2+2,E86+G86+I86+K86) -> 25 | N86: =IF(M86=Реглист!$C$93*2+2,Реглист!$C$93*2+1,RANK(M86,$M$4:$M$91,1)) -> 17 | O86: =L86+L87 -> 3671.46 | P86: =IF(O86=0,Реглист!$C$93*4+4,M86+M87) -> 36 | Q86: =IF(P86=Реглист!$C$93*4+4,Реглист!$C$93+1,RANK(P86,$P$4:$P$91,1)) -> 2
A87: =A86+1 -> 84 | B87: =Реглист!B87 -> BASS HUNTER | C87: =Реглист!C87 -> Кириевский Андрей | D87: =IFERROR(VLOOKUP(C87,Т1За!$C$3:$D$47,2,0),0) -> 1175.68 | E87: =IFERROR(VLOOKUP(C87,Т1За!$C$3:$E$47,3,0),0) -> 3 | F87: =IFERROR(VLOOKUP(C87,Т1Зб!$C$3:$D$47,2,0),0) -> 0 | G87: =IFERROR(VLOOKUP(C87,Т1Зб!$C$3:$E$47,3,0),0) -> 0 | H87: =IFERROR(VLOOKUP(C87,Т2За!$C$3:$D$47,2,0),0) -> 0 | I87: =IFERROR(VLOOKUP(C87,Т2За!$C$3:$E$47,3,0),0) -> 0 | J87: =IFERROR(VLOOKUP(C87,Т2Зб!$C$3:$D$47,2,0),0) -> 856.58 | K87: =IFERROR(VLOOKUP(C87,Т2Зб!$C$3:$E$47,3,0),0) -> 8 | L87: =D87+F87+H87+J87 -> 2032.26 | M87: =IF(L87=0,Реглист!$C$93*2+2,E87+G87+I87+K87) -> 11 | N87: 5
A88: =A87+1 -> 85 | B88: =Реглист!B88 -> LOVISNAMI | C88: =Реглист!C88 -> Мазовка Иван | D88: =IFERROR(VLOOKUP(C88,Т1За!$C$3:$D$47,2,0),0) -> 992.25 | E88: =IFERROR(VLOOKUP(C88,Т1За!$C$3:$E$47,3,0),0) -> 6 | F88: =IFERROR(VLOOKUP(C88,Т1Зб!$C$3:$D$47,2,0),0) -> 0 | G88: =IFERROR(VLOOKUP(C88,Т1Зб!$C$3:$E$47,3,0),0) -> 0 | H88: =IFERROR(VLOOKUP(C88,Т2За!$C$3:$D$47,2,0),0) -> 0 | I88: =IFERROR(VLOOKUP(C88,Т2За!$C$3:$E$47,3,0),0) -> 0 | J88: =IFERROR(VLOOKUP(C88,Т2Зб!$C$3:$D$47,2,0),0) -> 0 | K88: =IFERROR(VLOOKUP(C88,Т2Зб!$C$3:$E$47,3,0),0) -> 43 | L88: =D88+F88+H88+J88 -> 992.25 | M88: =IF(L88=0,Реглист!$C$93*2+2,E88+G88+I88+K88) -> 49 | N88: =IF(M88=Реглист!$C$93*2+2,Реглист!$C$93*2+1,RANK(M88,$M$4:$M$91,1)) -> 41 | O88: =L88+L89 -> 992.25 | P88: =IF(O88=0,Реглист!$C$93*4+4,M88+M89) -> 135 | Q88: =IF(P88=Реглист!$C$93*4+4,Реглист!$C$93+1,RANK(P88,$P$4:$P$91,1)) -> 33
A89: =A88+1 -> 86 | B89: =Реглист!B89 -> LOVISNAMI | C89: =Реглист!C89 -> Кузмич Алексей | D89: =IFERROR(VLOOKUP(C89,Т1За!$C$3:$D$47,2,0),0) -> 0 | E89: =IFERROR(VLOOKUP(C89,Т1За!$C$3:$E$47,3,0),0) -> 0 | F89: =IFERROR(VLOOKUP(C89,Т1Зб!$C$3:$D$47,2,0),0) -> 0 | G89: =IFERROR(VLOOKUP(C89,Т1Зб!$C$3:$E$47,3,0),0) -> 43 | H89: =IFERROR(VLOOKUP(C89,Т2За!$C$3:$D$47,2,0),0) -> 0 | I89: =IFERROR(VLOOKUP(C89,Т2За!$C$3:$E$47,3,0),0) -> 43 | J89: =IFERROR(VLOOKUP(C89,Т2Зб!$C$3:$D$47,2,0),0) -> 0 | K89: =IFERROR(VLOOKUP(C89,Т2Зб!$C$3:$E$47,3,0),0) -> 0 | L89: =D89+F89+H89+J89 -> 0 | M89: =IF(L89=0,Реглист!$C$93*2+2,E89+G89+I89+K89) -> 86 | N89: 81
A90: =A89+1 -> 87 | B90: =Реглист!B90 -> Fishka | C90: =Реглист!C90 -> Наконечник Александр | D90: =IFERROR(VLOOKUP(C90,Т1За!$C$3:$D$47,2,0),0) -> 0 | E90: =IFERROR(VLOOKUP(C90,Т1За!$C$3:$E$47,3,0),0) -> 43 | F90: =IFERROR(VLOOKUP(C90,Т1Зб!$C$3:$D$47,2,0),0) -> 0 | G90: =IFERROR(VLOOKUP(C90,Т1Зб!$C$3:$E$47,3,0),0) -> 0 | H90: =IFERROR(VLOOKUP(C90,Т2За!$C$3:$D$47,2,0),0) -> 0 | I90: =IFERROR(VLOOKUP(C90,Т2За!$C$3:$E$47,3,0),0) -> 0 | J90: =IFERROR(VLOOKUP(C90,Т2Зб!$C$3:$D$47,2,0),0) -> 0 | K90: =IFERROR(VLOOKUP(C90,Т2Зб!$C$3:$E$47,3,0),0) -> 43 | L90: =D90+F90+H90+J90 -> 0 | M90: =IF(L90=0,Реглист!$C$93*2+2,E90+G90+I90+K90) -> 86 | N90: 81 | O90: =L90+L91 -> 957.62 | P90: =IF(O90=0,Реглист!$C$93*4+4,M90+M91) -> 120 | Q90: 29
A91: =A90+1 -> 88 | B91: =Реглист!B91 -> Fishka | C91: =Реглист!C91 -> Короленок Вадим | D91: =IFERROR(VLOOKUP(C91,Т1За!$C$3:$D$47,2,0),0) -> 0 | E91: =IFERROR(VLOOKUP(C91,Т1За!$C$3:$E$47,3,0),0) -> 0 | F91: =IFERROR(VLOOKUP(C91,Т1Зб!$C$3:$D$47,2,0),0) -> 327.61 | G91: =IFERROR(VLOOKUP(C91,Т1Зб!$C$3:$E$47,3,0),0) -> 25 | H91: =IFERROR(VLOOKUP(C91,Т2За!$C$3:$D$47,2,0),0) -> 630.01 | I91: =IFERROR(VLOOKUP(C91,Т2За!$C$3:$E$47,3,0),0) -> 9 | J91: =IFERROR(VLOOKUP(C91,Т2Зб!$C$3:$D$47,2,0),0) -> 0 | K91: =IFERROR(VLOOKUP(C91,Т2Зб!$C$3:$E$47,3,0),0) -> 0 | L91: =D91+F91+H91+J91 -> 957.62 | M91: =IF(L91=0,Реглист!$C$93*2+2,E91+G91+I91+K91) -> 34 | N91: =IF(M91=Реглист!$C$93*2+2,Реглист!$C$93*2+1,RANK(M91,$M$4:$M$91,1)) -> 25
A94: Средний размер окуня, см: | C94: =(Т1За!F47+Т1Зб!F47+Т2За!F47+Т2Зб!F47)/4 -> 142.16381
A95: Средний размер щуки, см: | C95: =(Т1За!Z47+Т1Зб!N47+Т2За!Q47+Т2Зб!M47)/4 -> #DIV/0!
