Workbook

Sheet Итоговый 2018
A1: ПРОТОКОЛ ТЕХНИЧЕСКИХ РЕЗУЛЬТАТОВ
A2: Чемпионат Республики Беларусь 2018
A3: Споритвный лов рыбы спинингом с лодок
A5: № п/п | B5: Название команды | C5: Ф.И.О. рыболова-спортсмена | D5: I этап | H5: II этап | L5: III этап | P5: Итоговые результаты
D6: 1 тур | F6: 2 тур | H6: 3 тур | J6: 4 тур | L6: 5 тур | N6: 6 тур | P6: Сумма баллов за 6 туров | Q6: Сумма мест за 6 туров | R6: п/коэф | S6: Итоговое командное место
D7: Баллы | E7: Место | F7: Баллы | G7: Место | H7: Баллы | I7: Место | J7: Баллы | K7: Место | L7: Баллы | M7: Место | N7: Баллы | O7: Место
A8: 1 | B8: Мегастрайк | C8: Ворон Павел | D8: ='1 этап'!D7 -> 17401 | E8: =_xlfn.RANK.AVG(D8,$D$8:$D$55,) -> 7 | F8: ='1 этап'!G7 -> 12350 | G8: =_xlfn.RANK.AVG(F8,$F$8:$F$55,) -> 11 | H8: ='2 этап'!D7 -> 21558 | I8: =_xlfn.RANK.AVG(H8,$H$8:$H$58,) -> 3 | J8: ='2 этап'!G7 -> 10712 | K8: =_xlfn.RANK.AVG(J8,$J$8:$J$58,) -> 5 | L8: ='3 этап'!D7 -> 0 | M8: =_xlfn.RANK.AVG(L8,$L$8:$L$58,) -> 8 | N8: ='3 этап'!G7 -> 0 | O8: =_xlfn.RANK.AVG(N8,$N$8:$N$58,) -> 8 | P8: =D8+F8+H8+J8+L8+N8 -> 62021 | Q8: =E8+G8+I8+K8+M8+O8 -> 42 | R8: =Q8-P8/MAX(P8:P61) -> 41.40565 | S8: =_xlfn.RANK.AVG(R8,$R$8:$R$52,1) -> 3
C9: Турков Станислав
C10: Винников Игорь
A11: =SUM(A8,1) -> 2 | B11: Мегаполис | C11: Романов Сергей | D11: ='1 этап'!D10 -> 9872 | E11: =_xlfn.RANK.AVG(D11,$D$8:$D$55,) -> 12 | F11: ='1 этап'!G10 -> 15012 | G11: =_xlfn.RANK.AVG(F11,$F$8:$F$55,) -> 6 | H11: ='2 этап'!D10 -> 23700 | I11: =_xlfn.RANK.AVG(H11,$H$8:$H$58,) -> 2 | J11: ='2 этап'!G10 -> 10972 | K11: =_xlfn.RANK.AVG(J11,$J$8:$J$58,) -> 4 | L11: ='3 этап'!D10 -> 0 | M11: =_xlfn.RANK.AVG(L11,$L$8:$L$58,) -> 8 | N11: ='3 этап'!G10 -> 0 | O11: =_xlfn.RANK.AVG(N11,$N$8:$N$58,) -> 8 | P11: =D11+F11+H11+J11+L11+N11 -> 59556 | Q11: =E11+G11+I11+K11+M11+O11 -> 40 | R11: =Q11-P11/MAX(P11:P64) -> 39.429272 | S11: =_xlfn.RANK.AVG(R11,$R$8:$R$52,1) -> 2
C12: Дундо Сергей
C13: Сисекин
A14: =SUM(A11,1) -> 3 | B14: EL Dorado | C14: Смолко Виктор | D14: ='1 этап'!D13 -> 39863 | E14: =_xlfn.RANK.AVG(D14,$D$8:$D$55,) -> 1 | F14: ='1 этап'!G13 -> 14332 | G14: =_xlfn.RANK.AVG(F14,$F$8:$F$55,) -> 7 | H14: ='2 этап'!D13 -> 8812 | I14: =_xlfn.RANK.AVG(H14,$H$8:$H$58,) -> 9 | J14: ='2 этап'!G13 -> 0 | K14: =_xlfn.RANK.AVG(J14,$J$8:$J$58,) -> 15.5 | L14: ='3 этап'!D13 -> 0 | M14: =_xlfn.RANK.AVG(L14,$L$8:$L$58,) -> 8 | N14: ='3 этап'!G13 -> 0 | O14: =_xlfn.RANK.AVG(N14,$N$8:$N$58,) -> 8 | P14: =D14+F14+H14+J14+L14+N14 -> 63007 | Q14: =E14+G14+I14+K14+M14+O14 -> 48.5 | R14: =Q14-P14/MAX(P14:P67) -> 47.896201 | S14: =_xlfn.RANK.AVG(R14,$R$8:$R$52,1) -> 6
C15: Смолко Андрей
C16: Иванов Александр
A17: =SUM(A14,1) -> 4 | B17: Днепр | C17: Юденков Алексей | D17: ='1 этап'!D16 -> 3730 | E17: =_xlfn.RANK.AVG(D17,$D$8:$D$55,) -> 15 | F17: ='1 этап'!G16 -> 13063 | G17: =_xlfn.RANK.AVG(F17,$F$8:$F$55,) -> 9 | H17: ='2 этап'!D16 -> 6259 | I17: =_xlfn.RANK.AVG(H17,$H$8:$H$58,) -> 11 | J17: ='2 этап'!G16 -> 22201 | K17: =_xlfn.RANK.AVG(J17,$J$8:$J$58,) -> 1 | L17: ='3 этап'!D16 -> 0 | M17: =_xlfn.RANK.AVG(L17,$L$8:$L$58,) -> 8 | N17: ='3 этап'!G16 -> 0 | O17: =_xlfn.RANK.AVG(N17,$N$8:$N$58,) -> 8 | P17: =D17+F17+H17+J17+L17+N17 -> 45253 | Q17: =E17+G17+I17+K17+M17+O17 -> 52 | R17: =Q17-P17/MAX(P17:P70) -> 51.566339 | S17: =_xlfn.RANK.AVG(R17,$R$8:$R$52,1) -> 9
C18: Якушко
C19: Трусов
A20: =SUM(A17,1) -> 5 | B20: ГаШе | C20: Шейнин Андрей | D20: ='1 этап'!D19 -> 4785 | E20: =_xlfn.RANK.AVG(D20,$D$8:$D$55,) -> 14 | F20: ='1 этап'!G19 -> 8070 | G20: =_xlfn.RANK.AVG(F20,$F$8:$F$55,) -> 15 | H20: ='2 этап'!D19 -> 8505 | I20: =_xlfn.RANK.AVG(H20,$H$8:$H$58,) -> 10 | J20: ='2 этап'!G19 -> 4599 | K20: =_xlfn.RANK.AVG(J20,$J$8:$J$58,) -> 10 | L20: ='3 этап'!D19 -> 0 | M20: =_xlfn.RANK.AVG(L20,$L$8:$L$58,) -> 8 | N20: ='3 этап'!G19 -> 0 | O20: =_xlfn.RANK.AVG(N20,$N$8:$N$58,) -> 8 | P20: =D20+F20+H20+J20+L20+N20 -> 25959 | Q20: =E20+G20+I20+K20+M20+O20 -> 65 | R20: =Q20-P20/MAX(P20:P73) -> 64.751234 | S20: =_xlfn.RANK.AVG(R20,$R$8:$R$52,1) -> 14
C21: Гапеев Игорь
C22: Миронов Павел
A23: =SUM(A20,1) -> 6 | B23: VIVA Team | C23: Лихачёв Максим | D23: ='1 этап'!D22 -> 26680 | E23: =_xlfn.RANK.AVG(D23,$D$8:$D$55,) -> 3 | F23: ='1 этап'!G22 -> 6066 | G23: =_xlfn.RANK.AVG(F23,$F$8:$F$55,) -> 16 | H23: ='2 этап'!D22 -> 4027 | I23: =_xlfn.RANK.AVG(H23,$H$8:$H$58,) -> 13 | J23: ='2 этап'!G22 -> 8164 | K23: =_xlfn.RANK.AVG(J23,$J$8:$J$58,) -> 6 | L23: ='3 этап'!D22 -> 0 | M23: =_xlfn.RANK.AVG(L23,$L$8:$L$58,) -> 8 | N23: ='3 этап'!G22 -> 0 | O23: =_xlfn.RANK.AVG(N23,$N$8:$N$58,) -> 8 | P23: =D23+F23+H23+J23+L23+N23 -> 44937 | Q23: =E23+G23+I23+K23+M23+O23 -> 54 | R23: =Q23-P23/MAX(P23:P76) -> 53.569367 | S23: =_xlfn.RANK.AVG(R23,$R$8:$R$52,1) -> 11
C24: Колесник Валерий
C25: Балыко Иван
A26: =SUM(A23,1) -> 7 | B26: Lacky Jon | C26: Юрченко Юрий | D26: ='1 этап'!D25 -> 20763 | E26: =_xlfn.RANK.AVG(D26,$D$8:$D$55,) -> 5 | F26: ='1 этап'!G25 -> 11765 | G26: =_xlfn.RANK.AVG(F26,$F$8:$F$55,) -> 13 | H26: ='2 этап'!D25 -> 9515 | I26: =_xlfn.RANK.AVG(H26,$H$8:$H$58,) -> 8 | J26: ='2 этап'!G25 -> 19053 | K26: =_xlfn.RANK.AVG(J26,$J$8:$J$58,) -> 2 | L26: ='3 этап'!D25 -> 0 | M26: =_xlfn.RANK.AVG(L26,$L$8:$L$58,) -> 8 | N26: ='3 этап'!G25 -> 0 | O26: =_xlfn.RANK.AVG(N26,$N$8:$N$58,) -> 8 | P26: =D26+F26+H26+J26+L26+N26 -> 61096 | Q26: =E26+G26+I26+K26+M26+O26 -> 44 | R26: =Q26-P26/MAX(P26:P79) -> 43.414514 | S26: =_xlfn.RANK.AVG(R26,$R$8:$R$52,1) -> 5
C27: Атрахимович Евгений
C28: Галанчик Александр
A29: =SUM(A26,1) -> 8 | B29: Salmo | C29: Гамезо Артур | D29: ='1 этап'!D28 -> 15736 | E29: =_xlfn.RANK.AVG(D29,$D$8:$D$55,) -> 8 | F29: ='1 этап'!G28 -> 13154 | G29: =_xlfn.RANK.AVG(F29,$F$8:$F$55,) -> 8 | H29: ='2 этап'!D28 -> 3860 | I29: =_xlfn.RANK.AVG(H29,$H$8:$H$58,) -> 14 | J29: ='2 этап'!G28 -> 6169 | K29: =_xlfn.RANK.AVG(J29,$J$8:$J$58,) -> 8 | L29: ='3 этап'!D28 -> 0 | M29: =_xlfn.RANK.AVG(L29,$L$8:$L$58,) -> 8 | N29: ='3 этап'!G28 -> 0 | O29: =_xlfn.RANK.AVG(N29,$N$8:$N$58,) -> 8 | P29: =D29+F29+H29+J29+L29+N29 -> 38919 | Q29: =E29+G29+I29+K29+M29+O29 -> 54 | R29: =Q29-P29/MAX(P29:P82) -> 53.627038 | S29: =_xlfn.RANK.AVG(R29,$R$8:$R$52,1) -> 12
C30: Игнаткович Артём
C31: Забело Фёдор
A32: =SUM(A29,1) -> 9 | B32: ПФ+ | C32: Смельняк Виктор | D32: ='1 этап'!D31 -> 24656 | E32: =_xlfn.RANK.AVG(D32,$D$8:$D$55,) -> 4 | F32: ='1 этап'!G31 -> 20811 | G32: =_xlfn.RANK.AVG(F32,$F$8:$F$55,) -> 5 | H32: ='2 этап'!D31 -> 12419 | I32: =_xlfn.RANK.AVG(H32,$H$8:$H$58,) -> 7 | J32: ='2 этап'!G31 -> 4036 | K32: =_xlfn.RANK.AVG(J32,$J$8:$J$58,) -> 12 | L32: ='3 этап'!D31 -> 0 | M32: =_xlfn.RANK.AVG(L32,$L$8:$L$58,) -> 8 | N32: ='3 этап'!G31 -> 0 | O32: =_xlfn.RANK.AVG(N32,$N$8:$N$58,) -> 8 | P32: =D32+F32+H32+J32+L32+N32 -> 61922 | Q32: =E32+G32+I32+K32+M32+O32 -> 44 | R32: =Q32-P32/MAX(P32:P85) -> 43.406599 | S32: =_xlfn.RANK.AVG(R32,$R$8:$R$52,1) -> 4
C33: Филипчик Константин
C34: Иванов Сергей
A35: =SUM(A32,1) -> 10 | B35: КВ | C35: Костеневич Владимир | D35: ='1 этап'!D34 -> 10494 | E35: =_xlfn.RANK.AVG(D35,$D$8:$D$55,) -> 11 | F35: ='1 этап'!G34 -> 12097 | G35: =_xlfn.RANK.AVG(F35,$F$8:$F$55,) -> 12 | H35: ='2 этап'!D34 -> 2066 | I35: =_xlfn.RANK.AVG(H35,$H$8:$H$58,) -> 16 | J35: ='2 этап'!G34 -> 7402 | K35: =_xlfn.RANK.AVG(J35,$J$8:$J$58,) -> 7 | L35: ='3 этап'!D34 -> 0 | M35: =_xlfn.RANK.AVG(L35,$L$8:$L$58,) -> 8 | N35: ='3 этап'!G34 -> 0 | O35: =_xlfn.RANK.AVG(N35,$N$8:$N$58,) -> 8 | P35: =D35+F35+H35+J35+L35+N35 -> 32059 | Q35: =E35+G35+I35+K35+M35+O35 -> 62 | R35: =Q35-P35/MAX(P35:P88) -> 61.692777 | S35: =_xlfn.RANK.AVG(R35,$R$8:$R$52,1) -> 13
C36: Косиневич Виктор
C37: Казимир Витушко
A38: =SUM(A35,1) -> 11 | B38: ВОТум | C38: Астапов Владимир | D38: ='1 этап'!D37 -> 39682 | E38: =_xlfn.RANK.AVG(D38,$D$8:$D$55,) -> 2 | F38: ='1 этап'!G37 -> 22912 | G38: =_xlfn.RANK.AVG(F38,$F$8:$F$55,) -> 1 | H38: ='2 этап'!D37 -> 26681 | I38: =_xlfn.RANK.AVG(H38,$H$8:$H$58,) -> 1 | J38: ='2 этап'!G37 -> 15076 | K38: =_xlfn.RANK.AVG(J38,$J$8:$J$58,) -> 3 | L38: ='3 этап'!D37 -> 0 | M38: =_xlfn.RANK.AVG(L38,$L$8:$L$58,) -> 8 | N38: ='3 этап'!G37 -> 0 | O38: =_xlfn.RANK.AVG(N38,$N$8:$N$58,) -> 8 | P38: =D38+F38+H38+J38+L38+N38 -> 104351 | Q38: =E38+G38+I38+K38+M38+O38 -> 23 | R38: =Q38-P38/MAX(P38:P91) -> 22 | S38: =_xlfn.RANK.AVG(R38,$R$8:$R$52,1) -> 1
C39: Соглаев Алексей
C40: Алексеев Олег
A41: =SUM(A38,1) -> 12 | B41: Vodomotorika | C41: Потупин Анатолий | D41: ='1 этап'!D40 -> 10907 | E41: =_xlfn.RANK.AVG(D41,$D$8:$D$55,) -> 10 | F41: ='1 этап'!G40 -> 11632 | G41: =_xlfn.RANK.AVG(F41,$F$8:$F$55,) -> 14 | H41: ='2 этап'!D40 -> 4195 | I41: =_xlfn.RANK.AVG(H41,$H$8:$H$58,) -> 12 | J41: ='2 этап'!G40 -> 0 | K41: =_xlfn.RANK.AVG(J41,$J$8:$J$58,) -> 15.5 | L41: ='3 этап'!D40 -> 0 | M41: =_xlfn.RANK.AVG(L41,$L$8:$L$58,) -> 8 | N41: ='3 этап'!G40 -> 0 | O41: =_xlfn.RANK.AVG(N41,$N$8:$N$58,) -> 8 | P41: =D41+F41+H41+J41+L41+N41 -> 26734 | Q41: =E41+G41+I41+K41+M41+O41 -> 67.5 | R41: =Q41-P41/MAX(P41:P94) -> 66.947165 | S41: =_xlfn.RANK.AVG(R41,$R$8:$R$52,1) -> 15
C42: Кузнецов Никита
C43: Радкевич Фёдор
A44: =SUM(A41,1) -> 13 | B44: Политех | C44: Джежора Павел | D44: ='1 этап'!D43 -> 20011 | E44: =_xlfn.RANK.AVG(D44,$D$8:$D$55,) -> 6 | F44: ='1 этап'!G43 -> 21063 | G44: =_xlfn.RANK.AVG(F44,$F$8:$F$55,) -> 4 | H44: ='2 этап'!D43 -> 3135 | I44: =_xlfn.RANK.AVG(H44,$H$8:$H$58,) -> 15 | J44: ='2 этап'!G43 -> 4149 | K44: =_xlfn.RANK.AVG(J44,$J$8:$J$58,) -> 11 | L44: ='3 этап'!D43 -> 0 | M44: =_xlfn.RANK.AVG(L44,$L$8:$L$58,) -> 8 | N44: ='3 этап'!G43 -> 0 | O44: =_xlfn.RANK.AVG(N44,$N$8:$N$58,) -> 8 | P44: =D44+F44+H44+J44+L44+N44 -> 48358 | Q44: =E44+G44+I44+K44+M44+O44 -> 52 | R44: =Q44-P44/MAX(P44:P97) -> 51 | S44: =_xlfn.RANK.AVG(R44,$R$8:$R$52,1) -> 8
C45: Карих Юрий
C46: Предко Андрей
A47: =SUM(A44,1) -> 14 | B47: Spining gaem | C47: Лучина Андрей | D47: ='1 этап'!D46 -> 1906 | E47: =_xlfn.RANK.AVG(D47,$D$8:$D$55,) -> 16 | F47: ='1 этап'!G46 -> 21335 | G47: =_xlfn.RANK.AVG(F47,$F$8:$F$55,) -> 2 | H47: ='2 этап'!D46 -> 12581 | I47: =_xlfn.RANK.AVG(H47,$H$8:$H$58,) -> 6 | J47: ='2 этап'!G46 -> 1812 | K47: =_xlfn.RANK.AVG(J47,$J$8:$J$58,) -> 13 | L47: ='3 этап'!D46 -> 0 | M47: =_xlfn.RANK.AVG(L47,$L$8:$L$58,) -> 8 | N47: ='3 этап'!G46 -> 0 | O47: =_xlfn.RANK.AVG(N47,$N$8:$N$58,) -> 8 | P47: =D47+F47+H47+J47+L47+N47 -> 37634 | Q47: =E47+G47+I47+K47+M47+O47 -> 53 | R47: =Q47-P47/MAX(P47:P100) -> 52.183325 | S47: =_xlfn.RANK.AVG(R47,$R$8:$R$52,1) -> 10
C48: Щемер Сергей
C49: Нагорный Анатолий
A50: =SUM(A47,1) -> 15 | B50: Spro team | C50: Герцык А | D50: ='1 этап'!D49 -> 9337 | E50: =_xlfn.RANK.AVG(D50,$D$8:$D$55,) -> 13 | F50: ='1 этап'!G49 -> 21292 | G50: =_xlfn.RANK.AVG(F50,$F$8:$F$55,) -> 3 | H50: ='2 этап'!D49 -> 13729 | I50: =_xlfn.RANK.AVG(H50,$H$8:$H$58,) -> 4 | J50: ='2 этап'!G49 -> 1724 | K50: =_xlfn.RANK.AVG(J50,$J$8:$J$58,) -> 14 | L50: ='3 этап'!D49 -> 0 | M50: =_xlfn.RANK.AVG(L50,$L$8:$L$58,) -> 8 | N50: ='3 этап'!G49 -> 0 | O50: =_xlfn.RANK.AVG(N50,$N$8:$N$58,) -> 8 | P50: =D50+F50+H50+J50+L50+N50 -> 46082 | Q50: =E50+G50+I50+K50+M50+O50 -> 50 | R50: =Q50-P50/MAX(P50:P103) -> 49 | S50: =_xlfn.RANK.AVG(R50,$R$8:$R$52,1) -> 7
C51: Хаменушко Д
C52: Герасимович С
A53: =SUM(A50,1) -> 16 | B53: Сырный рай | C53: Кирдей Александр | D53: ='1 этап'!D52 -> 13699 | E53: =_xlfn.RANK.AVG(D53,$D$8:$D$55,) -> 9 | F53: ='1 этап'!G52 -> 12976 | G53: =_xlfn.RANK.AVG(F53,$F$8:$F$55,) -> 10 | P53: =D53+F53+H53+J53+L53+N53 -> 26675 | Q53: =E53+G53+I53+K53+M53+O53 -> 19
C54: Максуль Владимир
C55: Юревич Виталий
A56: =SUM(A53,1) -> 17 | B56: Против промлова | C56: Шевчук Дмитрий | H56: ='2 этап'!D52 -> 13648 | I56: =_xlfn.RANK.AVG(H56,$H$8:$H$58,) -> 5 | J56: ='2 этап'!G52 -> 4869 | K56: =_xlfn.RANK.AVG(J56,$J$8:$J$58,) -> 9 | P56: =D56+F56+H56+J56+L56+N56 -> 18517 | Q56: =E56+G56+I56+K56+M56+O56 -> 14
C57: Давыдов Николай
C58: Белусь Евгений

Sheet 1 этап
A1: ПРОТОКОЛ ТЕХНИЧЕСКИХ РЕЗУЛЬТАТОВ
A2: командных соревнований по спортивному лову рыбы спиннингом с лодок 2018
A3: Чемпионат Республики Беларусь 2018, этап 1 оз.Струсто - оз.Снуды
A5: № п/п | B5: Название команды | C5: I тур | F5: II тур | I5: Сумма баллов за 2 тура | J5: Сумма мест за 2 тура | K5: п/коэф | L5: Итоговое командное место
C6: Ф.И.О. рыболова-спортсмена | D6: Баллы | E6: Место | F6: Ф.И.О. рыболова-спортсмена | G6: Баллы | H6: Место
A7: 1 | B7: Мегастрайк | C7: Ворон Павел | D7: 17401 | E7: =_xlfn.RANK.AVG(D7,$D$7:$D$54,) -> 7 | F7: Ворон Павел | G7: 12350 | H7: =_xlfn.RANK.AVG(G7,$G$7:$G$54,) -> 11 | I7: =SUM(D7+G7) -> 29751 | J7: =E7+H7 -> 18 | K7: =J7-I7/MAX(I7:I55) -> 17.524699 | L7: =_xlfn.RANK.AVG(K7,$K$7:$K$54,1) -> 8
C8: Турков Станислав | F8: Турков Станислав
C9: Винников Игорь | F9: Винников Игорь
A10: =SUM(A7,1) -> 2 | B10: Мегаполис | C10: Романов Сергей | D10: 9872 | E10: =_xlfn.RANK.AVG(D10,$D$7:$D$54,) -> 12 | F10: Романов Сергей | G10: 15012 | H10: =_xlfn.RANK.AVG(G10,$G$7:$G$54,) -> 6 | I10: =SUM(D10+G10) -> 24884 | J10: =E10+H10 -> 18 | K10: =J10-I10/MAX(I7:I55) -> 17.602454 | L10: =_xlfn.RANK.AVG(K10,$K$7:$K$54,1) -> 9
C11: Дундо Сергей | F11: Дундо Сергей
C12: Сисекин | F12: Сисекин
A13: =SUM(A10,1) -> 3 | B13: EL Dorado | C13: Смолко Виктор | D13: 39863 | E13: =_xlfn.RANK.AVG(D13,$D$7:$D$54,) -> 1 | F13: Смолко Виктор | G13: 14332 | H13: =_xlfn.RANK.AVG(G13,$G$7:$G$54,) -> 7 | I13: =SUM(D13+G13) -> 54195 | J13: =E13+H13 -> 8 | K13: =J13-I13/MAX(I7:I55) -> 7.1341822 | L13: =_xlfn.RANK.AVG(K13,$K$7:$K$54,1) -> 2
C14: Смолко Андрей | F14: Федосенко Владимир
C15: Иванов Александр | F15: Иванов Александр
A16: =SUM(A13,1) -> 4 | B16: Днепр | C16: Юденков Алексей | D16: 3730 | E16: =_xlfn.RANK.AVG(D16,$D$7:$D$54,) -> 15 | F16: Юденков Алексей | G16: 13063 | H16: =_xlfn.RANK.AVG(G16,$G$7:$G$54,) -> 9 | I16: =SUM(D16+G16) -> 16793 | J16: =E16+H16 -> 24 | K16: =J16-I16/MAX(I7:I55) -> 23.731715 | L16: =_xlfn.RANK.AVG(K16,$K$7:$K$54,1) -> 15
C17: Якушко | F17: Якушко
C18: Трусов | F18: Трусов
A19: =SUM(A16,1) -> 5 | B19: ГаШе | C19: Шейнин Андрей | D19: 4785 | E19: =_xlfn.RANK.AVG(D19,$D$7:$D$54,) -> 14 | F19: Шейнин Андрей | G19: 8070 | H19: =_xlfn.RANK.AVG(G19,$G$7:$G$54,) -> 15 | I19: =SUM(D19+G19) -> 12855 | J19: =E19+H19 -> 29 | K19: =J19-I19/MAX(I7:I55) -> 28.794629 | L19: =_xlfn.RANK.AVG(K19,$K$7:$K$54,1) -> 16
C20: Гапеев Игорь | F20: Гапеев Игорь
C21: Миронов Павел | F21: Миронов Павел
A22: =SUM(A19,1) -> 6 | B22: VIVA Team | C22: Лихачёв Максим | D22: 26680 | E22: =_xlfn.RANK.AVG(D22,$D$7:$D$54,) -> 3 | F22: Лихачёв Максим | G22: 6066 | H22: =_xlfn.RANK.AVG(G22,$G$7:$G$54,) -> 16 | I22: =SUM(D22+G22) -> 32746 | J22: =E22+H22 -> 19 | K22: =J22-I22/MAX(I7:I55) -> 18.476851 | L22: =_xlfn.RANK.AVG(K22,$K$7:$K$54,1) -> 11
C23: Колесник Валерий | F23: Колесник Валерий
C24: Балыко Иван | F24: Балыко Иван
A25: =SUM(A22,1) -> 7 | B25: Lacky Jon | C25: Юрченко Юрий | D25: 20763 | E25: =_xlfn.RANK.AVG(D25,$D$7:$D$54,) -> 5 | F25: Юрченко Юрий | G25: 11765 | H25: =_xlfn.RANK.AVG(G25,$G$7:$G$54,) -> 13 | I25: =SUM(D25+G25) -> 32528 | J25: =E25+H25 -> 18 | K25: =J25-I25/MAX(I7:I55) -> 17.480334 | L25: =_xlfn.RANK.AVG(K25,$K$7:$K$54,1) -> 7
C26: Атрахимович Евгений | F26: Атрахимович Евгений
C27: Галанчик Александр | F27: Галанчик Александр
A28: =SUM(A25,1) -> 8 | B28: Salmo | C28: Гамезо Артур | D28: 15736 | E28: =_xlfn.RANK.AVG(D28,$D$7:$D$54,) -> 8 | F28: Гамезо Артур | G28: 13154 | H28: =_xlfn.RANK.AVG(G28,$G$7:$G$54,) -> 8 | I28: =SUM(D28+G28) -> 28890 | J28: =E28+H28 -> 16 | K28: =J28-I28/MAX(I7:I55) -> 15.538454 | L28: =_xlfn.RANK.AVG(K28,$K$7:$K$54,1) -> 6
C29: Игнаткович Артём | F29: Игнаткович Артём
C30: Забело Фёдор | F30: Забело Фёдор
A31: =SUM(A28,1) -> 9 | B31: ПФ+ | C31: Смельняк Виктор | D31: 24656 | E31: =_xlfn.RANK.AVG(D31,$D$7:$D$54,) -> 4 | F31: Смельняк Виктор | G31: 20811 | H31: =_xlfn.RANK.AVG(G31,$G$7:$G$54,) -> 5 | I31: =SUM(D31+G31) -> 45467 | J31: =E31+H31 -> 9 | K31: =J31-I31/MAX(I7:I54) -> 8.2736205 | L31: =_xlfn.RANK.AVG(K31,$K$7:$K$54,1) -> 3
C32: Филипчик Константин | F32: Филипчик Константин
C33: Иванов Сергей | F33: Иванов Сергей
A34: =SUM(A31,1) -> 10 | B34: КВ | C34: Костеневич Владимир | D34: 10494 | E34: =_xlfn.RANK.AVG(D34,$D$7:$D$54,) -> 11 | F34: Костеневич Владимир | G34: 12097 | H34: =_xlfn.RANK.AVG(G34,$G$7:$G$54,) -> 12 | I34: =SUM(D34+G34) -> 22591 | J34: =E34+H34 -> 23 | K34: =J34-I34/MAX(I7:I54) -> 22.639087 | L34: =_xlfn.RANK.AVG(K34,$K$7:$K$54,1) -> 13
C35: Косиневич Виктор | F35: Косиневич Виктор
C36: Казимир Витушко | F36: Казимир Витушко
A37: =SUM(A34,1) -> 11 | B37: ВОТум | C37: Астапов Владимир | D37: 39682 | E37: =_xlfn.RANK.AVG(D37,$D$7:$D$54,) -> 2 | F37: Астапов Владимир | G37: 22912 | H37: =_xlfn.RANK.AVG(G37,$G$7:$G$54,) -> 1 | I37: =SUM(D37+G37) -> 62594 | J37: =E37+H37 -> 3 | K37: =J37-I37/MAX(I7:I54) -> 2 | L37: =_xlfn.RANK.AVG(K37,$K$7:$K$54,1) -> 1
C38: Соглаев Алексей | F38: Соглаев Алексей
C39: Алексеев Олег | F39: Алексеев Олег
A40: =SUM(A37,1) -> 12 | B40: Vodomotorika | C40: Потупин Анатолий | D40: 10907 | E40: =_xlfn.RANK.AVG(D40,$D$7:$D$54,) -> 10 | F40: Потупин Анатолий | G40: 11632 | H40: =_xlfn.RANK.AVG(G40,$G$7:$G$54,) -> 14 | I40: =SUM(D40+G40) -> 22539 | J40: =E40+H40 -> 24 | K40: =J40-I40/MAX(I7:I54) -> 23.639918 | L40: =_xlfn.RANK.AVG(K40,$K$7:$K$54,1) -> 14
C41: Кузнецов Никита | F41: Кузнецов Никита
C42: Радкевич Фёдор | F42: Радкевич Фёдор
A43: =SUM(A40,1) -> 13 | B43: Политех | C43: Джежора Павел | D43: 20011 | E43: =_xlfn.RANK.AVG(D43,$D$7:$D$54,) -> 6 | F43: Джежора Павел | G43: 21063 | H43: =_xlfn.RANK.AVG(G43,$G$7:$G$54,) -> 4 | I43: =SUM(D43+G43) -> 41074 | J43: =E43+H43 -> 10 | K43: =J43-I43/MAX(I7:I54) -> 9.3438029 | L43: =_xlfn.RANK.AVG(K43,$K$7:$K$54,1) -> 4
C44: Карих Юрий | F44: Карих Юрий
C45: Предко Андрей | F45: Предко Андрей
A46: =SUM(A43,1) -> 14 | B46: Spining gaem | C46: Лучина Андрей | D46: 1906 | E46: =_xlfn.RANK.AVG(D46,$D$7:$D$54,) -> 16 | F46: Лучина Андрей | G46: 21335 | H46: =_xlfn.RANK.AVG(G46,$G$7:$G$54,) -> 2 | I46: =SUM(D46+G46) -> 23241 | J46: =E46+H46 -> 18 | K46: =J46-I46/MAX(I7:I54) -> 17.628702 | L46: =_xlfn.RANK.AVG(K46,$K$7:$K$54,1) -> 10
C47: Щемер Сергей | F47: Щемер Сергей
C48: Нагорный Анатолий | F48: Садовский Станислав
A49: =SUM(A46,1) -> 15 | B49: Spro team | C49: Герцык А | D49: 9337 | E49: =_xlfn.RANK.AVG(D49,$D$7:$D$54,) -> 13 | F49: Герцык А | G49: 21292 | H49: =_xlfn.RANK.AVG(G49,$G$7:$G$54,) -> 3 | I49: =SUM(D49+G49) -> 30629 | J49: =E49+H49 -> 16 | K49: =J49-I49/MAX(I7:I54) -> 15.510672 | L49: =_xlfn.RANK.AVG(K49,$K$7:$K$54,1) -> 5
C50: Хаменушко Д | F50: Хаменушко Д
C51: Герасимович С | F51: Герасимович С
A52: =SUM(A49,1) -> 16 | B52: Сырный рай | C52: Кирдей Александр | D52: 13699 | E52: =_xlfn.RANK.AVG(D52,$D$7:$D$54,) -> 9 | F52: Кирдей Александр | G52: 12976 | H52: =_xlfn.RANK.AVG(G52,$G$7:$G$54,) -> 10 | I52: =SUM(D52+G52) -> 26675 | J52: =E52+H52 -> 19 | K52: =J52-I52/MAX(I7:I54) -> 18.573841 | L52: =_xlfn.RANK.AVG(K52,$K$7:$K$54,1) -> 12
C53: Максуль Владимир | F53: Максуль Владимир
C54: Юревич Виталий | F54: Юревич Виталий

Sheet 2 этап
A1: ПРОТОКОЛ ТЕХНИЧЕСКИХ РЕЗУЛЬТАТОВ
A2: командных соревнований по спортивному лову рыбы спиннингом с лодок 2018
A3: Чемпионат Республики Беларусь 2018, этап 2 оз.Дривяты
A5: № п/п | B5: Название команды | C5: I тур | F5: II тур | I5: Сумма баллов за 2 тура | J5: Сумма мест за 2 тура | K5: п/коэф | L5: Итоговое командное место
C6: Ф.И.О. рыболова-спортсмена | D6: Баллы | E6: Место | F6: Ф.И.О. рыболова-спортсмена | G6: Баллы | H6: Место
A7: 1 | B7: Мегастрайк | C7: Ворон Павел | D7: 21558 | E7: =_xlfn.RANK.AVG(D7,$D$7:$D$54,) -> 3 | F7: Ворон Павел | G7: 10712 | H7: =_xlfn.RANK.AVG(G7,$G$7:$G$54,) -> 5 | I7: =SUM(D7+G7) -> 32270 | J7: =E7+H7 -> 8 | K7: =J7-I7/MAX(I7:I55) -> 7.2271954 | L7: =_xlfn.RANK.AVG(K7,$K$7:$K$54,1) -> 3
C8: Турков Станислав | F8: Турков Станислав
C9: Быстрых Павел | F9: Быстрых Павел
A10: =SUM(A7,1) -> 2 | B10: Мегаполис | C10: Романов Сергей | D10: 23700 | E10: =_xlfn.RANK.AVG(D10,$D$7:$D$54,) -> 2 | F10: Романов Сергей | G10: 10972 | H10: =_xlfn.RANK.AVG(G10,$G$7:$G$54,) -> 4 | I10: =SUM(D10+G10) -> 34672 | J10: =E10+H10 -> 6 | K10: =J10-I10/MAX(I7:I55) -> 5.1696722 | L10: =_xlfn.RANK.AVG(K10,$K$7:$K$54,1) -> 2
C11: Дундо Сергей | F11: Дундо Сергей
C12: Сисекин | F12: Сисекин
A13: =SUM(A10,1) -> 3 | B13: EL Dorado | C13: Смолко Виктор | D13: 8812 | E13: =_xlfn.RANK.AVG(D13,$D$7:$D$54,) -> 9 | F13: Смолко Виктор | G13: 0 | H13: =_xlfn.RANK.AVG(G13,$G$7:$G$54,) -> 15.5 | I13: =SUM(D13+G13) -> 8812 | J13: =E13+H13 -> 24.5 | K13: =J13-I13/MAX(I7:I55) -> 24.28897 | L13: =_xlfn.RANK.AVG(K13,$K$7:$K$54,1) -> 14
C14: Смолко Андрей | F14: Федосенко Владимир
C15: Иванов Александр | F15: Иванов Александр
A16: =SUM(A13,1) -> 4 | B16: Днепр | C16: Юденков Алексей | D16: 6259 | E16: =_xlfn.RANK.AVG(D16,$D$7:$D$54,) -> 11 | F16: Юденков Алексей | G16: 22201 | H16: =_xlfn.RANK.AVG(G16,$G$7:$G$54,) -> 1 | I16: =SUM(D16+G16) -> 28460 | J16: =E16+H16 -> 12 | K16: =J16-I16/MAX(I7:I55) -> 11.318438 | L16: =_xlfn.RANK.AVG(K16,$K$7:$K$54,1) -> 5
C17: Смирнов Юрий | F17: Смирнов Юрий
C18: Новиков Антон | F18: Новиков Антон
A19: =SUM(A16,1) -> 5 | B19: ГаШе | C19: Шейнин Андрей | D19: 8505 | E19: =_xlfn.RANK.AVG(D19,$D$7:$D$54,) -> 10 | F19: Шейнин Андрей | G19: 4599 | H19: =_xlfn.RANK.AVG(G19,$G$7:$G$54,) -> 10 | I19: =SUM(D19+G19) -> 13104 | J19: =E19+H19 -> 20 | K19: =J19-I19/MAX(I7:I55) -> 19.686184 | L19: =_xlfn.RANK.AVG(K19,$K$7:$K$54,1) -> 11
C20: Гапеев Игорь | F20: Гапеев Игорь
C21: Митченков Александр | F21: Миронов Павел
A22: =SUM(A19,1) -> 6 | B22: VIVA Team | C22: Лихачёв Максим | D22: 4027 | E22: =_xlfn.RANK.AVG(D22,$D$7:$D$54,) -> 13 | F22: Лихачёв Максим | G22: 8164 | H22: =_xlfn.RANK.AVG(G22,$G$7:$G$54,) -> 6 | I22: =SUM(D22+G22) -> 12191 | J22: =E22+H22 -> 19 | K22: =J22-I22/MAX(I7:I55) -> 18.708049 | L22: =_xlfn.RANK.AVG(K22,$K$7:$K$54,1) -> 10
C23: Колесник Валерий | F23: Колесник Валерий
C24: Балыко Иван | F24: Балыко Иван
A25: =SUM(A22,1) -> 7 | B25: Lacky Jon | C25: Юрченко Юрий | D25: 9515 | E25: =_xlfn.RANK.AVG(D25,$D$7:$D$54,) -> 8 | F25: Юрченко Юрий | G25: 19053 | H25: =_xlfn.RANK.AVG(G25,$G$7:$G$54,) -> 2 | I25: =SUM(D25+G25) -> 28568 | J25: =E25+H25 -> 10 | K25: =J25-I25/MAX(I7:I55) -> 9.3158512 | L25: =_xlfn.RANK.AVG(K25,$K$7:$K$54,1) -> 4
C26: Атрахимович Евгений | F26: Атрахимович Евгений
C27: Галанчик Александр | F27: Галанчик Александр
A28: =SUM(A25,1) -> 8 | B28: Salmo | C28: Гамезо Артур | D28: 3860 | E28: =_xlfn.RANK.AVG(D28,$D$7:$D$54,) -> 14 | F28: Гамезо Артур | G28: 6169 | H28: =_xlfn.RANK.AVG(G28,$G$7:$G$54,) -> 8 | I28: =SUM(D28+G28) -> 10029 | J28: =E28+H28 -> 22 | K28: =J28-I28/MAX(I7:I55) -> 21.759825 | L28: =_xlfn.RANK.AVG(K28,$K$7:$K$54,1) -> 12
C29: Игнаткович Артём | F29: Игнаткович Артём
C30: Забело Фёдор | F30: Забело Фёдор
A31: =SUM(A28,1) -> 9 | B31: ПФ+ | C31: Смельняк Виктор | D31: 12419 | E31: =_xlfn.RANK.AVG(D31,$D$7:$D$54,) -> 7 | F31: Смельняк Виктор | G31: 4036 | H31: =_xlfn.RANK.AVG(G31,$G$7:$G$54,) -> 12 | I31: =SUM(D31+G31) -> 16455 | J31: =E31+H31 -> 19 | K31: =J31-I31/MAX(I7:I54) -> 18.605934 | L31: =_xlfn.RANK.AVG(K31,$K$7:$K$54,1) -> 8
C32: Филипчик Константин | F32: Филипчик Константин
C33: Иванов Сергей | F33: Иванов Сергей
A34: =SUM(A31,1) -> 10 | B34: КВ | C34: Костеневич Владимир | D34: 2066 | E34: =_xlfn.RANK.AVG(D34,$D$7:$D$54,) -> 16 | F34: Костеневич Владимир | G34: 7402 | H34: =_xlfn.RANK.AVG(G34,$G$7:$G$54,) -> 7 | I34: =SUM(D34+G34) -> 9468 | J34: =E34+H34 -> 23 | K34: =J34-I34/MAX(I7:I54) -> 22.77326 | L34: =_xlfn.RANK.AVG(K34,$K$7:$K$54,1) -> 13
C35: Косиневич Виктор | F35: Косиневич Виктор
C36: Казимир Витушко | F36: Казимир Витушко
A37: =SUM(A34,1) -> 11 | B37: ВОТум | C37: Астапов Владимир | D37: 26681 | E37: =_xlfn.RANK.AVG(D37,$D$7:$D$54,) -> 1 | F37: Астапов Владимир | G37: 15076 | H37: =_xlfn.RANK.AVG(G37,$G$7:$G$54,) -> 3 | I37: =SUM(D37+G37) -> 41757 | J37: =E37+H37 -> 4 | K37: =J37-I37/MAX(I7:I54) -> 3 | L37: =_xlfn.RANK.AVG(K37,$K$7:$K$54,1) -> 1
C38: Соглаев Алексей | F38: Соглаев Алексей
C39: Алексеев Олег | F39: Алексеев Олег
A40: =SUM(A37,1) -> 12 | B40: Vodomotorika | C40: Потупин Анатолий | D40: 4195 | E40: =_xlfn.RANK.AVG(D40,$D$7:$D$54,) -> 12 | F40: Потупин Анатолий | G40: 0 | H40: =_xlfn.RANK.AVG(G40,$G$7:$G$54,) -> 15.5 | I40: =SUM(D40+G40) -> 4195 | J40: =E40+H40 -> 27.5 | K40: =J40-I40/MAX(I7:I54) -> 27.399538 | L40: =_xlfn.RANK.AVG(K40,$K$7:$K$54,1) -> 16
C41: Кузнецов Никита | F41: Кузнецов Никита
C42: Радкевич Фёдор | F42: Радкевич Фёдор
A43: =SUM(A40,1) -> 13 | B43: Политех | C43: Джежора Павел | D43: 3135 | E43: =_xlfn.RANK.AVG(D43,$D$7:$D$54,) -> 15 | F43: Джежора Павел | G43: 4149 | H43: =_xlfn.RANK.AVG(G43,$G$7:$G$54,) -> 11 | I43: =SUM(D43+G43) -> 7284 | J43: =E43+H43 -> 26 | K43: =J43-I43/MAX(I7:I54) -> 25.825562 | L43: =_xlfn.RANK.AVG(K43,$K$7:$K$54,1) -> 15
C44: Карих Юрий | F44: Карих Юрий
C45: Предко Андрей | F45: Предко Андрей
A46: =SUM(A43,1) -> 14 | B46: Spining gaem | C46: Лучина Андрей | D46: 12581 | E46: =_xlfn.RANK.AVG(D46,$D$7:$D$54,) -> 6 | F46: Лучина Андрей | G46: 1812 | H46: =_xlfn.RANK.AVG(G46,$G$7:$G$54,) -> 13 | I46: =SUM(D46+G46) -> 14393 | J46: =E46+H46 -> 19 | K46: =J46-I46/MAX(I7:I54) -> 18.655315 | L46: =_xlfn.RANK.AVG(K46,$K$7:$K$54,1) -> 9
C47: Щемер Сергей | F47: Щемер Сергей
C48: Нагорный Анатолий | F48: Садовский Станислав
A49: =SUM(A46,1) -> 15 | B49: Spro team | C49: Герцык А | D49: 13729 | E49: =_xlfn.RANK.AVG(D49,$D$7:$D$54,) -> 4 | F49: Герцык А | G49: 1724 | H49: =_xlfn.RANK.AVG(G49,$G$7:$G$54,) -> 14 | I49: =SUM(D49+G49) -> 15453 | J49: =E49+H49 -> 18 | K49: =J49-I49/MAX(I7:I54) -> 17.62993 | L49: =_xlfn.RANK.AVG(K49,$K$7:$K$54,1) -> 7
C50: Хаменушко Д | F50: Хаменушко Д
C51: Герасимович С | F51: Герасимович С
A52: =SUM(A49,1) -> 16 | B52: Против промлова | C52: Шевчук Дмитрий | D52: 13648 | E52: =_xlfn.RANK.AVG(D52,$D$7:$D$54,) -> 5 | F52: Шевчук Дмитрий | G52: 4869 | H52: =_xlfn.RANK.AVG(G52,$G$7:$G$54,) -> 9 | I52: =SUM(D52+G52) -> 18517 | J52: =E52+H52 -> 14 | K52: =J52-I52/MAX(I7:I54) -> 13.556553 | L52: =_xlfn.RANK.AVG(K52,$K$7:$K$54,1) -> 6
C53: Давыдов Николай | F53: Давыдов Николай
C54: Белусь Евгений | F54: Белусь Евгений

Sheet 3 этап
A1: ПРОТОКОЛ ТЕХНИЧЕСКИХ РЕЗУЛЬТАТОВ
A2: командных соревнований по спортивному лову рыбы спиннингом с лодок 2018
A3: Чемпионат Республики Беларусь 2018, этап 3
A5: № п/п | B5: Название команды | C5: I тур | F5: II тур | I5: Сумма баллов за 2 тура | J5: Сумма мест за 2 тура | K5: п/коэф | L5: Итоговое командное место
C6: Ф.И.О. рыболова-спортсмена | D6: Баллы | E6: Место | F6: Ф.И.О. рыболова-спортсмена | G6: Баллы | H6: Место
A7: 1 | B7: Мегастрайк | C7: Ворон Павел | E7: =_xlfn.RANK.AVG(D7,$D$7:$D$54,1) -> #N/A | F7: Ворон Павел | H7: =_xlfn.RANK.AVG(G7,$G$7:$G$54,1) -> #N/A | I7: =SUM(D7+G7) -> 0 | J7: =E7+H7 -> #N/A | K7: =J7-I7/MAX(I7:I55) -> #N/A | L7: =_xlfn.RANK.AVG(K7,$K$7:$K$54,1) -> #N/A
C8: Турков Станислав | F8: Турков Станислав
C9: Быстрых Павел | F9: Быстрых Павел
A10: =SUM(A7,1) -> 2 | B10: Мегаполис | C10: Романов Сергей | E10: =_xlfn.RANK.AVG(D10,$D$7:$D$54,1) -> #N/A | F10: Романов Сергей | H10: =_xlfn.RANK.AVG(G10,$G$7:$G$54,1) -> #N/A | I10: =SUM(D10+G10) -> 0 | J10: =E10+H10 -> #N/A | K10: =J10-I10/MAX(I7:I55) -> #N/A | L10: =_xlfn.RANK.AVG(K10,$K$7:$K$54,1) -> #N/A
C11: Дундо Сергей | F11: Дундо Сергей
C12: Сисекин | F12: Сисекин
A13: =SUM(A10,1) -> 3 | B13: EL Dorado | C13: Смолко Виктор | E13: =_xlfn.RANK.AVG(D13,$D$7:$D$54,1) -> #N/A | F13: Смолко Виктор | H13: =_xlfn.RANK.AVG(G13,$G$7:$G$54,1) -> #N/A | I13: =SUM(D13+G13) -> 0 | J13: =E13+H13 -> #N/A | K13: =J13-I13/MAX(I7:I55) -> #N/A | L13: =_xlfn.RANK.AVG(K13,$K$7:$K$54,1) -> #N/A
C14: Смолко Андрей | F14: Федосенко Владимир
C15: Иванов Александр | F15: Иванов Александр
A16: =SUM(A13,1) -> 4 | B16: Днепр | C16: Юденков Алексей | E16: =_xlfn.RANK.AVG(D16,$D$7:$D$54,1) -> #N/A | F16: Юденков Алексей | H16: =_xlfn.RANK.AVG(G16,$G$7:$G$54,1) -> #N/A | I16: =SUM(D16+G16) -> 0 | J16: =E16+H16 -> #N/A | K16: =J16-I16/MAX(I7:I55) -> #N/A | L16: =_xlfn.RANK.AVG(K16,$K$7:$K$54,1) -> #N/A
C17: Смирнов Юрий | F17: Смирнов Юрий
C18: Новиков Антон | F18: Новиков Антон
A19: =SUM(A16,1) -> 5 | B19: ГаШе | C19: Шейнин Андрей | E19: =_xlfn.RANK.AVG(D19,$D$7:$D$54,1) -> #N/A | F19: Шейнин Андрей | H19: =_xlfn.RANK.AVG(G19,$G$7:$G$54,1) -> #N/A | I19: =SUM(D19+G19) -> 0 | J19: =E19+H19 -> #N/A | K19: =J19-I19/MAX(I7:I55) -> #N/A | L19: =_xlfn.RANK.AVG(K19,$K$7:$K$54,1) -> #N/A
C20: Гапеев Игорь | F20: Гапеев Игорь
C21: Митченков Александр | F21: Миронов Павел
A22: =SUM(A19,1) -> 6 | B22: VIVA Team | C22: Лихачёв Максим | E22: =_xlfn.RANK.AVG(D22,$D$7:$D$54,1) -> #N/A | F22: Лихачёв Максим | H22: =_xlfn.RANK.AVG(G22,$G$7:$G$54,1) -> #N/A | I22: =SUM(D22+G22) -> 0 | J22: =E22+H22 -> #N/A | K22: =J22-I22/MAX(I7:I55) -> #N/A | L22: =_xlfn.RANK.AVG(K22,$K$7:$K$54,1) -> #N/A
C23: Колесник Валерий | F23: Колесник Валерий
C24: Балыко Иван | F24: Балыко Иван
A25: =SUM(A22,1) -> 7 | B25: Lacky Jon | C25: Юрченко Юрий | E25: =_xlfn.RANK.AVG(D25,$D$7:$D$54,1) -> #N/A | F25: Юрченко Юрий | H25: =_xlfn.RANK.AVG(G25,$G$7:$G$54,1) -> #N/A | I25: =SUM(D25+G25) -> 0 | J25: =E25+H25 -> #N/A | K25: =J25-I25/MAX(I7:I55) -> #N/A | L25: =_xlfn.RANK.AVG(K25,$K$7:$K$54,1) -> #N/A
C26: Атрахимович Евгений | F26: Атрахимович Евгений
C27: Галанчик Александр | F27: Галанчик Александр
A28: =SUM(A25,1) -> 8 | B28: Salmo | C28: Гамезо Артур | E28: =_xlfn.RANK.AVG(D28,$D$7:$D$54,1) -> #N/A | F28: Гамезо Артур | H28: =_xlfn.RANK.AVG(G28,$G$7:$G$54,1) -> #N/A | I28: =SUM(D28+G28) -> 0 | J28: =E28+H28 -> #N/A | K28: =J28-I28/MAX(I7:I55) -> #N/A | L28: =_xlfn.RANK.AVG(K28,$K$7:$K$54,1) -> #N/A
C29: Игнаткович Артём | F29: Игнаткович Артём
C30: Забело Фёдор | F30: Забело Фёдор
A31: =SUM(A28,1) -> 9 | B31: ПФ+ | C31: Смельняк Виктор | E31: =_xlfn.RANK.AVG(D31,$D$7:$D$54,1) -> #N/A | F31: Смельняк Виктор | H31: =_xlfn.RANK.AVG(G31,$G$7:$G$54,1) -> #N/A | I31: =SUM(D31+G31) -> 0 | J31: =E31+H31 -> #N/A | K31: =J31-I31/MAX(I7:I54) -> #N/A | L31: =_xlfn.RANK.AVG(K31,$K$7:$K$54,1) -> #N/A
C32: Филипчик Константин | F32: Филипчик Константин
C33: Иванов Сергей | F33: Иванов Сергей
A34: =SUM(A31,1) -> 10 | B34: КВ | C34: Костеневич Владимир | E34: =_xlfn.RANK.AVG(D34,$D$7:$D$54,1) -> #N/A | F34: Костеневич Владимир | H34: =_xlfn.RANK.AVG(G34,$G$7:$G$54,1) -> #N/A | I34: =SUM(D34+G34) -> 0 | J34: =E34+H34 -> #N/A | K34: =J34-I34/MAX(I7:I54) -> #N/A | L34: =_xlfn.RANK.AVG(K34,$K$7:$K$54,1) -> #N/A
C35: Косиневич Виктор | F35: Косиневич Виктор
C36: Казимир Витушко | F36: Казимир Витушко
A37: =SUM(A34,1) -> 11 | B37: ВОТум | C37: Астапов Владимир | E37: =_xlfn.RANK.AVG(D37,$D$7:$D$54,1) -> #N/A | F37: Астапов Владимир | H37: =_xlfn.RANK.AVG(G37,$G$7:$G$54,1) -> #N/A | I37: =SUM(D37+G37) -> 0 | J37: =E37+H37 -> #N/A | K37: =J37-I37/MAX(I7:I54) -> #N/A | L37: =_xlfn.RANK.AVG(K37,$K$7:$K$54,1) -> #N/A
C38: Соглаев Алексей | F38: Соглаев Алексей
C39: Алексеев Олег | F39: Алексеев Олег
A40: =SUM(A37,1) -> 12 | B40: Vodomotorika | C40: Потупин Анатолий | E40: =_xlfn.RANK.AVG(D40,$D$7:$D$54,1) -> #N/A | F40: Потупин Анатолий | H40: =_xlfn.RANK.AVG(G40,$G$7:$G$54,1) -> #N/A | I40: =SUM(D40+G40) -> 0 | J40: =E40+H40 -> #N/A | K40: =J40-I40/MAX(I7:I54) -> #N/A | L40: =_xlfn.RANK.AVG(K40,$K$7:$K$54,1) -> #N/A
C41: Кузнецов Никита | F41: Кузнецов Никита
C42: Радкевич Фёдор | F42: Радкевич Фёдор
A43: =SUM(A40,1) -> 13 | B43: Политех | C43: Джежора Павел | E43: =_xlfn.RANK.AVG(D43,$D$7:$D$54,1) -> #N/A | F43: Джежора Павел | H43: =_xlfn.RANK.AVG(G43,$G$7:$G$54,1) -> #N/A | I43: =SUM(D43+G43) -> 0 | J43: =E43+H43 -> #N/A | K43: =J43-I43/MAX(I7:I54) -> #N/A | L43: =_xlfn.RANK.AVG(K43,$K$7:$K$54,1) -> #N/A
C44: Карих Юрий | F44: Карих Юрий
C45: Предко Андрей | F45: Предко Андрей
A46: =SUM(A43,1) -> 14 | B46: Spining gaem | C46: Лучина Андрей | E46: =_xlfn.RANK.AVG(D46,$D$7:$D$54,1) -> #N/A | F46: Лучина Андрей | H46: =_xlfn.RANK.AVG(G46,$G$7:$G$54,1) -> #N/A | I46: =SUM(D46+G46) -> 0 | J46: =E46+H46 -> #N/A | K46: =J46-I46/MAX(I7:I54) -> #N/A | L46: =_xlfn.RANK.AVG(K46,$K$7:$K$54,1) -> #N/A
C47: Щемер Сергей | F47: Щемер Сергей
C48: Нагорный Анатолий | F48: Садовский Станислав
A49: =SUM(A46,1) -> 15 | B49: Spro team | C49: Герцык А | E49: =_xlfn.RANK.AVG(D49,$D$7:$D$54,1) -> #N/A | F49: Герцык А | H49: =_xlfn.RANK.AVG(G49,$G$7:$G$54,1) -> #N/A | I49: =SUM(D49+G49) -> 0 | J49: =E49+H49 -> #N/A | K49: =J49-I49/MAX(I7:I54) -> #N/A | L49: =_xlfn.RANK.AVG(K49,$K$7:$K$54,1) -> #N/A
C50: Хаменушко Д | F50: Хаменушко Д
C51: Герасимович С | F51: Герасимович С
A52: =SUM(A49,1) -> 16 | B52: Против промлова | C52: Шевчук Дмитрий | E52: =_xlfn.RANK.AVG(D52,$D$7:$D$54,1) -> #N/A | F52: Шевчук Дмитрий | H52: =_xlfn.RANK.AVG(G52,$G$7:$G$54,1) -> #N/A | I52: =SUM(D52+G52) -> 0 | J52: =E52+H52 -> #N/A | K52: =J52-I52/MAX(I7:I54) -> #N/A | L52: =_xlfn.RANK.AVG(K52,$K$7:$K$54,1) -> #N/A
C53: Давыдов Николай | F53: Давыдов Николай
C54: Белусь Евгений | F54: Белусь Евгений
