Workbook
Name Excel_BuiltIn__FilterDatabase: Результаты!$A$6:$N$49
Name Excel_BuiltIn_Print_Area: Результаты!$A$1:$N$49

Sheet Результаты
A1: ПРОТОКОЛ ТЕХНИЧЕСКИХ РЕЗУЛЬТАТОВ
A2: 1-го этапа Чемпионата Республики Беларусь
A3: по спортивному лову рыбы спиннингом с лодок
A4: 22-27 сентября оз. Селява
A6: N п/п | B6: Название команды | C6: 1 ый тур | F6: 2 ой тур | I6: 3-ий тур | L6: Сумма баллов за 3 тура | M6: Сумма мест За 3 тура | N6: Итоговое командное место
C7: Ф.И.О. рыболова-спортсмена | D7: Баллы | E7: Место | F7: Ф.И.О. рыболова-спортсмена | G7: Баллы | H7: Место | I7: Ф.И.О. рыболова-спортсмена | J7: Баллы | K7: Место
A8: 1 | B8: Днепр | C8: Юденков Алексей Якушко Андрей | D8: =SUM('1-й тур'!AM18) -> 6638.25 | E8: 9 | F8: Юденков Алексей Якушко Андрей | G8: =SUM('2-й тур'!AM18) -> 8160 | H8: 5 | I8: Юденков Алексей Якушко Андрей | J8: ='3-тур'!AM18 -> 14508.5 | K8: 3 | L8: =SUM(D8,G8,J8) -> 29306.75 | M8: =SUM(E8,H8,K8) -> 17 | N8: 4
A11: 2 | B11: Ваши окна | C11: Шейнин Андрей Гапеев Игорь | D11: =SUM('1-й тур'!O18) -> 15394.75 | E11: 2 | F11: Шейнин Андрей Гапеев Игорь | G11: =SUM('2-й тур'!O18) -> 2116 | H11: 12 | I11: Шейнин Андрей Гапеев Игорь | J11: ='3-тур'!O18 -> 2916 | K11: 13 | L11: =SUM(D11,G11,J11) -> 20426.75 | M11: =SUM(E11,H11,K11) -> 27 | N11: 10
A14: 3 | B14: Богатый улов | C14: Маркевич Андрей Радюк Денис | D14: =SUM('1-й тур'!U18) -> 5788.25 | E14: 10 | F14: Маркевич Андрей Радюк Денис | G14: =SUM('2-й тур'!U18) -> 3782.25 | H14: 9 | I14: Маркевич Андрей Радюк Денис | J14: ='3-тур'!U18 -> 9327.25 | K14: 4 | L14: =SUM(D14,G14,J14) -> 18897.75 | M14: =SUM(E14,H14,K14) -> 23 | N14: 8
A17: 4 | B17: Flagman | C17: Романов Сергей Дундо Сергей Русанов Сергей (суд) | D17: =SUM('1-й тур'!AJ18) -> 18157.5 | E17: 1 | F17: Романов Сергей Дундо Сергей Русанов Сергей (суд) | G17: =SUM('2-й тур'!AJ18) -> 6180.25 | H17: 8 | I17: Романов Сергей Дундо Сергей Русанов Сергей (суд) | J17: ='3-тур'!AJ18 -> 16348.75 | K17: 2 | L17: =SUM(D17,G17,J17) -> 40686.5 | M17: =SUM(E17,H17,K17) -> 11 | N17: 2
A20: 5 | B20: Kemping.by | C20: Байков Александр Шевчук Дмитрий | D20: =SUM('1-й тур'!I18) -> 8824.25 | E20: 8 | F20: Байков Александр Шевчук Дмитрий | G20: =SUM('2-й тур'!I18) -> 0 | H20: 14 | I20: Байков Александр Шевчук Дмитрий | J20: ='3-тур'!I18 -> 7355 | K20: 7 | L20: =SUM(D20,G20,J20) -> 16179.25 | M20: =SUM(E20,H20,K20) -> 29 | N20: 11
A23: 6 | B23: Akara Team | C23: Чижонок Сергей Рученя Сергей | D23: =SUM('1-й тур'!AG18) -> 12198.5 | E23: 5 | F23: Чижонок Сергей Рученя Сергей | G23: =SUM('2-й тур'!AG18) -> 12440 | H23: 2 | I23: Чижонок Сергей Рученя Сергей | J23: ='3-тур'!AG18 -> 5547.25 | K23: 12 | L23: =SUM(D23,G23,J23) -> 30185.75 | M23: =SUM(E23,H23,K23) -> 19 | N23: 6
A26: 7 | B26: Lucky John | C26: Юрченко Юрий Атрахимович Евгений Галанчик Александр (суд) | D26: =SUM('1-й тур'!L18) -> 12874.5 | E26: 4 | F26: Юрченко Юрий Атрахимович Евгений Галанчик Александр (суд) | G26: =SUM('2-й тур'!L18) -> 7599.5 | H26: 7 | I26: Юрченко Юрий Атрахимович Евгений Галанчик Александр (суд) | J26: ='3-тур'!L18 -> 8306.75 | K26: 6 | L26: =SUM(D26,G26,J26) -> 28780.75 | M26: =SUM(E26,H26,K26) -> 17 | N26: 5
A29: 8 | B29: Fish Hunter | C29: Аноп Андрей Желтов Игорь | D29: =SUM('1-й тур'!AP18) -> 4908.25 | E29: 11 | F29: Аноп Андрей Желтов Игорь | G29: =SUM('2-й тур'!AP18) -> 9068.25 | H29: 4 | I29: Аноп Андрей Желтов Игорь | J29: ='3-тур'!AP18 -> 6972.5 | K29: 8 | L29: =SUM(D29,G29,J29) -> 20949 | M29: =SUM(E29,H29,K29) -> 23 | N29: 7
A32: 9 | B32: Fun Game | C32: Щемер Сергей Лучина Андрей Протас Илья (суд) | D32: =SUM('1-й тур'!AD18) -> 13535.5 | E32: 3 | F32: Щемер Сергей Лучина Андрей Протас Илья (суд) | G32: =SUM('2-й тур'!AD18) -> 11421.5 | H32: 3 | I32: Щемер Сергей Лучина Андрей Протас Илья (суд) | J32: ='3-тур'!AD18 -> 8998 | K32: 5 | L32: =SUM(D32,G32,J32) -> 33955 | M32: =SUM(E32,H32,K32) -> 11 | N32: 3
A35: 10 | B35: Azimuth | C35: Крат Вадим Бугай Дмитрий | D35: =SUM('1-й тур'!AA18) -> 10880.5 | E35: 7 | F35: Крат Вадим Бугай Дмитрий | G35: =SUM('2-й тур'!AA18) -> 2970.25 | H35: 10 | I35: Крат Вадим Бугай Дмитрий | J35: ='3-тур'!AA18 -> 6441 | K35: 9 | L35: =SUM(D35,G35,J35) -> 20291.75 | M35: =SUM(E35,H35,K35) -> 26 | N35: 9
A38: 11 | B38: SPRO | C38: Герцык Александр Герасимович Сергей Воротилин Николай (суд) | D38: =SUM('1-й тур'!R18) -> 0 | E38: 14 | F38: Герцык Александр Герасимович Сергей Воротилин Николай (суд) | G38: =SUM('2-й тур'!R18) -> 8147.25 | H38: 6 | I38: Герцык Александр Герасимович Сергей Воротилин Николай (суд) | J38: ='3-тур'!R18 -> 5801.25 | K38: 10 | L38: =SUM(D38,G38,J38) -> 13948.5 | M38: =SUM(E38,H38,K38) -> 30 | N38: 12
A41: 12 | B41: Green Fish | C41: Момотюк Андрей Гояев Андрей | D41: =SUM('1-й тур'!X18) -> 4131.25 | E41: 12 | F41: Момотюк Андрей Гояев Андрей | G41: =SUM('2-й тур'!X18) -> 2025 | H41: 13 | I41: Момотюк Андрей Гояев Андрей | J41: ='3-тур'!X18 -> 5620.25 | K41: 11 | L41: =SUM(D41,G41,J41) -> 11776.5 | M41: =SUM(E41,H41,K41) -> 36 | N41: 13
A44: 13 | B44: ООО «Интерсталь» | C44: Смолко Виктор Смолко Андрей | D44: =SUM('1-й тур'!F18) -> 11155.5 | E44: 6 | F44: Смолко Виктор Смолко Андрей | G44: =SUM('2-й тур'!F18) -> 18929 | H44: 1 | I44: Смолко Виктор Смолко Андрей | J44: ='3-тур'!F18 -> 19385.75 | K44: 1 | L44: =SUM(D44,G44,J44) -> 49470.25 | M44: =SUM(E44,H44,K44) -> 8 | N44: 1
A47: 14 | B47: КАМА | C47: Казущик Андрей Менделев Александр | D47: =SUM('1-й тур'!C18) -> 3481 | E47: 13 | F47: Казущик Андрей Менделев Александр | G47: =SUM('2-й тур'!C18) -> 2756.25 | H47: 11 | I47: Казущик Андрей Менделев Александр | J47: ='3-тур'!C18 -> 0 | K47: 14 | L47: =SUM(D47,G47,J47) -> 6237.25 | M47: =SUM(E47,H47,K47) -> 38 | N47: 14

Sheet 1-й тур
A1: КАМА | D1: ООО «Интерсталь» | G1: Kemping.by | J1: Lucky John | M1: Ваши окна | P1: SPRO | S1: Богатый улов | V1: Green Fish | Y1: Azimuth | AB1: Fun Game | AE1: Akara Team | AH1: Flagman | AK1: Днепр | AN1: Fish Hunter
A2: Вид | B2: Длина, см | C2: Баллы | D2: Вид | E2: Длина, см | F2: Баллы | G2: Вид | H2: Длина, см | I2: Баллы | J2: Вид | K2: Длина, см | L2: Баллы | M2: Вид | N2: Длина, см | O2: Баллы | P2: Вид | Q2: Длина, см | R2: Баллы | S2: Вид | T2: Длина, см | U2: Баллы | V2: Вид | W2: Длина, см | X2: Баллы | Y2: Вид | Z2: Длина, см | AA2: Баллы | AB2: Вид | AC2: Длина, см | AD2: Баллы | AE2: Вид | AF2: Длина, см | AG2: Баллы | AH2: Вид | AI2: Длина, см | AJ2: Баллы | AK2: Вид | AL2: Длина, см | AM2: Баллы | AN2: Вид | AO2: Длина, см | AP2: Баллы
A3: щука | B3: 59 | C3: =B3*B3 -> 3481 | D3: щука | E3: 57 | F3: =E3*E3 -> 3249 | G3: щука | H3: 52 | I3: =H3*H3 -> 2704 | J3: щука | K3: 50 | L3: =K3*K3 -> 2500 | M3: щука | N3: 52.5 | O3: =N3*N3 -> 2756.25 | R3: =Q3*Q3 -> 0 | S3: щука | T3: 54 | U3: =T3*T3 -> 2916 | V3: щука | W3: 59 | X3: =W3*W3 -> 3481 | Y3: окунь | Z3: 27 | AA3: =Z3*Z3 -> 729 | AB3: щука | AC3: 54 | AD3: =AC3*AC3 -> 2916 | AE3: окунь | AF3: 28.5 | AG3: =AF3*AF3 -> 812.25 | AH3: щука | AI3: 47 | AJ3: =AI3*AI3 -> 2209 | AK3: щука | AL3: 59 | AM3: =AL3*AL3 -> 3481 | AN3: окунь | AO3: 29 | AP3: =AO3*AO3 -> 841
C4: =B4*B4 -> 0 | D4: щука | E4: 52 | F4: =E4*E4 -> 2704 | G4: щука | H4: 45 | I4: =H4*H4 -> 2025 | J4: окунь | K4: 23 | L4: =K4*K4 -> 529 | M4: щука | N4: 55.5 | O4: =N4*N4 -> 3080.25 | R4: =Q4*Q4 -> 0 | S4: окунь | T4: 32 | U4: =T4*T4 -> 1024 | V4: окунь | W4: 25.5 | X4: =W4*W4 -> 650.25 | Y4: щука | Z4: 47 | AA4: =Z4*Z4 -> 2209 | AB4: щука | AC4: 46.5 | AD4: =AC4*AC4 -> 2162.25 | AE4: щука | AF4: 48.5 | AG4: =AF4*AF4 -> 2352.25 | AH4: щука | AI4: 49 | AJ4: =AI4*AI4 -> 2401 | AK4: щука | AL4: 49 | AM4: =AL4*AL4 -> 2401 | AN4: окунь | AO4: 29 | AP4: =AO4*AO4 -> 841
C5: =B5*B5 -> 0 | D5: щука | E5: 50.5 | F5: =E5*E5 -> 2550.25 | G5: щука | H5: 45.5 | I5: =H5*H5 -> 2070.25 | J5: щука | K5: 46.5 | L5: =K5*K5 -> 2162.25 | M5: щука | N5: 86 | O5: =N5*N5 -> 7396 | R5: =Q5*Q5 -> 0 | S5: окунь | T5: 36 | U5: =T5*T5 -> 1296 | X5: =W5*W5 -> 0 | Y5: щука | Z5: 47 | AA5: =Z5*Z5 -> 2209 | AB5: щука | AC5: 47.5 | AD5: =AC5*AC5 -> 2256.25 | AE5: щука | AF5: 47 | AG5: =AF5*AF5 -> 2209 | AH5: щука | AI5: 46.5 | AJ5: =AI5*AI5 -> 2162.25 | AK5: окунь | AL5: 27.5 | AM5: =AL5*AL5 -> 756.25 | AN5: щука | AO5: 50.5 | AP5: =AO5*AO5 -> 2550.25
C6: =B6*B6 -> 0 | D6: щука | E6: 51.5 | F6: =E6*E6 -> 2652.25 | G6: щука | H6: 45 | I6: =H6*H6 -> 2025 | J6: окунь | K6: 28 | L6: =K6*K6 -> 784 | M6: щука | N6: 46.5 | O6: =N6*N6 -> 2162.25 | R6: =Q6*Q6 -> 0 | S6: окунь | T6: 23.5 | U6: =T6*T6 -> 552.25 | X6: =W6*W6 -> 0 | Y6: щука | Z6: 52.5 | AA6: =Z6*Z6 -> 2756.25 | AB6: щука | AC6: 60 | AD6: =AC6*AC6 -> 3600 | AE6: щука | AF6: 46 | AG6: =AF6*AF6 -> 2116 | AH6: щука | AI6: 57 | AJ6: =AI6*AI6 -> 3249 | AM6: =AL6*AL6 -> 0 | AN6: окунь | AO6: 26 | AP6: =AO6*AO6 -> 676
C7: =B7*B7 -> 0 | F7: =E7*E7 -> 0 | I7: =H7*H7 -> 0 | J7: окунь | K7: 30.5 | L7: =K7*K7 -> 930.25 | O7: =N7*N7 -> 0 | R7: =Q7*Q7 -> 0 | U7: =T7*T7 -> 0 | X7: =W7*W7 -> 0 | Y7: окунь | Z7: 25 | AA7: =Z7*Z7 -> 625 | AB7: щука | AC7: 51 | AD7: =AC7*AC7 -> 2601 | AE7: щука | AF7: 47 | AG7: =AF7*AF7 -> 2209 | AH7: щука | AI7: 57 | AJ7: =AI7*AI7 -> 3249 | AM7: =AL7*AL7 -> 0 | AP7: =AO7*AO7 -> 0
C8: =B8*B8 -> 0 | F8: =E8*E8 -> 0 | I8: =H8*H8 -> 0 | J8: окунь | K8: 31 | L8: =K8*K8 -> 961 | O8: =N8*N8 -> 0 | R8: =Q8*Q8 -> 0 | U8: =T8*T8 -> 0 | X8: =W8*W8 -> 0 | Y8: щука | Z8: 48.5 | AA8: =Z8*Z8 -> 2352.25 | AD8: =AC8*AC8 -> 0 | AE8: щука | AF8: 50 | AG8: =AF8*AF8 -> 2500 | AH8: щука | AI8: 45 | AJ8: =AI8*AI8 -> 2025 | AM8: =AL8*AL8 -> 0 | AP8: =AO8*AO8 -> 0
C9: =B9*B9 -> 0 | F9: =E9*E9 -> 0 | I9: =H9*H9 -> 0 | J9: щука | K9: 48 | L9: =K9*K9 -> 2304 | O9: =N9*N9 -> 0 | R9: =Q9*Q9 -> 0 | U9: =T9*T9 -> 0 | X9: =W9*W9 -> 0 | AA9: =Z9*Z9 -> 0 | AD9: =AC9*AC9 -> 0 | AG9: =AF9*AF9 -> 0 | AH9: щука | AI9: 53.5 | AJ9: =AI9*AI9 -> 2862.25 | AM9: =AL9*AL9 -> 0 | AP9: =AO9*AO9 -> 0
C10: =B10*B10 -> 0 | F10: =E10*E10 -> 0 | I10: =H10*H10 -> 0 | J10: щука | K10: 52 | L10: =K10*K10 -> 2704 | O10: =N10*N10 -> 0 | R10: =Q10*Q10 -> 0 | U10: =T10*T10 -> 0 | X10: =W10*W10 -> 0 | AA10: =Z10*Z10 -> 0 | AD10: =AC10*AC10 -> 0 | AG10: =AF10*AF10 -> 0 | AJ10: =AI10*AI10 -> 0 | AM10: =AL10*AL10 -> 0 | AP10: =AO10*AO10 -> 0
C11: =B11*B11 -> 0 | F11: =E11*E11 -> 0 | I11: =H11*H11 -> 0 | L11: =K11*K11 -> 0 | O11: =N11*N11 -> 0 | R11: =Q11*Q11 -> 0 | U11: =T11*T11 -> 0 | X11: =W11*W11 -> 0 | AA11: =Z11*Z11 -> 0 | AD11: =AC11*AC11 -> 0 | AG11: =AF11*AF11 -> 0 | AJ11: =AI11*AI11 -> 0 | AM11: =AL11*AL11 -> 0 | AP11: =AO11*AO11 -> 0
C12: =B12*B12 -> 0 | F12: =E12*E12 -> 0 | I12: =H12*H12 -> 0 | L12: =K12*K12 -> 0 | O12: =N12*N12 -> 0 | R12: =Q12*Q12 -> 0 | U12: =T12*T12 -> 0 | X12: =W12*W12 -> 0 | AA12: =Z12*Z12 -> 0 | AD12: =AC12*AC12 -> 0 | AG12: =AF12*AF12 -> 0 | AJ12: =AI12*AI12 -> 0 | AM12: =AL12*AL12 -> 0 | AP12: =AO12*AO12 -> 0
C13: =B13*B13 -> 0 | F13: =E13*E13 -> 0 | I13: =H13*H13 -> 0 | L13: =K13*K13 -> 0 | O13: =N13*N13 -> 0 | R13: =Q13*Q13 -> 0 | U13: =T13*T13 -> 0 | X13: =W13*W13 -> 0 | AA13: =Z13*Z13 -> 0 | AD13: =AC13*AC13 -> 0 | AG13: =AF13*AF13 -> 0 | AJ13: =AI13*AI13 -> 0 | AM13: =AL13*AL13 -> 0 | AP13: =AO13*AO13 -> 0
C14: =B14*B14 -> 0 | F14: =E14*E14 -> 0 | I14: =H14*H14 -> 0 | L14: =K14*K14 -> 0 | O14: =N14*N14 -> 0 | R14: =Q14*Q14 -> 0 | U14: =T14*T14 -> 0 | X14: =W14*W14 -> 0 | AA14: =Z14*Z14 -> 0 | AD14: =AC14*AC14 -> 0 | AG14: =AF14*AF14 -> 0 | AJ14: =AI14*AI14 -> 0 | AM14: =AL14*AL14 -> 0 | AP14: =AO14*AO14 -> 0
C15: =B15*B15 -> 0 | F15: =E15*E15 -> 0 | I15: =H15*H15 -> 0 | L15: =K15*K15 -> 0 | O15: =N15*N15 -> 0 | R15: =Q15*Q15 -> 0 | U15: =T15*T15 -> 0 | X15: =W15*W15 -> 0 | AA15: =Z15*Z15 -> 0 | AD15: =AC15*AC15 -> 0 | AG15: =AF15*AF15 -> 0 | AJ15: =AI15*AI15 -> 0 | AM15: =AL15*AL15 -> 0 | AP15: =AO15*AO15 -> 0
C16: =B16*B16 -> 0 | F16: =E16*E16 -> 0 | I16: =H16*H16 -> 0 | L16: =K16*K16 -> 0 | O16: =N16*N16 -> 0 | R16: =Q16*Q16 -> 0 | U16: =T16*T16 -> 0 | X16: =W16*W16 -> 0 | AA16: =Z16*Z16 -> 0 | AD16: =AC16*AC16 -> 0 | AG16: =AF16*AF16 -> 0 | AJ16: =AI16*AI16 -> 0 | AM16: =AL16*AL16 -> 0 | AP16: =AO16*AO16 -> 0
C17: =B17*B17 -> 0 | F17: =E17*E17 -> 0 | I17: =H17*H17 -> 0 | L17: =K17*K17 -> 0 | O17: =N17*N17 -> 0 | R17: =Q17*Q17 -> 0 | U17: =T17*T17 -> 0 | X17: =W17*W17 -> 0 | AA17: =Z17*Z17 -> 0 | AD17: =AC17*AC17 -> 0 | AG17: =AF17*AF17 -> 0 | AJ17: =AI17*AI17 -> 0 | AM17: =AL17*AL17 -> 0 | AP17: =AO17*AO17 -> 0
C18: =SUM(C3:C17) -> 3481 | F18: =SUM(F3:F17) -> 11155.5 | I18: =SUM(I3:I17) -> 8824.25 | L18: =SUM(L3:L17) -> 12874.5 | O18: =SUM(O3:O17) -> 15394.75 | R18: =SUM(R3:R17) -> 0 | U18: =SUM(U3:U17) -> 5788.25 | X18: =SUM(X3:X17) -> 4131.25 | AA18: =SUM(AA3:AA17) -> 10880.5 | AD18: =SUM(AD3:AD17) -> 13535.5 | AG18: =SUM(AG3:AG17) -> 12198.5 | AJ18: =SUM(AJ3:AJ17) -> 18157.5 | AM18: =SUM(AM3:AM17) -> 6638.25 | AP18: =SUM(AP3:AP17) -> 4908.25
J19: предупреждение неспортивное поведение Кохно
A21: Вид | B21: Количество, шт | D21: Суммарная длина, см | G21: Средняя длина, см | J21: Суммарное количество баллов | M21: Среднее количество баллов | P21: Общее количество баллов
A22: окунь | B22: 1 | D22: =SUM(H3,H5:H8,K4:K6,N3:N4,N9:N11,Q3:Q4,T3:T7,AF3:AF5,AI3:AI4,AL3:AL7) -> 849 | G22: =D22/B22 -> 849 | J22: =SUM(G22,I3,I5:I8,L4:L6,O3:O4,O9:O11,R3:R4,U3:U7,AG3:AG5,AJ3:AJ4,AM3:AM7) -> 39370 | M22: =J22/B22 -> 39370 | P22: =SUM(J22,J23) -> 62502.5
A23: щука | B23: 1 | D23: =SUM(B23,H4,H9:H10,K3,N5:N8,N12,T8,AI5:AI7,AL8:AL12) -> 389 | G23: =D23/B23 -> 389 | J23: =SUM(G23,I4,I9:I10,L3,O5:O8,O12,U8,AJ5:AJ7,AM8:AM12) -> 23132.5 | M23: =J23/B23 -> 23132.5

Sheet 2-й тур
A1: КАМА | D1: ООО «Интерсталь» | G1: Kemping.by | J1: Lucky John | M1: Ваши окна | P1: SPRO | S1: Богатый улов | V1: Green Fish | Y1: Azimuth | AB1: Fun Game | AE1: Akara Team | AH1: Flagman | AK1: Днепр | AN1: Fish Hunter
A2: Вид | B2: Длина, см | C2: Баллы | D2: Вид | E2: Длина, см | F2: Баллы | G2: Вид | H2: Длина, см | I2: Баллы | J2: Вид | K2: Длина, см | L2: Баллы | M2: Вид | N2: Длина, см | O2: Баллы | P2: Вид | Q2: Длина, см | R2: Баллы | S2: Вид | T2: Длина, см | U2: Баллы | V2: Вид | W2: Длина, см | X2: Баллы | Y2: Вид | Z2: Длина, см | AA2: Баллы | AB2: Вид | AC2: Длина, см | AD2: Баллы | AE2: Вид | AF2: Длина, см | AG2: Баллы | AH2: Вид | AI2: Длина, см | AJ2: Баллы | AK2: Вид | AL2: Длина, см | AM2: Баллы | AN2: Вид | AO2: Длина, см | AP2: Баллы
A3: щука | B3: 52.5 | C3: =B3*B3 -> 2756.25 | D3: щука | E3: 74 | F3: =E3*E3 -> 5476 | I3: =H3*H3 -> 0 | J3: щука | K3: 58.5 | L3: =K3*K3 -> 3422.25 | M3: щука | N3: 46 | O3: =N3*N3 -> 2116 | P3: окунь | Q3: 25 | R3: =Q3*Q3 -> 625 | S3: щука | T3: 61.5 | U3: =T3*T3 -> 3782.25 | V3: щука | W3: 45 | X3: =W3*W3 -> 2025 | Y3: щука | Z3: 54.5 | AA3: =Z3*Z3 -> 2970.25 | AB3: окунь | AC3: 37.5 | AD3: =AC3*AC3 -> 1406.25 | AE3: щука | AF3: 47 | AG3: =AF3*AF3 -> 2209 | AH3: окунь | AI3: 26.5 | AJ3: =AI3*AI3 -> 702.25 | AK3: окунь | AL3: 33 | AM3: =AL3*AL3 -> 1089 | AN3: щука | AO3: 60.5 | AP3: =AO3*AO3 -> 3660.25
C4: =B4*B4 -> 0 | D4: щука | E4: 46.5 | F4: =E4*E4 -> 2162.25 | I4: =H4*H4 -> 0 | J4: щука | K4: 51 | L4: =K4*K4 -> 2601 | O4: =N4*N4 -> 0 | P4: окунь | Q4: 31.5 | R4: =Q4*Q4 -> 992.25 | U4: =T4*T4 -> 0 | X4: =W4*W4 -> 0 | AA4: =Z4*Z4 -> 0 | AB4: щука | AC4: 45 | AD4: =AC4*AC4 -> 2025 | AE4: щука | AF4: 52.5 | AG4: =AF4*AF4 -> 2756.25 | AH4: окунь | AI4: 23 | AJ4: =AI4*AI4 -> 529 | AK4: окунь | AL4: 46 | AM4: =AL4*AL4 -> 2116 | AN4: щука | AO4: 52 | AP4: =AO4*AO4 -> 2704
C5: =B5*B5 -> 0 | D5: щука | E5: 49.5 | F5: =E5*E5 -> 2450.25 | I5: =H5*H5 -> 0 | J5: окунь | K5: 32 | L5: =K5*K5 -> 1024 | O5: =N5*N5 -> 0 | P5: окунь | Q5: 25.5 | R5: =Q5*Q5 -> 650.25 | U5: =T5*T5 -> 0 | X5: =W5*W5 -> 0 | AA5: =Z5*Z5 -> 0 | AB5: щука | AC5: 50.5 | AD5: =AC5*AC5 -> 2550.25 | AE5: щука | AF5: 49.5 | AG5: =AF5*AF5 -> 2450.25 | AH5: щука | AI5: 50.5 | AJ5: =AI5*AI5 -> 2550.25 | AK5: щука | AL5: 47 | AM5: =AL5*AL5 -> 2209 | AN5: щука | AO5: 52 | AP5: =AO5*AO5 -> 2704
C6: =B6*B6 -> 0 | D6: щука | E6: 47 | F6: =E6*E6 -> 2209 | I6: =H6*H6 -> 0 | J6: окунь | K6: 23.5 | L6: =K6*K6 -> 552.25 | O6: =N6*N6 -> 0 | P6: окунь | Q6: 30.5 | R6: =Q6*Q6 -> 930.25 | U6: =T6*T6 -> 0 | X6: =W6*W6 -> 0 | AA6: =Z6*Z6 -> 0 | AB6: щука | AC6: 48 | AD6: =AC6*AC6 -> 2304 | AE6: щука | AF6: 46.5 | AG6: =AF6*AF6 -> 2162.25 | AH6: окунь | AI6: 31.5 | AJ6: =AI6*AI6 -> 992.25 | AK6: окунь | AL6: 39 | AM6: =AL6*AL6 -> 1521 | AP6: =AO6*AO6 -> 0
C7: =B7*B7 -> 0 | D7: щука | E7: 47 | F7: =E7*E7 -> 2209 | I7: =H7*H7 -> 0 | L7: =K7*K7 -> 0 | O7: =N7*N7 -> 0 | P7: окунь | Q7: 24.5 | R7: =Q7*Q7 -> 600.25 | U7: =T7*T7 -> 0 | X7: =W7*W7 -> 0 | AA7: =Z7*Z7 -> 0 | AB7: щука | AC7: 56 | AD7: =AC7*AC7 -> 3136 | AE7: щука | AF7: 53.5 | AG7: =AF7*AF7 -> 2862.25 | AH7: окунь | AI7: 25.5 | AJ7: =AI7*AI7 -> 650.25 | AK7: окунь | AL7: 35 | AM7: =AL7*AL7 -> 1225 | AP7: =AO7*AO7 -> 0
C8: =B8*B8 -> 0 | D8: щука | E8: 45.5 | F8: =E8*E8 -> 2070.25 | I8: =H8*H8 -> 0 | L8: =K8*K8 -> 0 | O8: =N8*N8 -> 0 | P8: окунь | Q8: 24 | R8: =Q8*Q8 -> 576 | U8: =T8*T8 -> 0 | X8: =W8*W8 -> 0 | AA8: =Z8*Z8 -> 0 | AD8: =AC8*AC8 -> 0 | AG8: =AF8*AF8 -> 0 | AH8: окунь | AI8: 27.5 | AJ8: =AI8*AI8 -> 756.25 | AM8: =AL8*AL8 -> 0 | AP8: =AO8*AO8 -> 0
C9: =B9*B9 -> 0 | D9: щука | E9: 48.5 | F9: =E9*E9 -> 2352.25 | I9: =H9*H9 -> 0 | L9: =K9*K9 -> 0 | O9: =N9*N9 -> 0 | P9: окунь | Q9: 25 | R9: =Q9*Q9 -> 625 | U9: =T9*T9 -> 0 | X9: =W9*W9 -> 0 | AA9: =Z9*Z9 -> 0 | AD9: =AC9*AC9 -> 0 | AG9: =AF9*AF9 -> 0 | AJ9: =AI9*AI9 -> 0 | AM9: =AL9*AL9 -> 0 | AP9: =AO9*AO9 -> 0
C10: =B10*B10 -> 0 | F10: =E10*E10 -> 0 | I10: =H10*H10 -> 0 | L10: =K10*K10 -> 0 | O10: =N10*N10 -> 0 | P10: окунь | Q10: 25.5 | R10: =Q10*Q10 -> 650.25 | U10: =T10*T10 -> 0 | X10: =W10*W10 -> 0 | AA10: =Z10*Z10 -> 0 | AD10: =AC10*AC10 -> 0 | AG10: =AF10*AF10 -> 0 | AJ10: =AI10*AI10 -> 0 | AM10: =AL10*AL10 -> 0 | AP10: =AO10*AO10 -> 0
C11: =B11*B11 -> 0 | F11: =E11*E11 -> 0 | I11: =H11*H11 -> 0 | L11: =K11*K11 -> 0 | O11: =N11*N11 -> 0 | P11: окунь | Q11: 31 | R11: =Q11*Q11 -> 961 | U11: =T11*T11 -> 0 | X11: =W11*W11 -> 0 | AA11: =Z11*Z11 -> 0 | AD11: =AC11*AC11 -> 0 | AG11: =AF11*AF11 -> 0 | AJ11: =AI11*AI11 -> 0 | AM11: =AL11*AL11 -> 0 | AP11: =AO11*AO11 -> 0
C12: =B12*B12 -> 0 | F12: =E12*E12 -> 0 | I12: =H12*H12 -> 0 | L12: =K12*K12 -> 0 | O12: =N12*N12 -> 0 | P12: окунь | Q12: 24 | R12: =Q12*Q12 -> 576 | U12: =T12*T12 -> 0 | X12: =W12*W12 -> 0 | AA12: =Z12*Z12 -> 0 | AD12: =AC12*AC12 -> 0 | AG12: =AF12*AF12 -> 0 | AJ12: =AI12*AI12 -> 0 | AM12: =AL12*AL12 -> 0 | AP12: =AO12*AO12 -> 0
C13: =B13*B13 -> 0 | F13: =E13*E13 -> 0 | I13: =H13*H13 -> 0 | L13: =K13*K13 -> 0 | O13: =N13*N13 -> 0 | P13: окунь | Q13: 31 | R13: =Q13*Q13 -> 961 | U13: =T13*T13 -> 0 | X13: =W13*W13 -> 0 | AA13: =Z13*Z13 -> 0 | AD13: =AC13*AC13 -> 0 | AG13: =AF13*AF13 -> 0 | AJ13: =AI13*AI13 -> 0 | AM13: =AL13*AL13 -> 0 | AP13: =AO13*AO13 -> 0
C14: =B14*B14 -> 0 | F14: =E14*E14 -> 0 | I14: =H14*H14 -> 0 | L14: =K14*K14 -> 0 | O14: =N14*N14 -> 0 | R14: =Q14*Q14 -> 0 | U14: =T14*T14 -> 0 | X14: =W14*W14 -> 0 | AA14: =Z14*Z14 -> 0 | AD14: =AC14*AC14 -> 0 | AG14: =AF14*AF14 -> 0 | AJ14: =AI14*AI14 -> 0 | AM14: =AL14*AL14 -> 0 | AP14: =AO14*AO14 -> 0
C15: =B15*B15 -> 0 | F15: =E15*E15 -> 0 | I15: =H15*H15 -> 0 | L15: =K15*K15 -> 0 | O15: =N15*N15 -> 0 | R15: =Q15*Q15 -> 0 | U15: =T15*T15 -> 0 | X15: =W15*W15 -> 0 | AA15: =Z15*Z15 -> 0 | AD15: =AC15*AC15 -> 0 | AG15: =AF15*AF15 -> 0 | AJ15: =AI15*AI15 -> 0 | AM15: =AL15*AL15 -> 0 | AP15: =AO15*AO15 -> 0
C16: =B16*B16 -> 0 | F16: =E16*E16 -> 0 | I16: =H16*H16 -> 0 | L16: =K16*K16 -> 0 | O16: =N16*N16 -> 0 | R16: =Q16*Q16 -> 0 | U16: =T16*T16 -> 0 | X16: =W16*W16 -> 0 | AA16: =Z16*Z16 -> 0 | AD16: =AC16*AC16 -> 0 | AG16: =AF16*AF16 -> 0 | AJ16: =AI16*AI16 -> 0 | AM16: =AL16*AL16 -> 0 | AP16: =AO16*AO16 -> 0
C17: =B17*B17 -> 0 | F17: =E17*E17 -> 0 | I17: =H17*H17 -> 0 | L17: =K17*K17 -> 0 | O17: =N17*N17 -> 0 | R17: =Q17*Q17 -> 0 | U17: =T17*T17 -> 0 | X17: =W17*W17 -> 0 | AA17: =Z17*Z17 -> 0 | AD17: =AC17*AC17 -> 0 | AG17: =AF17*AF17 -> 0 | AJ17: =AI17*AI17 -> 0 | AM17: =AL17*AL17 -> 0 | AP17: =AO17*AO17 -> 0
C18: =SUM(C3:C17) -> 2756.25 | F18: =SUM(F3:F17) -> 18929 | I18: =SUM(I3:I17) -> 0 | L18: =SUM(L3:L17) -> 7599.5 | O18: =SUM(O3:O17) -> 2116 | R18: =SUM(R3:R17) -> 8147.25 | U18: =SUM(U3:U17) -> 3782.25 | X18: =SUM(X3:X17) -> 2025 | AA18: =SUM(AA3:AA17) -> 2970.25 | AD18: =SUM(AD3:AD17) -> 11421.5 | AG18: =SUM(AG3:AG17) -> 12440 | AJ18: =SUM(AJ3:AJ17) -> 6180.25 | AM18: =SUM(AM3:AM17) -> 8160 | AP18: =SUM(AP3:AP17) -> 9068.25
D19: предупреждение за опоздание на построение Кохно
A21: Вид | B21: Количество, шт | D21: Суммарная длина, см | G21: Средняя длина, см | J21: Суммарное количество баллов | M21: Среднее количество баллов | P21: Общее количество баллов
A22: окунь | B22: 1 | D22: =SUM(B22,E3,H3:H7,N8:N12,T4:T6,W3,Z3:Z4,AF3:AF7,AI3:AI7,AL4,AL6,AL8,AL10,AL12,AO3:AO7) -> 830 | G22: =D22/B22 -> 830 | J22: =SUM(F3,I3:I7,O8:O12,U4:U6,X3,AA3:AA4,AG3:AG7,AJ3:AJ7,AM4,AM6,AM8,AM10,AM12,AP3:AP7) -> 41040.5 | M22: =J22/B22 -> 41040.5 | P22: =SUM(J22,J23) -> 57046.5
A23: щука | B23: 1 | D23: =SUM(K3,N3:N7,T3,AC3,AI8,AL3,AL5,AL7,AL9,AL11) -> 346 | G23: =D23/B23 -> 346 | J23: =SUM(L3,O3:O7,U3,AD3,AJ8,AM3,AM5,AM7,AM9,AM11) -> 16006 | M23: =J23/B23 -> 16006

Sheet 3-тур
A1: КАМА | D1: ООО «Интерсталь» | G1: Kemping.by | J1: Lucky John | M1: Ваши окна | P1: SPRO | S1: Богатый улов | V1: Green Fish | Y1: Azimuth | AB1: Fun Game | AE1: Akara Team | AH1: Flagman | AK1: Днепр | AN1: Fish Hunter
A2: Вид | B2: Длина, см | C2: Баллы | D2: Вид | E2: Длина, см | F2: Баллы | G2: Вид | H2: Длина, см | I2: Баллы | J2: Вид | K2: Длина, см | L2: Баллы | M2: Вид | N2: Длина, см | O2: Баллы | P2: Вид | Q2: Длина, см | R2: Баллы | S2: Вид | T2: Длина, см | U2: Баллы | V2: Вид | W2: Длина, см | X2: Баллы | Y2: Вид | Z2: Длина, см | AA2: Баллы | AB2: Вид | AC2: Длина, см | AD2: Баллы | AE2: Вид | AF2: Длина, см | AG2: Баллы | AH2: Вид | AI2: Длина, см | AJ2: Баллы | AK2: Вид | AL2: Длина, см | AM2: Баллы | AN2: Вид | AO2: Длина, см | AP2: Баллы
C3: =B3*B3 -> 0 | D3: щука | E3: 47 | F3: =E3*E3 -> 2209 | G3: щука | H3: 48 | I3: =H3*H3 -> 2304 | J3: щука | K3: 47.5 | L3: =K3*K3 -> 2256.25 | M3: щука | N3: 54 | O3: =N3*N3 -> 2916 | P3: окунь | Q3: 32 | R3: =Q3*Q3 -> 1024 | S3: щука | T3: 89 | U3: =T3*T3 -> 7921 | V3: щука | W3: 58 | X3: =W3*W3 -> 3364 | Y3: щука | Z3: 46 | AA3: =Z3*Z3 -> 2116 | AB3: щука | AC3: 57 | AD3: =AC3*AC3 -> 3249 | AE3: щука | AF3: 45 | AG3: =AF3*AF3 -> 2025 | AH3: щука | AI3: 45 | AJ3: =AI3*AI3 -> 2025 | AK3: щука | AL3: 45 | AM3: =AL3*AL3 -> 2025 | AN3: окунь | AO3: 27.5 | AP3: =AO3*AO3 -> 756.25
C4: =B4*B4 -> 0 | D4: щука | E4: 50.5 | F4: =E4*E4 -> 2550.25 | G4: щука | H4: 49 | I4: =H4*H4 -> 2401 | J4: щука | K4: 54.5 | L4: =K4*K4 -> 2970.25 | O4: =N4*N4 -> 0 | P4: окунь | Q4: 32.5 | R4: =Q4*Q4 -> 1056.25 | S4: окунь | T4: 37.5 | U4: =T4*T4 -> 1406.25 | V4: щука | W4: 47.5 | X4: =W4*W4 -> 2256.25 | Y4: щука | Z4: 47 | AA4: =Z4*Z4 -> 2209 | AB4: щука | AC4: 50 | AD4: =AC4*AC4 -> 2500 | AE4: щука | AF4: 46 | AG4: =AF4*AF4 -> 2116 | AH4: щука | AI4: 56.5 | AJ4: =AI4*AI4 -> 3192.25 | AK4: щука | AL4: 45.5 | AM4: =AL4*AL4 -> 2070.25 | AN4: щука | AO4: 55.5 | AP4: =AO4*AO4 -> 3080.25
C5: =B5*B5 -> 0 | D5: щука | E5: 52.5 | F5: =E5*E5 -> 2756.25 | G5: окунь | H5: 25 | I5: =H5*H5 -> 625 | J5: щука | K5: 55.5 | L5: =K5*K5 -> 3080.25 | O5: =N5*N5 -> 0 | P5: щука | Q5: 61 | R5: =Q5*Q5 -> 3721 | U5: =T5*T5 -> 0 | X5: =W5*W5 -> 0 | Y5: щука | Z5: 46 | AA5: =Z5*Z5 -> 2116 | AB5: щука | AC5: 57 | AD5: =AC5*AC5 -> 3249 | AE5: окунь | AF5: 37.5 | AG5: =AF5*AF5 -> 1406.25 | AH5: щука | AI5: 47 | AJ5: =AI5*AI5 -> 2209 | AK5: щука | AL5: 53 | AM5: =AL5*AL5 -> 2809 | AN5: щука | AO5: 56 | AP5: =AO5*AO5 -> 3136
C6: =B6*B6 -> 0 | D6: щука | E6: 50.5 | F6: =E6*E6 -> 2550.25 | G6: щука | H6: 45 | I6: =H6*H6 -> 2025 | L6: =K6*K6 -> 0 | O6: =N6*N6 -> 0 | R6: =Q6*Q6 -> 0 | U6: =T6*T6 -> 0 | X6: =W6*W6 -> 0 | AA6: =Z6*Z6 -> 0 | AD6: =AC6*AC6 -> 0 | AG6: =AF6*AF6 -> 0 | AH6: щука | AI6: 60 | AJ6: =AI6*AI6 -> 3600 | AK6: щука | AL6: 56 | AM6: =AL6*AL6 -> 3136 | AP6: =AO6*AO6 -> 0
C7: =B7*B7 -> 0 | D7: щука | E7: 48 | F7: =E7*E7 -> 2304 | I7: =H7*H7 -> 0 | L7: =K7*K7 -> 0 | O7: =N7*N7 -> 0 | R7: =Q7*Q7 -> 0 | U7: =T7*T7 -> 0 | X7: =W7*W7 -> 0 | AA7: =Z7*Z7 -> 0 | AD7: =AC7*AC7 -> 0 | AG7: =AF7*AF7 -> 0 | AH7: щука | AI7: 46 | AJ7: =AI7*AI7 -> 2116 | AK7: щука | AL7: 46 | AM7: =AL7*AL7 -> 2116 | AP7: =AO7*AO7 -> 0
C8: =B8*B8 -> 0 | D8: щука | E8: 46 | F8: =E8*E8 -> 2116 | I8: =H8*H8 -> 0 | L8: =K8*K8 -> 0 | O8: =N8*N8 -> 0 | R8: =Q8*Q8 -> 0 | U8: =T8*T8 -> 0 | X8: =W8*W8 -> 0 | AA8: =Z8*Z8 -> 0 | AD8: =AC8*AC8 -> 0 | AG8: =AF8*AF8 -> 0 | AH8: щука | AI8: 49.5 | AJ8: =AI8*AI8 -> 2450.25 | AK8: щука | AL8: 48.5 | AM8: =AL8*AL8 -> 2352.25 | AP8: =AO8*AO8 -> 0
C9: =B9*B9 -> 0 | D9: щука | E9: 70 | F9: =E9*E9 -> 4900 | I9: =H9*H9 -> 0 | L9: =K9*K9 -> 0 | O9: =N9*N9 -> 0 | R9: =Q9*Q9 -> 0 | U9: =T9*T9 -> 0 | X9: =W9*W9 -> 0 | AA9: =Z9*Z9 -> 0 | AD9: =AC9*AC9 -> 0 | AG9: =AF9*AF9 -> 0 | AH9: окунь | AI9: 27.5 | AJ9: =AI9*AI9 -> 756.25 | AM9: =AL9*AL9 -> 0 | AP9: =AO9*AO9 -> 0
C10: =B10*B10 -> 0 | F10: =E10*E10 -> 0 | I10: =H10*H10 -> 0 | L10: =K10*K10 -> 0 | O10: =N10*N10 -> 0 | R10: =Q10*Q10 -> 0 | U10: =T10*T10 -> 0 | X10: =W10*W10 -> 0 | AA10: =Z10*Z10 -> 0 | AD10: =AC10*AC10 -> 0 | AG10: =AF10*AF10 -> 0 | AJ10: =AI10*AI10 -> 0 | AM10: =AL10*AL10 -> 0 | AP10: =AO10*AO10 -> 0
C11: =B11*B11 -> 0 | F11: =E11*E11 -> 0 | I11: =H11*H11 -> 0 | L11: =K11*K11 -> 0 | O11: =N11*N11 -> 0 | R11: =Q11*Q11 -> 0 | U11: =T11*T11 -> 0 | X11: =W11*W11 -> 0 | AA11: =Z11*Z11 -> 0 | AD11: =AC11*AC11 -> 0 | AG11: =AF11*AF11 -> 0 | AJ11: =AI11*AI11 -> 0 | AM11: =AL11*AL11 -> 0 | AP11: =AO11*AO11 -> 0
C12: =B12*B12 -> 0 | F12: =E12*E12 -> 0 | I12: =H12*H12 -> 0 | L12: =K12*K12 -> 0 | O12: =N12*N12 -> 0 | R12: =Q12*Q12 -> 0 | U12: =T12*T12 -> 0 | X12: =W12*W12 -> 0 | AA12: =Z12*Z12 -> 0 | AD12: =AC12*AC12 -> 0 | AG12: =AF12*AF12 -> 0 | AJ12: =AI12*AI12 -> 0 | AM12: =AL12*AL12 -> 0 | AP12: =AO12*AO12 -> 0
C13: =B13*B13 -> 0 | F13: =E13*E13 -> 0 | I13: =H13*H13 -> 0 | L13: =K13*K13 -> 0 | O13: =N13*N13 -> 0 | R13: =Q13*Q13 -> 0 | U13: =T13*T13 -> 0 | X13: =W13*W13 -> 0 | AA13: =Z13*Z13 -> 0 | AD13: =AC13*AC13 -> 0 | AG13: =AF13*AF13 -> 0 | AJ13: =AI13*AI13 -> 0 | AM13: =AL13*AL13 -> 0 | AP13: =AO13*AO13 -> 0
C14: =B14*B14 -> 0 | F14: =E14*E14 -> 0 | I14: =H14*H14 -> 0 | L14: =K14*K14 -> 0 | O14: =N14*N14 -> 0 | R14: =Q14*Q14 -> 0 | U14: =T14*T14 -> 0 | X14: =W14*W14 -> 0 | AA14: =Z14*Z14 -> 0 | AD14: =AC14*AC14 -> 0 | AG14: =AF14*AF14 -> 0 | AJ14: =AI14*AI14 -> 0 | AM14: =AL14*AL14 -> 0 | AP14: =AO14*AO14 -> 0
C15: =B15*B15 -> 0 | F15: =E15*E15 -> 0 | I15: =H15*H15 -> 0 | L15: =K15*K15 -> 0 | O15: =N15*N15 -> 0 | R15: =Q15*Q15 -> 0 | U15: =T15*T15 -> 0 | X15: =W15*W15 -> 0 | AA15: =Z15*Z15 -> 0 | AD15: =AC15*AC15 -> 0 | AG15: =AF15*AF15 -> 0 | AJ15: =AI15*AI15 -> 0 | AM15: =AL15*AL15 -> 0 | AP15: =AO15*AO15 -> 0
C16: =B16*B16 -> 0 | F16: =E16*E16 -> 0 | I16: =H16*H16 -> 0 | L16: =K16*K16 -> 0 | O16: =N16*N16 -> 0 | R16: =Q16*Q16 -> 0 | U16: =T16*T16 -> 0 | X16: =W16*W16 -> 0 | AA16: =Z16*Z16 -> 0 | AD16: =AC16*AC16 -> 0 | AG16: =AF16*AF16 -> 0 | AJ16: =AI16*AI16 -> 0 | AM16: =AL16*AL16 -> 0 | AP16: =AO16*AO16 -> 0
C17: =B17*B17 -> 0 | F17: =E17*E17 -> 0 | I17: =H17*H17 -> 0 | L17: =K17*K17 -> 0 | O17: =N17*N17 -> 0 | R17: =Q17*Q17 -> 0 | U17: =T17*T17 -> 0 | X17: =W17*W17 -> 0 | AA17: =Z17*Z17 -> 0 | AD17: =AC17*AC17 -> 0 | AG17: =AF17*AF17 -> 0 | AJ17: =AI17*AI17 -> 0 | AM17: =AL17*AL17 -> 0 | AP17: =AO17*AO17 -> 0
C18: =SUM(C3:C17) -> 0 | F18: =SUM(F3:F17) -> 19385.75 | I18: =SUM(I3:I17) -> 7355 | L18: =SUM(L3:L17) -> 8306.75 | O18: =SUM(O3:O17) -> 2916 | R18: =SUM(R3:R17) -> 5801.25 | U18: =SUM(U3:U17) -> 9327.25 | X18: =SUM(X3:X17) -> 5620.25 | AA18: =SUM(AA3:AA17) -> 6441 | AD18: =SUM(AD3:AD17) -> 8998 | AG18: =SUM(AG3:AG17) -> 5547.25 | AJ18: =SUM(AJ3:AJ17) -> 16348.75 | AM18: =SUM(AM3:AM17) -> 14508.5 | AP18: =SUM(AP3:AP17) -> 6972.5
A21: Вид | B21: Количество, шт | D21: Суммарная длина, см | G21: Средняя длина, см | J21: Суммарное количество баллов | M21: Среднее количество баллов | P21: Общее количество баллов
A22: окунь | B22: 1 | D22: =SUM(B22,E3,H3:H7,N8:N12,T4:T6,W3,Z3:Z4,AF3:AF7,AI3:AI7,AL4,AL6,AL8,AL10,AL12,AO3:AO7) -> 1075.5 | G22: =D22/B22 -> 1075.5 | J22: =SUM(F3,I3:I7,O8:O12,U4:U6,X3,AA3:AA4,AG3:AG7,AJ3:AJ7,AM4,AM6,AM8,AM10,AM12,AP3:AP7) -> 51879.75 | M22: =J22/B22 -> 51879.75 | P22: =SUM(J22,J23) -> 77622.25
A23: щука | B23: 1 | D23: =SUM(K3,N3:N7,T3,AC3,AI8,AL3,AL5,AL7,AL9,AL11) -> 441 | G23: =D23/B23 -> 441 | J23: =SUM(L3,O3:O7,U3,AD3,AJ8,AM3,AM5,AM7,AM9,AM11) -> 25742.5 | M23: =J23/B23 -> 25742.5

Sheet Лист1
